{"text_format":"1","workbook":"xlsx","n_sheets":20,"sheets":["intro","charts","pt-Br","Tocalino Index x Stocks Indices","Tocalino Index","WILL5000PR","Tocalino Index 1980","WILL5000PR_M2","DJIA_def","Tocalino Index x DJIA","URLs","DJIA","CPIAUCSL","LNU00000060 lin","UNRATE lin","CPILFESL pc1","WILL5000PR eop","data_ex","Tocalino_Index","data"],"not_rendered":{"charts":8,"images":4,"macros":1,"external_links":0,"defined_names":0,"comments":0,"pivot_tables":0},"unopened":[],"bounds":{"document_bytes":16777216,"sheet_cells":100000,"rows_first":2000,"rows_last":500,"rows_between":2000,"halvings":0,"cell_chars":16384,"cell_head_chars":4096},"cells_cut":0,"cells_raw":0,"read":"whole","date_system":"1900"}

{"sheet":"intro","index":0,"n_rows":112,"n_cols":2,"rows_kept":112,"cut":false,"hidden":false,"merged":[[62,1,63,12],[76,1,79,12],[3,1,7,8],[72,1,75,12],[96,1,103,12],[30,1,33,12],[46,1,48,12],[52,1,55,12],[111,1,113,5],[66,1,69,12],[70,1,71,12],[1,1,1,9],[56,1,58,12],[59,1,61,12],[64,1,65,12],[34,1,36,12],[37,1,39,12],[40,1,45,12],[49,1,51,12],[8,1,12,12],[13,1,16,12],[17,1,20,12],[21,1,25,12],[26,1,29,12]]}
[]
[null,"Welcome to the TOCALINO INDEX spreadsheet!"]
[]
[null,"The Tocalino Index ponders the US population between ages of 25 and 54 in a ratio whose denominator is the rate of unemployment plus core inflation rate (which excludes energy and food prices)."]
[]
[]
[]
[]
[null,"When prospecting the economy, more attention needs to be paid to demographics. Despite the growing automation in services and manufacturing, it is the people who ultimately consume! Technology has not created autonomous machines that can populate the streets and buy goods and services. Therefore, people certainly make a difference!"]
[]
[]
[]
[]
[null,"Annual data on American households and consumption statistics indicate that, from the age of 25, young adults grow their contribution to the national aggregate demand until the age of 54. After that, statistics generally point to a decrease in consumption."]
[]
[]
[]
[null,"It is reasonable to imagine that the economy may gain strength with an increasing number of people aged 25 to 54. On the other hand, many businesses may face headwinds when the same age group retreats in size."]
[]
[]
[]
[null,"Unemployment is a major setback for consumer demand. Inflation also makes consumption less accessible. The outlook for the American economy can be expected to be directly proportional to the number of people between 25 and 54 years of age, but inversely proportional to unemployment and inflation rates in the USA."]
[]
[]
[]
[]
[null,"In a consumption-driven economy, the Tocalino Index deserves greater national attention. But if its underlying rationale may not seem enough, perhaps its chart next to some important US stock indices may speak louder. After all, a picture paints a thousand words."]
[]
[]
[]
[null,"The Tocalino Index shows a remarkable and historical correlation with the Dow Jones Industrial Average, the S&P 500 and the Wilshire 5000. All these indices must be represented in terms of real purchasing power, so they need to be adjusted for inflation."]
[]
[]
[]
[null,"The Dow Jones Industrial Average (DJIA) reflects the behavior of just 30 major listed companies in the United States."]
[]
[]
[null,"The S&P 500 (SP500) measures the performance of the 500 largest companies listed on the US stock exchanges."]
[]
[]
[null,"The Wilshire 5000 Price Index (WILL5000PR) is weighted by the market capitalization of all US shares actively traded in the country. Therefore, this index includes most common shares and REITs (Real Estate Investment Trusts) traded mainly through the New York Stock Exchange, NASDAQ or American Stock Exchange. It does not include limited partnerships and American depositary receipts (ADRs)."]
[]
[]
[]
[]
[]
[null,"We avoid using the Wilshire Total Market Index 5000 (WILL5000IND) because it also takes into account the total market return on all reinvested dividends."]
[]
[]
[null,"Though the correlation exists with any of these stock indices adjusted for inflation, the one that shows this best is precisely the most comprehensive Wilshire 5000 price index!"]
[]
[]
[null,"Beyond its potential implication for aggregate consumption, we do not attempt to delve into how or why the Tocalino Index correlates with the stock market. But, for whatever reason, the correlation is seen as far as the records allow."]
[]
[]
[]
[null,"All the records we use are easily obtained from the federal repository of economic data, at the Federal Reserve Bank of St. Louis (FRED)."]
[]
[]
[null,"We try to guarantee the longest possible comparisons. The historical data available in FRED are as follows:"]
[]
[]
[null," - The demographic records of 25-54 Yrs Population Level start in January 1948. (LNU00000060)"]
[]
[null," - The Unemployment Rate records start in January 1948. (UNRATE)"]
[]
[null," - Core Consumer Prices Index for all urban consumers: all items less food and energy in U.S. city average starts in January 1957 (CPILFESL). Therefore the 12-month inflation (percent change from year ago) can be traced since January 1958."]
[]
[]
[]
[null," - Data from the Wilshire 5000 Price Index is available from December 1970 onwards. (WILL5000PR)"]
[]
[null," - Consumer Price Index for all urban consumers: all items in U.S. city average begins in January 1947 (CPIAUCSL). Therefore, inflation over 12 months (percentage change from the previous year) can be traced back to January 1948."]
[]
[]
[]
[null," - FRED has limited public disclosure of historical data on the Dow Jones Industrial Average (DJIA), publishing only the most recent 10-year period. That is why we use our own records from 1958 to 2015."]
[]
[]
[]
[]
[]
[]
[]
[]
[]
[]
[]
[]
[]
[]
[]
[]
[]
[]
[]
[null,"Both indices had their first major detachment amidst the internet euphoria of the late 20th century. A period of \"irrational exuberance\", according to Fed Chairman Alan Greenspan. It later became known as the \"dot.com bubble\". In 1999, there was also a significant change in U.S. financial law. Commercial banks started taking more risk in their activities and affiliations. Financial engeneering thrived. These facts, as well as some unprecedented central bank policies, may shed some light on the decoupling of the lines. Despite its greater amplitude of movements, the stock market still shows the same underlying pattern of the Tocalino Index. "]
[]
[]
[]
[]
[]
[]
[]
[null,"This spreadsheet contains the historical data I use. "]
[]
[null,"More about this indicator may be read here:"]
[null,"www.deolhonabolsa.com.br/cartas/2020-05-13_Tocalino_Index_as_a_Reference_to_US_Stocks.html"]
[]
[null,"Thank you for your interest!"]
[]
[null,"Sebastiao Buck Tocalino"]

{"sheet":"charts","index":1,"n_rows":201,"n_cols":17,"rows_kept":201,"cut":false,"hidden":false,"merged":[[200,1,208,12],[193,1,196,12],[191,1,192,12],[187,1,190,12],[185,1,186,12],[197,1,199,12],[183,1,183,12],[169,1,171,12],[177,1,179,12],[180,1,182,12],[172,1,176,12],[156,1,158,12],[159,1,164,12],[165,1,168,12],[114,1,118,12],[15,9,16,11],[15,12,16,12],[43,12,44,12],[43,9,44,11],[148,1,152,12],[105,1,108,12],[109,1,113,12],[133,1,136,12],[137,1,142,12],[103,1,103,12],[143,1,147,12],[153,1,155,12]]}
[]
[]
[null,null,null,null,null,null,null,null,null,null,null,null,null,null,null,null,"mp3"]
[]
[]
[]
[]
[]
[]
[]
[null,null,"last month:",{"$f":"MAX('Tocalino Index'!A:A)","v":"2024-01-01"}]
[null,null,"updated:",{"$f":"TODAY()","v":"2024-02-08"}]
[]
[]
[]
[null,null,null,null,null,null,null,null,null,"monthly data refers to the end of",null,null,{"$f":"'Tocalino Index x DJIA'!H12","v":"2023-12-01"}]
[]
[]
[]
[]
[null,null,"spreadsheet with data for the Tocalino Index: www.deolhonabolsa.com.br/download/Tocalino_Index.xlsm"]
[]
[]
[]
[]
[]
[]
[]
[]
[]
[]
[]
[]
[]
[]
[]
[]
[null,null,"last month:",{"$f":"MAX('Tocalino Index'!A:A)","v":"2024-01-01"}]
[null,null,"updated:",{"$f":"TODAY()","v":"2024-02-08"}]
[]
[]
[]
[]
[null,null,null,null,null,null,null,null,null,"monthly data refers to the end of",null,null,{"$f":"'Tocalino Index x DJIA'!H12","v":"2023-12-01"}]
[]
[]
[]
[null,null,"spreadsheet with data for the Tocalino Index: www.deolhonabolsa.com.br/download/Tocalino_Index.xlsm"]
[]
[]
[]
[]
[]
[]
[]
[]
[]
[]
[]
[]
[]
[]
[]
[]
[]
[]
[]
[]
[]
[]
[]
[null,"copyright © Sebastiao Buck Tocalino  -  www.deolhonabolsa.com.br/sbt/"]
[]
[]
[]
[]
[]
[]
[]
[]
[]
[]
[]
[]
[]
[]
[]
[null,null,"last month:",{"$f":"MAX('Tocalino Index'!A:A)","v":"2024-01-01"}]
[null,null,"updated:",{"$f":"TODAY()","v":"2024-02-08"}]
[]
[]
[]
[]
[]
[]
[]
[]
[null,null,"spreadsheet with data for the Tocalino Index: www.deolhonabolsa.com.br/download/Tocalino_Index.xlsm"]
[]
[null,"Índice Tocalino: fundamentos de longo prazo e a Bolsa nos Estados Unidos."]
[null,"Índice Tocalino: fundamentos de longo prazo e a Bolsa americana."]
[]
[]
[null,"Welcome to the TOCALINO INDEX spreadsheet!"]
[]
[null,"The Tocalino Index considers the number of people in the United States between ages 25 and 54 in a ratio where the denominator is the sum of the rates of unemployment and core inflation (which excludes prices of energy and food)."]
[]
[]
[]
[null,"When observing the economy, one must also pay close attention to demographics. Despite progressive automation in services and manufacturing, it is people who ultimately consume! Technology has not yet created self sufficient machines that can reproduce themselves and have the will and means to purchase goods and services. "]
[]
[]
[]
[]
[null,"The chart below shows 10 years of data regarding american households, according to the age of their chief provider, in terms of their contribution to the annual national aggregate consumption. From the age of 25, young adults grow their share of annual consumption, approximately until the age of 54. From then on, consumption diminishes."]
[]
[]
[]
[]
[]
[]
[]
[]
[]
[]
[]
[]
[]
[]
[]
[]
[]
[]
[null,"It is reasonable to imply that the economy shall expand more vigorously if there is a growing number of 25 to 54-year-old people in the population. On the other hand, the economy will face some headwinds as that cohort of the population starts to dwindle."]
[]
[]
[]
[null,"Unemployment is often a drama for the individual and his or her family. A growing rate of unemployment is also a major deterrant for consumer demand in the economy. Inflation also makes consumption less affordable. One can expect that the health of the American economy is directly proportional to the number of people between ages of 25 and 54, but inversely proportional to the rate of unemployment and inflation in the U.S."]
[]
[]
[]
[]
[]
[null,"In our economic system of free markets and capitalist societies, I believe the Tocalino Index rightfully deserves more public and political attention. Nevertheless, it is quite a surprise to see how its simple formula can trace a remarkable reference to some inflation-adjusted stock market indices."]
[]
[]
[]
[]
[null,"The Tocalino Index shows a noticeble long term correlation with three very important stock market indices in the U.S., such as the Dow Jones Industrial Average, the S&P 500 and the Wilshire 5000. These U.S. stock indices must bee represented in real values (adjusted for inflation), not in nominal terms, which would not account for the changes in the cost of living."]
[]
[]
[]
[]
[null,"The Dow Jones Industrial Average (DJIA) reflects the behaviour of just 30 major companies listed on stock exchanges in the United States."]
[]
[]
[null,"The S&P 500 (SP500) measures the stock performance of the 500 largest companies listed on U.S. stock exchanges."]
[]
[]
[null,"Most importantly, the Wilshire 5000 Price Index (WILL5000PR) is a market-capitalization-weighted index of the market value of all US-stocks actively traded in the United States. Hence, the price index includes a majority of the common stocks and REITs (real estate investment trusts) traded primarily through New York Stock Exchange, NASDAQ, or the American Stock Exchange. Limited partnerships and American Depository Reciepts (ADRs) are not included."]
[]
[]
[]
[]
[]
[null,"Since we are more concerned with the price levels of stocks and shares in our comparissons here, we do not use the Wilshire 5000 Total Market Index (WILL5000IND), for the simple reason that it takes into account total market returns, which include all reinvested dividends. "]
[]
[]
[]
[null,"The correlation is seen using any of the three mentioned stock indices adjusted for inflation. But the one that works best is precisely the Wilshire 5000 price index, the most complete of them all."]
[]
[]
[null,"Other than the common sense discussed above, we do not attempt to elaborate any pretensious explanation to how or why the Tocalino Index has such correlation with the stock market. Whatever the cause may be, it suffices that the correlation goes back in time as far as we have been able to track it."]
[]
[]
[]
[]
[null,"We use data available from the economic data repository of the Federal Reserve Bank of St. Louis (FRED)."]
[]
[]
[null,"Economic data bases were used in their fullest possible historical extent, to ensure we had the longest possible comparissons. The histories available from the FRED are as follows:"]
[]
[]
[null," - Population Level - 25-54 Yrs records start on January, 1948. (LNU00000060)"]
[]
[null," - Unemployment Rate records start on January, 1948. (UNRATE)"]
[]
[null," - The Core Consumer Prices Index for All Urban Consumers: All Items Less Food and Energy in U.S. City Average starts on January, 1957 (CPILFESL). Therefore the 12-month inflation (percent change from year ago) can be traced from January, 1958."]
[]
[]
[null,null,null,null,null,null,null,null,null,null,null,null,null,"The Tocalino Index as Basis for Behaviour and Capitulations of US Stock Markets."]
[null," - Wilshire 5000 records start on December, 1970. (WILL5000PR)"]
[]
[null," - Consumer Price Index for All Urban Consumers: All Items in U.S. City Average starts on January, 1947 (CPIAUCSL). Therefore the 12-month inflation (percent change from year ago) can be traced from January, 1948."]
[]
[]
[]
[null," - The Dow Jones Industrial Average is available only for the last ten years (DJIA), so we used our own records, starting at January, 1958."]
[]
[]
[null,"It is important to notice that both indices found their first major disagreement amidst the internet euphoria of the late 20th century. A period of \"irrational exuberance\", according to Fed Chairman Alan Greenspan, which later became known as the \"dot.com bubble\".  Nearing the end of the 20th century, there was also a significant change in U.S. financial laws. Commercial banks started taking more risk in their activities and affiliations. Financial engeneering thrived. These facts, as well as unprecedented central bank policies, may shed some light on the detachment of the charts. Though with much greater amplitude, the stock market still seems to follow the same underlying pattern of the Tocalino Index. "]

{"sheet":"pt-Br","index":2,"n_rows":96,"n_cols":19,"rows_kept":96,"cut":false,"hidden":false,"merged":[[15,9,16,11],[15,12,16,12],[54,9,55,11],[54,12,55,12],[76,9,77,11],[76,12,77,12]]}
[]
[]
[]
[]
[]
[]
[]
[]
[]
[]
[null,null,null,"dados referentes a",{"$f":"MAX('Tocalino Index'!A:A)","v":"2024-01-01"}]
[null,null,null,"pesquisa feita em",{"$f":"TODAY()","v":"2024-02-08"}]
[]
[]
[]
[null,null,null,null,null,null,null,null,null,"monthly data refers to the end of",null,null,{"$f":"'Tocalino Index x DJIA'!H12","v":"2023-12-01"}]
[]
[]
[]
[null,null,"       planilha Excel do Índice Tocalino: www.deolhonabolsa.com.br/download/Tocalino_Index.xlsm"]
[]
[]
[]
[null,null,null,null,null,null,null,null,"https://fred.stlouisfed.org/graph/fredgraph.png?g=BB9u "]
[]
[null,null,null,null,null,null,null,null,"https://fred.stlouisfed.org/graph/?g=BB9u"]
[]
[]
[]
[]
[]
[]
[]
[]
[]
[]
[]
[]
[]
[]
[]
[]
[]
[]
[]
[]
[]
[]
[null,null,null,"dados referentes a",{"$f":"MAX('Tocalino Index 1980'!A:A)-28","v":"2023-12-04"}]
[null,null,null,"pesquisa feita em",{"$f":"B84","v":"2024-02-08"}]
[]
[]
[]
[]
[null,null,null,null,null,null,null,null,null,"monthly data refers to the end of",null,null,{"$f":"'Tocalino Index x DJIA'!H51","v":"1959-12-01"}]
[]
[]
[]
[null,null,"       planilha Excel do Índice Tocalino: www.deolhonabolsa.com.br/download/Tocalino_Index.xlsm"]
[]
[]
[]
[]
[]
[]
[]
[]
[]
[]
[]
[null,null,null,"data until the end of",{"$f":"MAX('Tocalino Index 1980'!A:A)-28","v":"2023-12-04"}]
[null,null,null,"available on",{"$f":"B84","v":"2024-02-08"}]
[]
[]
[]
[]
[null,null,null,null,null,null,null,null,null,"monthly data refers to the end of",null,null,{"$f":"'Tocalino Index x DJIA'!H82","v":"1962-07-01"}]
[]
[]
[]
[null,null,"Excel spreadsheet with macros to compile the Tocalino Index: www.deolhonabolsa.com.br/download/Tocalino_Index.xlsm"]
[]
[]
[null,{"$f":"TODAY()","v":"2024-02-08"},null,null,null,null,null,null,null,null,null,null,null,null,null,null,null,null,"https://fred.stlouisfed.org/graph/fredgraph.png?g=BB6o "]
[]
[]
[]
[null,null,null,null,null,null,null,"M2 = M2SL"]
[null,null,null,null,null,"em Português",null,"in      English"]
[]
[]
[]
[]
[]
[null,null,null,"dados referentes a","2021-05-01"]
[null,null,null,"pesquisa feita em","2021-07-02"]

{"sheet":"Tocalino Index x Stocks Indices","index":3,"n_rows":1175,"n_cols":20,"rows_kept":1175,"cut":false,"hidden":false,"merged":[[0,2,0,11],[2,2,2,11],[3,2,3,11],[5,2,5,11],[6,2,6,11],[10,0,10,5],[10,11,10,14],[8,0,9,13],[11,0,11,5],[12,0,12,5],[11,10,11,14],[12,10,12,14],[11,7,11,8],[12,7,12,8]]}
[null,null,"Tocalino Index was developed by Sebastiao Buck Tocalino"]
[]
[null,null,"Copyright © Sebastiao Buck Tocalino"]
[null,null," www.deolhonabolsa.com/sbt/    -    www.deolhonabolsa.com.br/sbt/ "]
[]
[null,null,"The economy is directly proportional to the population between 25 and 54 years old, but"]
[null,null,"  inversely proportional to the unemployment rate and the consumer price inflation rate."]
[]
["The Tocalino Index: is the number of civilian people, between 25 and 54 years of age in the U.S., divided by the sum of the unemployment rate, and the core inflation rate, that is CPI less food and energy. The result is a gauge for the Stock Market indexes, adjusted for inflation, such as the Dow Jones Industrial Average, or the Wilshire 5000."]
[]
["download Tocalino Index data sheet from FRED",null,null,null,null,null,null,{"$f":"MAXA(H15:H1175)","v":"2023-12-01"},"download",null,{"$f":"MAXA(K15:K1175)","v":"2023-12-01"},"download DJIA adjusted for inflation"]
["Civilian Noninstitutional Population - 25 to 54 years (LNU00000060)",null,null,null,null,null,null,"Wilshire 5000",null,null,"Dow Jones Industrial Average / Consumer Price Index"]
["Tocalino Index © ® ",null,null,null,null,null,{"$f":"TODAY()","v":"2024-02-08"},"adjusted for Inflation",null,null,"  Dow Jones adjusted for Inflation",null,null,null,null,"index: July 1990 = 100"]
["yyyy-mm-dd","LNU00000060","UNRATE","CPILFESL"," = LNU00000060/(UNRATE+CPILFESL)","index",null,"yyyy-mm-dd","index",null,"yyyy-mm-dd","DJIA","CPIAUCSL"," = DJIA/CPIAUCSL","index",{"$f":"$N$417/100","v":0.2226206896551724},{"$f":"$E$417/100","v":99.691186950669092}]
["1957-01-01",64857,4.2,{"$error":"#N/A"},{"$f":"B15/(C15+D15)","v":{"$error":"#N/A"}},null,null,"1957-01-01",null,null,"1957-01-01",0,0]
["1957-02-01",64879,3.9,{"$error":"#N/A"},{"$error":"#N/A"},null,null,"1957-02-01",null,null,"1957-02-01",0,0]
["1957-03-01",64908,3.7,{"$error":"#N/A"},{"$error":"#N/A"},null,null,"1957-03-01",null,null,"1957-03-01",0,0]
["1957-04-01",64934,3.9,{"$error":"#N/A"},{"$error":"#N/A"},null,null,"1957-04-01",null,null,"1957-04-01",0,0]
["1957-05-01",64972,4.0999999999999996,{"$error":"#N/A"},{"$error":"#N/A"},null,null,"1957-05-01",null,null,"1957-05-01",0,0]
["1957-06-01",65025,4.3,{"$error":"#N/A"},{"$error":"#N/A"},null,null,"1957-06-01",null,null,"1957-06-01",0,0]
["1957-07-01",65113,4.2,{"$error":"#N/A"},{"$error":"#N/A"},null,null,"1957-07-01",null,null,"1957-07-01",0,0]
["1957-08-01",65134,4.0999999999999996,{"$error":"#N/A"},{"$error":"#N/A"},null,null,null,null,null,"1957-08-01",0,0]
["1957-09-01",65165,4.4000000000000004,{"$error":"#N/A"},{"$error":"#N/A"},null,null,null,null,null,"1957-09-01",0,0]
["1957-10-01",65205,4.5,{"$error":"#N/A"},{"$error":"#N/A"},null,null,null,null,null,"1957-10-01",0,0]
["1957-11-01",65251,5.0999999999999996,{"$error":"#N/A"},{"$error":"#N/A"},null,null,null,null,null,"1957-11-01",0,0]
["1957-12-01",65290,5.2,{"$error":"#N/A"},{"$error":"#N/A"},null,null,null,null,null,"1957-12-01",0,0]
["1958-01-01",65325,5.8,2.8070200000000001,7589.7348908216782,76.099999999999994,"1958-01-01",null,null,null,"1958-01-01",450.02,28.64,{"$f":"L27/M27","v":15.712988826815641},{"$f":"IF(M27=\"\",\"\",N27/$P$14)","v":70.581889091953784}]
["1958-02-01",65350,6.4,2.7972000000000001,7105.4233897273079,71.3,"1958-02-01",null,null,null,"1958-02-01",439.92,28.7,15.328222996515681,68.853541960804648,null,null,null,{"$f":"VLOOKUP($K28,CPIAUCSL!$A$12:$B$1041,2,FALSE)","v":28.7}]
["1958-03-01",65373,6.7,2.7874599999999998,6890.463833312604,69.099999999999994,"1958-03-01",null,null,null,"1958-03-01",446.76,28.87,15.474887426394179,69.512350583245237]
["1958-04-01",65392,7.4,2.4305599999999998,6651.9099624029559,66.7,"1958-04-01",null,null,null,"1958-04-01",455.86,28.94,15.751900483759503,70.756678133368283]
["1958-05-01",65422,7.4,2.4305599999999998,6654.9616705457265,66.8,"1958-05-01",null,null,null,"1958-05-01",462.7,28.94,15.988251554941257,71.818354258565137]
["1958-06-01",65451,7.3,2.4221499999999998,6732.1528674213014,67.5,"1958-06-01",null,null,null,"1958-06-01",478.18,28.91,16.540297474922173,74.298114431961437]
["1958-07-01",65460,7.5,2.0689700000000002,6840.8616601368794,68.599999999999994,"1958-07-01",null,null,null,"1958-07-01",502.99,28.89,17.410522672204916,78.207118570932863]
["1958-08-01",65449,7.4,2.0689700000000002,6911.9450161950026,69.3,"1958-08-01",null,null,null,"1958-08-01",508.63,28.94,17.575328265376641,78.947416309777353]
["1958-09-01",65426,7.1,2.0618599999999998,7141.1263651703921,71.599999999999994,"1958-09-01",null,null,null,"1958-09-01",532.09,28.91,18.405050155655484,82.674481802046017]
["1958-10-01",65454,6.7,1.7123299999999999,7780.7218689709025,78,"1958-10-01",null,null,null,"1958-10-01",543.22,28.91,18.790038049117953,84.403826428813616]
["1958-11-01",65476,6.2,1.70648,8281.3084963220044,83.1,"1958-11-01",null,null,null,"1958-11-01",557.46,28.95,19.2559585492228,86.496715911936377]
["1958-12-01",65497,6.2,2.0477799999999999,7941.1671989311062,79.7,"1958-12-01",null,null,null,"1958-12-01",583.65,28.97,20.146703486365205,90.497893603561181]
["1959-01-01",65525,6,2.0477799999999999,8141.9969233751426,81.7,"1959-01-01",null,null,null,"1959-01-01",593.96,29.01,20.474319200275769,91.969525527880634]
["1959-02-01",65544,5.9,1.70068,8623.4389554618792,86.5,"1959-02-01",null,null,null,"1959-02-01",603.5,29,20.810344827586206,93.478934324659235]
["1959-03-01",65566,5.6,1.69492,8987.8984279471206,90.2,"1959-03-01",null,null,null,"1959-03-01",601.71,28.97,20.770107007248882,93.298188229587609]
["1959-04-01",65587,5.2,1.69492,9512.3656257070415,95.4,"1959-04-01",null,null,null,"1959-04-01",623.75,28.98,21.523464458247066,96.682228824220104]
["1959-05-01",65614,5.0999999999999996,2.0339,9197.4936570459358,92.3,"1959-05-01",null,null,null,"1959-05-01",643.79,29.04,22.169077134986225,99.582285767441221]
["1959-06-01",65638,5,2.0270299999999999,9340.7883558203102,93.7,"1959-06-01",null,null,null,"1959-06-01",643.6,29.11,22.109240810717967,99.313504261279604]
["1959-07-01",65660,5.0999999999999996,2.0270299999999999,9212.8137527132621,92.4,"1959-07-01",null,null,null,"1959-07-01",674.88,29.15,23.151972555746141,103.99739840716204]
["1959-08-01",65681,5.2,2.0270299999999999,9088.2423346796677,91.2,"1959-08-01",null,null,null,"1959-08-01",664.41,29.18,22.769362577107607,102.27873524413269]
["1959-09-01",65650,5.5,2.0202,8729.8210153985274,87.6,"1959-09-01",null,null,null,"1959-09-01",631.67999999999995,29.25,21.595897435897434,97.007593810567784]
["1959-10-01",65639,5.7,2.3569,8146.929960654842,81.7,"1959-10-01",null,null,null,"1959-10-01",646.6,29.35,22.030664395229984,98.960543287123542]
["1959-11-01",65621,5.8,2.01342,8398.4989927586121,84.2,"1959-11-01",null,null,null,"1959-11-01",659.18,29.35,22.459284497444632,100.88588141665031]
["1959-12-01",65642,5.3,2.0066899999999999,8983.8216757519476,90.1,"1959-12-01",null,null,null,"1959-12-01",679.36,29.41,23.099625977558652,103.76226043203236]
["1960-01-01",65931,5.2,2.0066899999999999,9148.5827751714023,91.8,"1960-01-01",null,null,null,"1960-01-01",622.62,29.37,21.199182839632279,95.225573474184657]
["1960-02-01",65952,4.8,2.3411400000000002,9235.5002142515059,92.6,"1960-02-01",null,null,null,"1960-02-01",630.12,29.41,21.425365521931315,96.241573750930641]
["1960-03-01",65975,5.4,2,8915.54054054054,89.4,"1960-03-01",null,null,null,"1960-03-01",616.59,29.41,20.965317919075144,94.175065002041393]
["1960-04-01",65974,5.2,2,9163.0555555555547,91.9,"1960-04-01",null,null,null,"1960-04-01",601.70000000000005,29.54,20.368991198375088,91.496397886133451]
["1960-05-01",65989,5.0999999999999996,1.66113,9760.054902065187,97.9,"1960-05-01",null,null,null,"1960-05-01",625.5,29.57,21.153195806560703,95.019002228974657]
["1960-06-01",66017,5.4,1.6556299999999999,9356.6414338620361,93.9,"1960-06-01",null,null,null,"1960-06-01",640.62,29.61,21.635258358662615,97.184400929556361]
["1960-07-01",66034,5.5,1.3245,9676.0202212616296,97.1,"1960-07-01",null,null,null,"1960-07-01",616.73,29.55,20.87072758037225,93.750170357929875]
["1960-08-01",66069,5.6,1.3245,9541.3387248176768,95.7,"1960-08-01",null,null,null,"1960-08-01",625.99,29.61,21.141168524147247,94.964976332136033]
["1960-09-01",66073,5.5,0.99009999999999998,10180.5827337021,102.1,"1960-09-01",null,null,null,"1960-09-01",580.14,29.61,19.592705167173253,88.009363359359412]
["1960-10-01",66091,6.1,1.31579,8912.1995094251597,89.4,"1960-10-01",null,null,null,"1960-10-01",580.36,29.75,19.507899159663864,87.628419397498774]
["1960-11-01",66146,6.1,1.31579,8919.616116421852,89.5,"1960-11-01",null,null,null,"1960-11-01",597.22,29.78,20.054398925453324,90.083266548659608]
["1960-12-01",66194,6.6,0.65573999999999999,9122.9840099011271,91.5,"1960-12-01",null,null,null,"1960-12-01",615.89,29.81,20.660516605166052,92.805914118620748]
["1961-01-01",66237,6.6,0.98360999999999998,8734.2307950962677,87.6,"1961-01-01",null,null,null,"1961-01-01",648.20000000000005,29.84,21.722520107238608,97.576375946394009]
["1961-02-01",66243,6.9,0.65359,8769.7373037191574,88,"1961-02-01",null,null,null,"1961-02-01",662.08,29.84,22.187667560321717,99.665792944443908]
["1961-03-01",66253,6.9,0.98038999999999998,8407.325018178035,84.3,"1961-03-01",null,null,null,"1961-03-01",676.63,29.84,22.675268096514746,101.85606796761581]
["1961-04-01",66274,7,0.98038999999999998,8304.6066670927103,83.3,"1961-04-01",null,null,null,"1961-04-01",678.71,29.81,22.767863133176789,102.27199982374952]
["1961-05-01",66301,7.1,0.98038999999999998,8205.1732651518068,82.3,"1961-05-01",null,null,null,"1961-05-01",696.72,29.84,23.348525469168901,104.88030337761744]
["1961-06-01",66328,6.9,0.97719999999999996,8420.2508505560345,84.5,"1961-06-01",null,null,null,"1961-06-01",683.96,29.84,22.920911528150135,102.95948486932373]
["1961-07-01",66348,7,1.3071900000000001,7986.8162399078383,80.099999999999994,"1961-07-01",null,null,null,"1961-07-01",705.37,29.92,23.575200534759357,105.8985154132623]
["1961-08-01",66362,6.6,1.6339900000000001,8059.5191395666006,80.8,"1961-08-01",null,null,null,"1961-08-01",719.94,29.94,24.046092184368739,108.01373502891782]
["1961-09-01",66373,6.7,1.6339900000000001,7964.1324263648021,79.900000000000006,"1961-09-01",null,null,null,"1961-09-01",701.21,29.98,23.389259506337559,105.06327845164022]
["1961-10-01",66380,6.5,0.97402999999999995,8881.4200638745097,89.1,"1961-10-01",null,null,null,"1961-10-01",703.92,29.98,23.479653102068042,105.46932155513836]
["1961-11-01",66324,6.1,1.2987,8964.2775082109019,89.9,"1961-11-01",null,null,null,"1961-11-01",721.6,29.98,24.069379586390927,108.11834076910424]
["1961-12-01",66316,6,1.62866,8693.0076841804457,87.2,"1961-12-01",null,null,null,"1961-12-01",731.14,30.01,24.36321226257914,109.4382211299249]
["1962-01-01",66277,5.8,1.2987,9336.4982320706604,93.7,"1962-01-01",null,null,null,"1962-01-01",700,30.04,23.30226364846871,104.67249780136193]
["1962-02-01",66272,5.5,1.2987,9747.7458925971132,97.8,"1962-02-01",null,null,null,"1962-02-01",708.05,30.11,23.515443374294254,105.63008950658819]
["1962-03-01",66290,5.6,1.2945,9614.9104358546665,96.4,"1962-03-01",null,null,null,"1962-03-01",706.95,30.17,23.43221743453762,105.25624312292302]
["1962-04-01",66023,5.6,1.2945,9576.1839147146275,96.1,"1962-04-01",null,null,null,"1962-04-01",665.33,30.21,22.023502151605431,98.928370879268513]
["1962-05-01",66043,5.5,1.61812,{"$f":"B79/(C79+D79)","v":9278.1520963400453},93.1,"1962-05-01",null,null,null,"1962-05-01",613.36,30.24,20.283068783068785,91.110439081318901]
["1962-06-01",66069,5.5,1.2903199999999999,9729.8801823772665,97.6,"1962-06-01",null,null,null,"1962-06-01",561.28,30.21,18.579278384640848,83.457105507215715]
["1962-07-01",66167,5.4,1.2903199999999999,9889.9604204283205,99.2,"1962-07-01",null,null,null,"1962-07-01",597.92999999999995,30.22,19.785903375248179,88.877199176300678]
["1962-08-01",66204,5.7,1.28617,9476.4370177078417,95.1,"1962-08-01",null,null,null,"1962-08-01",609.17999999999995,30.28,20.118229854689563,90.369991602539869]
["1962-09-01",66282,5.6,1.28617,9625.3795651283654,96.6,"1962-09-01",null,null,null,"1962-09-01",578.98,30.42,19.032873109796185,85.494628281302568]
["1962-10-01",66318,5.4,1.28617,9918.6828931959535,99.5,"1962-10-01",null,null,null,"1962-10-01",589.77,30.38,19.413100724160632,87.202589993906187]
["1962-11-01",66334,5.7,0.96153999999999995,9957.7575155294417,99.9,"1962-11-01",null,null,null,"1962-11-01",649.29999999999995,30.38,21.372613561553653,96.004614821105321]
["1962-12-01",66349,5.5,1.2820499999999999,9783.0302047316072,98.1,"1962-12-01",null,null,null,"1962-12-01",652.1,30.38,21.464779460171165,96.418619012540873]
["1963-01-01",66390,5.7,0.96153999999999995,9966.1639801006968,100,"1963-01-01",null,null,null,"1963-01-01",682.85,30.44,22.432654402102497,100.76626048032411]
["1963-02-01",66405,5.9,1.2820499999999999,9245.9673770023874,92.7,"1963-02-01",null,null,null,"1963-02-01",662.94,30.48,21.75,97.69981412639406]
["1963-03-01",66422,5.7,1.27796,9518.8278522662786,95.5,"1963-03-01",null,null,null,"1963-03-01",682.52,30.51,22.37037037037037,100.48648400569095]
["1963-04-01",66437,5.7,1.27796,9520.9774776582271,95.5,"1963-04-01",null,null,null,"1963-04-01",717.7,30.48,23.546587926509186,105.76998913704561]
["1963-05-01",66440,5.9,0.95540999999999998,9691.6158187475285,97.2,"1963-05-01",null,null,null,"1963-05-01",726.96,30.51,{"$f":"L91/M91","v":23.826941986234022},{"$f":"IF(M91=\"\",\"\",N91/$P$14)","v":107.02932428760636}]
["1963-06-01",66461,5.6,1.27389,9668.6155873893822,97,"1963-06-01",null,null,null,"1963-06-01",706.88,30.61,23.093106827834042,103.73297676691253]
["1963-07-01",66509,5.6,1.27389,9675.598532999511,97.1,"1963-07-01",null,null,null,"1963-07-01",695.43,30.69,22.659824046920818,101.78669413889463]
["1963-08-01",66551,5.4,1.2698400000000001,9977.9005193527864,100.1,"1963-08-01",null,null,null,"1963-08-01",729.32,30.75,23.717723577235773,106.53872114929329]
["1963-09-01",66547,5.5,1.2698400000000001,9829.922125190551,98.6,"1963-09-01",null,null,null,"1963-09-01",732.79,30.72,23.853841145833332,107.15015384590562]
["1963-10-01",66572,5.5,1.5872999999999999,9393.139841688655,94.2,"1963-10-01",null,null,null,"1963-10-01",755.23,30.75,24.560325203252034,110.32364171225358]
["1963-11-01",66596,5.7,1.5872999999999999,9138.6384531994008,91.7,"1963-11-01",null,null,null,"1963-11-01",750.52,30.78,24.383365821962311,109.5287498198431]
["1963-12-01",66613,5.5,1.5822799999999999,9405.586901393337,94.3,"1963-12-01",null,null,null,"1963-12-01",762.95,30.88,24.706930051813472,110.98218269866648]
["1964-01-01",66653,5.6,2.2222200000000001,8520.9825343700377,85.5,"1964-01-01",null,null,null,"1964-01-01",785.34,30.94,25.382676147382028,114.01759731630713]
["1964-02-01",66666,5.4,1.89873,9133.9178185793953,91.6,"1964-02-01",null,null,null,"1964-02-01",800.14,30.91,25.886120996441282,116.27904412899585]
["1964-03-01",66679,5.4,1.5772900000000001,9556.5756905618091,95.9,"1964-03-01",null,null,null,"1964-03-01",813.29,30.94,26.286037491919842,118.07544722206869]
["1964-04-01",66702,5.3,1.5772900000000001,9698.8784826581395,97.3,"1964-04-01",null,null,null,"1964-04-01",810.77,30.95,26.196122778675281,117.67155523258724]
["1964-05-01",66724,5.0999999999999996,1.5772900000000001,9992.6766697267922,100.2,"1964-05-01",null,null,null,"1964-05-01",820.56,30.98,26.486765655261458,118.97710718751276]
["1964-06-01",66749,5.2,1.57233,9856.1351853793294,98.9,"1964-06-01",null,null,null,"1964-06-01",831.5,31.01,26.813930990003222,120.44671603316193]
["1964-07-01",66774,4.9000000000000004,1.57233,10316.84107577951,103.5,"1964-07-01",null,null,null,"1964-07-01",841.1,31.02,27.114764667956159,121.79804451219465]
["1964-08-01",66789,5,1.2539199999999999,10679.541791388441,107.1,"1964-08-01",null,null,null,"1964-08-01",838.48,31.05,27.004186795491144,121.30133473811078]
["1964-09-01",66814,5.0999999999999996,1.2539199999999999,10515.398368251412,105.5,"1964-09-01",null,null,null,"1964-09-01",875.37,31.08,28.165057915057918,126.51590451311644]
["1964-10-01",66838,5.0999999999999996,1.25,10525.669291338583,105.6,"1964-10-01",null,null,null,"1964-10-01",873.08,31.12,28.055269922879177,126.02274283821193]
["1964-11-01",66862,4.8,1.5625,10508.762278978389,105.4,"1964-11-01",null,null,null,"1964-11-01",875.43,31.21,28.049663569368789,125.99755940391805]
["1964-12-01",66885,5,1.2461100000000001,10708.264824026475,107.4,"1964-12-01",null,null,null,"1964-12-01",874.13,31.25,27.972159999999999,125.6494175960347]
["1965-01-01",66911,4.9000000000000004,1.24224,10893.582797155435,109.3,"1965-01-01",null,null,null,"1965-01-01",902.86,31.28,28.863810741687978,129.6546641122911]
["1965-02-01",66929,5.0999999999999996,1.24224,10552.896137642221,105.9,"1965-02-01",null,null,null,"1965-02-01",903.48,31.28,28.883631713554987,129.74369883722036]
["1965-03-01",66951,4.7,1.24224,11266.963300035004,113,"1965-03-01",null,null,null,"1965-03-01",889.05,31.31,28.395081443628232,127.54915766189882]
["1965-04-01",66977,4.8,1.5528,10542.910212819545,105.8,"1965-04-01",null,null,null,"1965-04-01",922.31,31.38,29.391650732950925,132.02569257366432]
["1965-05-01",66996,4.5999999999999996,1.5528,10888.701079183462,109.2,"1965-05-01",null,null,null,"1965-05-01",918.04,31.48,29.162642947903429,130.99700208940513]
["1965-06-01",67021,4.5999999999999996,1.2383900000000001,11479.363317626949,115.1,"1965-06-01",null,null,null,"1965-06-01",868.03,31.61,27.460613729832332,123.35157964144015]
["1965-07-01",66934,4.4000000000000004,1.2383900000000001,11871.119237938488,119.1,"1965-07-01",null,null,null,"1965-07-01",881.74,31.58,27.920835972134263,125.41887286119791]
["1965-08-01",66975,4.4000000000000004,1.2383900000000001,11878.390817236836,119.2,"1965-08-01",null,null,null,"1965-08-01",893.1,31.55,28.307448494453247,127.15551523220945]
["1965-09-01",67005,4.3,1.54799,11457.782930545369,114.9,"1965-09-01",null,null,null,"1965-09-01",930.58,31.62,29.43010752688172,132.1984383952246]
["1965-10-01",67013,4.2,1.2345699999999999,12330.874383805894,123.7,"1965-10-01",null,null,null,"1965-10-01",960.82,31.65,30.357661927330177,136.36496218906061]
["1965-11-01",67019,4.0999999999999996,1.2307699999999999,12572.104967950223,126.1,"1965-11-01",null,null,null,"1965-11-01",946.71,31.75,29.817637795275591,133.93920323156632]
["1965-12-01",67024,4,1.5384599999999999,12101.558917099699,121.4,"1965-12-01",null,null,null,"1965-12-01",969.26,31.85,30.432025117739403,136.69899758588022]
["1966-01-01",67022,4,1.22699,12822.293518832063,128.6,"1966-01-01",null,null,null,"1966-01-01",983.51,31.88,30.850376411543287,138.57820878791131]
["1966-02-01",67029,3.8,1.5337400000000001,12566.979267830829,126.1,"1966-02-01",null,null,null,"1966-02-01",951.89,32.08,29.672381546134666,133.28672008022079]
["1966-03-01",67002,3.8,1.5337400000000001,12561.917153817021,126,"1966-03-01",null,null,null,"1966-03-01",924.77,32.18,28.737414543194529,129.08689928014891]
["1966-04-01",67037,3.8,1.8348599999999999,11896.835058901197,119.3,"1966-04-01",null,null,null,"1966-04-01",933.68,32.28,28.924411400247831,129.92687896641684]
["1966-05-01",67096,3.9,2.1406700000000001,11107.377161804898,111.4,"1966-05-01",null,null,null,"1966-05-01",884.07,32.35,27.328284389489955,122.75716345960483]
["1966-06-01",67098,3.8,2.4464800000000002,10741.729742190802,107.8,"1966-06-01",null,null,null,"1966-06-01",870.1,32.380000000000003,26.871525633106856,120.7054280297551]
["1966-07-01",67105,3.8,2.7522899999999999,10241.457566743842,102.7,"1966-07-01",null,null,null,"1966-07-01",847.38,32.450000000000003,26.113405238828964,117.29999255359975]
["1966-08-01",67129,3.8,3.0581,9788.2795526457758,98.2,"1966-08-01",null,null,null,"1966-08-01",788.41,32.65,24.147320061255744,108.46844513265437]
["1966-09-01",67144,3.7,3.0487799999999998,9949.0574592741214,99.8,"1966-09-01",null,null,null,"1966-09-01",774.22,32.75,23.64030534351145,106.19096266447214]
["1966-10-01",67162,3.7,3.6585399999999999,9127.0822744729267,91.6,"1966-10-01",null,null,null,"1966-10-01",807.07,32.85,24.56834094368341,110.3596479812297]
["1966-11-01",67179,3.6,3.3434699999999999,9675.1336147488219,97.1,"1966-11-01",null,null,null,"1966-11-01",791.59,32.880000000000003,24.075121654501217,108.14413382598131]
["1966-12-01",67212,3.8,3.3333300000000001,9422.2473935735488,94.5,"1966-12-01",null,null,null,"1966-12-01",785.69,32.92,23.866646415552857,107.20767441930498]
["1967-01-01",67275,3.9,3.6363599999999998,8926.7232457048231,89.5,"1967-01-01",null,null,null,"1967-01-01",849.89,32.9,25.832522796352585,116.03828393652803]
["1967-02-01",67318,3.8,3.3232599999999999,9450.4482498182006,94.8,"1967-02-01",null,null,null,"1967-02-01",839.37,33,25.435454545454547,114.25467500281628]
["1967-03-01",67348,3.8,3.6253799999999998,9069.9735232405619,91,"1967-03-01",null,null,null,"1967-03-01",865.98,33,26.241818181818182,117.87681649205814]
["1967-04-01",67357,3.8,3.3033000000000001,9482.4940520603104,95.1,"1967-04-01",null,null,null,"1967-04-01",897.05,33.1,27.101208459214497,121.73715076165125]
["1967-05-01",67398,3.8,3.2934100000000002,9501.4950496305719,95.3,"1967-05-01",null,null,null,"1967-05-01",852.56,33.1,25.757099697885195,115.69948749050042]
["1967-06-01",67475,3.9,3.2835800000000002,9392.9489196194645,94.2,"1967-06-01",null,null,null,"1967-06-01",860.26,33.299999999999997,25.833633633633635,116.04327375702842]
["1967-07-01",67579,3.8,3.2738100000000001,9553.4089832777536,95.8,"1967-07-01",null,null,null,"1967-07-01",904.24,33.4,27.073053892215569,121.61068198176139]
["1967-08-01",67788,3.8,3.5608300000000002,9209.2875395845313,92.4,"1967-08-01",null,null,null,"1967-08-01",901.29,33.5,26.90417910447761,120.85210564278977]
["1967-09-01",67908,3.8,3.5503,{"$f":"B143/(C143+D143)","v":9238.8065793232927},92.7,"1967-09-01",null,null,null,"1967-09-01",926.66,33.6,27.579166666666666,123.88411296984718]
["1967-10-01",67973,4,3.23529,9394.6476229701912,94.2,"1967-10-01",null,null,null,"1967-10-01",879.74,33.700000000000003,26.105044510385756,117.26243661728422]
["1967-11-01",68036,3.9,3.5294099999999999,9157.6585489291883,91.9,"1967-11-01",null,null,null,"1967-11-01",875.81,33.9,25.835103244837757,116.04987517042983]
["1967-12-01",68102,3.8,3.8123200000000002,8946.2870714841192,89.7,"1967-12-01",null,null,null,"1967-12-01",905.11,34,26.620882352941177,119.57955208105548]
["1968-01-01",68170,3.7,3.8011699999999999,9087.9156184968469,91.2,"1968-01-01",null,null,null,"1968-01-01",855.47,34.1,25.087096774193547,112.6898708877963]
["1968-02-01",68232,3.8,4.3859599999999999,8335.2471793167824,83.6,"1968-02-01",null,null,null,"1968-02-01",840.5,34.200000000000003,24.576023391812864,110.39415711935767]
["1968-03-01",68293,3.7,4.3731799999999996,8459.2440649161781,84.9,"1968-03-01",null,null,null,"1968-03-01",840.67,34.299999999999997,24.50932944606414,110.09457155140336]
["1968-04-01",68356,3.5,4.3604700000000003,8696.1721118457299,87.2,"1968-04-01",null,null,null,"1968-04-01",912.22,34.4,26.518023255813954,119.11751462493878]
["1968-05-01",68418,3.5,4.3478300000000001,8718.0787555285988,87.5,"1968-05-01",null,null,null,"1968-05-01",899,34.5,26.057971014492754,117.05098504031751]
["1968-06-01",68473,3.7,4.6242799999999997,8225.6963965652285,82.5,"1968-06-01",null,null,null,"1968-06-01",897.8,34.700000000000003,25.873198847262245,116.22099853943698]
["1968-07-01",68522,3.7,4.8991400000000001,7968.4712657312239,79.900000000000006,"1968-07-01",null,null,null,"1968-07-01",883,34.9,25.300859598853869,113.65008184119614]
["1968-08-01",68557,3.5,4.58453,8480.0229574260957,85.1,"1968-08-01",null,null,null,"1968-08-01",896.01,35,25.600285714285715,114.99508762612852]
["1968-09-01",68607,3.4,4.8571400000000002,8308.8091033941546,83.3,"1968-09-01",null,null,null,"1968-09-01",935.79,35.1,{"$f":"L155/M155","v":26.66068376068376},{"$f":"IF(M155=\"\",\"\",N155/$P$14)","v":119.75833783454601}]
["1968-10-01",68651,3.4,5.1282100000000002,8049.8721302594568,80.7,"1968-10-01",null,null,null,"1968-10-01",952.39,35.299999999999997,26.979886685552408,121.19217996917904]
["1968-11-01",68734,3.4,5.3977300000000001,7812.697138921063,78.400000000000006,"1968-11-01",null,null,null,"1968-11-01",985.08,35.4,27.827118644067799,124.99789973326614]
["1968-12-01",68793,3.4,5.0847499999999997,8107.8405374348094,81.3,"1968-12-01",null,null,null,"1968-12-01",943.75,35.6,26.509831460674157,119.08071752781143]
["1969-01-01",68857,3.4,5.0704200000000004,8129.1128421022795,81.5,"1969-01-01",null,null,null,"1969-01-01",946.05,35.700000000000003,26.499999999999996,119.03655514250309]
["1969-02-01",68900,3.4,5.3221299999999996,7899.4465801358156,79.2,"1969-02-01",null,null,null,"1969-02-01",905.21,35.799999999999997,25.285195530726259,113.57971970121771]
["1969-03-01",68942,3.4,5.5865900000000002,7671.6529851701262,77,"1969-03-01",null,null,null,"1969-03-01",935.48,36.1,25.913573407202215,116.40235886134825]
["1969-04-01",68988,3.4,6.1281299999999996,7240.455367422569,72.599999999999994,"1969-04-01",null,null,null,"1969-04-01",950.18,36.299999999999997,26.175757575757576,117.58007585145133]
["1969-05-01",69054,3.4,5.8333300000000001,7478.7752630957621,75,"1969-05-01",null,null,null,"1969-05-01",937.56,36.4,25.757142857142856,115.69968135953266]
["1969-06-01",69106,3.5,5.8010999999999999,7429.8738858844654,74.5,"1969-06-01",null,null,null,"1969-06-01",873.19,36.6,23.857650273224046,107.16726423845994]
["1969-07-01",69208,3.5,5.7692300000000003,7466.4238561347593,74.900000000000006,"1969-07-01",null,null,null,"1969-07-01",815.47,36.799999999999997,22.159510869565221,99.539314624750844]
["1969-08-01",69258,3.5,6.0274000000000001,7269.3494552553684,72.900000000000006,"1969-08-01",null,null,null,"1969-08-01",836.72,36.9,22.675338753387535,101.85638535443596]
["1969-09-01",69302,3.7,5.9945500000000003,7148.5525372503107,71.7,"1969-09-01",null,null,null,"1969-09-01",813.09,37.1,21.916172506738544,98.446251966452579]
["1969-10-01",69362,3.7,5.9620600000000001,7178.8003800431788,72,"1969-10-01",null,null,null,"1969-10-01",855.99,37.299999999999997,22.948793565683648,103.08472946171403]
["1969-11-01",69424,3.5,5.66038,7578.7249000587308,76,"1969-11-01",null,null,null,"1969-11-01",812.3,37.5,21.661333333333332,97.301528294093345]
["1969-12-01",69541,3.5,5.9139799999999996,7386.9925366316911,74.099999999999994,"1969-12-01",null,null,null,"1969-12-01",800.36,37.700000000000003,21.22970822281167,95.362691831093315]
["1970-01-01",69604,3.9,6.16622,6914.6114430242933,69.400000000000006,"1970-01-01",{"$f":"IF(($G$13-G171)<40,\"\",G171)","v":"1970-01-01"},{"$f":"IF(H171=\"\",\"\",VLOOKUP($G171,WILL5000PR!$A$12:$B$1041,2,FALSE))","v":{"$error":"#N/A"}},null,"1970-01-01",744.06,37.9,19.632189973614775,88.18672695706762]
["1970-02-01",69672,4.2,5.8510600000000004,6931.8061975552828,69.5,"1970-02-01","1970-02-01",{"$f":"IF(H172=\"\",\"\",VLOOKUP($G172,WILL5000PR!$A$12:$B$1041,2,FALSE))","v":{"$error":"#N/A"}},null,"1970-02-01",777.59,38.1,20.409186351706037,91.676952323338767]
["1970-03-01",69743,4.4000000000000004,6.0846600000000004,6651.9085978944468,66.7,"1970-03-01","1970-03-01",{"$f":"IF(H173=\"\",\"\",VLOOKUP($G173,WILL5000PR!$A$12:$B$1041,2,FALSE))","v":{"$error":"#N/A"}},null,"1970-03-01",785.57,38.299999999999997,20.510966057441255,92.134141212174171]
["1970-04-01",69821,4.5999999999999996,6.0367499999999996,6564.1290807812538,65.8,"1970-04-01","1970-04-01",{"$f":"IF(H174=\"\",\"\",VLOOKUP($G174,WILL5000PR!$A$12:$B$1041,2,FALSE))","v":{"$error":"#N/A"}},null,"1970-04-01",736.07,38.5,19.1187012987013,85.880163826260485]
["1970-05-01",69903,4.8,6.2992100000000004,6298.0158047284449,63.2,"1970-05-01","1970-05-01",{"$f":"IF(H175=\"\",\"\",VLOOKUP($G175,WILL5000PR!$A$12:$B$1041,2,FALSE))","v":{"$error":"#N/A"}},null,"1970-05-01",700.44,38.6,18.146113989637307,81.511354662249374]
["1970-06-01",69967,4.9000000000000004,6.5274200000000002,6122.729364983521,61.4,"1970-06-01","1970-06-01",{"$f":"IF(H176=\"\",\"\",VLOOKUP($G176,WILL5000PR!$A$12:$B$1041,2,FALSE))","v":{"$error":"#N/A"}},null,"1970-06-01",683.53,38.799999999999997,17.616752577319588,79.13349206045045]
["1970-07-01",70043,5,6.2337699999999998,6235.0395281370365,62.5,"1970-07-01","1970-07-01",{"$f":"IF(H177=\"\",\"\",VLOOKUP($G177,WILL5000PR!$A$12:$B$1041,2,FALSE))","v":{"$error":"#N/A"}},null,"1970-07-01",734.12,38.9,18.871979434447301,84.771902664029085]
["1970-08-01",70093,5.0999999999999996,6.2015500000000001,6202.0696276174513,62.2,"1970-08-01","1970-08-01",{"$f":"IF(H178=\"\",\"\",VLOOKUP($G178,WILL5000PR!$A$12:$B$1041,2,FALSE))","v":{"$error":"#N/A"}},null,"1970-08-01",764.58,39,19.604615384615386,88.062863406729591]
["1970-09-01",70138,5.4,6.16967,6062.2299512432073,60.8,"1970-09-01","1970-09-01",{"$f":"IF(H179=\"\",\"\",VLOOKUP($G179,WILL5000PR!$A$12:$B$1041,2,FALSE))","v":{"$error":"#N/A"}},null,"1970-09-01",760.68,39.200000000000003,19.405102040816324,87.166660344435172]
["1970-10-01",70210,5.5,6.1381100000000002,6032.7664887168103,60.5,"1970-10-01","1970-10-01",{"$f":"IF(H180=\"\",\"\",VLOOKUP($G180,WILL5000PR!$A$12:$B$1041,2,FALSE))","v":{"$error":"#N/A"}},null,"1970-10-01",755.61,39.4,19.177918781725889,86.146165531296603]
["1970-11-01",70284,5.9,6.6326499999999999,5608.0717166760423,56.3,"1970-11-01","1970-11-01",{"$f":"IF(H181=\"\",\"\",VLOOKUP($G181,WILL5000PR!$A$12:$B$1041,2,FALSE))","v":{"$error":"#N/A"}},null,"1970-11-01",794.09,39.6,20.052777777777777,90.075984441690764]
["1970-12-01",70340,6.1,6.5989800000000001,5539.0275439444749,55.6,"1970-12-01","1970-12-01",{"$f":"IF(H182=\"\",\"\",VLOOKUP($G182,WILL5000PR!$A$12:$B$1041,2,FALSE))","v":{"$error":"#N/A"}},null,"1970-12-01",838.92,39.799999999999997,21.078391959798996,94.682987427845561]
["1971-01-01",70414,5.9,6.3131300000000001,5765.4344136187856,{"$f":"IF(D183=\"\",\"\",E183/$Q$14)","v":57.832939801105354},"1971-01-01","1971-01-01",{"$f":"IF(H183=\"\",\"\",VLOOKUP($G183,WILL5000PR!$A$12:$B$1041,2,FALSE))","v":84.544449999999998},null,"1971-01-01",868.5,39.9,21.766917293233085,97.775805685216781]
["1971-02-01",70472,5.9,6.0301499999999999,5907.0506238395992,{"$f":"IF(D184=\"\",\"\",E184/$Q$14)","v":59.253488743820732},"1971-02-01","1971-02-01",{"$f":"IF(H184=\"\",\"\",VLOOKUP($G184,WILL5000PR!$A$12:$B$1041,2,FALSE))","v":85.497150000000005},null,"1971-02-01",878.83,39.9,22.025814536340853,98.938757985422058]
["1971-03-01",70511,6,5.23691,6274.9456923656062,{"$f":"IF(K185=\"\",\"\",VLOOKUP($A185,'Tocalino Index'!$A$12:$B$1041,2,FALSE))","v":62.943840000000002},"1971-03-01","1971-03-01",{"$f":"IF(H185=\"\",\"\",VLOOKUP($G185,WILL5000PR!$A$12:$B$1041,2,FALSE))","v":88.920649999999995},null,"1971-03-01",904.37,40,22.609249999999999,101.55951827757126]
["1971-04-01",70588,5.9,4.9504999999999999,6505.5066586793237,{"$f":"IF(K186=\"\",\"\",VLOOKUP($A186,'Tocalino Index'!$A$12:$B$1041,2,FALSE))","v":65.256590000000003},"1971-04-01","1971-04-01",{"$f":"IF(H186=\"\",\"\",VLOOKUP($G186,WILL5000PR!$A$12:$B$1041,2,FALSE))","v":91.785150000000002},null,"1971-04-01",941.75,40.1,23.485037406483791,105.49350755700588]
["1971-05-01",70663,5.9,5.1851900000000004,6374.5411670887006,{"$f":"IF(K187=\"\",\"\",VLOOKUP($A187,'Tocalino Index'!$A$12:$B$1041,2,FALSE))","v":63.942880000000002},"1971-05-01","1971-05-01",{"$f":"IF(H187=\"\",\"\",VLOOKUP($G187,WILL5000PR!$A$12:$B$1041,2,FALSE))","v":87.943200000000004},null,"1971-05-01",907.81,40.299999999999997,22.526302729528535,101.18692366114119]
["1971-06-01",70721,5.9,4.9019599999999999,6547.0525719406469,{"$f":"IF(K188=\"\",\"\",VLOOKUP($A188,'Tocalino Index'!$A$12:$B$1041,2,FALSE))","v":65.673330000000007},"1971-06-01","1971-06-01",{"$f":"IF(H188=\"\",\"\",VLOOKUP($G188,WILL5000PR!$A$12:$B$1041,2,FALSE))","v":87.490769999999998},null,"1971-06-01",891.14,40.5,22.003456790123458,98.838328208423221]
["1971-07-01",70789,6,4.8899800000000004,6500.379247712116,{"$f":"IF(K189=\"\",\"\",VLOOKUP($A189,'Tocalino Index'!$A$12:$B$1041,2,FALSE))","v":65.205150000000003},"1971-07-01","1971-07-01",{"$f":"IF(H189=\"\",\"\",VLOOKUP($G189,WILL5000PR!$A$12:$B$1041,2,FALSE))","v":84.056129999999996},null,"1971-07-01",858.43,40.6,21.1435960591133,94.975880686847233]
["1971-08-01",70938,6.1,4.6228699999999998,6615.5795976263817,{"$f":"IF(K190=\"\",\"\",VLOOKUP($A190,'Tocalino Index'!$A$12:$B$1041,2,FALSE))","v":66.360730000000004},"1971-08-01","1971-08-01",{"$f":"IF(H190=\"\",\"\",VLOOKUP($G190,WILL5000PR!$A$12:$B$1041,2,FALSE))","v":86.805030000000002},null,"1971-08-01",898.07,40.700000000000003,22.065601965601964,99.117480948335967]
["1971-09-01",71087,6,4.1162200000000002,7027.0318360019846,{"$f":"IF(K191=\"\",\"\",VLOOKUP($A191,'Tocalino Index'!$A$12:$B$1041,2,FALSE))","v":70.487989999999996},"1971-09-01","1971-09-01",{"$f":"IF(H191=\"\",\"\",VLOOKUP($G191,WILL5000PR!$A$12:$B$1041,2,FALSE))","v":86.335679999999996},null,"1971-09-01",887.19,40.799999999999997,21.744852941176472,97.676693818791463]
["1971-10-01",71238,5.8,3.8554200000000001,7378.0322347448382,{"$f":"IF(K192=\"\",\"\",VLOOKUP($A192,'Tocalino Index'!$A$12:$B$1041,2,FALSE))","v":74.008870000000002},"1971-10-01","1971-10-01",{"$f":"IF(H192=\"\",\"\",VLOOKUP($G192,WILL5000PR!$A$12:$B$1041,2,FALSE))","v":82.649349999999998},null,"1971-10-01",839,40.9,20.513447432762838,92.145287414826882]
["1971-11-01",71362,6,3.3492799999999998,7632.8872383755752,{"$f":"IF(K193=\"\",\"\",VLOOKUP($A193,'Tocalino Index'!$A$12:$B$1041,2,FALSE))","v":76.56532},"1971-11-01","1971-11-01",{"$f":"IF(H193=\"\",\"\",VLOOKUP($G193,WILL5000PR!$A$12:$B$1041,2,FALSE))","v":82.067160000000001},null,"1971-11-01",831.34,41,20.276585365853659,91.081315924683423]
["1971-12-01",71514,6,3.09524,7862.7941648598608,{"$f":"IF(K194=\"\",\"\",VLOOKUP($A194,'Tocalino Index'!$A$12:$B$1041,2,FALSE))","v":78.871510000000001},"1971-12-01","1971-12-01",{"$f":"IF(H194=\"\",\"\",VLOOKUP($G194,WILL5000PR!$A$12:$B$1041,2,FALSE))","v":88.990390000000005},null,"1971-12-01",890.2,41.1,21.659367396593673,97.292697413447428]
["1972-01-01",71723,5.8,3.3254199999999998,7859.6930333069604,{"$f":"IF(K195=\"\",\"\",VLOOKUP($A195,'Tocalino Index'!$A$12:$B$1041,2,FALSE))","v":78.840400000000002},"1972-01-01","1972-01-01",{"$f":"IF(H195=\"\",\"\",VLOOKUP($G195,WILL5000PR!$A$12:$B$1041,2,FALSE))","v":91.565619999999996},null,"1972-01-01",902.17,41.2,21.897330097087377,98.361612889642814]
["1972-02-01",71878,5.7,3.3175400000000002,7970.9100264595445,{"$f":"IF(K196=\"\",\"\",VLOOKUP($A196,'Tocalino Index'!$A$12:$B$1041,2,FALSE))","v":79.956010000000006},"1972-02-01","1972-02-01",{"$f":"IF(H196=\"\",\"\",VLOOKUP($G196,WILL5000PR!$A$12:$B$1041,2,FALSE))","v":93.833309999999997},null,"1972-02-01",928.13,41.4,22.418599033816427,100.70312453232287]
["1972-03-01",71997,5.8,3.3175400000000002,7896.537881928678,{"$f":"IF(K197=\"\",\"\",VLOOKUP($A197,'Tocalino Index'!$A$12:$B$1041,2,FALSE))","v":79.209990000000005},"1972-03-01","1972-03-01",{"$f":"IF(H197=\"\",\"\",VLOOKUP($G197,WILL5000PR!$A$12:$B$1041,2,FALSE))","v":94.28698},null,"1972-03-01",940.7,41.4,22.722222222222225,102.06698334021756]
["1972-04-01",72138,5.7,3.3018900000000002,8013.6504667353192,{"$f":"IF(K198=\"\",\"\",VLOOKUP($A198,'Tocalino Index'!$A$12:$B$1041,2,FALSE))","v":80.384739999999994},"1972-04-01","1972-04-01",{"$f":"IF(H198=\"\",\"\",VLOOKUP($G198,WILL5000PR!$A$12:$B$1041,2,FALSE))","v":94.651200000000003},null,"1972-04-01",954.17,41.5,22.992048192771083,103.27902688822203]
["1972-05-01",72293,5.7,3.0516399999999999,8260.50888747709,{"$f":"IF(K199=\"\",\"\",VLOOKUP($A199,'Tocalino Index'!$A$12:$B$1041,2,FALSE))","v":82.860969999999995},"1972-05-01","1972-05-01",{"$f":"IF(H199=\"\",\"\",VLOOKUP($G199,WILL5000PR!$A$12:$B$1041,2,FALSE))","v":95.712019999999995},null,"1972-05-01",960.72,41.6,23.094230769230769,103.73802545038605]
["1972-06-01",72393,5.7,2.8037399999999999,8513.0777751906808,{"$f":"IF(K200=\"\",\"\",VLOOKUP($A200,'Tocalino Index'!$A$12:$B$1041,2,FALSE))","v":85.394490000000005},"1972-06-01","1972-06-01",{"$f":"IF(H200=\"\",\"\",VLOOKUP($G200,WILL5000PR!$A$12:$B$1041,2,FALSE))","v":93.353639999999999},null,"1972-06-01",929.03,41.7,22.278896882494003,100.07559008555238]
["1972-07-01",72538,5.6,2.7972000000000001,8638.3556423569771,{"$f":"IF(K201=\"\",\"\",VLOOKUP($A201,'Tocalino Index'!$A$12:$B$1041,2,FALSE))","v":86.651150000000001},"1972-07-01","1972-07-01",{"$f":"IF(H201=\"\",\"\",VLOOKUP($G201,WILL5000PR!$A$12:$B$1041,2,FALSE))","v":92.554919999999996},null,"1972-07-01",924.74,41.8,22.122966507177036,99.375159341408633]
["1972-08-01",72648,5.6,3.0232600000000001,8424.6561045358721,{"$f":"IF(K202=\"\",\"\",VLOOKUP($A202,'Tocalino Index'!$A$12:$B$1041,2,FALSE))","v":84.507530000000003},"1972-08-01","1972-08-01",{"$f":"IF(H202=\"\",\"\",VLOOKUP($G202,WILL5000PR!$A$12:$B$1041,2,FALSE))","v":95.215130000000002},null,"1972-08-01",963.73,41.9,23.000715990453461,103.31796216281759]
["1972-09-01",72761,5.5,3.0232600000000001,8536.7570624385498,{"$f":"IF(K203=\"\",\"\",VLOOKUP($A203,'Tocalino Index'!$A$12:$B$1041,2,FALSE))","v":85.632009999999994},"1972-09-01","1972-09-01",{"$f":"IF(H203=\"\",\"\",VLOOKUP($G203,WILL5000PR!$A$12:$B$1041,2,FALSE))","v":94.098479999999995},null,"1972-09-01",953.27,42.1,22.642992874109261,101.71108942830989]
["1972-10-01",72854,5.6,3.0162399999999998,8455.4283538991494,{"$f":"IF(K204=\"\",\"\",VLOOKUP($A204,'Tocalino Index'!$A$12:$B$1041,2,FALSE))","v":84.816209999999998},"1972-10-01","1972-10-01",{"$f":"IF(H204=\"\",\"\",VLOOKUP($G204,WILL5000PR!$A$12:$B$1041,2,FALSE))","v":94.367689999999996},null,"1972-10-01",955.52,42.2,22.642654028436016,101.70956735202053]
["1972-11-01",72959,5.3,2.7777799999999999,9032.0607889791499,{"$f":"IF(K205=\"\",\"\",VLOOKUP($A205,'Tocalino Index'!$A$12:$B$1041,2,FALSE))","v":90.600390000000004},"1972-11-01","1972-11-01",{"$f":"IF(H205=\"\",\"\",VLOOKUP($G205,WILL5000PR!$A$12:$B$1041,2,FALSE))","v":98.168970000000002},null,"1972-11-01",1018.21,42.4,24.014386792452832,107.87131613710226]
["1972-12-01",73092,5.2,3.00231,8911.1482009336396,{"$f":"IF(K206=\"\",\"\",VLOOKUP($A206,'Tocalino Index'!$A$12:$B$1041,2,FALSE))","v":89.387519999999995},"1972-12-01","1972-12-01",{"$f":"IF(H206=\"\",\"\",VLOOKUP($G206,WILL5000PR!$A$12:$B$1041,2,FALSE))","v":98.84639},null,"1972-12-01",1020.02,42.5,24.000470588235295,107.80880530650923]
["1973-01-01",73216,4.9000000000000004,2.52874,{"$f":"B207/(C207+D207)","v":9855.7763496905263},{"$f":"IF(K207=\"\",\"\",VLOOKUP($A207,'Tocalino Index'!$A$12:$B$1041,2,FALSE))","v":98.863069999999993},"1973-01-01","1973-01-01",{"$f":"IF(H207=\"\",\"\",VLOOKUP($G207,WILL5000PR!$A$12:$B$1041,2,FALSE))","v":95.851230000000001},null,"1973-01-01",999.02,42.7,23.396252927400468,105.09469251775303]
["1973-02-01",73330,5,2.7522899999999999,9459.1404604316922,{"$f":"IF(K208=\"\",\"\",VLOOKUP($A208,'Tocalino Index'!$A$12:$B$1041,2,FALSE))","v":94.884420000000006},"1973-02-01","1973-02-01",{"$f":"IF(H208=\"\",\"\",VLOOKUP($G208,WILL5000PR!$A$12:$B$1041,2,FALSE))","v":90.721689999999995},null,"1973-02-01",955.07,43,22.210930232558141,99.770287599781]
["1973-03-01",73492,4.9000000000000004,3.2110099999999999,9060.7704835772602,{"$f":"IF(K209=\"\",\"\",VLOOKUP($A209,'Tocalino Index'!$A$12:$B$1041,2,FALSE))","v":90.888379999999998},"1973-03-01","1973-03-01",{"$f":"IF(H209=\"\",\"\",VLOOKUP($G209,WILL5000PR!$A$12:$B$1041,2,FALSE))","v":89.127250000000004},null,"1973-03-01",951.01,43.4,21.91267281105991,98.430531524277797]
["1973-04-01",73605,5,2.9680399999999998,9237.5289280676297,{"$f":"IF(K210=\"\",\"\",VLOOKUP($A210,'Tocalino Index'!$A$12:$B$1041,2,FALSE))","v":92.661439999999999},"1973-04-01","1973-04-01",{"$f":"IF(H210=\"\",\"\",VLOOKUP($G210,WILL5000PR!$A$12:$B$1041,2,FALSE))","v":84.030010000000004},null,"1973-04-01",921.43,43.7,21.085354691075512,94.714263637111202]
["1973-05-01",73730,4.9000000000000004,3.1890700000000001,9114.7684468053812,{"$f":"IF(K211=\"\",\"\",VLOOKUP($A211,'Tocalino Index'!$A$12:$B$1041,2,FALSE))","v":91.430030000000002},"1973-05-01","1973-05-01",{"$f":"IF(H211=\"\",\"\",VLOOKUP($G211,WILL5000PR!$A$12:$B$1041,2,FALSE))","v":81.093940000000003},null,"1973-05-01",901.41,43.9,20.533257403189065,92.234272721883968]
["1973-06-01",73836,4.9000000000000004,3.1818200000000001,9136.0609367691923,{"$f":"IF(K212=\"\",\"\",VLOOKUP($A212,'Tocalino Index'!$A$12:$B$1041,2,FALSE))","v":91.643619999999999},"1973-06-01","1973-06-01",{"$f":"IF(H212=\"\",\"\",VLOOKUP($G212,WILL5000PR!$A$12:$B$1041,2,FALSE))","v":79.749390000000005},null,"1973-06-01",891.71,44.2,20.17443438914027,90.622459306856854]
["1973-07-01",73958,4.8,3.1745999999999999,9274.1955709377271,{"$f":"IF(K213=\"\",\"\",VLOOKUP($A213,'Tocalino Index'!$A$12:$B$1041,2,FALSE))","v":93.029240000000001},"1973-07-01","1973-07-01",{"$f":"IF(H213=\"\",\"\",VLOOKUP($G213,WILL5000PR!$A$12:$B$1041,2,FALSE))","v":83.932919999999996},null,"1973-07-01",926.4,44.2,20.959276018099544,94.147925112281101]
["1973-08-01",74071,4.8,3.1602700000000001,9305.0863852608018,{"$f":"IF(K214=\"\",\"\",VLOOKUP($A214,'Tocalino Index'!$A$12:$B$1041,2,FALSE))","v":93.339110000000005},"1973-08-01","1973-08-01",{"$f":"IF(H214=\"\",\"\",VLOOKUP($G214,WILL5000PR!$A$12:$B$1041,2,FALSE))","v":79.582099999999997},null,"1973-08-01",887.57,45,19.72377777777778,88.598134379732912]
["1973-09-01",74184,4.8,3.8374700000000002,8588.6260675869198,{"$f":"IF(K215=\"\",\"\",VLOOKUP($A215,'Tocalino Index'!$A$12:$B$1041,2,FALSE))","v":86.15231},"1973-09-01","1973-09-01",{"$f":"IF(H215=\"\",\"\",VLOOKUP($G215,WILL5000PR!$A$12:$B$1041,2,FALSE))","v":83.456810000000004},null,"1973-09-01",947.1,45.2,20.95353982300885,94.12215843668784]
["1973-10-01",74297,4.5999999999999996,4.27928,8367.4577217972637,{"$f":"IF(K216=\"\",\"\",VLOOKUP($A216,'Tocalino Index'!$A$12:$B$1041,2,FALSE))","v":83.933779999999999},"1973-10-01","1973-10-01",{"$f":"IF(H216=\"\",\"\",VLOOKUP($G216,WILL5000PR!$A$12:$B$1041,2,FALSE))","v":82.700220000000002},null,"1973-10-01",956.58,45.6,20.977631578947367,94.230377290810665]
["1973-11-01",74410,4.8,4.72973,7808.1960349348819,{"$f":"IF(K217=\"\",\"\",VLOOKUP($A217,'Tocalino Index'!$A$12:$B$1041,2,FALSE))","v":78.323830000000001},"1973-11-01","1973-11-01",{"$f":"IF(H217=\"\",\"\",VLOOKUP($G217,WILL5000PR!$A$12:$B$1041,2,FALSE))","v":71.738110000000006},null,"1973-11-01",822.25,45.9,17.913943355119827,80.468456830618805]
["1973-12-01",74582,4.9000000000000004,4.70852,7762.0694966550518,{"$f":"IF(K218=\"\",\"\",VLOOKUP($A218,'Tocalino Index'!$A$12:$B$1041,2,FALSE))","v":77.861140000000006},"1973-12-01","1973-12-01",{"$f":"IF(H218=\"\",\"\",VLOOKUP($G218,WILL5000PR!$A$12:$B$1041,2,FALSE))","v":71.866910000000004},null,"1973-12-01",850.86,46.3,18.377105831533477,82.54895742169623]
["1974-01-01",74878,5.0999999999999996,5.1569500000000001,7300.2208258790379,{"$f":"IF(K219=\"\",\"\",VLOOKUP($A219,'Tocalino Index'!$A$12:$B$1041,2,FALSE))","v":73.228350000000006},"1974-01-01","1974-01-01",{"$f":"IF(H219=\"\",\"\",VLOOKUP($G219,WILL5000PR!$A$12:$B$1041,2,FALSE))","v":71.402169999999998},null,"1974-01-01",855.55,46.8,{"$f":"L219/M219","v":18.280982905982906},{"$f":"IF(M219=\"\",\"\",N219/$P$14)","v":82.117178481026073}]
["1974-02-01",74987,5.2,5.3571400000000002,7102.9653864588327,{"$f":"IF(K220=\"\",\"\",VLOOKUP($A220,'Tocalino Index'!$A$12:$B$1041,2,FALSE))","v":71.249679999999998},"1974-02-01","1974-02-01",{"$f":"IF(H220=\"\",\"\",VLOOKUP($G220,WILL5000PR!$A$12:$B$1041,2,FALSE))","v":70.371250000000003},null,"1974-02-01",860.53,47.3,18.193023255813955,81.722068528284495]
["1974-03-01",75085,5.0999999999999996,5.7777799999999999,6902.6032885386539,{"$f":"IF(K221=\"\",\"\",VLOOKUP($A221,'Tocalino Index'!$A$12:$B$1041,2,FALSE))","v":69.239850000000004},"1974-03-01","1974-03-01",{"$f":"IF(H221=\"\",\"\",VLOOKUP($G221,WILL5000PR!$A$12:$B$1041,2,FALSE))","v":67.624300000000005},null,"1974-03-01",846.68,47.8,17.712970711297071,79.56569867218326]
["1974-04-01",75199,5.0999999999999996,6.2084299999999999,6649.8178792281515,{"$f":"IF(K222=\"\",\"\",VLOOKUP($A222,'Tocalino Index'!$A$12:$B$1041,2,FALSE))","v":66.704170000000005},"1974-04-01","1974-04-01",{"$f":"IF(H222=\"\",\"\",VLOOKUP($G222,WILL5000PR!$A$12:$B$1041,2,FALSE))","v":64.183059999999998},null,"1974-04-01",836.75,48.1,17.396049896049895,78.142107649542595]
["1974-05-01",75327,5.0999999999999996,7.0640200000000002,6192.6073781529458,{"$f":"IF(K223=\"\",\"\",VLOOKUP($A223,'Tocalino Index'!$A$12:$B$1041,2,FALSE))","v":62.117899999999999},"1974-05-01","1974-05-01",{"$f":"IF(H223=\"\",\"\",VLOOKUP($G223,WILL5000PR!$A$12:$B$1041,2,FALSE))","v":60.255949999999999},null,"1974-05-01",802.17,48.6,16.505555555555553,74.142055624397628]
["1974-06-01",75452,5.4,7.9295200000000001,5660.5189084078047,{"$f":"IF(K224=\"\",\"\",VLOOKUP($A224,'Tocalino Index'!$A$12:$B$1041,2,FALSE))","v":56.780529999999999},"1974-06-01","1974-06-01",{"$f":"IF(H224=\"\",\"\",VLOOKUP($G224,WILL5000PR!$A$12:$B$1041,2,FALSE))","v":58.148949999999999},null,"1974-06-01",802.41,49,16.375714285714285,73.558815719596382]
["1974-07-01",75563,5.5,8.7912099999999995,5287.3759464733921,{"$f":"IF(K225=\"\",\"\",VLOOKUP($A225,'Tocalino Index'!$A$12:$B$1041,2,FALSE))","v":53.037550000000003},"1974-07-01","1974-07-01",{"$f":"IF(H225=\"\",\"\",VLOOKUP($G225,WILL5000PR!$A$12:$B$1041,2,FALSE))","v":53.530270000000002},null,"1974-07-01",757.43,49.3,15.36369168356998,69.012865369196007]
["1974-08-01",75660,5.5,9.8468300000000006,4930.0083470006512,{"$f":"IF(K226=\"\",\"\",VLOOKUP($A226,'Tocalino Index'!$A$12:$B$1041,2,FALSE))","v":49.452800000000003},"1974-08-01","1974-08-01",{"$f":"IF(H226=\"\",\"\",VLOOKUP($G226,WILL5000PR!$A$12:$B$1041,2,FALSE))","v":47.780360000000002},null,"1974-08-01",678.58,49.9,13.598797595190382,61.085057351381828]
["1974-09-01",75756,5.9,10.21739,4700.2647450983068,{"$f":"IF(K227=\"\",\"\",VLOOKUP($A227,'Tocalino Index'!$A$12:$B$1041,2,FALSE))","v":47.148249999999997},"1974-09-01","1974-09-01",{"$f":"IF(H227=\"\",\"\",VLOOKUP($G227,WILL5000PR!$A$12:$B$1041,2,FALSE))","v":41.88355},null,"1974-09-01",607.87,50.6,12.013241106719367,53.962824054346598]
["1974-10-01",75859,6,10.58315,4574.4626322502054,{"$f":"IF(K228=\"\",\"\",VLOOKUP($A228,'Tocalino Index'!$A$12:$B$1041,2,FALSE))","v":45.886330000000001},"1974-10-01","1974-10-01",{"$f":"IF(H228=\"\",\"\",VLOOKUP($G228,WILL5000PR!$A$12:$B$1041,2,FALSE))","v":48.212350000000001},null,"1974-10-01",665.52,51,13.049411764705882,58.617246154967567]
["1974-11-01",75959,6.6,10.967739999999999,4323.777560460253,{"$f":"IF(K229=\"\",\"\",VLOOKUP($A229,'Tocalino Index'!$A$12:$B$1041,2,FALSE))","v":43.37171},"1974-11-01","1974-11-01",{"$f":"IF(H229=\"\",\"\",VLOOKUP($G229,WILL5000PR!$A$12:$B$1041,2,FALSE))","v":45.477449999999997},null,"1974-11-01",618.66,51.5,12.012815533980582,53.960912404807452]
["1974-12-01",76058,7.2,11.34904,4100.37392770731,{"$f":"IF(K230=\"\",\"\",VLOOKUP($A230,'Tocalino Index'!$A$12:$B$1041,2,FALSE))","v":41.130760000000002},"1974-12-01","1974-12-01",{"$f":"IF(H230=\"\",\"\",VLOOKUP($G230,WILL5000PR!$A$12:$B$1041,2,FALSE))","v":43.826279999999997},null,"1974-12-01",616.24,51.9,11.873603082851638,53.335577664606184]
["1975-01-01",76167,8.1,11.513859999999999,3883.3253627791778,{"$f":"IF(K231=\"\",\"\",VLOOKUP($A231,'Tocalino Index'!$A$12:$B$1041,2,FALSE))","v":38.95355},"1975-01-01","1975-01-01",{"$f":"IF(H231=\"\",\"\",VLOOKUP($G231,WILL5000PR!$A$12:$B$1041,2,FALSE))","v":49.958930000000002},null,"1975-01-01",703.69,52.3,13.45487571701721,60.438568121669626]
["1975-02-01",76266,8.1,11.864409999999999,3820.0978641492534,{"$f":"IF(K232=\"\",\"\",VLOOKUP($A232,'Tocalino Index'!$A$12:$B$1041,2,FALSE))","v":38.319310000000002},"1975-02-01","1975-02-01",{"$f":"IF(H232=\"\",\"\",VLOOKUP($G232,WILL5000PR!$A$12:$B$1041,2,FALSE))","v":52.317219999999999},null,"1975-02-01",739.05,52.6,14.050380228136881,63.113541916971741]
["1975-03-01",76363,8.6,11.34454,3828.7671713661985,{"$f":"IF(K233=\"\",\"\",VLOOKUP($A233,'Tocalino Index'!$A$12:$B$1041,2,FALSE))","v":38.406280000000002},"1975-03-01","1975-03-01",{"$f":"IF(H233=\"\",\"\",VLOOKUP($G233,WILL5000PR!$A$12:$B$1041,2,FALSE))","v":53.39302},null,"1975-03-01",768.15,52.8,14.548295454545455,65.35014996620481]
["1975-04-01",76456,8.8000000000000007,11.273490000000001,3808.8045476895149,{"$f":"IF(K234=\"\",\"\",VLOOKUP($A234,'Tocalino Index'!$A$12:$B$1041,2,FALSE))","v":38.206029999999998},"1975-04-01","1975-04-01",{"$f":"IF(H234=\"\",\"\",VLOOKUP($G234,WILL5000PR!$A$12:$B$1041,2,FALSE))","v":55.645719999999997},null,"1975-04-01",821.34,53,15.496981132075472,69.611594304552156]
["1975-05-01",76570,9,10.309279999999999,3965.4508091446182,{"$f":"IF(K235=\"\",\"\",VLOOKUP($A235,'Tocalino Index'!$A$12:$B$1041,2,FALSE))","v":39.777349999999998},"1975-05-01",{"$f":"IF(($G$13-G235)<40,\"\",G235)","v":"1975-05-01"},{"$f":"IF(H235=\"\",\"\",VLOOKUP($G235,WILL5000PR!$A$12:$B$1041,2,FALSE))","v":58.106529999999999},null,"1975-05-01",832.29,53.1,15.674011299435028,70.406804164128843]
["1975-06-01",76686,8.8000000000000007,9.7959200000000006,4123.8078030019487,{"$f":"IF(K236=\"\",\"\",VLOOKUP($A236,'Tocalino Index'!$A$12:$B$1041,2,FALSE))","v":41.365819999999999},"1975-06-01","1975-06-01",{"$f":"IF(H236=\"\",\"\",VLOOKUP($G236,WILL5000PR!$A$12:$B$1041,2,FALSE))","v":60.395159999999997},null,"1975-06-01",878.99,53.5,16.429719626168225,73.80140476438639]
["1975-07-01",76840,8.6,9.0909099999999992,4343.4735691945752,{"$f":"IF(K237=\"\",\"\",VLOOKUP($A237,'Tocalino Index'!$A$12:$B$1041,2,FALSE))","v":43.569279999999999},"1975-07-01","1975-07-01",{"$f":"IF(H237=\"\",\"\",VLOOKUP($G237,WILL5000PR!$A$12:$B$1041,2,FALSE))","v":55.951059999999998},null,"1975-07-01",831.51,54,15.398333333333333,69.168473771168948]
["1975-08-01",76947,8.4,7.9681300000000004,4701.0257127723198,{"$f":"IF(K238=\"\",\"\",VLOOKUP($A238,'Tocalino Index'!$A$12:$B$1041,2,FALSE))","v":47.155880000000003},"1975-08-01","1975-08-01",{"$f":"IF(H238=\"\",\"\",VLOOKUP($G238,WILL5000PR!$A$12:$B$1041,2,FALSE))","v":54.372100000000003},null,"1975-08-01",835.34,54.2,15.412177121771217,69.230659314028088]
["1975-09-01",77068,8.4,7.4950700000000001,4848.5473797850527,{"$f":"IF(K239=\"\",\"\",VLOOKUP($A239,'Tocalino Index'!$A$12:$B$1041,2,FALSE))","v":48.635669999999998},"1975-09-01","1975-09-01",{"$f":"IF(H239=\"\",\"\",VLOOKUP($G239,WILL5000PR!$A$12:$B$1041,2,FALSE))","v":51.840580000000003},null,"1975-09-01",793.88,54.6,14.53992673992674,65.31255815642433]
["1975-10-01",77175,8.4,7.03125,5001.2150668286758,{"$f":"IF(K240=\"\",\"\",VLOOKUP($A240,'Tocalino Index'!$A$12:$B$1041,2,FALSE))","v":50.167070000000002},"1975-10-01","1975-10-01",{"$f":"IF(H240=\"\",\"\",VLOOKUP($G240,WILL5000PR!$A$12:$B$1041,2,FALSE))","v":54.306339999999999},null,"1975-10-01",836.04,54.9,15.228415300546448,68.405211232318308]
["1975-11-01",77291,8.3000000000000007,6.9767400000000004,5059.3909433557155,{"$f":"IF(K241=\"\",\"\",VLOOKUP($A241,'Tocalino Index'!$A$12:$B$1041,2,FALSE))","v":50.750630000000001},"1975-11-01","1975-11-01",{"$f":"IF(H241=\"\",\"\",VLOOKUP($G241,WILL5000PR!$A$12:$B$1041,2,FALSE))","v":55.325130000000001},null,"1975-11-01",860.67,55.3,15.563652802893309,69.911079814731409]
["1975-12-01",77407,8.1999999999999993,6.7307699999999997,5184.3943748380025,{"$f":"IF(K242=\"\",\"\",VLOOKUP($A242,'Tocalino Index'!$A$12:$B$1041,2,FALSE))","v":52.004539999999999},"1975-12-01","1975-12-01",{"$f":"IF(H242=\"\",\"\",VLOOKUP($G242,WILL5000PR!$A$12:$B$1041,2,FALSE))","v":54.438470000000002},null,"1975-12-01",852.41,55.6,15.331115107913668,68.866533167518028]
["1976-01-01",77527,7.9,6.8833700000000002,5244.203452933938,{"$f":"IF(K243=\"\",\"\",VLOOKUP($A243,'Tocalino Index'!$A$12:$B$1041,2,FALSE))","v":52.604480000000002},"1976-01-01","1976-01-01",{"$f":"IF(H243=\"\",\"\",VLOOKUP($G243,WILL5000PR!$A$12:$B$1041,2,FALSE))","v":61.015410000000003},null,"1976-01-01",975.28,55.8,17.478136200716847,78.510834854521164]
["1976-02-01",77635,7.7,6.4393900000000004,5490.6894851899551,{"$f":"IF(K244=\"\",\"\",VLOOKUP($A244,'Tocalino Index'!$A$12:$B$1041,2,FALSE))","v":55.076979999999999},"1976-02-01","1976-02-01",{"$f":"IF(H244=\"\",\"\",VLOOKUP($G244,WILL5000PR!$A$12:$B$1041,2,FALSE))","v":60.894080000000002},null,"1976-02-01",972.61,55.9,17.399105545617175,78.155833460795861]
["1976-03-01",77746,7.6,6.6037699999999999,5473.6172157110404,{"$f":"IF(K245=\"\",\"\",VLOOKUP($A245,'Tocalino Index'!$A$12:$B$1041,2,FALSE))","v":54.905729999999998},"1976-03-01","1976-03-01",{"$f":"IF(H245=\"\",\"\",VLOOKUP($G245,WILL5000PR!$A$12:$B$1041,2,FALSE))","v":62.273269999999997},null,"1976-03-01",999.45,56,17.84732142857143,80.169194768985676]
["1976-04-01",77851,7.7,6.3789899999999999,5529.5869945216236,{"$f":"IF(K246=\"\",\"\",VLOOKUP($A246,'Tocalino Index'!$A$12:$B$1041,2,FALSE))","v":55.46716},"1976-04-01","1976-04-01",{"$f":"IF(H246=\"\",\"\",VLOOKUP($G246,WILL5000PR!$A$12:$B$1041,2,FALSE))","v":61.376130000000003},null,"1976-04-01",996.85,56.1,17.769162210338681,79.818107822153308]
["1976-05-01",77973,7.4,6.5420600000000002,5592.6455631377275,{"$f":"IF(K247=\"\",\"\",VLOOKUP($A247,'Tocalino Index'!$A$12:$B$1041,2,FALSE))","v":56.099699999999999},"1976-05-01","1976-05-01",{"$f":"IF(H247=\"\",\"\",VLOOKUP($G247,WILL5000PR!$A$12:$B$1041,2,FALSE))","v":59.978700000000003},null,"1976-05-01",975.23,56.4,17.291312056737588,77.67163098596501]
["1976-06-01",78099,7.6,6.3197000000000001,5610.6812646824292,{"$f":"IF(K248=\"\",\"\",VLOOKUP($A248,'Tocalino Index'!$A$12:$B$1041,2,FALSE))","v":56.280610000000003},"1976-06-01","1976-06-01",{"$f":"IF(H248=\"\",\"\",VLOOKUP($G248,WILL5000PR!$A$12:$B$1041,2,FALSE))","v":62.055109999999999},null,"1976-06-01",1002.78,56.7,17.685714285714283,79.44326429456541]
["1976-07-01",78218,7.8,6.6666699999999999,5406.7729477481689,{"$f":"IF(K249=\"\",\"\",VLOOKUP($A249,'Tocalino Index'!$A$12:$B$1041,2,FALSE))","v":54.235210000000002},"1976-07-01","1976-07-01",{"$f":"IF(H249=\"\",\"\",VLOOKUP($G249,WILL5000PR!$A$12:$B$1041,2,FALSE))","v":61.25808},null,"1976-07-01",984.64,57,17.27438596491228,77.595599904345747]
["1976-08-01",78339,7.8,6.8265700000000002,5355.9378582948702,{"$f":"IF(K250=\"\",\"\",VLOOKUP($A250,'Tocalino Index'!$A$12:$B$1041,2,FALSE))","v":53.725290000000001},"1976-08-01","1976-08-01",{"$f":"IF(H250=\"\",\"\",VLOOKUP($G250,WILL5000PR!$A$12:$B$1041,2,FALSE))","v":60.474080000000001},null,"1976-08-01",973.74,57.3,16.993717277486912,76.334851463308624]
["1976-09-01",78459,7.6,6.7889900000000001,5452.7107184034458,{"$f":"IF(K251=\"\",\"\",VLOOKUP($A251,'Tocalino Index'!$A$12:$B$1041,2,FALSE))","v":54.696019999999997},"1976-09-01","1976-09-01",{"$f":"IF(H251=\"\",\"\",VLOOKUP($G251,WILL5000PR!$A$12:$B$1041,2,FALSE))","v":61.589239999999997},null,"1976-09-01",990.19,57.6,17.190798611111113,77.22013006849788]
["1976-10-01",78558,7.7,6.7518200000000004,5435.8551379687815,{"$f":"IF(K252=\"\",\"\",VLOOKUP($A252,'Tocalino Index'!$A$12:$B$1041,2,FALSE))","v":54.526940000000003},"1976-10-01","1976-10-01",{"$f":"IF(H252=\"\",\"\",VLOOKUP($G252,WILL5000PR!$A$12:$B$1041,2,FALSE))","v":59.884639999999997},null,"1976-10-01",964.93,57.9,16.66545768566494,74.860327274517232]
["1976-11-01",78673,7.8,6.3405800000000001,5563.6331748768434,{"$f":"IF(K253=\"\",\"\",VLOOKUP($A253,'Tocalino Index'!$A$12:$B$1041,2,FALSE))","v":55.808680000000003},"1976-11-01","1976-11-01",{"$f":"IF(H253=\"\",\"\",VLOOKUP($G253,WILL5000PR!$A$12:$B$1041,2,FALSE))","v":59.738210000000002},null,"1976-11-01",947.22,58.1,16.303270223752151,73.233400943124593]
["1976-12-01",78820,7.8,6.1261299999999999,5659.8638674204531,{"$f":"IF(K254=\"\",\"\",VLOOKUP($A254,'Tocalino Index'!$A$12:$B$1041,2,FALSE))","v":56.773960000000002},"1976-12-01","1976-12-01",{"$f":"IF(H254=\"\",\"\",VLOOKUP($G254,WILL5000PR!$A$12:$B$1041,2,FALSE))","v":63.169449999999998},null,"1976-12-01",1004.65,58.4,17.202910958904109,77.2745380743834]
["1977-01-01",78934,7.5,6.0822900000000004,5811.5384077353674,{"$f":"IF(K255=\"\",\"\",VLOOKUP($A255,'Tocalino Index'!$A$12:$B$1041,2,FALSE))","v":58.295409999999997},"1977-01-01","1977-01-01",{"$f":"IF(H255=\"\",\"\",VLOOKUP($G255,WILL5000PR!$A$12:$B$1041,2,FALSE))","v":60.519210000000001},null,"1977-01-01",954.37,58.7,16.258432708688243,73.031993270129973]
["1977-02-01",79048,7.6,6.22776,5716.6164295590897,{"$f":"IF(K256=\"\",\"\",VLOOKUP($A256,'Tocalino Index'!$A$12:$B$1041,2,FALSE))","v":57.343249999999998},"1977-02-01","1977-02-01",{"$f":"IF(H256=\"\",\"\",VLOOKUP($G256,WILL5000PR!$A$12:$B$1041,2,FALSE))","v":58.673270000000002},null,"1977-02-01",936.42,59.3,15.791231028667791,70.933348796679979]
["1977-03-01",79154,7.4,6.1946899999999996,5822.4203714832774,{"$f":"IF(K257=\"\",\"\",VLOOKUP($A257,'Tocalino Index'!$A$12:$B$1041,2,FALSE))","v":58.404559999999996},"1977-03-01","1977-03-01",{"$f":"IF(H257=\"\",\"\",VLOOKUP($G257,WILL5000PR!$A$12:$B$1041,2,FALSE))","v":57.556150000000002},null,"1977-03-01",919.13,59.6,15.421644295302013,69.273185341350427]
["1977-04-01",79275,7.2,6.3492100000000002,5850.8946278048679,{"$f":"IF(K258=\"\",\"\",VLOOKUP($A258,'Tocalino Index'!$A$12:$B$1041,2,FALSE))","v":58.690190000000001},"1977-04-01","1977-04-01",{"$f":"IF(H258=\"\",\"\",VLOOKUP($G258,WILL5000PR!$A$12:$B$1041,2,FALSE))","v":57.373199999999997},null,"1977-04-01",926.9,60,15.448333333333332,69.393071045022722]
["1977-05-01",79412,7,6.3157899999999998,5963.7467998519051,{"$f":"IF(K259=\"\",\"\",VLOOKUP($A259,'Tocalino Index'!$A$12:$B$1041,2,FALSE))","v":59.822209999999998},"1977-05-01","1977-05-01",{"$f":"IF(H259=\"\",\"\",VLOOKUP($G259,WILL5000PR!$A$12:$B$1041,2,FALSE))","v":56.36891},null,"1977-05-01",898.66,60.2,14.927906976744184,67.055344226391171]
["1977-06-01",79544,7.2,6.6433600000000004,5746.0038603344847,{"$f":"IF(K260=\"\",\"\",VLOOKUP($A260,'Tocalino Index'!$A$12:$B$1041,2,FALSE))","v":57.638030000000001},"1977-06-01","1977-06-01",{"$f":"IF(H260=\"\",\"\",VLOOKUP($G260,WILL5000PR!$A$12:$B$1041,2,FALSE))","v":58.346710000000002},null,"1977-06-01",916.3,60.5,15.145454545454545,68.032556043708468]
["1977-07-01",79670,6.9,6.25,6058.555133079848,{"$f":"IF(K261=\"\",\"\",VLOOKUP($A261,'Tocalino Index'!$A$12:$B$1041,2,FALSE))","v":60.773229999999998},"1977-07-01","1977-07-01",{"$f":"IF(H261=\"\",\"\",VLOOKUP($G261,WILL5000PR!$A$12:$B$1041,2,FALSE))","v":57.205150000000003},null,"1977-07-01",890.07,60.8,14.639309210526317,65.758978795734706]
["1977-08-01",79800,7,6.2176200000000001,6037.3955371693237,{"$f":"IF(K262=\"\",\"\",VLOOKUP($A262,'Tocalino Index'!$A$12:$B$1041,2,FALSE))","v":60.560980000000001},"1977-08-01","1977-08-01",{"$f":"IF(H262=\"\",\"\",VLOOKUP($G262,WILL5000PR!$A$12:$B$1041,2,FALSE))","v":55.88308},null,"1977-08-01",861.49,61.1,14.099672667757774,63.334960868180836]
["1977-09-01",79927,6.8,6.1855700000000002,6155.0628890376011,{"$f":"IF(K263=\"\",\"\",VLOOKUP($A263,'Tocalino Index'!$A$12:$B$1041,2,FALSE))","v":61.741289999999999},"1977-09-01","1977-09-01",{"$f":"IF(H263=\"\",\"\",VLOOKUP($G263,WILL5000PR!$A$12:$B$1041,2,FALSE))","v":55.689749999999997},null,"1977-09-01",847.11,61.3,13.819086460032628,62.07458292146007]
["1977-10-01",80054,6.8,5.9829100000000004,6262.5802731928798,{"$f":"IF(K264=\"\",\"\",VLOOKUP($A264,'Tocalino Index'!$A$12:$B$1041,2,FALSE))","v":62.819800000000001},"1977-10-01","1977-10-01",{"$f":"IF(H264=\"\",\"\",VLOOKUP($G264,WILL5000PR!$A$12:$B$1041,2,FALSE))","v":53.266570000000002},null,"1977-10-01",818.35,61.6,13.284902597402597,59.675058135792341]
["1977-11-01",80190,6.8,6.1328800000000001,6200.4750681982659,{"$f":"IF(K265=\"\",\"\",VLOOKUP($A265,'Tocalino Index'!$A$12:$B$1041,2,FALSE))","v":62.196820000000002},"1977-11-01","1977-11-01",{"$f":"IF(H265=\"\",\"\",VLOOKUP($G265,WILL5000PR!$A$12:$B$1041,2,FALSE))","v":54.924950000000003},null,"1977-11-01",829.7,62,13.38225806451613,60.112373585961549]
["1977-12-01",80317,6.4,6.4516099999999996,6249.5671748520217,{"$f":"IF(K266=\"\",\"\",VLOOKUP($A266,'Tocalino Index'!$A$12:$B$1041,2,FALSE))","v":62.689259999999997},"1977-12-01","1977-12-01",{"$f":"IF(H266=\"\",\"\",VLOOKUP($G266,WILL5000PR!$A$12:$B$1041,2,FALSE))","v":55.070689999999999},null,"1977-12-01",831.17,62.3,13.341412520064205,59.928897627302042]
["1978-01-01",80444,6.4,6.4080899999999996,6280.7178900210729,{"$f":"IF(K267=\"\",\"\",VLOOKUP($A267,'Tocalino Index'!$A$12:$B$1041,2,FALSE))","v":63.001739999999998},"1978-01-01","1978-01-01",{"$f":"IF(H267=\"\",\"\",VLOOKUP($G267,WILL5000PR!$A$12:$B$1041,2,FALSE))","v":51.58652},null,"1978-01-01",769.92,62.7,12.279425837320574,55.158511351037276]
["1978-02-01",80564,6.3,6.1976500000000003,6446.3319103991553,{"$f":"IF(K268=\"\",\"\",VLOOKUP($A268,'Tocalino Index'!$A$12:$B$1041,2,FALSE))","v":64.66301},"1978-02-01","1978-02-01",{"$f":"IF(H268=\"\",\"\",VLOOKUP($G268,WILL5000PR!$A$12:$B$1041,2,FALSE))","v":50.369030000000002},null,"1978-02-01",742.12,63,11.77968253968254,52.913691705513273]
["1978-03-01",80679,6.3,6.3333300000000001,6386.2022127182618,{"$f":"IF(K269=\"\",\"\",VLOOKUP($A269,'Tocalino Index'!$A$12:$B$1041,2,FALSE))","v":64.059849999999997},"1978-03-01","1978-03-01",{"$f":"IF(H269=\"\",\"\",VLOOKUP($G269,WILL5000PR!$A$12:$B$1041,2,FALSE))","v":51.523940000000003},null,"1978-03-01",757.36,63.4,11.945741324921135,53.659618714794448]
["1978-04-01",80810,6.1,6.6334999999999997,6346.2520124082148,{"$f":"IF(K270=\"\",\"\",VLOOKUP($A270,'Tocalino Index'!$A$12:$B$1041,2,FALSE))","v":63.659109999999998},"1978-04-01","1978-04-01",{"$f":"IF(H270=\"\",\"\",VLOOKUP($G270,WILL5000PR!$A$12:$B$1041,2,FALSE))","v":55.257779999999997},null,"1978-04-01",837.32,63.9,13.103599374021909,58.860653941548236]
["1978-05-01",80950,6,6.7656799999999997,{"$f":"B271/(C271+D271)","v":6341.2211492063097},{"$f":"IF(K271=\"\",\"\",VLOOKUP($A271,'Tocalino Index'!$A$12:$B$1041,2,FALSE))","v":63.608640000000001},"1978-05-01","1978-05-01",{"$f":"IF(H271=\"\",\"\",VLOOKUP($G271,WILL5000PR!$A$12:$B$1041,2,FALSE))","v":55.593809999999998},null,"1978-05-01",840.61,64.5,13.032713178294573,58.54223701526373]
["1978-06-01",81097,5.9,6.8852500000000001,6343.0124557595664,{"$f":"IF(K272=\"\",\"\",VLOOKUP($A272,'Tocalino Index'!$A$12:$B$1041,2,FALSE))","v":63.626609999999999},"1978-06-01","1978-06-01",{"$f":"IF(H272=\"\",\"\",VLOOKUP($G272,WILL5000PR!$A$12:$B$1041,2,FALSE))","v":54.247610000000002},null,"1978-06-01",818.95,65,12.59923076923077,56.59505766847775]
["1978-07-01",81226,6.2,7.18954,6066.3771869683351,{"$f":"IF(K273=\"\",\"\",VLOOKUP($A273,'Tocalino Index'!$A$12:$B$1041,2,FALSE))","v":60.851689999999998},"1978-07-01","1978-07-01",{"$f":"IF(H273=\"\",\"\",VLOOKUP($G273,WILL5000PR!$A$12:$B$1041,2,FALSE))","v":56.838009999999997},null,"1978-07-01",862.27,65.5,13.16442748091603,59.133890481190349]
["1978-08-01",81364,5.9,7.4796699999999996,6081.1664263767343,{"$f":"IF(K274=\"\",\"\",VLOOKUP($A274,'Tocalino Index'!$A$12:$B$1041,2,FALSE))","v":61.000039999999998},"1978-08-01","1978-08-01",{"$f":"IF(H274=\"\",\"\",VLOOKUP($G274,WILL5000PR!$A$12:$B$1041,2,FALSE))","v":58.621160000000003},null,"1978-08-01",876.82,65.900000000000006,13.305311077389984,59.766731915165671]
["1978-09-01",81498,6,7.9287999999999998,5851.0424444316814,{"$f":"IF(K275=\"\",\"\",VLOOKUP($A275,'Tocalino Index'!$A$12:$B$1041,2,FALSE))","v":58.691670000000002},"1978-09-01","1978-09-01",{"$f":"IF(H275=\"\",\"\",VLOOKUP($G275,WILL5000PR!$A$12:$B$1041,2,FALSE))","v":57.713979999999999},null,"1978-09-01",865.82,66.5,13.019849624060152,58.484454631001306]
["1978-10-01",81652,5.8,8.3871000000000002,5755.3693143771452,{"$f":"IF(K276=\"\",\"\",VLOOKUP($A276,'Tocalino Index'!$A$12:$B$1041,2,FALSE))","v":57.73198},"1978-10-01","1978-10-01",{"$f":"IF(H276=\"\",\"\",VLOOKUP($G276,WILL5000PR!$A$12:$B$1041,2,FALSE))","v":50.92859},null,"1978-10-01",792.45,67.099999999999994,11.809985096870344,53.049809140216851]
["1978-11-01",81788,5.9,8.5072200000000002,5676.8758997225004,{"$f":"IF(K277=\"\",\"\",VLOOKUP($A277,'Tocalino Index'!$A$12:$B$1041,2,FALSE))","v":56.944609999999997},"1978-11-01","1978-11-01",{"$f":"IF(H277=\"\",\"\",VLOOKUP($G277,WILL5000PR!$A$12:$B$1041,2,FALSE))","v":51.926409999999997},null,"1978-11-01",799.03,67.5,11.837481481481481,53.173321400706776]
["1978-12-01",81931,6,8.4529499999999995,5668.8080980007544,{"$f":"IF(K278=\"\",\"\",VLOOKUP($A278,'Tocalino Index'!$A$12:$B$1041,2,FALSE))","v":56.863680000000002},"1978-12-01","1978-12-01",{"$f":"IF(H278=\"\",\"\",VLOOKUP($G278,WILL5000PR!$A$12:$B$1041,2,FALSE))","v":52.517560000000003},null,"1978-12-01",805.01,67.900000000000006,11.85581737849779,53.255685250377311]
["1979-01-01",82080,5.9,8.5578400000000006,5677.1965936820434,{"$f":"IF(K279=\"\",\"\",VLOOKUP($A279,'Tocalino Index'!$A$12:$B$1041,2,FALSE))","v":56.947830000000003},"1979-01-01","1979-01-01",{"$f":"IF(H279=\"\",\"\",VLOOKUP($G279,WILL5000PR!$A$12:$B$1041,2,FALSE))","v":54.431759999999997},null,"1979-01-01",839.22,68.5,12.251386861313868,55.032561799582126]
["1979-02-01",82211,5.9,9.1482600000000005,5463.1565376993749,{"$f":"IF(K280=\"\",\"\",VLOOKUP($A280,'Tocalino Index'!$A$12:$B$1041,2,FALSE))","v":54.800800000000002},"1979-02-01","1979-02-01",{"$f":"IF(H280=\"\",\"\",VLOOKUP($G280,WILL5000PR!$A$12:$B$1041,2,FALSE))","v":52.182310000000001},null,"1979-02-01",808.82,69.2,11.688150289017342,52.502533826131184]
["1979-03-01",82359,5.8,9.4043899999999994,5416.7908084441406,{"$f":"IF(K281=\"\",\"\",VLOOKUP($A281,'Tocalino Index'!$A$12:$B$1041,2,FALSE))","v":54.335700000000003},"1979-03-01","1979-03-01",{"$f":"IF(H281=\"\",\"\",VLOOKUP($G281,WILL5000PR!$A$12:$B$1041,2,FALSE))","v":55.069290000000002},null,"1979-03-01",862.18,69.900000000000006,12.334477825464948,55.405801880186416]
["1979-04-01",82470,5.8,9.3312600000000003,5450.306187323461,{"$f":"IF(K282=\"\",\"\",VLOOKUP($A282,'Tocalino Index'!$A$12:$B$1041,2,FALSE))","v":54.671900000000001},"1979-04-01","1979-04-01",{"$f":"IF(H282=\"\",\"\",VLOOKUP($G282,WILL5000PR!$A$12:$B$1041,2,FALSE))","v":54.831670000000003},null,"1979-04-01",854.9,70.599999999999994,12.109065155807366,54.393260458242509]
["1979-05-01",82632,5.6,9.4281299999999995,5498.4885012306922,{"$f":"IF(K283=\"\",\"\",VLOOKUP($A283,'Tocalino Index'!$A$12:$B$1041,2,FALSE))","v":55.155209999999997},"1979-05-01","1979-05-01",{"$f":"IF(H283=\"\",\"\",VLOOKUP($G283,WILL5000PR!$A$12:$B$1041,2,FALSE))","v":52.872410000000002},null,"1979-05-01",822.33,71.400000000000006,{"$f":"L283/M283","v":11.517226890756302},{"$f":"IF(M283=\"\",\"\",N283/$P$14)","v":51.734755240386114}]
["1979-06-01",82789,5.7,9.3558299999999992,5498.8001325732293,{"$f":"IF(K284=\"\",\"\",VLOOKUP($A284,'Tocalino Index'!$A$12:$B$1041,2,FALSE))","v":55.158340000000003},"1979-06-01","1979-06-01",{"$f":"IF(H284=\"\",\"\",VLOOKUP($G284,WILL5000PR!$A$12:$B$1041,2,FALSE))","v":54.79636},null,"1979-06-01",841.98,72.2,11.661772853185596,52.384047822549924]
["1979-07-01",82926,5.7,9.6036599999999996,5418.7037610610796,{"$f":"IF(K285=\"\",\"\",VLOOKUP($A285,'Tocalino Index'!$A$12:$B$1041,2,FALSE))","v":54.354889999999997},"1979-07-01","1979-07-01",{"$f":"IF(H285=\"\",\"\",VLOOKUP($G285,WILL5000PR!$A$12:$B$1041,2,FALSE))","v":54.72007},null,"1979-07-01",846.42,73,11.594794520547945,52.083184804196158]
["1979-08-01",83068,6,9.9848700000000008,5196.6640954852928,{"$f":"IF(K286=\"\",\"\",VLOOKUP($A286,'Tocalino Index'!$A$12:$B$1041,2,FALSE))","v":52.12762},"1979-08-01","1979-08-01",{"$f":"IF(H286=\"\",\"\",VLOOKUP($G286,WILL5000PR!$A$12:$B$1041,2,FALSE))","v":57.315300000000001},null,"1979-08-01",887.63,73.7,12.0438263229308,54.100211177972923]
["1979-09-01",83211,5.9,9.8950499999999995,5268.1694581530292,{"$f":"IF(K287=\"\",\"\",VLOOKUP($A287,'Tocalino Index'!$A$12:$B$1041,2,FALSE))","v":52.844889999999999},"1979-09-01","1979-09-01",{"$f":"IF(H287=\"\",\"\",VLOOKUP($G287,WILL5000PR!$A$12:$B$1041,2,FALSE))","v":56.907769999999999},null,"1979-09-01",878.58,74.400000000000006,11.808870967741935,53.044804532917617]
["1979-10-01",83439,6,10.11905,5176.4216873823207,{"$f":"IF(K288=\"\",\"\",VLOOKUP($A288,'Tocalino Index'!$A$12:$B$1041,2,FALSE))","v":51.924570000000003},"1979-10-01","1979-10-01",{"$f":"IF(H288=\"\",\"\",VLOOKUP($G288,WILL5000PR!$A$12:$B$1041,2,FALSE))","v":52.263579999999997},null,"1979-10-01",815.7,75.2,10.847074468085106,48.724467096416994]
["1979-11-01",83582,5.9,10.65089,5050.0003323084129,{"$f":"IF(K289=\"\",\"\",VLOOKUP($A289,'Tocalino Index'!$A$12:$B$1041,2,FALSE))","v":50.656440000000003},"1979-11-01","1979-11-01",{"$f":"IF(H289=\"\",\"\",VLOOKUP($G289,WILL5000PR!$A$12:$B$1041,2,FALSE))","v":54.591880000000003},null,"1979-11-01",822.35,76,10.820394736842106,48.604623198330401]
["1979-12-01",83737,6,11.32353,4833.7146066650394,{"$f":"IF(K290=\"\",\"\",VLOOKUP($A290,'Tocalino Index'!$A$12:$B$1041,2,FALSE))","v":48.486879999999999},"1979-12-01","1979-12-01",{"$f":"IF(H290=\"\",\"\",VLOOKUP($G290,WILL5000PR!$A$12:$B$1041,2,FALSE))","v":55.293909999999997},null,"1979-12-01",838.74,76.900000000000006,10.906892067620285,48.993164492098558]
["1980-01-01",83886,6.3,11.970800000000001,4591.260371740701,{"$f":"IF(K291=\"\",\"\",VLOOKUP($A291,'Tocalino Index'!$A$12:$B$1041,2,FALSE))","v":46.054830000000003},"1980-01-01","1980-01-01",{"$f":"IF(H291=\"\",\"\",VLOOKUP($G291,WILL5000PR!$A$12:$B$1041,2,FALSE))","v":58.289850000000001},null,"1980-01-01",875.85,78,11.228846153846154,50.439364693546857]
["1980-02-01",84026,6.3,11.99422,4593.0353958791356,{"$f":"IF(K292=\"\",\"\",VLOOKUP($A292,'Tocalino Index'!$A$12:$B$1041,2,FALSE))","v":46.072629999999997},"1980-02-01","1980-02-01",{"$f":"IF(H292=\"\",\"\",VLOOKUP($G292,WILL5000PR!$A$12:$B$1041,2,FALSE))","v":57.216419999999999},null,"1980-02-01",863.14,79,10.925822784810126,49.078200241557262]
["1980-03-01",84163,6.3,12.60745,4451.3141645224496,{"$f":"IF(K293=\"\",\"\",VLOOKUP($A293,'Tocalino Index'!$A$12:$B$1041,2,FALSE))","v":44.651029999999999},"1980-03-01","1980-03-01",{"$f":"IF(H293=\"\",\"\",VLOOKUP($G293,WILL5000PR!$A$12:$B$1041,2,FALSE))","v":49.354559999999999},null,"1980-03-01",785.75,80.099999999999994,9.8096129837702879,44.064246674308919]
["1980-04-01",84311,6.9,13.08677,4218.3404321958978,{"$f":"IF(K294=\"\",\"\",VLOOKUP($A294,'Tocalino Index'!$A$12:$B$1041,2,FALSE))","v":42.314079999999997},"1980-04-01","1980-04-01",{"$f":"IF(H294=\"\",\"\",VLOOKUP($G294,WILL5000PR!$A$12:$B$1041,2,FALSE))","v":51.179819999999999},null,"1980-04-01",817.06,80.900000000000006,10.099629171817057,45.366983578484302]
["1980-05-01",84458,7.5,13.135590000000001,4092.8318502160587,{"$f":"IF(K295=\"\",\"\",VLOOKUP($A295,'Tocalino Index'!$A$12:$B$1041,2,FALSE))","v":41.055100000000003},"1980-05-01","1980-05-01",{"$f":"IF(H295=\"\",\"\",VLOOKUP($G295,WILL5000PR!$A$12:$B$1041,2,FALSE))","v":53.091419999999999},null,"1980-05-01",850.85,81.7,10.414320685434516,46.780560699752321]
["1980-06-01",84612,7.6,13.60449,3990.2869628083486,{"$f":"IF(K296=\"\",\"\",VLOOKUP($A296,'Tocalino Index'!$A$12:$B$1041,2,FALSE))","v":40.026479999999999},"1980-06-01","1980-06-01",{"$f":"IF(H296=\"\",\"\",VLOOKUP($G296,WILL5000PR!$A$12:$B$1041,2,FALSE))","v":54.284059999999997},null,"1980-06-01",867.92,82.5,10.520242424242424,47.256355375314484]
["1980-07-01",84798,7.8,12.378299999999999,4202.4352893950436,{"$f":"IF(K297=\"\",\"\",VLOOKUP($A297,'Tocalino Index'!$A$12:$B$1041,2,FALSE))","v":42.154530000000001},"1980-07-01","1980-07-01",{"$f":"IF(H297=\"\",\"\",VLOOKUP($G297,WILL5000PR!$A$12:$B$1041,2,FALSE))","v":57.891539999999999},null,"1980-07-01",935.32,82.6,11.323486682808719,50.864484789568287]
["1980-08-01",84932,7.7,11.82944,4348.9214232461345,{"$f":"IF(K298=\"\",\"\",VLOOKUP($A298,'Tocalino Index'!$A$12:$B$1041,2,FALSE))","v":43.623930000000001},"1980-08-01","1980-08-01",{"$f":"IF(H298=\"\",\"\",VLOOKUP($G298,WILL5000PR!$A$12:$B$1041,2,FALSE))","v":58.627220000000001},null,"1980-08-01",932.59,83.2,11.209014423076923,50.350281640215421]
["1980-09-01",85076,7.5,12.005459999999999,4361.6505327226323,{"$f":"IF(K299=\"\",\"\",VLOOKUP($A299,'Tocalino Index'!$A$12:$B$1041,2,FALSE))","v":43.751620000000003},"1980-09-01",{"$f":"IF(($G$13-G299)<40,\"\",G299)","v":"1980-09-01"},{"$f":"IF(H299=\"\",\"\",VLOOKUP($G299,WILL5000PR!$A$12:$B$1041,2,FALSE))","v":59.671149999999997},null,"1980-09-01",932.42,83.9,11.113468414779499,49.921094180391187]
["1980-10-01",85227,7.5,12.16216,4334.5695488186448,{"$f":"IF(K300=\"\",\"\",VLOOKUP($A300,'Tocalino Index'!$A$12:$B$1041,2,FALSE))","v":43.479970000000002},"1980-10-01","1980-10-01",{"$f":"IF(H300=\"\",\"\",VLOOKUP($G300,WILL5000PR!$A$12:$B$1041,2,FALSE))","v":60.442219999999999},null,"1980-10-01",924.49,84.7,10.914876033057851,49.029028029534963]
["1980-11-01",85369,7.5,12.16578,4340.9923227047193,{"$f":"IF(K301=\"\",\"\",VLOOKUP($A301,'Tocalino Index'!$A$12:$B$1041,2,FALSE))","v":43.54439},"1980-11-01","1980-11-01",{"$f":"IF(H301=\"\",\"\",VLOOKUP($G301,WILL5000PR!$A$12:$B$1041,2,FALSE))","v":66.093260000000001},null,"1980-11-01",993.34,85.6,11.60443925233645,52.126508413531141]
["1980-12-01",85508,7.2,12.15324,4418.2782831195191,{"$f":"IF(K302=\"\",\"\",VLOOKUP($A302,'Tocalino Index'!$A$12:$B$1041,2,FALSE))","v":44.319650000000003},"1980-12-01","1980-12-01",{"$f":"IF(H302=\"\",\"\",VLOOKUP($G302,WILL5000PR!$A$12:$B$1041,2,FALSE))","v":62.710700000000003},null,"1980-12-01",963.99,86.4,11.157291666666666,50.117945838496489]
["1981-01-01",85659,7.5,11.342890000000001,4545.9587144010284,{"$f":"IF(K303=\"\",\"\",VLOOKUP($A303,'Tocalino Index'!$A$12:$B$1041,2,FALSE))","v":45.600409999999997},"1981-01-01","1981-01-01",{"$f":"IF(H303=\"\",\"\",VLOOKUP($G303,WILL5000PR!$A$12:$B$1041,2,FALSE))","v":59.44126},null,"1981-01-01",947.27,87.2,10.863188073394495,48.796848532905884]
["1981-02-01",85809,7.4,10.838710000000001,4704.7735283909878,{"$f":"IF(K304=\"\",\"\",VLOOKUP($A304,'Tocalino Index'!$A$12:$B$1041,2,FALSE))","v":47.193469999999998},"1981-02-01","1981-02-01",{"$f":"IF(H304=\"\",\"\",VLOOKUP($G304,WILL5000PR!$A$12:$B$1041,2,FALSE))","v":59.238990000000001},null,"1981-02-01",974.58,88,11.074772727272729,49.747275261912819]
["1981-03-01",85950,7.4,9.9236599999999999,4961.4227016692776,{"$f":"IF(K305=\"\",\"\",VLOOKUP($A305,'Tocalino Index'!$A$12:$B$1041,2,FALSE))","v":49.767919999999997},"1981-03-01","1981-03-01",{"$f":"IF(H305=\"\",\"\",VLOOKUP($G305,WILL5000PR!$A$12:$B$1041,2,FALSE))","v":61.606310000000001},null,"1981-03-01",1003.87,88.6,11.330361173814898,50.895364628350691]
["1981-04-01",86100,7.2,9.4339600000000008,5176.1576918544943,{"$f":"IF(K306=\"\",\"\",VLOOKUP($A306,'Tocalino Index'!$A$12:$B$1041,2,FALSE))","v":51.92192},"1981-04-01","1981-04-01",{"$f":"IF(H306=\"\",\"\",VLOOKUP($G306,WILL5000PR!$A$12:$B$1041,2,FALSE))","v":60.587769999999999},null,"1981-04-01",997.75,89.1,11.198092031425366,50.301218852437366]
["1981-05-01",86250,7.5,9.6129800000000003,5040.0339391502821,{"$f":"IF(K307=\"\",\"\",VLOOKUP($A307,'Tocalino Index'!$A$12:$B$1041,2,FALSE))","v":50.556460000000001},"1981-05-01","1981-05-01",{"$f":"IF(H307=\"\",\"\",VLOOKUP($G307,WILL5000PR!$A$12:$B$1041,2,FALSE))","v":60.539830000000002},null,"1981-05-01",991.75,89.7,11.056298773690077,49.664291269673519]
["1981-06-01",86398,7.5,9.3827200000000008,5117.5403015627817,{"$f":"IF(K308=\"\",\"\",VLOOKUP($A308,'Tocalino Index'!$A$12:$B$1041,2,FALSE))","v":51.333930000000002},"1981-06-01","1981-06-01",{"$f":"IF(H308=\"\",\"\",VLOOKUP($G308,WILL5000PR!$A$12:$B$1041,2,FALSE))","v":59.173000000000002},null,"1981-06-01",976.88,90.5,10.794254143646409,48.487201078956922]
["1981-07-01",86553,7.2,11.13861,4719.7143076819893,{"$f":"IF(K309=\"\",\"\",VLOOKUP($A309,'Tocalino Index'!$A$12:$B$1041,2,FALSE))","v":47.343350000000001},"1981-07-01","1981-07-01",{"$f":"IF(H309=\"\",\"\",VLOOKUP($G309,WILL5000PR!$A$12:$B$1041,2,FALSE))","v":58.143799999999999},null,"1981-07-01",952.34,91.5,10.408087431693989,46.752561263805099]
["1981-08-01",86698,7.4,11.56212,4572.1680909096667,{"$f":"IF(K310=\"\",\"\",VLOOKUP($A310,'Tocalino Index'!$A$12:$B$1041,2,FALSE))","v":45.863309999999998},"1981-08-01","1981-08-01",{"$f":"IF(H310=\"\",\"\",VLOOKUP($G310,WILL5000PR!$A$12:$B$1041,2,FALSE))","v":54.15081},null,"1981-08-01",881.47,92.2,9.5604121475054225,42.944850104965504]
["1981-09-01",86862,7.6,11.814859999999999,4473.9956919596643,{"$f":"IF(K311=\"\",\"\",VLOOKUP($A311,'Tocalino Index'!$A$12:$B$1041,2,FALSE))","v":44.878549999999997},"1981-09-01","1981-09-01",{"$f":"IF(H311=\"\",\"\",VLOOKUP($G311,WILL5000PR!$A$12:$B$1041,2,FALSE))","v":49.958449999999999},null,"1981-09-01",849.98,93.1,9.1297529538131048,41.010352487698277]
["1981-10-01",87036,7.9,10.96386,4613.9019267530603,{"$f":"IF(K312=\"\",\"\",VLOOKUP($A312,'Tocalino Index'!$A$12:$B$1041,2,FALSE))","v":46.281939999999999},"1981-10-01","1981-10-01",{"$f":"IF(H312=\"\",\"\",VLOOKUP($G312,WILL5000PR!$A$12:$B$1041,2,FALSE))","v":52.698320000000002},null,"1981-10-01",852.55,93.4,9.1279443254817973,41.002228227845748]
["1981-11-01",87203,8.3000000000000007,10.250299999999999,4700.8943251591618,{"$f":"IF(K313=\"\",\"\",VLOOKUP($A313,'Tocalino Index'!$A$12:$B$1041,2,FALSE))","v":47.154559999999996},"1981-11-01","1981-11-01",{"$f":"IF(H313=\"\",\"\",VLOOKUP($G313,WILL5000PR!$A$12:$B$1041,2,FALSE))","v":54.535049999999998},null,"1981-11-01",888.98,93.8,9.477398720682304,42.571958317810846]
["1981-12-01",87358,8.5,9.5406399999999998,4842.2894088014618,{"$f":"IF(K314=\"\",\"\",VLOOKUP($A314,'Tocalino Index'!$A$12:$B$1041,2,FALSE))","v":48.572890000000001},"1981-12-01","1981-12-01",{"$f":"IF(H314=\"\",\"\",VLOOKUP($G314,WILL5000PR!$A$12:$B$1041,2,FALSE))","v":52.722250000000003},null,"1981-12-01",875,94.1,9.2986184909670566,41.768887273550909]
["1982-01-01",87517,8.6,9.2505900000000008,4902.7511135486275,{"$f":"IF(K315=\"\",\"\",VLOOKUP($A315,'Tocalino Index'!$A$12:$B$1041,2,FALSE))","v":49.179380000000002},"1982-01-01","1982-01-01",{"$f":"IF(H315=\"\",\"\",VLOOKUP($G315,WILL5000PR!$A$12:$B$1041,2,FALSE))","v":50.965510000000002},null,"1982-01-01",871.1,94.4,9.2277542372881349,41.450568909751539]
["1982-02-01",87670,8.9,9.1967400000000001,4844.5189575581016,{"$f":"IF(K316=\"\",\"\",VLOOKUP($A316,'Tocalino Index'!$A$12:$B$1041,2,FALSE))","v":48.595260000000003},"1982-02-01","1982-02-01",{"$f":"IF(H316=\"\",\"\",VLOOKUP($G316,WILL5000PR!$A$12:$B$1041,2,FALSE))","v":47.668529999999997},null,"1982-02-01",824.39,94.7,8.7052798310454058,39.103642363741756]
["1982-03-01",87813,9,8.6805599999999998,4966.6413281027299,{"$f":"IF(K317=\"\",\"\",VLOOKUP($A317,'Tocalino Index'!$A$12:$B$1041,2,FALSE))","v":49.820259999999998},"1982-03-01","1982-03-01",{"$f":"IF(H317=\"\",\"\",VLOOKUP($G317,WILL5000PR!$A$12:$B$1041,2,FALSE))","v":47.039299999999997},null,"1982-03-01",822.77,94.7,8.688173178458289,39.026800213025155]
["1982-04-01",87967,9.3000000000000007,8.8505699999999994,4846.5144620802539,{"$f":"IF(K318=\"\",\"\",VLOOKUP($A318,'Tocalino Index'!$A$12:$B$1041,2,FALSE))","v":48.615270000000002},"1982-04-01","1982-04-01",{"$f":"IF(H318=\"\",\"\",VLOOKUP($G318,WILL5000PR!$A$12:$B$1041,2,FALSE))","v":48.780119999999997},null,"1982-04-01",848.36,95,8.9301052631578948,40.113545946651016]
["1982-05-01",88128,9.4,8.6560400000000008,4880.804428878092,{"$f":"IF(K319=\"\",\"\",VLOOKUP($A319,'Tocalino Index'!$A$12:$B$1041,2,FALSE))","v":48.959240000000001},"1982-05-01","1982-05-01",{"$f":"IF(H319=\"\",\"\",VLOOKUP($G319,WILL5000PR!$A$12:$B$1041,2,FALSE))","v":46.567889999999998},null,"1982-05-01",819.54,95.9,8.5457768508863392,38.387163673436163]
["1982-06-01",88281,9.6,8.4650099999999995,4886.8503255741343,{"$f":"IF(K320=\"\",\"\",VLOOKUP($A320,'Tocalino Index'!$A$12:$B$1041,2,FALSE))","v":49.019880000000001},"1982-06-01","1982-06-01",{"$f":"IF(H320=\"\",\"\",VLOOKUP($G320,WILL5000PR!$A$12:$B$1041,2,FALSE))","v":44.692100000000003},null,"1982-06-01",811.93,97,8.3704123711340195,37.599435991773014]
["1982-07-01",88437,9.8000000000000007,7.6837400000000002,5058.2426872053684,{"$f":"IF(K321=\"\",\"\",VLOOKUP($A321,'Tocalino Index'!$A$12:$B$1041,2,FALSE))","v":50.73912},"1982-07-01","1982-07-01",{"$f":"IF(H321=\"\",\"\",VLOOKUP($G321,WILL5000PR!$A$12:$B$1041,2,FALSE))","v":43.45796},null,"1982-07-01",808.6,97.5,8.293333333333333,37.253201156546879]
["1982-08-01",88593,9.8000000000000007,7.0562300000000002,5255.8015641694492,{"$f":"IF(K322=\"\",\"\",VLOOKUP($A322,'Tocalino Index'!$A$12:$B$1041,2,FALSE))","v":52.720820000000003},"1982-08-01","1982-08-01",{"$f":"IF(H322=\"\",\"\",VLOOKUP($G322,WILL5000PR!$A$12:$B$1041,2,FALSE))","v":48.11092},null,"1982-08-01",901.31,97.7,9.2252814738996918,41.439461391432943]
["1982-09-01",88756,10.1,5.8823499999999997,5553.3760679749848,{"$f":"IF(K323=\"\",\"\",VLOOKUP($A323,'Tocalino Index'!$A$12:$B$1041,2,FALSE))","v":55.70579},"1982-09-01","1982-09-01",{"$f":"IF(H323=\"\",\"\",VLOOKUP($G323,WILL5000PR!$A$12:$B$1041,2,FALSE))","v":48.63644},null,"1982-09-01",896.25,97.7,9.1734902763561923,41.206818155875091]
["1982-10-01",88935,10.4,5.8631900000000003,5468.4843502412496,{"$f":"IF(K324=\"\",\"\",VLOOKUP($A324,'Tocalino Index'!$A$12:$B$1041,2,FALSE))","v":54.854239999999997},"1982-10-01","1982-10-01",{"$f":"IF(H324=\"\",\"\",VLOOKUP($G324,WILL5000PR!$A$12:$B$1041,2,FALSE))","v":54.041359999999997},null,"1982-10-01",991.72,98.1,10.109276248725791,45.410317721971495]
["1982-11-01",89107,10.8,5.18919,5572.9527261856292,{"$f":"IF(K325=\"\",\"\",VLOOKUP($A325,'Tocalino Index'!$A$12:$B$1041,2,FALSE))","v":55.902160000000002},"1982-11-01","1982-11-01",{"$f":"IF(H325=\"\",\"\",VLOOKUP($G325,WILL5000PR!$A$12:$B$1041,2,FALSE))","v":56.433570000000003},null,"1982-11-01",1039.28,98,10.604897959183674,47.63662342260325]
["1982-12-01",89198,10.8,4.5161300000000004,5823.7949142505313,{"$f":"IF(K326=\"\",\"\",VLOOKUP($A326,'Tocalino Index'!$A$12:$B$1041,2,FALSE))","v":58.418349999999997},"1982-12-01","1982-12-01",{"$f":"IF(H326=\"\",\"\",VLOOKUP($G326,WILL5000PR!$A$12:$B$1041,2,FALSE))","v":57.30518},null,"1982-12-01",1046.54,97.7,10.71177072671443,48.116690067335583]
["1983-01-01",89349,10.4,4.6087899999999999,5953.1114766746678,{"$f":"IF(K327=\"\",\"\",VLOOKUP($A327,'Tocalino Index'!$A$12:$B$1041,2,FALSE))","v":59.715519999999998},"1983-01-01","1983-01-01",{"$f":"IF(H327=\"\",\"\",VLOOKUP($G327,WILL5000PR!$A$12:$B$1041,2,FALSE))","v":59.448979999999999},null,"1983-01-01",1075.7,97.9,10.987742594484168,49.356340650563951]
["1983-02-01",89513,10.4,4.4776100000000003,6016.6249821039801,{"$f":"IF(K328=\"\",\"\",VLOOKUP($A328,'Tocalino Index'!$A$12:$B$1041,2,FALSE))","v":60.352629999999998},"1983-02-01","1983-02-01",{"$f":"IF(H328=\"\",\"\",VLOOKUP($G328,WILL5000PR!$A$12:$B$1041,2,FALSE))","v":60.92906},null,"1983-02-01",1112.6199999999999,98,11.353265306122449,50.998248741875933]
["1983-03-01",89671,10.3,4.5793400000000002,6026.5441881158704,{"$f":"IF(K329=\"\",\"\",VLOOKUP($A329,'Tocalino Index'!$A$12:$B$1041,2,FALSE))","v":60.452129999999997},"1983-03-01","1983-03-01",{"$f":"IF(H329=\"\",\"\",VLOOKUP($G329,WILL5000PR!$A$12:$B$1041,2,FALSE))","v":62.972850000000001},null,"1983-03-01",1130.03,98.1,11.519164118246687,51.743457160649619]
["1983-04-01",89823,10.199999999999999,4.1182699999999999,6273.3137453058234,{"$f":"IF(K330=\"\",\"\",VLOOKUP($A330,'Tocalino Index'!$A$12:$B$1041,2,FALSE))","v":62.92747},"1983-04-01","1983-04-01",{"$f":"IF(H330=\"\",\"\",VLOOKUP($G330,WILL5000PR!$A$12:$B$1041,2,FALSE))","v":67.091160000000002},null,"1983-04-01",1226.2,98.8,12.41093117408907,55.749226153745823]
["1983-05-01",89988,10.1,3.6687599999999998,6535.6647947963356,{"$f":"IF(K331=\"\",\"\",VLOOKUP($A331,'Tocalino Index'!$A$12:$B$1041,2,FALSE))","v":65.559100000000001},"1983-05-01","1983-05-01",{"$f":"IF(H331=\"\",\"\",VLOOKUP($G331,WILL5000PR!$A$12:$B$1041,2,FALSE))","v":67.191079999999999},null,"1983-05-01",1199.98,99.2,12.09657258064516,54.337144491745612]
["1983-06-01",90149,10.1,3.2258100000000001,6764.9921468188422,{"$f":"IF(K332=\"\",\"\",VLOOKUP($A332,'Tocalino Index'!$A$12:$B$1041,2,FALSE))","v":67.859480000000005},"1983-06-01","1983-06-01",{"$f":"IF(H332=\"\",\"\",VLOOKUP($G332,WILL5000PR!$A$12:$B$1041,2,FALSE))","v":69.381230000000002},null,"1983-06-01",1221.96,99.4,12.293360160965795,55.221103573111535]
["1983-07-01",90319,9.4,3.2057899999999999,7164.8821692254114,{"$f":"IF(K333=\"\",\"\",VLOOKUP($A333,'Tocalino Index'!$A$12:$B$1041,2,FALSE))","v":71.870769999999993},"1983-07-01","1983-07-01",{"$f":"IF(H333=\"\",\"\",VLOOKUP($G333,WILL5000PR!$A$12:$B$1041,2,FALSE))","v":66.856800000000007},null,"1983-07-01",1199.22,99.8,12.01623246492986,53.976261072330544]
["1983-08-01",90480,9.5,3.0895999999999999,7186.8844125309779,{"$f":"IF(K334=\"\",\"\",VLOOKUP($A334,'Tocalino Index'!$A$12:$B$1041,2,FALSE))","v":72.091470000000001},"1983-08-01","1983-08-01",{"$f":"IF(H334=\"\",\"\",VLOOKUP($G334,WILL5000PR!$A$12:$B$1041,2,FALSE))","v":66.683549999999997},null,"1983-08-01",1216.1600000000001,100.1,12.149450549450551,54.574669444557927]
["1983-09-01",90655,9.1999999999999993,3.39506,{"$f":"B335/(C335+D335)","v":7197.6632108143986},{"$f":"IF(K335=\"\",\"\",VLOOKUP($A335,'Tocalino Index'!$A$12:$B$1041,2,FALSE))","v":72.199590000000001},"1983-09-01","1983-09-01",{"$f":"IF(H335=\"\",\"\",VLOOKUP($G335,WILL5000PR!$A$12:$B$1041,2,FALSE))","v":67.259640000000005},null,"1983-09-01",1233.1300000000001,100.4,12.282171314741037,55.170843885918536]
["1983-10-01",90821,8.8000000000000007,3.5897399999999999,7330.3394582937171,{"$f":"IF(K336=\"\",\"\",VLOOKUP($A336,'Tocalino Index'!$A$12:$B$1041,2,FALSE))","v":73.530469999999994},"1983-10-01","1983-10-01",{"$f":"IF(H336=\"\",\"\",VLOOKUP($G336,WILL5000PR!$A$12:$B$1041,2,FALSE))","v":65.137180000000001},null,"1983-10-01",1225.2,100.8,12.154761904761905,54.598527763025906]
["1983-11-01",91003,8.5,4.3165500000000003,7100.4287425243147,{"$f":"IF(K337=\"\",\"\",VLOOKUP($A337,'Tocalino Index'!$A$12:$B$1041,2,FALSE))","v":71.224239999999995},"1983-11-01","1983-11-01",{"$f":"IF(H337=\"\",\"\",VLOOKUP($G337,WILL5000PR!$A$12:$B$1041,2,FALSE))","v":66.523759999999996},null,"1983-11-01",1276.02,101.1,12.621364985163206,56.694483359624073]
["1983-12-01",91176,8.3000000000000007,4.7325100000000004,6996.0429725356043,{"$f":"IF(K338=\"\",\"\",VLOOKUP($A338,'Tocalino Index'!$A$12:$B$1041,2,FALSE))","v":70.177149999999997},"1983-12-01","1983-12-01",{"$f":"IF(H338=\"\",\"\",VLOOKUP($G338,WILL5000PR!$A$12:$B$1041,2,FALSE))","v":65.558930000000004},null,"1983-12-01",1258.6400000000001,101.4,12.412623274161737,55.756826975014]
["1984-01-01",91517,8,5.0204899999999997,7028.6909325225097,{"$f":"IF(K339=\"\",\"\",VLOOKUP($A339,'Tocalino Index'!$A$12:$B$1041,2,FALSE))","v":70.504639999999995},"1984-01-01","1984-01-01",{"$f":"IF(H339=\"\",\"\",VLOOKUP($G339,WILL5000PR!$A$12:$B$1041,2,FALSE))","v":64.00188},null,"1984-01-01",1220.58,102.1,11.954750244857982,53.700086291958101]
["1984-02-01",91690,7.8,4.8979600000000003,7220.8449231215091,{"$f":"IF(K340=\"\",\"\",VLOOKUP($A340,'Tocalino Index'!$A$12:$B$1041,2,FALSE))","v":72.432130000000001},"1984-02-01","1984-02-01",{"$f":"IF(H340=\"\",\"\",VLOOKUP($G340,WILL5000PR!$A$12:$B$1041,2,FALSE))","v":60.840629999999997},null,"1984-02-01",1154.6300000000001,102.6,11.253703703703705,50.55102345220066]
["1984-03-01",91863,7.8,5.0916499999999996,7125.7752110862466,{"$f":"IF(K341=\"\",\"\",VLOOKUP($A341,'Tocalino Index'!$A$12:$B$1041,2,FALSE))","v":71.478489999999994},"1984-03-01","1984-03-01",{"$f":"IF(H341=\"\",\"\",VLOOKUP($G341,WILL5000PR!$A$12:$B$1041,2,FALSE))","v":61.36195},null,"1984-03-01",1164.8900000000001,102.9,11.320602526724976,50.851529317692737]
["1984-04-01",92033,7.7,5.1724100000000002,7149.6324309123156,{"$f":"IF(K342=\"\",\"\",VLOOKUP($A342,'Tocalino Index'!$A$12:$B$1041,2,FALSE))","v":71.717799999999997},"1984-04-01","1984-04-01",{"$f":"IF(H342=\"\",\"\",VLOOKUP($G342,WILL5000PR!$A$12:$B$1041,2,FALSE))","v":61.118920000000003},null,"1984-04-01",1170.75,103.3,11.333494675701839,50.909440147979147]
["1984-05-01",92212,7.4,5.2578399999999998,7284.9712115179209,{"$f":"IF(K343=\"\",\"\",VLOOKUP($A343,'Tocalino Index'!$A$12:$B$1041,2,FALSE))","v":73.075379999999996},"1984-05-01","1984-05-01",{"$f":"IF(H343=\"\",\"\",VLOOKUP($G343,WILL5000PR!$A$12:$B$1041,2,FALSE))","v":57.388190000000002},null,"1984-05-01",1104.8499999999999,103.5,10.67487922705314,47.950975462289506]
["1984-06-01",92390,7.2,5.34274,7366.0141245054911,{"$f":"IF(K344=\"\",\"\",VLOOKUP($A344,'Tocalino Index'!$A$12:$B$1041,2,FALSE))","v":73.888319999999993},"1984-06-01","1984-06-01",{"$f":"IF(H344=\"\",\"\",VLOOKUP($G344,WILL5000PR!$A$12:$B$1041,2,FALSE))","v":58.383270000000003},null,"1984-06-01",1132.4000000000001,103.7,10.919961427193829,49.051871342723217]
["1984-07-01",92555,7.5,5.2104200000000001,7281.8207423515514,{"$f":"IF(K345=\"\",\"\",VLOOKUP($A345,'Tocalino Index'!$A$12:$B$1041,2,FALSE))","v":73.043779999999998},"1984-07-01","1984-07-01",{"$f":"IF(H345=\"\",\"\",VLOOKUP($G345,WILL5000PR!$A$12:$B$1041,2,FALSE))","v":56.88496},null,"1984-07-01",1115.28,104.1,10.713544668587897,48.124658517510689]
["1984-08-01",92726,7.5,5.2947100000000002,7247.2138876144909,{"$f":"IF(K346=\"\",\"\",VLOOKUP($A346,'Tocalino Index'!$A$12:$B$1041,2,FALSE))","v":72.696640000000002},"1984-08-01","1984-08-01",{"$f":"IF(H346=\"\",\"\",VLOOKUP($G346,WILL5000PR!$A$12:$B$1041,2,FALSE))","v":62.757919999999999},null,"1984-08-01",1224.3800000000001,104.4,11.727777777777778,52.680538345036489]
["1984-09-01",92905,7.3,5.2736299999999998,7388.8765615021284,{"$f":"IF(K347=\"\",\"\",VLOOKUP($A347,'Tocalino Index'!$A$12:$B$1041,2,FALSE))","v":74.117649999999998},"1984-09-01","1984-09-01",{"$f":"IF(H347=\"\",\"\",VLOOKUP($G347,WILL5000PR!$A$12:$B$1041,2,FALSE))","v":62.311190000000003},null,"1984-09-01",1206.71,104.7,{"$f":"L347/M347","v":11.525405921680994},{"$f":"IF(M347=\"\",\"\",N347/$P$14)","v":51.771495001355149}]
["1984-10-01",93096,7.4,5.1485099999999999,7418.8887764364054,{"$f":"IF(K348=\"\",\"\",VLOOKUP($A348,'Tocalino Index'!$A$12:$B$1041,2,FALSE))","v":74.418700000000001},"1984-10-01","1984-10-01",{"$f":"IF(H348=\"\",\"\",VLOOKUP($G348,WILL5000PR!$A$12:$B$1041,2,FALSE))","v":61.943390000000001},null,"1984-10-01",1207.3800000000001,105.1,11.487916270218841,51.603093531032592]
["1984-11-01",93280,7.2,4.8275899999999998,7755.5021413267332,{"$f":"IF(K349=\"\",\"\",VLOOKUP($A349,'Tocalino Index'!$A$12:$B$1041,2,FALSE))","v":77.795259999999999},"1984-11-01","1984-11-01",{"$f":"IF(H349=\"\",\"\",VLOOKUP($G349,WILL5000PR!$A$12:$B$1041,2,FALSE))","v":60.993859999999998},null,"1984-11-01",1188.94,105.3,11.290978157644824,50.718458266991931]
["1984-12-01",93432,7.3,4.9115900000000003,7651.0921182253905,{"$f":"IF(K350=\"\",\"\",VLOOKUP($A350,'Tocalino Index'!$A$12:$B$1041,2,FALSE))","v":76.747929999999997},"1984-12-01","1984-12-01",{"$f":"IF(H350=\"\",\"\",VLOOKUP($G350,WILL5000PR!$A$12:$B$1041,2,FALSE))","v":62.277830000000002},null,"1984-12-01",1211.57,105.5,11.484075829383885,51.585842480194032]
["1985-01-01",93534,7.3,4.4878,7934.8139601961348,{"$f":"IF(K351=\"\",\"\",VLOOKUP($A351,'Tocalino Index'!$A$12:$B$1041,2,FALSE))","v":79.593940000000003},"1985-01-01","1985-01-01",{"$f":"IF(H351=\"\",\"\",VLOOKUP($G351,WILL5000PR!$A$12:$B$1041,2,FALSE))","v":67.390730000000005},null,"1985-01-01",1286.77,105.7,12.173793755912961,54.68401780072427]
["1985-02-01",93663,7.2,4.76654,7827.0744927105079,{"$f":"IF(K352=\"\",\"\",VLOOKUP($A352,'Tocalino Index'!$A$12:$B$1041,2,FALSE))","v":78.513199999999998},"1985-02-01","1985-02-01",{"$f":"IF(H352=\"\",\"\",VLOOKUP($G352,WILL5000PR!$A$12:$B$1041,2,FALSE))","v":67.909970000000001},null,"1985-02-01",1284.01,106.3,12.079115710253998,54.258729181748137]
["1985-03-01",93869,7.2,4.7480599999999997,7856.4218793678638,{"$f":"IF(K353=\"\",\"\",VLOOKUP($A353,'Tocalino Index'!$A$12:$B$1041,2,FALSE))","v":78.807590000000005},"1985-03-01","1985-03-01",{"$f":"IF(H353=\"\",\"\",VLOOKUP($G353,WILL5000PR!$A$12:$B$1041,2,FALSE))","v":67.346860000000007},null,"1985-03-01",1266.78,106.8,11.861235955056181,53.28002520084096]
["1985-04-01",94031,7.3,4.5323000000000002,7946.9756513949105,{"$f":"IF(K354=\"\",\"\",VLOOKUP($A354,'Tocalino Index'!$A$12:$B$1041,2,FALSE))","v":79.71593},"1985-04-01","1985-04-01",{"$f":"IF(H354=\"\",\"\",VLOOKUP($G354,WILL5000PR!$A$12:$B$1041,2,FALSE))","v":66.779200000000003},null,"1985-04-01",1258.06,107,11.757570093457943,52.814363802707618]
["1985-05-01",94193,7.2,4.5148900000000003,8040.4510840477369,{"$f":"IF(K355=\"\",\"\",VLOOKUP($A355,'Tocalino Index'!$A$12:$B$1041,2,FALSE))","v":80.653580000000005},"1985-05-01","1985-05-01",{"$f":"IF(H355=\"\",\"\",VLOOKUP($G355,WILL5000PR!$A$12:$B$1041,2,FALSE))","v":69.959180000000003},null,"1985-05-01",1315.41,107.2,12.270615671641792,55.118936567164191]
["1985-06-01",94381,7.4,4.40191,7997.0953854079553,{"$f":"IF(K356=\"\",\"\",VLOOKUP($A356,'Tocalino Index'!$A$12:$B$1041,2,FALSE))","v":80.218680000000006},"1985-06-01","1985-06-01",{"$f":"IF(H356=\"\",\"\",VLOOKUP($G356,WILL5000PR!$A$12:$B$1041,2,FALSE))","v":70.823700000000002},null,"1985-06-01",1335.46,107.5,12.422883720930233,55.802916342468521]
["1985-07-01",94562,7.4,4.19048,8158.5922239631145,{"$f":"IF(K357=\"\",\"\",VLOOKUP($A357,'Tocalino Index'!$A$12:$B$1041,2,FALSE))","v":81.838650000000001},"1985-07-01","1985-07-01",{"$f":"IF(H357=\"\",\"\",VLOOKUP($G357,WILL5000PR!$A$12:$B$1041,2,FALSE))","v":70.518600000000006},null,"1985-07-01",1347.45,107.7,12.511142061281337,56.199367995222865]
["1985-08-01",94712,7.1,4.1745700000000001,8400.4977573424076,{"$f":"IF(K358=\"\",\"\",VLOOKUP($A358,'Tocalino Index'!$A$12:$B$1041,2,FALSE))","v":84.265199999999993},"1985-08-01","1985-08-01",{"$f":"IF(H358=\"\",\"\",VLOOKUP($G358,WILL5000PR!$A$12:$B$1041,2,FALSE))","v":69.67877},null,"1985-08-01",1334.01,107.9,12.363392029657089,55.535682908930546]
["1985-09-01",94872,7.1,3.9697499999999999,8570.3832516542843,{"$f":"IF(K359=\"\",\"\",VLOOKUP($A359,'Tocalino Index'!$A$12:$B$1041,2,FALSE))","v":85.969319999999996},"1985-09-01","1985-09-01",{"$f":"IF(H359=\"\",\"\",VLOOKUP($G359,WILL5000PR!$A$12:$B$1041,2,FALSE))","v":66.573049999999995},null,"1985-09-01",1328.63,108.1,12.290749306197966,55.20937575584589]
["1985-10-01",95072,7.1,4.0489600000000001,8527.4321551068442,{"$f":"IF(K360=\"\",\"\",VLOOKUP($A360,'Tocalino Index'!$A$12:$B$1041,2,FALSE))","v":85.538480000000007},"1985-10-01","1985-10-01",{"$f":"IF(H360=\"\",\"\",VLOOKUP($G360,WILL5000PR!$A$12:$B$1041,2,FALSE))","v":69.118759999999995},null,"1985-10-01",1374.31,108.5,12.666451612903225,56.897010033177445]
["1985-11-01",95252,7,4.4172900000000004,8342.7853720103449,{"$f":"IF(K361=\"\",\"\",VLOOKUP($A361,'Tocalino Index'!$A$12:$B$1041,2,FALSE))","v":83.68629},"1985-11-01","1985-11-01",{"$f":"IF(H361=\"\",\"\",VLOOKUP($G361,WILL5000PR!$A$12:$B$1041,2,FALSE))","v":73.409319999999994},null,"1985-11-01",1472.13,109,13.505779816513762,60.667226561167773]
["1985-12-01",95451,7,4.3071200000000003,8441.6721499373834,{"$f":"IF(K362=\"\",\"\",VLOOKUP($A362,'Tocalino Index'!$A$12:$B$1041,2,FALSE))","v":84.678219999999996},"1985-12-01","1985-12-01",{"$f":"IF(H362=\"\",\"\",VLOOKUP($G362,WILL5000PR!$A$12:$B$1041,2,FALSE))","v":76.308920000000001},null,"1985-12-01",1546.67,109.5,14.124840182648402,63.448011972863021]
["1986-01-01",96074,6.7,4.4817900000000002,8592.0053944851406,{"$f":"IF(K363=\"\",\"\",VLOOKUP($A363,'Tocalino Index'!$A$12:$B$1041,2,FALSE))","v":86.186210000000003},"1986-01-01",{"$f":"IF(($G$13-G363)<40,\"\",G363)","v":"1986-01-01"},{"$f":"IF(H363=\"\",\"\",VLOOKUP($G363,WILL5000PR!$A$12:$B$1041,2,FALSE))","v":76.782759999999996},null,"1986-01-01",1570.99,109.9,14.294722474977251,64.211113967524824]
["1986-02-01",96220,7.2,4.1782700000000004,8456.4700960690861,{"$f":"IF(K364=\"\",\"\",VLOOKUP($A364,'Tocalino Index'!$A$12:$B$1041,2,FALSE))","v":84.826660000000004},"1986-02-01","1986-02-01",{"$f":"IF(H364=\"\",\"\",VLOOKUP($G364,WILL5000PR!$A$12:$B$1041,2,FALSE))","v":82.345770000000002},null,"1986-02-01",1709.06,109.7,15.579398359161349,69.981807994993673]
["1986-03-01",96383,7.2,4.0703100000000001,8551.9386778180906,{"$f":"IF(K365=\"\",\"\",VLOOKUP($A365,'Tocalino Index'!$A$12:$B$1041,2,FALSE))","v":85.784300000000002},"1986-03-01","1986-03-01",{"$f":"IF(H365=\"\",\"\",VLOOKUP($G365,WILL5000PR!$A$12:$B$1041,2,FALSE))","v":86.949039999999997},null,"1986-03-01",1818.61,109.1,16.669202566452796,74.877149074834435]
["1986-04-01",96532,7.1,4.1512900000000004,8579.6384236829726,{"$f":"IF(K366=\"\",\"\",VLOOKUP($A366,'Tocalino Index'!$A$12:$B$1041,2,FALSE))","v":86.062160000000006},"1986-04-01","1986-04-01",{"$f":"IF(H366=\"\",\"\",VLOOKUP($G366,WILL5000PR!$A$12:$B$1041,2,FALSE))","v":86.361630000000005},null,"1986-04-01",1783.98,108.7,16.411959521619135,73.72162734308472]
["1986-05-01",96694,7.2,3.95221,8670.3890977662722,{"$f":"IF(K367=\"\",\"\",VLOOKUP($A367,'Tocalino Index'!$A$12:$B$1041,2,FALSE))","v":86.972470000000001},"1986-05-01","1986-05-01",{"$f":"IF(H367=\"\",\"\",VLOOKUP($G367,WILL5000PR!$A$12:$B$1041,2,FALSE))","v":90.182640000000006},null,"1986-05-01",1876.71,109,17.217522935779815,77.340174277821362]
["1986-06-01",96950,7.2,3.9413399999999998,8701.8258126939854,{"$f":"IF(K368=\"\",\"\",VLOOKUP($A368,'Tocalino Index'!$A$12:$B$1041,2,FALSE))","v":87.287809999999993},"1986-06-01","1986-06-01",{"$f":"IF(H368=\"\",\"\",VLOOKUP($G368,WILL5000PR!$A$12:$B$1041,2,FALSE))","v":90.700479999999999},null,"1986-06-01",1892.72,109.4,17.300914076782448,77.714762736476303]
["1986-07-01",97128,7,4.0219399999999998,8812.2417650613224,{"$f":"IF(K369=\"\",\"\",VLOOKUP($A369,'Tocalino Index'!$A$12:$B$1041,2,FALSE))","v":88.395390000000006},"1986-07-01","1986-07-01",{"$f":"IF(H369=\"\",\"\",VLOOKUP($G369,WILL5000PR!$A$12:$B$1041,2,FALSE))","v":85.128929999999997},null,"1986-07-01",1775.31,109.5,16.212876712328768,72.827358218329351]
["1986-08-01",97297,6.9,4.0072900000000002,8920.364270134929,{"$f":"IF(K370=\"\",\"\",VLOOKUP($A370,'Tocalino Index'!$A$12:$B$1041,2,FALSE))","v":89.479969999999994},"1986-08-01","1986-08-01",{"$f":"IF(H370=\"\",\"\",VLOOKUP($G370,WILL5000PR!$A$12:$B$1041,2,FALSE))","v":90.296279999999996},null,"1986-08-01",1898.34,109.6,17.320620437956205,77.803282636420377]
["1986-09-01",97448,7,4.1818200000000001,8714.8603715674199,{"$f":"IF(K371=\"\",\"\",VLOOKUP($A371,'Tocalino Index'!$A$12:$B$1041,2,FALSE))","v":87.418559999999999},"1986-09-01","1986-09-01",{"$f":"IF(H371=\"\",\"\",VLOOKUP($G371,WILL5000PR!$A$12:$B$1041,2,FALSE))","v":82.531260000000003},null,"1986-09-01",1767.58,110,16.068909090909091,72.180663512447907]
["1986-10-01",97627,7,4.0724,8817.1489469311073,{"$f":"IF(K372=\"\",\"\",VLOOKUP($A372,'Tocalino Index'!$A$12:$B$1041,2,FALSE))","v":88.44462},"1986-10-01","1986-10-01",{"$f":"IF(H372=\"\",\"\",VLOOKUP($G372,WILL5000PR!$A$12:$B$1041,2,FALSE))","v":86.471180000000004},null,"1986-10-01",1877.81,110.2,17.040018148820327,76.542832452879409]
["1986-11-01",97801,6.9,3.7803800000000001,9157.0711903509055,{"$f":"IF(K373=\"\",\"\",VLOOKUP($A373,'Tocalino Index'!$A$12:$B$1041,2,FALSE))","v":91.854370000000003},"1986-11-01","1986-11-01",{"$f":"IF(H373=\"\",\"\",VLOOKUP($G373,WILL5000PR!$A$12:$B$1041,2,FALSE))","v":87.3767},null,"1986-11-01",1914.23,110.4,17.339039855072464,77.886021653826134]
["1986-12-01",98010,6.6,3.7702,9451.1195541069592,{"$f":"IF(K374=\"\",\"\",VLOOKUP($A374,'Tocalino Index'!$A$12:$B$1041,2,FALSE))","v":94.803960000000004},"1986-12-01","1986-12-01",{"$f":"IF(H374=\"\",\"\",VLOOKUP($G374,WILL5000PR!$A$12:$B$1041,2,FALSE))","v":84.903880000000001},null,"1986-12-01",1895.95,110.8,17.111462093862816,76.863754758677459]
["1987-01-01",98267,6.6,3.5746199999999999,9658.0511114911424,{"$f":"IF(K375=\"\",\"\",VLOOKUP($A375,'Tocalino Index'!$A$12:$B$1041,2,FALSE))","v":96.879689999999997},"1987-01-01","1987-01-01",{"$f":"IF(H375=\"\",\"\",VLOOKUP($G375,WILL5000PR!$A$12:$B$1041,2,FALSE))","v":95.043139999999994},null,"1987-01-01",2158.04,111.4,19.371992818671451,87.01793552377201]
["1987-02-01",98447,6.6,3.5650599999999999,9684.8419979813207,{"$f":"IF(K376=\"\",\"\",VLOOKUP($A376,'Tocalino Index'!$A$12:$B$1041,2,FALSE))","v":97.148430000000005},"1987-02-01","1987-02-01",{"$f":"IF(H376=\"\",\"\",VLOOKUP($G376,WILL5000PR!$A$12:$B$1041,2,FALSE))","v":99.011570000000006},null,"1987-02-01",2223.9899999999998,111.8,19.892576028622539,89.356366919153288]
["1987-03-01",98621,6.6,3.6444399999999999,9626.7829183440008,{"$f":"IF(K377=\"\",\"\",VLOOKUP($A377,'Tocalino Index'!$A$12:$B$1041,2,FALSE))","v":96.566040000000001},"1987-03-01","1987-03-01",{"$f":"IF(H377=\"\",\"\",VLOOKUP($G377,WILL5000PR!$A$12:$B$1041,2,FALSE))","v":100.69615},null,"1987-03-01",2304.69,112.2,20.540909090909089,92.268643685929931]
["1987-04-01",98816,6.3,3.8972500000000001,9690.4557601314082,{"$f":"IF(K378=\"\",\"\",VLOOKUP($A378,'Tocalino Index'!$A$12:$B$1041,2,FALSE))","v":97.204740000000001},"1987-04-01","1987-04-01",{"$f":"IF(H378=\"\",\"\",VLOOKUP($G378,WILL5000PR!$A$12:$B$1041,2,FALSE))","v":98.254750000000001},null,"1987-04-01",2286.36,112.7,20.287133984028394,91.128699742382821]
["1987-05-01",98991,6.3,4.0671999999999997,9548.4798209738401,{"$f":"IF(K379=\"\",\"\",VLOOKUP($A379,'Tocalino Index'!$A$12:$B$1041,2,FALSE))","v":95.78058},"1987-05-01","1987-05-01",{"$f":"IF(H379=\"\",\"\",VLOOKUP($G379,WILL5000PR!$A$12:$B$1041,2,FALSE))","v":98.219300000000004},null,"1987-05-01",2291.5700000000002,113,20.279380530973452,91.093871654000949]
["1987-06-01",99155,6.2,3.9682499999999998,9751.4321540088022,{"$f":"IF(K380=\"\",\"\",VLOOKUP($A380,'Tocalino Index'!$A$12:$B$1041,2,FALSE))","v":97.816389999999998},"1987-06-01","1987-06-01",{"$f":"IF(H380=\"\",\"\",VLOOKUP($G380,WILL5000PR!$A$12:$B$1041,2,FALSE))","v":102.00827},null,"1987-06-01",2418.5300000000002,113.5,21.308634361233484,95.717223741600222]
["1987-07-01",99344,6.1,3.95431,9880.7377134781018,{"$f":"IF(K381=\"\",\"\",VLOOKUP($A381,'Tocalino Index'!$A$12:$B$1041,2,FALSE))","v":99.11345},"1987-07-01","1987-07-01",{"$f":"IF(H381=\"\",\"\",VLOOKUP($G381,WILL5000PR!$A$12:$B$1041,2,FALSE))","v":106.12866},null,"1987-07-01",2572.0700000000002,113.8,22.601669595782077,101.52546751513016]
["1987-08-01",99471,6,3.9404599999999999,10006.679771358669,{"$f":"IF(K382=\"\",\"\",VLOOKUP($A382,'Tocalino Index'!$A$12:$B$1041,2,FALSE))","v":100.37676999999999},"1987-08-01","1987-08-01",{"$f":"IF(H382=\"\",\"\",VLOOKUP($G382,WILL5000PR!$A$12:$B$1041,2,FALSE))","v":109.31997},null,"1987-08-01",2662.95,114.3,23.297900262467191,104.65289770934767]
["1987-09-01",99647,5.9,4.01396,10051.180355781142,{"$f":"IF(K383=\"\",\"\",VLOOKUP($A383,'Tocalino Index'!$A$12:$B$1041,2,FALSE))","v":100.82316},"1987-09-01","1987-09-01",{"$f":"IF(H383=\"\",\"\",VLOOKUP($G383,WILL5000PR!$A$12:$B$1041,2,FALSE))","v":106.2418},null,"1987-09-01",2596.2800000000002,114.7,22.635396687009592,101.6769677700245]
["1987-10-01",99823,6,4.1739100000000002,9811.6653282759544,{"$f":"IF(K384=\"\",\"\",VLOOKUP($A384,'Tocalino Index'!$A$12:$B$1041,2,FALSE))","v":98.420590000000004},"1987-10-01","1987-10-01",{"$f":"IF(H384=\"\",\"\",VLOOKUP($G384,WILL5000PR!$A$12:$B$1041,2,FALSE))","v":81.647980000000004},null,"1987-10-01",1993.53,115,17.335043478260868,77.868070147082591]
["1987-11-01",100021,5.8,4.1630500000000001,10039.194824877924,{"$f":"IF(K385=\"\",\"\",VLOOKUP($A385,'Tocalino Index'!$A$12:$B$1041,2,FALSE))","v":100.70292999999999},"1987-11-01","1987-11-01",{"$f":"IF(H385=\"\",\"\",VLOOKUP($G385,WILL5000PR!$A$12:$B$1041,2,FALSE))","v":75.438800000000001},null,"1987-11-01",1833.55,115.4,15.888648180242633,71.370941330086183]
["1987-12-01",100202,5.7,4.1522500000000004,10170.468674668222,{"$f":"IF(K386=\"\",\"\",VLOOKUP($A386,'Tocalino Index'!$A$12:$B$1041,2,FALSE))","v":102.01974},"1987-12-01","1987-12-01",{"$f":"IF(H386=\"\",\"\",VLOOKUP($G386,WILL5000PR!$A$12:$B$1041,2,FALSE))","v":80.703460000000007},null,"1987-12-01",1938.83,115.6,16.771885813148788,75.338396620401937]
["1988-01-01",100429,5.7,4.3140599999999996,10028.799507891903,{"$f":"IF(K387=\"\",\"\",VLOOKUP($A387,'Tocalino Index'!$A$12:$B$1041,2,FALSE))","v":100.59866},"1988-01-01","1988-01-01",{"$f":"IF(H387=\"\",\"\",VLOOKUP($G387,WILL5000PR!$A$12:$B$1041,2,FALSE))","v":83.847350000000006},null,"1988-01-01",1958.22,116,16.881206896551724,75.829460966542754]
["1988-02-01",100611,5.7,4.3029299999999999,10058.152961182373,{"$f":"IF(K388=\"\",\"\",VLOOKUP($A388,'Tocalino Index'!$A$12:$B$1041,2,FALSE))","v":100.8931},"1988-02-01","1988-02-01",{"$f":"IF(H388=\"\",\"\",VLOOKUP($G388,WILL5000PR!$A$12:$B$1041,2,FALSE))","v":87.547290000000004},null,"1988-02-01",2071.62,116.2,17.828055077452667,80.082651370218002]
["1988-03-01",100748,5.7,4.3739299999999997,10000.863615292144,{"$f":"IF(K389=\"\",\"\",VLOOKUP($A389,'Tocalino Index'!$A$12:$B$1041,2,FALSE))","v":100.31843000000001},"1988-03-01","1988-03-01",{"$f":"IF(H389=\"\",\"\",VLOOKUP($G389,WILL5000PR!$A$12:$B$1041,2,FALSE))","v":85.459029999999998},null,"1988-03-01",1988.06,116.5,17.064892703862661,76.65456759789609]
["1988-04-01",100950,5.4,4.2625700000000002,10447.531039878624,{"$f":"IF(K390=\"\",\"\",VLOOKUP($A390,'Tocalino Index'!$A$12:$B$1041,2,FALSE))","v":104.79894},"1988-04-01","1988-04-01",{"$f":"IF(H390=\"\",\"\",VLOOKUP($G390,WILL5000PR!$A$12:$B$1041,2,FALSE))","v":85.829589999999996},null,"1988-04-01",2032.33,117.2,17.34069965870307,77.893477401237462]
["1988-05-01",101127,5.6,4.2480900000000004,10268.691695547057,{"$f":"IF(K391=\"\",\"\",VLOOKUP($A391,'Tocalino Index'!$A$12:$B$1041,2,FALSE))","v":103.00501},"1988-05-01","1988-05-01",{"$f":"IF(H391=\"\",\"\",VLOOKUP($G391,WILL5000PR!$A$12:$B$1041,2,FALSE))","v":85.343599999999995},null,"1988-05-01",2031.12,117.5,17.286127659574468,77.648342956576769]
["1988-06-01",101318,5.4,4.4953399999999997,10238.960965464552,{"$f":"IF(K392=\"\",\"\",VLOOKUP($A392,'Tocalino Index'!$A$12:$B$1041,2,FALSE))","v":102.70677999999999},"1988-06-01","1988-06-01",{"$f":"IF(H392=\"\",\"\",VLOOKUP($G392,WILL5000PR!$A$12:$B$1041,2,FALSE))","v":89.130170000000007},null,"1988-06-01",2141.71,118,18.150084745762712,81.529191082267459]
["1988-07-01",101515,5.4,4.4801399999999996,10274.651978615686,{"$f":"IF(K393=\"\",\"\",VLOOKUP($A393,'Tocalino Index'!$A$12:$B$1041,2,FALSE))","v":103.06480000000001},"1988-07-01","1988-07-01",{"$f":"IF(H393=\"\",\"\",VLOOKUP($G393,WILL5000PR!$A$12:$B$1041,2,FALSE))","v":87.862530000000007},null,"1988-07-01",2128.73,118.5,17.963966244725739,80.693156923334342]
["1988-08-01",101700,5.6,4.4650400000000001,10104.281751488321,{"$f":"IF(K394=\"\",\"\",VLOOKUP($A394,'Tocalino Index'!$A$12:$B$1041,2,FALSE))","v":101.35581999999999},"1988-08-01","1988-08-01",{"$f":"IF(H394=\"\",\"\",VLOOKUP($G394,WILL5000PR!$A$12:$B$1041,2,FALSE))","v":84.618819999999999},null,"1988-08-01",2031.65,119,17.072689075630255,76.689588474795144]
["1988-09-01",101873,5.4,4.61409,10172.96629049669,{"$f":"IF(K395=\"\",\"\",VLOOKUP($A395,'Tocalino Index'!$A$12:$B$1041,2,FALSE))","v":102.04479000000001},"1988-09-01","1988-09-01",{"$f":"IF(H395=\"\",\"\",VLOOKUP($G395,WILL5000PR!$A$12:$B$1041,2,FALSE))","v":87.051900000000003},null,"1988-09-01",2112.91,119.5,17.681255230125522,79.423234459981444]
["1988-10-01",102038,5.4,4.5075099999999999,10299.055968654082,{"$f":"IF(K396=\"\",\"\",VLOOKUP($A396,'Tocalino Index'!$A$12:$B$1041,2,FALSE))","v":103.30959},"1988-10-01","1988-10-01",{"$f":"IF(H396=\"\",\"\",VLOOKUP($G396,WILL5000PR!$A$12:$B$1041,2,FALSE))","v":88.176789999999997},null,"1988-10-01",2148.65,119.9,17.920350291909926,80.497236441355]
["1988-11-01",102163,5.3,4.5795199999999996,10340.887006656194,{"$f":"IF(K397=\"\",\"\",VLOOKUP($A397,'Tocalino Index'!$A$12:$B$1041,2,FALSE))","v":103.72920000000001},"1988-11-01","1988-11-01",{"$f":"IF(H397=\"\",\"\",VLOOKUP($G397,WILL5000PR!$A$12:$B$1041,2,FALSE))","v":86.157139999999998},null,"1988-11-01",2114.5100000000002,120.3,17.576974231088947,78.954809898014176]
["1988-12-01",102311,5.3,4.65116,10281.313937269626,{"$f":"IF(K398=\"\",\"\",VLOOKUP($A398,'Tocalino Index'!$A$12:$B$1041,2,FALSE))","v":103.13162},"1988-12-01","1988-12-01",{"$f":"IF(H398=\"\",\"\",VLOOKUP($G398,WILL5000PR!$A$12:$B$1041,2,FALSE))","v":87.561409999999995},null,"1988-12-01",2168.5700000000002,120.7,17.966611433305719,80.705038966212186]
["1989-01-01",102558,5.4,4.6319299999999997,{"$f":"B399/(C399+D399)","v":10223.157458235853},{"$f":"IF(K399=\"\",\"\",VLOOKUP($A399,'Tocalino Index'!$A$12:$B$1041,2,FALSE))","v":102.54826},"1989-01-01","1989-01-01",{"$f":"IF(H399=\"\",\"\",VLOOKUP($G399,WILL5000PR!$A$12:$B$1041,2,FALSE))","v":92.817689999999999},null,"1989-01-01",2342.3200000000002,121.2,19.326072607260727,86.81166443781926]
["1989-02-01",102803,5.2,4.7029699999999997,10381.027106009611,{"$f":"IF(K400=\"\",\"\",VLOOKUP($A400,'Tocalino Index'!$A$12:$B$1041,2,FALSE))","v":104.13184},"1989-02-01","1989-02-01",{"$f":"IF(H400=\"\",\"\",VLOOKUP($G400,WILL5000PR!$A$12:$B$1041,2,FALSE))","v":90.553889999999996},null,"1989-02-01",2258.39,121.6,18.572286184210526,83.425696924117915]
["1989-03-01",103008,5,4.6836500000000001,10637.311344379443,{"$f":"IF(K401=\"\",\"\",VLOOKUP($A401,'Tocalino Index'!$A$12:$B$1041,2,FALSE))","v":106.70263},"1989-03-01","1989-03-01",{"$f":"IF(H401=\"\",\"\",VLOOKUP($G401,WILL5000PR!$A$12:$B$1041,2,FALSE))","v":91.837969999999999},null,"1989-03-01",2293.62,122.2,18.769394435351881,84.311096441326612]
["1989-04-01",103163,5.2,4.4971399999999999,10638.497536387016,{"$f":"IF(K402=\"\",\"\",VLOOKUP($A402,'Tocalino Index'!$A$12:$B$1041,2,FALSE))","v":106.71451999999999},"1989-04-01","1989-04-01",{"$f":"IF(H402=\"\",\"\",VLOOKUP($G402,WILL5000PR!$A$12:$B$1041,2,FALSE))","v":95.562389999999994},null,"1989-04-01",2418.8000000000002,123.1,19.649065800162472,88.262532249800458]
["1989-05-01",103328,5.2,4.5639799999999999,10582.569812719812,{"$f":"IF(K403=\"\",\"\",VLOOKUP($A403,'Tocalino Index'!$A$12:$B$1041,2,FALSE))","v":106.15351},"1989-05-01","1989-05-01",{"$f":"IF(H403=\"\",\"\",VLOOKUP($G403,WILL5000PR!$A$12:$B$1041,2,FALSE))","v":98.429379999999995},null,"1989-05-01",2480.15,123.7,20.049717057396929,90.062235852619423]
["1989-06-01",103455,5.3,4.5454499999999998,10507.899588134622,{"$f":"IF(K404=\"\",\"\",VLOOKUP($A404,'Tocalino Index'!$A$12:$B$1041,2,FALSE))","v":105.4045},"1989-06-01","1989-06-01",{"$f":"IF(H404=\"\",\"\",VLOOKUP($G404,WILL5000PR!$A$12:$B$1041,2,FALSE))","v":97.396619999999999},null,"1989-06-01",2440.06,124.1,19.66204673650282,88.320841908082684]
["1989-07-01",103672,5.2,4.5307399999999998,10654.071530017243,{"$f":"IF(K405=\"\",\"\",VLOOKUP($A405,'Tocalino Index'!$A$12:$B$1041,2,FALSE))","v":106.87075},"1989-07-01","1989-07-01",{"$f":"IF(H405=\"\",\"\",VLOOKUP($G405,WILL5000PR!$A$12:$B$1041,2,FALSE))","v":104.60727},null,"1989-07-01",2660.66,124.5,21.370763052208833,95.996302434023576]
["1989-08-01",103836,5.2,4.4354800000000001,10776.422139841501,{"$f":"IF(K406=\"\",\"\",VLOOKUP($A406,'Tocalino Index'!$A$12:$B$1041,2,FALSE))","v":108.09804},"1989-08-01","1989-08-01",{"$f":"IF(H406=\"\",\"\",VLOOKUP($G406,WILL5000PR!$A$12:$B$1041,2,FALSE))","v":106.40112000000001},null,"1989-08-01",2737.27,124.5,21.986104417670681,98.760382297467444]
["1989-09-01",103983,5.3,4.1700100000000004,10980.241837125832,{"$f":"IF(K407=\"\",\"\",VLOOKUP($A407,'Tocalino Index'!$A$12:$B$1041,2,FALSE))","v":110.14255},"1989-09-01","1989-09-01",{"$f":"IF(H407=\"\",\"\",VLOOKUP($G407,WILL5000PR!$A$12:$B$1041,2,FALSE))","v":105.62354999999999},null,"1989-09-01",2692.82,124.8,21.577083333333334,96.923081887649744]
["1989-10-01",104159,5.3,4.3131000000000004,10835.110422236325,{"$f":"IF(K408=\"\",\"\",VLOOKUP($A408,'Tocalino Index'!$A$12:$B$1041,2,FALSE))","v":108.68674},"1989-10-01","1989-10-01",{"$f":"IF(H408=\"\",\"\",VLOOKUP($G408,WILL5000PR!$A$12:$B$1041,2,FALSE))","v":101.85773},null,"1989-10-01",2645.08,125.4,21.093141945773525,94.749243560630774]
["1989-11-01",104338,5.4,4.3789800000000003,10669.619939911932,{"$f":"IF(K409=\"\",\"\",VLOOKUP($A409,'Tocalino Index'!$A$12:$B$1041,2,FALSE))","v":107.02670999999999},"1989-11-01","1989-11-01",{"$f":"IF(H409=\"\",\"\",VLOOKUP($G409,WILL5000PR!$A$12:$B$1041,2,FALSE))","v":103.06227},null,"1989-11-01",2706.27,125.9,21.495393169181888,96.556134124268084]
["1989-12-01",104480,5.4,4.4444400000000002,10613.097342256136,{"$f":"IF(K410=\"\",\"\",VLOOKUP($A410,'Tocalino Index'!$A$12:$B$1041,2,FALSE))","v":106.45972999999999},"1989-12-01","1989-12-01",{"$f":"IF(H410=\"\",\"\",VLOOKUP($G410,WILL5000PR!$A$12:$B$1041,2,FALSE))","v":104.49500999999999},null,"1989-12-01",2753.2,126.3,21.798891528107678,97.919432204944655]
["1990-01-01",104971,5.4,4.4268799999999997,10682.027255853334,{"$f":"IF(K411=\"\",\"\",VLOOKUP($A411,'Tocalino Index'!$A$12:$B$1041,2,FALSE))","v":107.15116999999999},"1990-01-01","1990-01-01",{"$f":"IF(H411=\"\",\"\",VLOOKUP($G411,WILL5000PR!$A$12:$B$1041,2,FALSE))","v":95.668880000000001},null,"1990-01-01",2590.54,127.5,{"$f":"L411/M411","v":20.317960784313726},{"$f":"IF(M411=\"\",\"\",N411/$P$14)","v":91.26717204849723}]
["1990-02-01",105137,5.3,4.5705299999999998,10651.606347379524,{"$f":"IF(K412=\"\",\"\",VLOOKUP($A412,'Tocalino Index'!$A$12:$B$1041,2,FALSE))","v":106.84602},"1990-02-01","1990-02-01",{"$f":"IF(H412=\"\",\"\",VLOOKUP($G412,WILL5000PR!$A$12:$B$1041,2,FALSE))","v":96.361590000000007},null,"1990-02-01",2627.25,128,20.525390625,92.198935583178439]
["1990-03-01",105254,5.2,4.7880700000000003,10537.971800357827,{"$f":"IF(K413=\"\",\"\",VLOOKUP($A413,'Tocalino Index'!$A$12:$B$1041,2,FALSE))","v":105.70614999999999},"1990-03-01","1990-03-01",{"$f":"IF(H413=\"\",\"\",VLOOKUP($G413,WILL5000PR!$A$12:$B$1041,2,FALSE))","v":98.000489999999999},null,"1990-03-01",2707.21,128.6,21.051399688958011,94.561739618925401]
["1990-04-01",105374,5.4,4.8513299999999999,10279.05647364781,{"$f":"IF(K414=\"\",\"\",VLOOKUP($A414,'Tocalino Index'!$A$12:$B$1041,2,FALSE))","v":103.10898},"1990-04-01","1990-04-01",{"$f":"IF(H414=\"\",\"\",VLOOKUP($G414,WILL5000PR!$A$12:$B$1041,2,FALSE))","v":94.825509999999994},null,"1990-04-01",2656.76,128.9,20.611016291698991,92.583561409428555]
["1990-05-01",105575,5.4,4.75448,10396.88886087717,{"$f":"IF(K415=\"\",\"\",VLOOKUP($A415,'Tocalino Index'!$A$12:$B$1041,2,FALSE))","v":104.29095},"1990-05-01","1990-05-01",{"$f":"IF(H415=\"\",\"\",VLOOKUP($G415,WILL5000PR!$A$12:$B$1041,2,FALSE))","v":102.84068000000001},null,"1990-05-01",2876.66,129.1,22.282416731216113,100.09140105409965]
["1990-06-01",105618,5.2,4.8913000000000002,10466.243199587763,{"$f":"IF(K416=\"\",\"\",VLOOKUP($A416,'Tocalino Index'!$A$12:$B$1041,2,FALSE))","v":104.98663999999999},"1990-06-01","1990-06-01",{"$f":"IF(H416=\"\",\"\",VLOOKUP($G416,WILL5000PR!$A$12:$B$1041,2,FALSE))","v":101.57136},null,"1990-06-01",2880.69,129.9,22.176212471131638,99.614337308367027]
["1990-07-01",105756,5.5,5.1083600000000002,9969.1186950669089,{"$f":"IF(K417=\"\",\"\",VLOOKUP($A417,'Tocalino Index'!$A$12:$B$1041,2,FALSE))","v":100},"1990-07-01","1990-07-01",{"$f":"IF(H417=\"\",\"\",VLOOKUP($G417,WILL5000PR!$A$12:$B$1041,2,FALSE))","v":100},null,"1990-07-01",2905.2,130.5,22.262068965517241,100,{"$f":"$N$417/100","v":0.2226206896551724},{"$f":"$E$417/100","v":99.691186950669092},null,{"$f":"$N$417/100","v":0.2226206896551724},{"$f":"$E$417/100","v":99.691186950669092}]
["1990-08-01",105980,5.7,5.4826300000000003,9477.1981188682803,{"$f":"IF(K418=\"\",\"\",VLOOKUP($A418,'Tocalino Index'!$A$12:$B$1041,2,FALSE))","v":95.065560000000005},"1990-08-01","1990-08-01",{"$f":"IF(H418=\"\",\"\",VLOOKUP($G418,WILL5000PR!$A$12:$B$1041,2,FALSE))","v":89.403809999999993},null,"1990-08-01",2614.36,131.6,19.865957446808512,89.236797700967614]
["1990-09-01",106142,5.9,5.5427299999999997,9275.9332781600187,{"$f":"IF(K419=\"\",\"\",VLOOKUP($A419,'Tocalino Index'!$A$12:$B$1041,2,FALSE))","v":93.046670000000006},"1990-09-01","1990-09-01",{"$f":"IF(H419=\"\",\"\",VLOOKUP($G419,WILL5000PR!$A$12:$B$1041,2,FALSE))","v":83.602980000000002},null,"1990-09-01",2452.48,132.5,18.509283018867926,83.142690140515782]
["1990-10-01",106332,5.9,5.3598800000000004,9443.4398945637076,{"$f":"IF(K420=\"\",\"\",VLOOKUP($A420,'Tocalino Index'!$A$12:$B$1041,2,FALSE))","v":94.726929999999996},"1990-10-01","1990-10-01",{"$f":"IF(H420=\"\",\"\",VLOOKUP($G420,WILL5000PR!$A$12:$B$1041,2,FALSE))","v":81.793130000000005},null,"1990-10-01",2442.33,133.4,18.308320839580208,82.239978988201059]
["1990-11-01",106533,6.2,5.2631600000000001,9293.5106898970262,{"$f":"IF(K421=\"\",\"\",VLOOKUP($A421,'Tocalino Index'!$A$12:$B$1041,2,FALSE))","v":93.222989999999996},"1990-11-01","1990-11-01",{"$f":"IF(H421=\"\",\"\",VLOOKUP($G421,WILL5000PR!$A$12:$B$1041,2,FALSE))","v":86.822810000000004},null,"1990-11-01",2559.65,133.69999999999999,19.144727000747945,85.997069860856641]
["1990-12-01",106647,6.3,5.3191499999999996,9178.5543692955162,{"$f":"IF(K422=\"\",\"\",VLOOKUP($A422,'Tocalino Index'!$A$12:$B$1041,2,FALSE))","v":92.069869999999995},"1990-12-01","1990-12-01",{"$f":"IF(H422=\"\",\"\",VLOOKUP($G422,WILL5000PR!$A$12:$B$1041,2,FALSE))","v":89.309119999999993},null,"1990-12-01",2633.66,134.19999999999999,19.62488822652757,88.153927907264489]
["1991-01-01",106760,6.4,5.60182,8895.317543505902,{"$f":"IF(K423=\"\",\"\",VLOOKUP($A423,'Tocalino Index'!$A$12:$B$1041,2,FALSE))","v":89.228729999999999},"1991-01-01","1991-01-01",{"$f":"IF(H423=\"\",\"\",VLOOKUP($G423,WILL5000PR!$A$12:$B$1041,2,FALSE))","v":92.900109999999998},null,"1991-01-01",2736.39,134.69999999999999,20.314699331848551,91.252521781847591]
["1991-02-01",106888,6.6,5.6518499999999996,8724.2334831066328,{"$f":"IF(K424=\"\",\"\",VLOOKUP($A424,'Tocalino Index'!$A$12:$B$1041,2,FALSE))","v":87.512590000000003},"1991-02-01","1991-02-01",{"$f":"IF(H424=\"\",\"\",VLOOKUP($G424,WILL5000PR!$A$12:$B$1041,2,FALSE))","v":99.607939999999999},null,"1991-02-01",2882.18,134.80000000000001,21.381157270029671,96.042992693751629]
["1991-03-01",106971,6.8,5.2434500000000002,8882.0894345058932,{"$f":"IF(K425=\"\",\"\",VLOOKUP($A425,'Tocalino Index'!$A$12:$B$1041,2,FALSE))","v":89.096029999999999},"1991-03-01","1991-03-01",{"$f":"IF(H425=\"\",\"\",VLOOKUP($G425,WILL5000PR!$A$12:$B$1041,2,FALSE))","v":102.28077},null,"1991-03-01",2913.86,134.80000000000001,21.616172106824926,97.098666526939738]
["1991-04-01",107091,6.7,5.1492500000000003,9037.7872017216268,{"$f":"IF(K426=\"\",\"\",VLOOKUP($A426,'Tocalino Index'!$A$12:$B$1041,2,FALSE))","v":90.657839999999993},"1991-04-01","1991-04-01",{"$f":"IF(H426=\"\",\"\",VLOOKUP($G426,WILL5000PR!$A$12:$B$1041,2,FALSE))","v":102.25059},null,"1991-04-01",2887.87,135.1,21.375795706883789,96.018908844428424]
["1991-05-01",107268,6.9,5.1339300000000003,8913.7962411282097,{"$f":"IF(K427=\"\",\"\",VLOOKUP($A427,'Tocalino Index'!$A$12:$B$1041,2,FALSE))","v":89.414079999999998},"1991-05-01",{"$f":"IF(($G$13-G427)<40,\"\",G427)","v":"1991-05-01"},{"$f":"IF(H427=\"\",\"\",VLOOKUP($G427,WILL5000PR!$A$12:$B$1041,2,FALSE))","v":105.68206000000001},null,"1991-05-01",3027.5,135.6,22.326696165191741,100.29030185727393]
["1991-06-01",107428,6.9,4.9592900000000002,9058.5524091239859,{"$f":"IF(K428=\"\",\"\",VLOOKUP($A428,'Tocalino Index'!$A$12:$B$1041,2,FALSE))","v":90.866129999999998},"1991-06-01","1991-06-01",{"$f":"IF(H428=\"\",\"\",VLOOKUP($G428,WILL5000PR!$A$12:$B$1041,2,FALSE))","v":100.44647000000001},null,"1991-06-01",2906.75,136,21.373161764705884,96.007077319775505]
["1991-07-01",107575,6.8,4.7864500000000003,9284.552214008605,{"$f":"IF(K429=\"\",\"\",VLOOKUP($A429,'Tocalino Index'!$A$12:$B$1041,2,FALSE))","v":93.133129999999994},"1991-07-01","1991-07-01",{"$f":"IF(H429=\"\",\"\",VLOOKUP($G429,WILL5000PR!$A$12:$B$1041,2,FALSE))","v":104.83714000000001},null,"1991-07-01",3024.82,136.19999999999999,22.208663729809107,99.7601065930087]
["1991-08-01",107694,6.9,4.6120099999999997,9354.9258556933146,{"$f":"IF(K430=\"\",\"\",VLOOKUP($A430,'Tocalino Index'!$A$12:$B$1041,2,FALSE))","v":93.83905},"1991-08-01","1991-08-01",{"$f":"IF(H430=\"\",\"\",VLOOKUP($G430,WILL5000PR!$A$12:$B$1041,2,FALSE))","v":107.04476},null,"1991-08-01",3043.6,136.6,22.281112737920939,100.08554358731526]
["1991-09-01",107855,6.9,4.5951899999999997,9382.6200349885457,{"$f":"IF(K431=\"\",\"\",VLOOKUP($A431,'Tocalino Index'!$A$12:$B$1041,2,FALSE))","v":94.116849999999999},"1991-09-01","1991-09-01",{"$f":"IF(H431=\"\",\"\",VLOOKUP($G431,WILL5000PR!$A$12:$B$1041,2,FALSE))","v":105.14270999999999},null,"1991-09-01",3016.77,137,22.020218978102189,98.91362304290017]
["1991-10-01",108005,7,4.4331399999999999,9446.661197186424,{"$f":"IF(K432=\"\",\"\",VLOOKUP($A432,'Tocalino Index'!$A$12:$B$1041,2,FALSE))","v":94.759240000000005},"1991-10-01","1991-10-01",{"$f":"IF(H432=\"\",\"\",VLOOKUP($G432,WILL5000PR!$A$12:$B$1041,2,FALSE))","v":106.75913},null,"1991-10-01",3069.1,137.19999999999999,22.369533527696795,100.48272495402836]
["1991-11-01",108236,7,4.49275,9417.7633725609612,{"$f":"IF(K433=\"\",\"\",VLOOKUP($A433,'Tocalino Index'!$A$12:$B$1041,2,FALSE))","v":94.469369999999998},"1991-11-01","1991-11-01",{"$f":"IF(H433=\"\",\"\",VLOOKUP($G433,WILL5000PR!$A$12:$B$1041,2,FALSE))","v":102.05686},null,"1991-11-01",2894.68,137.80000000000001,21.006386066763422,94.35954088230163]
["1991-12-01",108383,7.3,4.4011500000000003,9262.5938476132687,{"$f":"IF(K434=\"\",\"\",VLOOKUP($A434,'Tocalino Index'!$A$12:$B$1041,2,FALSE))","v":92.912869999999998},"1991-12-01","1991-12-01",{"$f":"IF(H434=\"\",\"\",VLOOKUP($G434,WILL5000PR!$A$12:$B$1041,2,FALSE))","v":112.91070000000001},null,"1991-12-01",3168.83,138.19999999999999,22.929305354558611,102.99718947989463]
["1992-01-01",108520,7.3,4.0143399999999998,9591.3681222236555,{"$f":"IF(K435=\"\",\"\",VLOOKUP($A435,'Tocalino Index'!$A$12:$B$1041,2,FALSE))","v":96.210790000000003},"1992-01-01","1992-01-01",{"$f":"IF(H435=\"\",\"\",VLOOKUP($G435,WILL5000PR!$A$12:$B$1041,2,FALSE))","v":112.37527},null,"1992-01-01",3223.39,138.30000000000001,23.307230657989873,104.69480933731511]
["1992-02-01",108768,7.4,3.70899,9790.9890998191549,{"$f":"IF(K436=\"\",\"\",VLOOKUP($A436,'Tocalino Index'!$A$12:$B$1041,2,FALSE))","v":98.213189999999997},"1992-02-01","1992-02-01",{"$f":"IF(H436=\"\",\"\",VLOOKUP($G436,WILL5000PR!$A$12:$B$1041,2,FALSE))","v":113.17859},null,"1992-02-01",3267.67,138.6,23.576262626262629,105.90328627038666]
["1992-03-01",108835,7.4,3.8434200000000001,9679.8838787486366,{"$f":"IF(K437=\"\",\"\",VLOOKUP($A437,'Tocalino Index'!$A$12:$B$1041,2,FALSE))","v":97.098690000000005},"1992-03-01","1992-03-01",{"$f":"IF(H437=\"\",\"\",VLOOKUP($G437,WILL5000PR!$A$12:$B$1041,2,FALSE))","v":109.57558},null,"1992-03-01",3235.47,139.1,23.260028756290438,104.48278096846697]
["1992-04-01",108977,7.4,3.8325100000000001,9701.9277080545653,{"$f":"IF(K438=\"\",\"\",VLOOKUP($A438,'Tocalino Index'!$A$12:$B$1041,2,FALSE))","v":97.319810000000004},"1992-04-01","1992-04-01",{"$f":"IF(H438=\"\",\"\",VLOOKUP($G438,WILL5000PR!$A$12:$B$1041,2,FALSE))","v":110.72105000000001},null,"1992-04-01",3359.12,139.4,24.096987087517931,108.24235215892504]
["1992-05-01",109112,7.6,3.8924300000000001,9494.2496930588241,{"$f":"IF(K439=\"\",\"\",VLOOKUP($A439,'Tocalino Index'!$A$12:$B$1041,2,FALSE))","v":95.236599999999996},"1992-05-01","1992-05-01",{"$f":"IF(H439=\"\",\"\",VLOOKUP($G439,WILL5000PR!$A$12:$B$1041,2,FALSE))","v":110.91557},null,"1992-05-01",3396.88,139.69999999999999,24.315533285612027,109.22404976498588]
["1992-06-01",109239,7.8,3.73766,9468.0377130197994,{"$f":"IF(K440=\"\",\"\",VLOOKUP($A440,'Tocalino Index'!$A$12:$B$1041,2,FALSE))","v":94.973669999999998},"1992-06-01","1992-06-01",{"$f":"IF(H440=\"\",\"\",VLOOKUP($G440,WILL5000PR!$A$12:$B$1041,2,FALSE))","v":108.01418},null,"1992-06-01",3318.52,140.1,23.686795146324055,106.39979232394636]
["1992-07-01",109381,7.7,3.7245300000000001,9574.2231846736795,{"$f":"IF(K441=\"\",\"\",VLOOKUP($A441,'Tocalino Index'!$A$12:$B$1041,2,FALSE))","v":96.038809999999998},"1992-07-01","1992-07-01",{"$f":"IF(H441=\"\",\"\",VLOOKUP($G441,WILL5000PR!$A$12:$B$1041,2,FALSE))","v":111.9936},null,"1992-07-01",3393.78,140.5,24.155017793594308,108.50302292661632]
["1992-08-01",109516,7.6,3.4989499999999998,9867.2396938449147,{"$f":"IF(K442=\"\",\"\",VLOOKUP($A442,'Tocalino Index'!$A$12:$B$1041,2,FALSE))","v":98.978049999999996},"1992-08-01","1992-08-01",{"$f":"IF(H442=\"\",\"\",VLOOKUP($G442,WILL5000PR!$A$12:$B$1041,2,FALSE))","v":108.97254},null,"1992-08-01",3257.35,140.80000000000001,23.134588068181817,103.91930823687619]
["1992-09-01",109693,7.6,3.2775500000000002,10084.348037931337,{"$f":"IF(K443=\"\",\"\",VLOOKUP($A443,'Tocalino Index'!$A$12:$B$1041,2,FALSE))","v":101.15586},"1992-09-01","1992-09-01",{"$f":"IF(H443=\"\",\"\",VLOOKUP($G443,WILL5000PR!$A$12:$B$1041,2,FALSE))","v":109.73734},null,"1992-09-01",3271.66,141.1,23.18681785967399,104.15392161253807]
["1992-10-01",109828,7.3,3.5490599999999999,10123.273352714428,{"$f":"IF(K444=\"\",\"\",VLOOKUP($A444,'Tocalino Index'!$A$12:$B$1041,2,FALSE))","v":101.54631999999999},"1992-10-01","1992-10-01",{"$f":"IF(H444=\"\",\"\",VLOOKUP($G444,WILL5000PR!$A$12:$B$1041,2,FALSE))","v":110.53021},null,"1992-10-01",3226.28,141.69999999999999,22.768383909668316,102.2743391233552]
["1992-11-01",109955,7.4,3.4674100000000001,10117.866170504289,{"$f":"IF(K445=\"\",\"\",VLOOKUP($A445,'Tocalino Index'!$A$12:$B$1041,2,FALSE))","v":101.49208},"1992-11-01","1992-11-01",{"$f":"IF(H445=\"\",\"\",VLOOKUP($G445,WILL5000PR!$A$12:$B$1041,2,FALSE))","v":114.59737},null,"1992-11-01",3305.16,142.1,23.259394792399718,104.47993323723541]
["1992-12-01",110205,7.4,3.38632,10217.108337227155,{"$f":"IF(K446=\"\",\"\",VLOOKUP($A446,'Tocalino Index'!$A$12:$B$1041,2,FALSE))","v":102.48757999999999},"1992-12-01","1992-12-01",{"$f":"IF(H446=\"\",\"\",VLOOKUP($G446,WILL5000PR!$A$12:$B$1041,2,FALSE))","v":116.47919},null,"1992-12-01",3301.11,142.30000000000001,23.198243148278284,104.20524338600841]
["1993-01-01",110320,7.3,3.4459,10266.241077992538,{"$f":"IF(K447=\"\",\"\",VLOOKUP($A447,'Tocalino Index'!$A$12:$B$1041,2,FALSE))","v":102.98043},"1993-01-01","1993-01-01",{"$f":"IF(H447=\"\",\"\",VLOOKUP($G447,WILL5000PR!$A$12:$B$1041,2,FALSE))","v":117.18219999999999},null,"1993-01-01",3310.03,142.80000000000001,23.179481792717088,104.12096839975149]
["1993-02-01",110505,7.1,3.5763400000000001,10350.457179145662,{"$f":"IF(K448=\"\",\"\",VLOOKUP($A448,'Tocalino Index'!$A$12:$B$1041,2,FALSE))","v":103.8252},"1993-02-01","1993-02-01",{"$f":"IF(H448=\"\",\"\",VLOOKUP($G448,WILL5000PR!$A$12:$B$1041,2,FALSE))","v":116.93295999999999},null,"1993-02-01",3370.81,143.1,23.555625436757513,105.81058514032961]
["1993-03-01",110622,7,3.35846,10679.386704201203,{"$f":"IF(K449=\"\",\"\",VLOOKUP($A449,'Tocalino Index'!$A$12:$B$1041,2,FALSE))","v":107.12468},"1993-03-01","1993-03-01",{"$f":"IF(H449=\"\",\"\",VLOOKUP($G449,WILL5000PR!$A$12:$B$1041,2,FALSE))","v":119.24733000000001},null,"1993-03-01",3435.11,143.30000000000001,23.971458478715981,107.67848449237353]
["1993-04-01",110751,7.1,3.4859900000000001,10462.035199353108,{"$f":"IF(K450=\"\",\"\",VLOOKUP($A450,'Tocalino Index'!$A$12:$B$1041,2,FALSE))","v":104.94443},"1993-04-01","1993-04-01",{"$f":"IF(H450=\"\",\"\",VLOOKUP($G450,WILL5000PR!$A$12:$B$1041,2,FALSE))","v":115.48638},null,"1993-04-01",3427.55,143.80000000000001,23.835535465924895,107.06792572983612]
["1993-05-01",110831,7.1,3.4059900000000001,10549.315200185798,{"$f":"IF(K451=\"\",\"\",VLOOKUP($A451,'Tocalino Index'!$A$12:$B$1041,2,FALSE))","v":105.81994},"1993-05-01","1993-05-01",{"$f":"IF(H451=\"\",\"\",VLOOKUP($G451,WILL5000PR!$A$12:$B$1041,2,FALSE))","v":118.59752},null,"1993-05-01",3527.43,144.19999999999999,24.462066574202499,109.88226930791086]
["1993-06-01",110944,7,3.3990499999999999,10668.666849375664,{"$f":"IF(K452=\"\",\"\",VLOOKUP($A452,'Tocalino Index'!$A$12:$B$1041,2,FALSE))","v":107.01715},"1993-06-01","1993-06-01",{"$f":"IF(H452=\"\",\"\",VLOOKUP($G452,WILL5000PR!$A$12:$B$1041,2,FALSE))","v":118.7273},null,"1993-06-01",3516.08,144.30000000000001,24.366458766458763,109.45280424834327]
["1993-07-01",111149,6.9,3.1842800000000002,11022.006528973809,{"$f":"IF(K453=\"\",\"\",VLOOKUP($A453,'Tocalino Index'!$A$12:$B$1041,2,FALSE))","v":110.56149000000001},"1993-07-01","1993-07-01",{"$f":"IF(H453=\"\",\"\",VLOOKUP($G453,WILL5000PR!$A$12:$B$1041,2,FALSE))","v":118.55947},null,"1993-07-01",3539.47,144.5,24.494602076124565,110.02841700861407]
["1993-08-01",111176,6.8,3.3130500000000001,10993.320511616179,{"$f":"IF(K454=\"\",\"\",VLOOKUP($A454,'Tocalino Index'!$A$12:$B$1041,2,FALSE))","v":110.27374},"1993-08-01","1993-08-01",{"$f":"IF(H454=\"\",\"\",VLOOKUP($G454,WILL5000PR!$A$12:$B$1041,2,FALSE))","v":122.44338999999999},null,"1993-08-01",3651.25,144.80000000000001,25.215814917127069,113.2680657677641]
["1993-09-01",111362,6.7,3.24105,11202.237188224582,{"$f":"IF(K455=\"\",\"\",VLOOKUP($A455,'Tocalino Index'!$A$12:$B$1041,2,FALSE))","v":112.36938000000001},"1993-09-01","1993-09-01",{"$f":"IF(H455=\"\",\"\",VLOOKUP($G455,WILL5000PR!$A$12:$B$1041,2,FALSE))","v":122.19793},null,"1993-09-01",3555.12,145,24.518068965517241,110.13382899628253]
["1993-10-01",111503,6.8,3.0914000000000001,11272.721758295083,{"$f":"IF(K456=\"\",\"\",VLOOKUP($A456,'Tocalino Index'!$A$12:$B$1041,2,FALSE))","v":113.07641},"1993-10-01","1993-10-01",{"$f":"IF(H456=\"\",\"\",VLOOKUP($G456,WILL5000PR!$A$12:$B$1041,2,FALSE))","v":123.57044},null,"1993-10-01",3680.59,145.6,25.278777472527473,113.55089013372007]
["1993-11-01",111629,6.6,3.1501299999999999,11448.975552120844,{"$f":"IF(K457=\"\",\"\",VLOOKUP($A457,'Tocalino Index'!$A$12:$B$1041,2,FALSE))","v":114.84441},"1993-11-01","1993-11-01",{"$f":"IF(H457=\"\",\"\",VLOOKUP($G457,WILL5000PR!$A$12:$B$1041,2,FALSE))","v":121.13504},null,"1993-11-01",3683.95,146,25.232534246575341,113.343168084059]
["1993-12-01",111847,6.5,3.1417099999999998,11600.328157557115,{"$f":"IF(K458=\"\",\"\",VLOOKUP($A458,'Tocalino Index'!$A$12:$B$1041,2,FALSE))","v":116.36262000000001},"1993-12-01","1993-12-01",{"$f":"IF(H458=\"\",\"\",VLOOKUP($G458,WILL5000PR!$A$12:$B$1041,2,FALSE))","v":123.09088},null,"1993-12-01",3754.09,146.30000000000001,25.66021872863978,115.26430345888377]
["1994-01-01",111955,6.6,2.9313799999999999,11745.938153761577,{"$f":"IF(K459=\"\",\"\",VLOOKUP($A459,'Tocalino Index'!$A$12:$B$1041,2,FALSE))","v":117.82324},"1994-01-01","1994-01-01",{"$f":"IF(H459=\"\",\"\",VLOOKUP($G459,WILL5000PR!$A$12:$B$1041,2,FALSE))","v":126.45004},null,"1994-01-01",3978.36,146.30000000000001,27.193164730006835,122.15021331632563]
["1994-02-01",112144,6.6,2.78884,11944.393556605502,{"$f":"IF(K460=\"\",\"\",VLOOKUP($A460,'Tocalino Index'!$A$12:$B$1041,2,FALSE))","v":119.81394},"1994-02-01","1994-02-01",{"$f":"IF(H460=\"\",\"\",VLOOKUP($G460,WILL5000PR!$A$12:$B$1041,2,FALSE))","v":122.87572},null,"1994-02-01",3832.02,146.69999999999999,26.12147239263804,117.33622976866531]
["1994-03-01",112261,6.5,2.9840800000000001,11836.783325319904,{"$f":"IF(K461=\"\",\"\",VLOOKUP($A461,'Tocalino Index'!$A$12:$B$1041,2,FALSE))","v":118.7345},"1994-03-01","1994-03-01",{"$f":"IF(H461=\"\",\"\",VLOOKUP($G461,WILL5000PR!$A$12:$B$1041,2,FALSE))","v":116.68145},null,"1994-03-01",3635.96,147.1,24.717607070020396,111.03014328230972]
["1994-04-01",112359,6.4,2.7080600000000001,12336.216493962491,{"$f":"IF(K462=\"\",\"\",VLOOKUP($A462,'Tocalino Index'!$A$12:$B$1041,2,FALSE))","v":123.7443},"1994-04-01","1994-04-01",{"$f":"IF(H462=\"\",\"\",VLOOKUP($G462,WILL5000PR!$A$12:$B$1041,2,FALSE))","v":117.49108},null,"1994-04-01",3681.69,147.19999999999999,25.01148097826087,112.35020885526104]
["1994-05-01",112427,6.1,2.70092,{"$f":"B463/(C463+D463)","v":12774.45994282416},{"$f":"IF(K463=\"\",\"\",VLOOKUP($A463,'Tocalino Index'!$A$12:$B$1041,2,FALSE))","v":128.14031},"1994-05-01","1994-05-01",{"$f":"IF(H463=\"\",\"\",VLOOKUP($G463,WILL5000PR!$A$12:$B$1041,2,FALSE))","v":118.21599000000001},null,"1994-05-01",3758.37,147.5,25.480474576271185,114.45690252662088]
["1994-06-01",112506,6.1,2.8270900000000001,12602.76305044533,{"$f":"IF(K464=\"\",\"\",VLOOKUP($A464,'Tocalino Index'!$A$12:$B$1041,2,FALSE))","v":126.41803},"1994-06-01","1994-06-01",{"$f":"IF(H464=\"\",\"\",VLOOKUP($G464,WILL5000PR!$A$12:$B$1041,2,FALSE))","v":114.42440000000001},null,"1994-06-01",3624.96,147.9,24.509533468559837,110.09548800933013]
["1994-07-01",112592,6.1,2.88903,12525.489402082316,{"$f":"IF(K465=\"\",\"\",VLOOKUP($A465,'Tocalino Index'!$A$12:$B$1041,2,FALSE))","v":125.6429},"1994-07-01","1994-07-01",{"$f":"IF(H465=\"\",\"\",VLOOKUP($G465,WILL5000PR!$A$12:$B$1041,2,FALSE))","v":117.35053000000001},null,"1994-07-01",3764.5,148.4,25.367250673854446,113.94830693026316]
["1994-08-01",112719,6,2.8141400000000001,12788.42859314692,{"$f":"IF(K466=\"\",\"\",VLOOKUP($A466,'Tocalino Index'!$A$12:$B$1041,2,FALSE))","v":128.28043},"1994-08-01","1994-08-01",{"$f":"IF(H466=\"\",\"\",VLOOKUP($G466,WILL5000PR!$A$12:$B$1041,2,FALSE))","v":121.69217},null,"1994-08-01",3913.42,149,26.264563758389261,117.97898838186008]
["1994-09-01",112872,5.9,3.0085000000000002,12670.146489307965,{"$f":"IF(K467=\"\",\"\",VLOOKUP($A467,'Tocalino Index'!$A$12:$B$1041,2,FALSE))","v":127.09395000000001},"1994-09-01","1994-09-01",{"$f":"IF(H467=\"\",\"\",VLOOKUP($G467,WILL5000PR!$A$12:$B$1041,2,FALSE))","v":118.7835},null,"1994-09-01",3843.18,149.30000000000001,25.741326188881445,115.62863374807341]
["1994-10-01",113046,5.8,2.8683200000000002,13041.281355556786,{"$f":"IF(K468=\"\",\"\",VLOOKUP($A468,'Tocalino Index'!$A$12:$B$1041,2,FALSE))","v":130.81679},"1994-10-01","1994-10-01",{"$f":"IF(H468=\"\",\"\",VLOOKUP($G468,WILL5000PR!$A$12:$B$1041,2,FALSE))","v":120.46586000000001},null,"1994-10-01",3908.12,149.4,26.158768406961176,117.50376143151706]
["1994-11-01",113223,5.6,2.7940200000000002,13488.531120964688,{"$f":"IF(K469=\"\",\"\",VLOOKUP($A469,'Tocalino Index'!$A$12:$B$1041,2,FALSE))","v":135.30314000000001},"1994-11-01","1994-11-01",{"$f":"IF(H469=\"\",\"\",VLOOKUP($G469,WILL5000PR!$A$12:$B$1041,2,FALSE))","v":115.57939},null,"1994-11-01",3739.22,149.80000000000001,24.961415220293723,112.12531620020415]
["1994-12-01",113308,5.5,2.5923500000000002,14001.865959826257,{"$f":"IF(K470=\"\",\"\",VLOOKUP($A470,'Tocalino Index'!$A$12:$B$1041,2,FALSE))","v":140.45239000000001},"1994-12-01","1994-12-01",{"$f":"IF(H470=\"\",\"\",VLOOKUP($G470,WILL5000PR!$A$12:$B$1041,2,FALSE))","v":116.86733},null,"1994-12-01",3834.44,150.1,25.545902731512328,114.75080223262974]
["1995-01-01",113389,5.6,2.91262,13320.105913338079,{"$f":"IF(K471=\"\",\"\",VLOOKUP($A471,'Tocalino Index'!$A$12:$B$1041,2,FALSE))","v":133.61367999999999},"1995-01-01","1995-01-01",{"$f":"IF(H471=\"\",\"\",VLOOKUP($G471,WILL5000PR!$A$12:$B$1041,2,FALSE))","v":118.72798},null,"1995-01-01",3843.86,150.5,25.540598006644519,114.72697369775265]
["1995-02-01",113598,5.4,2.9715799999999999,13569.481507672388,{"$f":"IF(K472=\"\",\"\",VLOOKUP($A472,'Tocalino Index'!$A$12:$B$1041,2,FALSE))","v":136.11516},"1995-02-01","1995-02-01",{"$f":"IF(H472=\"\",\"\",VLOOKUP($G472,WILL5000PR!$A$12:$B$1041,2,FALSE))","v":122.66068},null,"1995-02-01",4011.05,150.9,26.580848243870111,119.39972104588496]
["1995-03-01",113688,5.4,2.9620099999999998,13595.774221748121,{"$f":"IF(K473=\"\",\"\",VLOOKUP($A473,'Tocalino Index'!$A$12:$B$1041,2,FALSE))","v":136.37889999999999},"1995-03-01","1995-03-01",{"$f":"IF(H473=\"\",\"\",VLOOKUP($G473,WILL5000PR!$A$12:$B$1041,2,FALSE))","v":125.22068},null,"1995-03-01",4157.6899999999996,151.19999999999999,27.497949735449733,123.51929094300532]
["1995-04-01",113758,5.8,3.1511300000000002,12708.786488409845,{"$f":"IF(K474=\"\",\"\",VLOOKUP($A474,'Tocalino Index'!$A$12:$B$1041,2,FALSE))","v":127.48154},"1995-04-01","1995-04-01",{"$f":"IF(H474=\"\",\"\",VLOOKUP($G474,WILL5000PR!$A$12:$B$1041,2,FALSE))","v":127.73744000000001},null,"1995-04-01",4321.2700000000004,151.80000000000001,28.466864295125166,127.87160231701206]
["1995-05-01",113826,5.6,3.0789,13115.25654172764,{"$f":"IF(K475=\"\",\"\",VLOOKUP($A475,'Tocalino Index'!$A$12:$B$1041,2,FALSE))","v":131.55884},"1995-05-01","1995-05-01",{"$f":"IF(H475=\"\",\"\",VLOOKUP($G475,WILL5000PR!$A$12:$B$1041,2,FALSE))","v":131.4579},null,"1995-05-01",4465.1400000000003,152.1,{"$f":"L475/M475","v":29.356607495069039},{"$f":"IF(M475=\"\",\"\",N475/$P$14)","v":131.86828025975871}]
["1995-06-01",113873,5.6,3.0051199999999998,13233.168160351048,{"$f":"IF(K476=\"\",\"\",VLOOKUP($A476,'Tocalino Index'!$A$12:$B$1041,2,FALSE))","v":132.74161000000001},"1995-06-01","1995-06-01",{"$f":"IF(H476=\"\",\"\",VLOOKUP($G476,WILL5000PR!$A$12:$B$1041,2,FALSE))","v":135.13998000000001},null,"1995-06-01",4556.09,152.4,29.895603674540681,134.28942171029738]
["1995-07-01",114002,5.7,2.9993599999999998,13104.642180574203,{"$f":"IF(K477=\"\",\"\",VLOOKUP($A477,'Tocalino Index'!$A$12:$B$1041,2,FALSE))","v":131.45236},"1995-07-01","1995-07-01",{"$f":"IF(H477=\"\",\"\",VLOOKUP($G477,WILL5000PR!$A$12:$B$1041,2,FALSE))","v":140.52383},null,"1995-07-01",4708.47,152.6,30.854980340760161,138.59888938693382]
["1995-08-01",114137,5.7,2.99173,13131.678043381467,{"$f":"IF(K478=\"\",\"\",VLOOKUP($A478,'Tocalino Index'!$A$12:$B$1041,2,FALSE))","v":131.72355999999999},"1995-08-01","1995-08-01",{"$f":"IF(H478=\"\",\"\",VLOOKUP($G478,WILL5000PR!$A$12:$B$1041,2,FALSE))","v":141.17477},null,"1995-08-01",4610.5600000000004,152.9,30.154087638979728,135.45051758525591]
["1995-09-01",114282,5.6,2.9841299999999999,13313.172097813058,{"$f":"IF(K479=\"\",\"\",VLOOKUP($A479,'Tocalino Index'!$A$12:$B$1041,2,FALSE))","v":133.54411999999999},"1995-09-01","1995-09-01",{"$f":"IF(H479=\"\",\"\",VLOOKUP($G479,WILL5000PR!$A$12:$B$1041,2,FALSE))","v":146.03774999999999},null,"1995-09-01",4789.08,153.1,31.280731548007839,140.51134059668951]
["1995-10-01",114459,5.5,3.1052,13301.143494631153,{"$f":"IF(K480=\"\",\"\",VLOOKUP($A480,'Tocalino Index'!$A$12:$B$1041,2,FALSE))","v":133.42346000000001},"1995-10-01","1995-10-01",{"$f":"IF(H480=\"\",\"\",VLOOKUP($G480,WILL5000PR!$A$12:$B$1041,2,FALSE))","v":143.91417999999999},null,"1995-10-01",4755.4799999999996,153.5,30.980325732899018,139.16193405422422]
["1995-11-01",114598,5.6,3.0341300000000002,13272.674838113397,{"$f":"IF(K481=\"\",\"\",VLOOKUP($A481,'Tocalino Index'!$A$12:$B$1041,2,FALSE))","v":133.1379},"1995-11-01","1995-11-01",{"$f":"IF(H481=\"\",\"\",VLOOKUP($G481,WILL5000PR!$A$12:$B$1041,2,FALSE))","v":149.75528},null,"1995-11-01",5074.49,153.69999999999999,33.01554977228367,148.30404947277361]
["1995-12-01",114700,5.6,3.0322200000000001,13287.427799569519,{"$f":"IF(K482=\"\",\"\",VLOOKUP($A482,'Tocalino Index'!$A$12:$B$1041,2,FALSE))","v":133.28587999999999},"1995-12-01","1995-12-01",{"$f":"IF(H482=\"\",\"\",VLOOKUP($G482,WILL5000PR!$A$12:$B$1041,2,FALSE))","v":152.04214999999999},null,"1995-12-01",5117.12,153.9,33.249642625081222,149.35558180411331]
["1996-01-01",114724,5.6,2.9559700000000002,13408.649165436531,{"$f":"IF(K483=\"\",\"\",VLOOKUP($A483,'Tocalino Index'!$A$12:$B$1041,2,FALSE))","v":134.50184999999999},"1996-01-01","1996-01-01",{"$f":"IF(H483=\"\",\"\",VLOOKUP($G483,WILL5000PR!$A$12:$B$1041,2,FALSE))","v":155.01414},null,"1996-01-01",5395.3,154.69999999999999,34.875888817065288,156.66059103080752]
["1996-02-01",114957,5.5,2.8858199999999998,13708.498393717015,{"$f":"IF(K484=\"\",\"\",VLOOKUP($A484,'Tocalino Index'!$A$12:$B$1041,2,FALSE))","v":137.50962999999999},"1996-02-01","1996-02-01",{"$f":"IF(H484=\"\",\"\",VLOOKUP($G484,WILL5000PR!$A$12:$B$1041,2,FALSE))","v":156.88750999999999},null,"1996-02-01",5485.62,155,35.391096774193549,158.97487708358318]
["1996-03-01",115069,5.5,2.81426,13839.956893337469,{"$f":"IF(K485=\"\",\"\",VLOOKUP($A485,'Tocalino Index'!$A$12:$B$1041,2,FALSE))","v":138.82829000000001},"1996-03-01","1996-03-01",{"$f":"IF(H485=\"\",\"\",VLOOKUP($G485,WILL5000PR!$A$12:$B$1041,2,FALSE))","v":157.53254000000001},null,"1996-03-01",5587.14,155.5,35.93016077170418,161.39632316905534]
["1996-04-01",115238,5.6,2.6184500000000002,14021.865436913286,{"$f":"IF(K486=\"\",\"\",VLOOKUP($A486,'Tocalino Index'!$A$12:$B$1041,2,FALSE))","v":140.65300999999999},"1996-04-01","1996-04-01",{"$f":"IF(H486=\"\",\"\",VLOOKUP($G486,WILL5000PR!$A$12:$B$1041,2,FALSE))","v":160.59838999999999},null,"1996-04-01",5569.07,156.1,35.676297245355542,160.25598205007913]
["1996-05-01",115403,5.6,2.6757900000000001,13944.65060133232,{"$f":"IF(K487=\"\",\"\",VLOOKUP($A487,'Tocalino Index'!$A$12:$B$1041,2,FALSE))","v":139.87846999999999},"1996-05-01","1996-05-01",{"$f":"IF(H487=\"\",\"\",VLOOKUP($G487,WILL5000PR!$A$12:$B$1041,2,FALSE))","v":164.29038},null,"1996-05-01",5643.17,156.4,36.081649616368288,162.0768027996717]
["1996-06-01",115488,5.3,2.6691500000000001,14491.884328943488,{"$f":"IF(K488=\"\",\"\",VLOOKUP($A488,'Tocalino Index'!$A$12:$B$1041,2,FALSE))","v":145.36776},"1996-06-01","1996-06-01",{"$f":"IF(H488=\"\",\"\",VLOOKUP($G488,WILL5000PR!$A$12:$B$1041,2,FALSE))","v":162.59762000000001},null,"1996-06-01",5654.62,156.69999999999999,36.085641352903636,162.09473346254731]
["1996-07-01",115581,5.5,2.6641900000000001,14157.068858025108,{"$f":"IF(K489=\"\",\"\",VLOOKUP($A489,'Tocalino Index'!$A$12:$B$1041,2,FALSE))","v":142.00923},"1996-07-01","1996-07-01",{"$f":"IF(H489=\"\",\"\",VLOOKUP($G489,WILL5000PR!$A$12:$B$1041,2,FALSE))","v":153.31112999999999},null,"1996-07-01",5528.91,157,35.215987261146495,158.18829469845855]
["1996-08-01",115667,5.0999999999999996,2.5958000000000001,15029.886431560071,{"$f":"IF(K490=\"\",\"\",VLOOKUP($A490,'Tocalino Index'!$A$12:$B$1041,2,FALSE))","v":150.76444000000001},"1996-08-01","1996-08-01",{"$f":"IF(H490=\"\",\"\",VLOOKUP($G490,WILL5000PR!$A$12:$B$1041,2,FALSE))","v":157.59924000000001},null,"1996-08-01",5616.2,157.19999999999999,35.726463104325703,160.48132435338374]
["1996-09-01",115818,5.2,2.6510500000000001,14751.912164614923,{"$f":"IF(K491=\"\",\"\",VLOOKUP($A491,'Tocalino Index'!$A$12:$B$1041,2,FALSE))","v":147.97609},"1996-09-01",{"$f":"IF(($G$13-G491)<40,\"\",G491)","v":"1996-09-01"},{"$f":"IF(H491=\"\",\"\",VLOOKUP($G491,WILL5000PR!$A$12:$B$1041,2,FALSE))","v":165.19704999999999},null,"1996-09-01",5882.16,157.69999999999999,37.299682942295497,167.54814208899776]
["1996-10-01",115938,5.2,2.5199799999999999,15017.914554182784,{"$f":"IF(K492=\"\",\"\",VLOOKUP($A492,'Tocalino Index'!$A$12:$B$1041,2,FALSE))","v":150.64435},"1996-10-01","1996-10-01",{"$f":"IF(H492=\"\",\"\",VLOOKUP($G492,WILL5000PR!$A$12:$B$1041,2,FALSE))","v":166.76070999999999},null,"1996-10-01",6029.38,158.19999999999999,38.112389380530978,171.19877509841984]
["1996-11-01",116059,5.4,2.5766900000000001,14549.769390561749,{"$f":"IF(K493=\"\",\"\",VLOOKUP($A493,'Tocalino Index'!$A$12:$B$1041,2,FALSE))","v":145.94839999999999},"1996-11-01","1996-11-01",{"$f":"IF(H493=\"\",\"\",VLOOKUP($G493,WILL5000PR!$A$12:$B$1041,2,FALSE))","v":177.15473},null,"1996-11-01",6521.7,158.69999999999999,41.094517958412098,184.5943340758908]
["1996-12-01",116131,5.4,2.6364200000000002,14450.588694966167,{"$f":"IF(K494=\"\",\"\",VLOOKUP($A494,'Tocalino Index'!$A$12:$B$1041,2,FALSE))","v":144.95352},"1996-12-01","1996-12-01",{"$f":"IF(H494=\"\",\"\",VLOOKUP($G494,WILL5000PR!$A$12:$B$1041,2,FALSE))","v":174.87427},null,"1996-12-01",6448.26,159.1,40.529604022627282,182.0567714771052]
["1997-01-01",116348,5.3,2.5045799999999998,14907.656786143521,{"$f":"IF(K495=\"\",\"\",VLOOKUP($A495,'Tocalino Index'!$A$12:$B$1041,2,FALSE))","v":149.53836000000001},"1997-01-01","1997-01-01",{"$f":"IF(H495=\"\",\"\",VLOOKUP($G495,WILL5000PR!$A$12:$B$1041,2,FALSE))","v":183.46681000000001},null,"1997-01-01",6813.08,159.4,42.742032622333753,191.99488011890938]
["1997-02-01",116462,5.2,2.5,15124.935064935065,{"$f":"IF(K496=\"\",\"\",VLOOKUP($A496,'Tocalino Index'!$A$12:$B$1041,2,FALSE))","v":151.71788000000001},"1997-02-01","1997-02-01",{"$f":"IF(H496=\"\",\"\",VLOOKUP($G496,WILL5000PR!$A$12:$B$1041,2,FALSE))","v":182.49683999999999},null,"1997-02-01",6877.73,159.69999999999999,43.066562304320598,193.45264975608697]
["1997-03-01",116559,5.2,2.43309,15270.22477135734,{"$f":"IF(K497=\"\",\"\",VLOOKUP($A497,'Tocalino Index'!$A$12:$B$1041,2,FALSE))","v":153.17527000000001},"1997-03-01","1997-03-01",{"$f":"IF(H497=\"\",\"\",VLOOKUP($G497,WILL5000PR!$A$12:$B$1041,2,FALSE))","v":173.71111999999999},null,"1997-03-01",6583.47,159.80000000000001,41.198185231539426,185.06000181453584]
["1997-04-01",116662,5.0999999999999996,2.61239,15126.569066139033,{"$f":"IF(K498=\"\",\"\",VLOOKUP($A498,'Tocalino Index'!$A$12:$B$1041,2,FALSE))","v":151.73427000000001},"1997-04-01","1997-04-01",{"$f":"IF(H498=\"\",\"\",VLOOKUP($G498,WILL5000PR!$A$12:$B$1041,2,FALSE))","v":180.84815},null,"1997-04-01",7008.99,159.9,43.833583489681047,196.89806710048799]
["1997-05-01",116873,4.9000000000000004,2.5454500000000002,15697.237910401653,{"$f":"IF(K499=\"\",\"\",VLOOKUP($A499,'Tocalino Index'!$A$12:$B$1041,2,FALSE))","v":157.45863},"1997-05-01","1997-05-01",{"$f":"IF(H499=\"\",\"\",VLOOKUP($G499,WILL5000PR!$A$12:$B$1041,2,FALSE))","v":193.45654999999999},null,"1997-05-01",7331.04,159.9,45.847654784240149,205.94516554259053]
["1997-06-01",116902,5,2.41838,15758.427042022651,{"$f":"IF(K500=\"\",\"\",VLOOKUP($A500,'Tocalino Index'!$A$12:$B$1041,2,FALSE))","v":158.07241999999999},"1997-06-01","1997-06-01",{"$f":"IF(H500=\"\",\"\",VLOOKUP($G500,WILL5000PR!$A$12:$B$1041,2,FALSE))","v":201.82903999999999},null,"1997-06-01",7672.79,160.19999999999999,47.895068664169791,215.14203706024227]
["1997-07-01",116881,4.9000000000000004,2.4140000000000001,15980.448455017775,{"$f":"IF(K501=\"\",\"\",VLOOKUP($A501,'Tocalino Index'!$A$12:$B$1041,2,FALSE))","v":160.29951},"1997-07-01","1997-07-01",{"$f":"IF(H501=\"\",\"\",VLOOKUP($G501,WILL5000PR!$A$12:$B$1041,2,FALSE))","v":216.81095999999999},null,"1997-07-01",8222.61,160.4,51.263154613466334,230.27129550658671]
["1997-08-01",116940,4.8,2.2891599999999999,16495.607378025041,{"$f":"IF(K502=\"\",\"\",VLOOKUP($A502,'Tocalino Index'!$A$12:$B$1041,2,FALSE))","v":165.46706},"1997-08-01","1997-08-01",{"$f":"IF(H502=\"\",\"\",VLOOKUP($G502,WILL5000PR!$A$12:$B$1041,2,FALSE))","v":207.98519999999999},null,"1997-08-01",7622.42,160.80000000000001,47.403109452736317,212.932183105538]
["1997-09-01",117018,4.9000000000000004,2.2222200000000001,16429.989525737761,{"$f":"IF(K503=\"\",\"\",VLOOKUP($A503,'Tocalino Index'!$A$12:$B$1041,2,FALSE))","v":164.80885000000001},"1997-09-01","1997-09-01",{"$f":"IF(H503=\"\",\"\",VLOOKUP($G503,WILL5000PR!$A$12:$B$1041,2,FALSE))","v":219.42562000000001},null,"1997-09-01",7945.25,161.19999999999999,49.288151364764275,221.39968859636988]
["1997-10-01",117039,4.7,2.2781799999999999,16772.138293939108,{"$f":"IF(K504=\"\",\"\",VLOOKUP($A504,'Tocalino Index'!$A$12:$B$1041,2,FALSE))","v":168.24092999999999},"1997-10-01","1997-10-01",{"$f":"IF(H504=\"\",\"\",VLOOKUP($G504,WILL5000PR!$A$12:$B$1041,2,FALSE))","v":211.37294},null,"1997-10-01",7442.08,161.5,46.080990712074303,206.9932978082644]
["1997-11-01",117124,4.5999999999999996,2.1531099999999999,17343.712748644699,{"$f":"IF(K505=\"\",\"\",VLOOKUP($A505,'Tocalino Index'!$A$12:$B$1041,2,FALSE))","v":173.97438},"1997-11-01","1997-11-01",{"$f":"IF(H505=\"\",\"\",VLOOKUP($G505,WILL5000PR!$A$12:$B$1041,2,FALSE))","v":218.11668},null,"1997-11-01",7823.12,161.69999999999999,48.3804576376005,217.32237786406671]
["1997-12-01",117181,4.7,2.2700100000000001,16812.171001189381,{"$f":"IF(K506=\"\",\"\",VLOOKUP($A506,'Tocalino Index'!$A$12:$B$1041,2,FALSE))","v":168.64250000000001},"1997-12-01","1997-12-01",{"$f":"IF(H506=\"\",\"\",VLOOKUP($G506,WILL5000PR!$A$12:$B$1041,2,FALSE))","v":222.1078},null,"1997-12-01",7908.24,161.80000000000001,48.876637824474656,219.55119221031057]
["1998-01-01",117202,4.5999999999999996,2.2646000000000002,17073.391020598436,{"$f":"IF(K507=\"\",\"\",VLOOKUP($A507,'Tocalino Index'!$A$12:$B$1041,2,FALSE))","v":171.26279},"1998-01-01","1998-01-01",{"$f":"IF(H507=\"\",\"\",VLOOKUP($G507,WILL5000PR!$A$12:$B$1041,2,FALSE))","v":222.71141},null,"1998-01-01",7906.5,162,48.805555555555557,219.23189453393917]
["1998-02-01",117246,4.5999999999999996,2.2605599999999999,17089.858553820679,{"$f":"IF(K508=\"\",\"\",VLOOKUP($A508,'Tocalino Index'!$A$12:$B$1041,2,FALSE))","v":171.42797999999999},"1998-02-01","1998-02-01",{"$f":"IF(H508=\"\",\"\",VLOOKUP($G508,WILL5000PR!$A$12:$B$1041,2,FALSE))","v":238.14008000000001},null,"1998-02-01",8545.7099999999991,162,52.751296296296289,236.95594680802239]
["1998-03-01",117218,4.7,2.2565300000000001,16850.067490544854,{"$f":"IF(K509=\"\",\"\",VLOOKUP($A509,'Tocalino Index'!$A$12:$B$1041,2,FALSE))","v":169.02264},"1998-03-01","1998-03-01",{"$f":"IF(H509=\"\",\"\",VLOOKUP($G509,WILL5000PR!$A$12:$B$1041,2,FALSE))","v":249.29855000000001},null,"1998-03-01",8799.7999999999993,162,54.319753086419752,244.00136919240597]
["1998-04-01",117329,4.3,2.13144,18243.037329120692,{"$f":"IF(K510=\"\",\"\",VLOOKUP($A510,'Tocalino Index'!$A$12:$B$1041,2,FALSE))","v":182.99548999999999},"1998-04-01","1998-04-01",{"$f":"IF(H510=\"\",\"\",VLOOKUP($G510,WILL5000PR!$A$12:$B$1041,2,FALSE))","v":251.56245000000001},null,"1998-04-01",9063.36,162.19999999999999,55.877681874229353,250.99950036441317]
["1998-05-01",117483,4.4000000000000004,2.18676,17836.235114077332,{"$f":"IF(K511=\"\",\"\",VLOOKUP($A511,'Tocalino Index'!$A$12:$B$1041,2,FALSE))","v":178.91486},"1998-05-01","1998-05-01",{"$f":"IF(H511=\"\",\"\",VLOOKUP($G511,WILL5000PR!$A$12:$B$1041,2,FALSE))","v":244.1069},null,"1998-05-01",8899.9500000000007,162.6,54.735239852398529,245.8677130916291]
["1998-06-01",117427,4.5,2.2432099999999999,17414.109897215127,{"$f":"IF(K512=\"\",\"\",VLOOKUP($A512,'Tocalino Index'!$A$12:$B$1041,2,FALSE))","v":174.68054000000001},"1998-06-01","1998-06-01",{"$f":"IF(H512=\"\",\"\",VLOOKUP($G512,WILL5000PR!$A$12:$B$1041,2,FALSE))","v":252.06724},null,"1998-06-01",8952.01,162.80000000000001,54.987776412776412,247.00209355181477]
["1998-07-01",117375,4.5,2.2392500000000002,17416.626479207625,{"$f":"IF(K513=\"\",\"\",VLOOKUP($A513,'Tocalino Index'!$A$12:$B$1041,2,FALSE))","v":174.70578},"1998-07-01","1998-07-01",{"$f":"IF(H513=\"\",\"\",VLOOKUP($G513,WILL5000PR!$A$12:$B$1041,2,FALSE))","v":246.01306},null,"1998-07-01",8883.2900000000009,163.19999999999999,54.431924019607855,244.50523490839961]
["1998-08-01",117487,4.5,2.4735,16847.637484763749,{"$f":"IF(K514=\"\",\"\",VLOOKUP($A514,'Tocalino Index'!$A$12:$B$1041,2,FALSE))","v":168.99825999999999},"1998-08-01","1998-08-01",{"$f":"IF(H514=\"\",\"\",VLOOKUP($G514,WILL5000PR!$A$12:$B$1041,2,FALSE))","v":207.16890000000001},null,"1998-08-01",7539.06,163.4,46.138678090575276,207.25242636720617]
["1998-09-01",117511,4.5999999999999996,2.3501799999999999,16907.619658771429,{"$f":"IF(K515=\"\",\"\",VLOOKUP($A515,'Tocalino Index'!$A$12:$B$1041,2,FALSE))","v":169.59994},"1998-09-01","1998-09-01",{"$f":"IF(H515=\"\",\"\",VLOOKUP($G515,WILL5000PR!$A$12:$B$1041,2,FALSE))","v":220.13032000000001},null,"1998-09-01",7842.62,163.5,47.96709480122324,215.46557454081074]
["1998-10-01",117596,4.5,2.22743,17480.077830612878,{"$f":"IF(K516=\"\",\"\",VLOOKUP($A516,'Tocalino Index'!$A$12:$B$1041,2,FALSE))","v":175.34226000000001},"1998-10-01","1998-10-01",{"$f":"IF(H516=\"\",\"\",VLOOKUP($G516,WILL5000PR!$A$12:$B$1041,2,FALSE))","v":235.69569999999999},null,"1998-10-01",8592.11,163.9,52.422879804758999,235.48071783426442]
["1998-11-01",117731,4.4000000000000004,2.34192,17462.532928305289,{"$f":"IF(K517=\"\",\"\",VLOOKUP($A517,'Tocalino Index'!$A$12:$B$1041,2,FALSE))","v":175.16627},"1998-11-01","1998-11-01",{"$f":"IF(H517=\"\",\"\",VLOOKUP($G517,WILL5000PR!$A$12:$B$1041,2,FALSE))","v":250.21519000000001},null,"1998-11-01",9116.5499999999993,164.1,55.554844606946979,249.54933296181267]
["1998-12-01",117789,4.4000000000000004,2.4532699999999998,17187.269726714399,{"$f":"IF(K518=\"\",\"\",VLOOKUP($A518,'Tocalino Index'!$A$12:$B$1041,2,FALSE))","v":172.40511000000001},"1998-12-01","1998-12-01",{"$f":"IF(H518=\"\",\"\",VLOOKUP($G518,WILL5000PR!$A$12:$B$1041,2,FALSE))","v":266.05703999999997},null,"1998-12-01",9181.43,164.4,55.848114355231147,250.86668468118083]
["1999-01-01",117912,4.3,2.331,17781.933343387122,{"$f":"IF(K519=\"\",\"\",VLOOKUP($A519,'Tocalino Index'!$A$12:$B$1041,2,FALSE))","v":178.37016},"1999-01-01","1999-01-01",{"$f":"IF(H519=\"\",\"\",VLOOKUP($G519,WILL5000PR!$A$12:$B$1041,2,FALSE))","v":274.95951000000002},null,"1999-01-01",9358.82,164.7,56.823436551305406,255.24777880852801]
["1999-02-01",117808,4.4000000000000004,2.1524100000000002,17979.338899733077,{"$f":"IF(K520=\"\",\"\",VLOOKUP($A520,'Tocalino Index'!$A$12:$B$1041,2,FALSE))","v":180.35033000000001},"1999-02-01","1999-02-01",{"$f":"IF(H520=\"\",\"\",VLOOKUP($G520,WILL5000PR!$A$12:$B$1041,2,FALSE))","v":264.34858000000003},null,"1999-02-01",9306.57,164.7,56.50619307832423,253.82273842493848]
["1999-03-01",117854,4.2,2.0325199999999999,18909.526162772039,{"$f":"IF(K521=\"\",\"\",VLOOKUP($A521,'Tocalino Index'!$A$12:$B$1041,2,FALSE))","v":189.68101999999999},"1999-03-01","1999-03-01",{"$f":"IF(H521=\"\",\"\",VLOOKUP($G521,WILL5000PR!$A$12:$B$1041,2,FALSE))","v":273.39229999999998},null,"1999-03-01",9786.16,164.8,59.382038834951452,266.74088076418712]
["1999-04-01",117862,4.3,2.2029000000000001,18124.529056267202,{"$f":"IF(K522=\"\",\"\",VLOOKUP($A522,'Tocalino Index'!$A$12:$B$1041,2,FALSE))","v":181.80672999999999},"1999-04-01","1999-04-01",{"$f":"IF(H522=\"\",\"\",VLOOKUP($G522,WILL5000PR!$A$12:$B$1041,2,FALSE))","v":284.20814999999999},null,"1999-04-01",10789.04,165.9,65.033393610608798,292.12645828805069]
["1999-05-01",117995,4.2,2.0821299999999998,18782.642193014151,{"$f":"IF(K523=\"\",\"\",VLOOKUP($A523,'Tocalino Index'!$A$12:$B$1041,2,FALSE))","v":188.40825000000001},"1999-05-01","1999-05-01",{"$f":"IF(H523=\"\",\"\",VLOOKUP($G523,WILL5000PR!$A$12:$B$1041,2,FALSE))","v":277.65642000000003},null,"1999-05-01",10559.75,166,63.612951807228917,285.74591115390933]
["1999-06-01",118240,4.3,1.96305,18878.980688322783,{"$f":"IF(K524=\"\",\"\",VLOOKUP($A524,'Tocalino Index'!$A$12:$B$1041,2,FALSE))","v":189.37461999999999},"1999-06-01","1999-06-01",{"$f":"IF(H524=\"\",\"\",VLOOKUP($G524,WILL5000PR!$A$12:$B$1041,2,FALSE))","v":291.72498999999999},null,"1999-06-01",10970.81,166,66.089216867469872,296.86915879129901]
["1999-07-01",118266,4.3,2.0749300000000002,18551.733117069522,{"$f":"IF(K525=\"\",\"\",VLOOKUP($A525,'Tocalino Index'!$A$12:$B$1041,2,FALSE))","v":186.09200999999999},"1999-07-01","1999-07-01",{"$f":"IF(H525=\"\",\"\",VLOOKUP($G525,WILL5000PR!$A$12:$B$1041,2,FALSE))","v":281.74885999999998},null,"1999-07-01",10655.15,166.7,63.918116376724655,287.11669376161944]
["1999-08-01",118369,4.2,1.89655,19415.735128884367,{"$f":"IF(K526=\"\",\"\",VLOOKUP($A526,'Tocalino Index'!$A$12:$B$1041,2,FALSE))","v":194.75879},"1999-08-01","1999-08-01",{"$f":"IF(H526=\"\",\"\",VLOOKUP($G526,WILL5000PR!$A$12:$B$1041,2,FALSE))","v":277.67081000000002},null,"1999-08-01",10829.28,167.1,64.807181328545781,291.11032505077878]
["1999-09-01",118328,4.2,2.0665900000000001,{"$f":"B527/(C527+D527)","v":18882.358667153905},{"$f":"IF(K527=\"\",\"\",VLOOKUP($A527,'Tocalino Index'!$A$12:$B$1041,2,FALSE))","v":189.4085},"1999-09-01","1999-09-01",{"$f":"IF(H527=\"\",\"\",VLOOKUP($G527,WILL5000PR!$A$12:$B$1041,2,FALSE))","v":268.81088999999997},null,"1999-09-01",10336.959999999999,167.8,61.602860548271742,276.71669081472749]
["1999-10-01",118433,4.0999999999999996,2.1215600000000001,19035.900963745426,{"$f":"IF(K528=\"\",\"\",VLOOKUP($A528,'Tocalino Index'!$A$12:$B$1041,2,FALSE))","v":190.94868},"1999-10-01","1999-10-01",{"$f":"IF(H528=\"\",\"\",VLOOKUP($G528,WILL5000PR!$A$12:$B$1041,2,FALSE))","v":285.18205},null,"1999-10-01",10729.87,168.1,63.830279595478892,286.72213572938165]
["1999-11-01",118577,4.0999999999999996,2.0594999999999999,19251.075574316099,{"$f":"IF(K529=\"\",\"\",VLOOKUP($A529,'Tocalino Index'!$A$12:$B$1041,2,FALSE))","v":193.1071},"1999-11-01","1999-11-01",{"$f":"IF(H529=\"\",\"\",VLOOKUP($G529,WILL5000PR!$A$12:$B$1041,2,FALSE))","v":294.22798999999998},null,"1999-11-01",10877.81,168.4,64.595071258907353,290.15753818282423]
["1999-12-01",118734,4,1.88141,20188.016138987081,{"$f":"IF(K530=\"\",\"\",VLOOKUP($A530,'Tocalino Index'!$A$12:$B$1041,2,FALSE))","v":202.50551999999999},"1999-12-01","1999-12-01",{"$f":"IF(H530=\"\",\"\",VLOOKUP($G530,WILL5000PR!$A$12:$B$1041,2,FALSE))","v":316.22287},null,"1999-12-01",11497.12,168.8,68.110900473933654,305.95045132343188]
["2000-01-01",120252,4,2.1070600000000002,19690.653112954515,{"$f":"IF(K531=\"\",\"\",VLOOKUP($A531,'Tocalino Index'!$A$12:$B$1041,2,FALSE))","v":197.51649},"2000-01-01","2000-01-01",{"$f":"IF(H531=\"\",\"\",VLOOKUP($G531,WILL5000PR!$A$12:$B$1041,2,FALSE))","v":302.00038999999998},null,"2000-01-01",10940.54,169.3,64.622209096278795,290.27943986866251]
["2000-02-01",120264,4.0999999999999996,2.1640100000000002,19199.203066406342,{"$f":"IF(K532=\"\",\"\",VLOOKUP($A532,'Tocalino Index'!$A$12:$B$1041,2,FALSE))","v":192.58676},"2000-02-01","2000-02-01",{"$f":"IF(H532=\"\",\"\",VLOOKUP($G532,WILL5000PR!$A$12:$B$1041,2,FALSE))","v":306.58404999999999},null,"2000-02-01",10128.31,170,59.578294117647054,267.62244879364385]
["2000-03-01",120237,4,2.4473500000000001,18649.057364653694,{"$f":"IF(K533=\"\",\"\",VLOOKUP($A533,'Tocalino Index'!$A$12:$B$1041,2,FALSE))","v":187.06826000000001},"2000-03-01","2000-03-01",{"$f":"IF(H533=\"\",\"\",VLOOKUP($G533,WILL5000PR!$A$12:$B$1041,2,FALSE))","v":321.74811},null,"2000-03-01",10921.93,171,63.870935672514619,286.90476061073792]
["2000-04-01",120319,3.8,2.2688600000000001,19825.634468417462,{"$f":"IF(K534=\"\",\"\",VLOOKUP($A534,'Tocalino Index'!$A$12:$B$1041,2,FALSE))","v":198.87047999999999},"2000-04-01","2000-04-01",{"$f":"IF(H534=\"\",\"\",VLOOKUP($G534,WILL5000PR!$A$12:$B$1041,2,FALSE))","v":304.58996000000002},null,"2000-04-01",10733.92,170.9,62.808191925102399,282.13097364125923]
["2000-05-01",120534,4,2.3795999999999999,18893.661044579596,{"$f":"IF(K535=\"\",\"\",VLOOKUP($A535,'Tocalino Index'!$A$12:$B$1041,2,FALSE))","v":189.52188000000001},"2000-05-01","2000-05-01",{"$f":"IF(H535=\"\",\"\",VLOOKUP($G535,WILL5000PR!$A$12:$B$1041,2,FALSE))","v":293.25447000000003},null,"2000-05-01",10522.34,171.2,61.462266355140194,276.08514936478713]
["2000-06-01",120546,4,2.54813,18409.225229187567,{"$f":"IF(K536=\"\",\"\",VLOOKUP($A536,'Tocalino Index'!$A$12:$B$1041,2,FALSE))","v":184.66251},"2000-06-01","2000-06-01",{"$f":"IF(H536=\"\",\"\",VLOOKUP($G536,WILL5000PR!$A$12:$B$1041,2,FALSE))","v":304.36293999999998},null,"2000-06-01",10447.9,172.2,60.673054587688739,272.54005313552875]
["2000-07-01",120716,4,2.48447,18616.170635379607,{"$f":"IF(K537=\"\",\"\",VLOOKUP($A537,'Tocalino Index'!$A$12:$B$1041,2,FALSE))","v":186.73838000000001},"2000-07-01","2000-07-01",{"$f":"IF(H537=\"\",\"\",VLOOKUP($G537,WILL5000PR!$A$12:$B$1041,2,FALSE))","v":297.23248000000001},null,"2000-07-01",10521.98,172.7,60.926346265199768,273.67782554070527]
["2000-08-01",120847,4.0999999999999996,2.5944699999999998,18051.765113593759,{"$f":"IF(K538=\"\",\"\",VLOOKUP($A538,'Tocalino Index'!$A$12:$B$1041,2,FALSE))","v":181.07684},"2000-08-01","2000-08-01",{"$f":"IF(H538=\"\",\"\",VLOOKUP($G538,WILL5000PR!$A$12:$B$1041,2,FALSE))","v":318.40908000000002},null,"2000-08-01",11215.1,172.7,64.939779965257685,291.7059508972232]
["2000-09-01",120843,3.9,2.5309300000000001,18790.905825440488,{"$f":"IF(K539=\"\",\"\",VLOOKUP($A539,'Tocalino Index'!$A$12:$B$1041,2,FALSE))","v":188.49114},"2000-09-01","2000-09-01",{"$f":"IF(H539=\"\",\"\",VLOOKUP($G539,WILL5000PR!$A$12:$B$1041,2,FALSE))","v":301.97035},null,"2000-09-01",10650.92,173.6,{"$f":"L539/M539","v":61.353225806451618},{"$f":"IF(M539=\"\",\"\",N539/$P$14)","v":275.59534516528765}]
["2000-10-01",121056,3.9,2.5266700000000002,18836.504752850233,{"$f":"IF(K540=\"\",\"\",VLOOKUP($A540,'Tocalino Index'!$A$12:$B$1041,2,FALSE))","v":188.94855000000001},"2000-10-01","2000-10-01",{"$f":"IF(H540=\"\",\"\",VLOOKUP($G540,WILL5000PR!$A$12:$B$1041,2,FALSE))","v":294.83649000000003},null,"2000-10-01",10971.14,173.9,63.088786658999418,283.39138988707919]
["2000-11-01",121072,3.9,2.6345299999999998,18528.034916053643,{"$f":"IF(K541=\"\",\"\",VLOOKUP($A541,'Tocalino Index'!$A$12:$B$1041,2,FALSE))","v":185.85428999999999},"2000-11-01","2000-11-01",{"$f":"IF(H541=\"\",\"\",VLOOKUP($G541,WILL5000PR!$A$12:$B$1041,2,FALSE))","v":265.04613000000001},null,"2000-11-01",10414.49,174.2,59.784672789896675,268.5494905370204]
["2000-12-01",121191,3.9,2.5741499999999999,18719.21410532657,{"$f":"IF(K542=\"\",\"\",VLOOKUP($A542,'Tocalino Index'!$A$12:$B$1041,2,FALSE))","v":187.77200999999999},"2000-12-01","2000-12-01",{"$f":"IF(H542=\"\",\"\",VLOOKUP($G542,WILL5000PR!$A$12:$B$1041,2,FALSE))","v":269.61923000000002},null,"2000-12-01",10786.85,174.6,61.780355097365408,277.51398665173434]
["2001-01-01",121330,4.2,2.5655299999999999,17933.554355682409,{"$f":"IF(K543=\"\",\"\",VLOOKUP($A543,'Tocalino Index'!$A$12:$B$1041,2,FALSE))","v":179.89107000000001},"2001-01-01","2001-01-01",{"$f":"IF(H543=\"\",\"\",VLOOKUP($G543,WILL5000PR!$A$12:$B$1041,2,FALSE))","v":277.94810999999999},null,"2001-01-01",10887.36,175.6,62.00091116173121,278.50471246750391]
["2001-02-01",121340,4.2,2.7870699999999999,17366.363869261364,{"$f":"IF(K544=\"\",\"\",VLOOKUP($A544,'Tocalino Index'!$A$12:$B$1041,2,FALSE))","v":174.20160000000001},"2001-02-01","2001-02-01",{"$f":"IF(H544=\"\",\"\",VLOOKUP($G544,WILL5000PR!$A$12:$B$1041,2,FALSE))","v":250.40795},null,"2001-02-01",10495.28,176,59.632272727272728,267.86491776501072]
["2001-03-01",121477,4.3,2.61111,17577.06070370751,{"$f":"IF(K545=\"\",\"\",VLOOKUP($A545,'Tocalino Index'!$A$12:$B$1041,2,FALSE))","v":176.31509},"2001-03-01","2001-03-01",{"$f":"IF(H545=\"\",\"\",VLOOKUP($G545,WILL5000PR!$A$12:$B$1041,2,FALSE))","v":232.79528999999999},null,"2001-03-01",9878.7800000000007,176.1,56.097558205565022,251.9871728564724]
["2001-04-01",121555,4.4000000000000004,2.6622300000000001,17211.98544935523,{"$f":"IF(K546=\"\",\"\",VLOOKUP($A546,'Tocalino Index'!$A$12:$B$1041,2,FALSE))","v":172.65303},"2001-04-01","2001-04-01",{"$f":"IF(H546=\"\",\"\",VLOOKUP($G546,WILL5000PR!$A$12:$B$1041,2,FALSE))","v":250.74949000000001},null,"2001-04-01",10734.97,176.4,60.855839002267565,273.361110759876]
["2001-05-01",121556,4.3,2.5456599999999998,17756.651659591626,{"$f":"IF(K547=\"\",\"\",VLOOKUP($A547,'Tocalino Index'!$A$12:$B$1041,2,FALSE))","v":178.11655999999999},"2001-05-01","2001-05-01",{"$f":"IF(H547=\"\",\"\",VLOOKUP($G547,WILL5000PR!$A$12:$B$1041,2,FALSE))","v":251.74032},null,"2001-05-01",10911.94,177.3,61.54506486181613,276.45707574235871]
["2001-06-01",121579,4.5,2.7056900000000002,16872.638151238811,{"$f":"IF(K548=\"\",\"\",VLOOKUP($A548,'Tocalino Index'!$A$12:$B$1041,2,FALSE))","v":169.24904000000001},"2001-06-01","2001-06-01",{"$f":"IF(H548=\"\",\"\",VLOOKUP($G548,WILL5000PR!$A$12:$B$1041,2,FALSE))","v":246.92035999999999},null,"2001-06-01",10502.4,177.7,59.101857062464831,265.48231951850687]
["2001-07-01",121616,4.5999999999999996,2.6997200000000001,16660.365055098006,{"$f":"IF(K549=\"\",\"\",VLOOKUP($A549,'Tocalino Index'!$A$12:$B$1041,2,FALSE))","v":167.11974000000001},"2001-07-01","2001-07-01",{"$f":"IF(H549=\"\",\"\",VLOOKUP($G549,WILL5000PR!$A$12:$B$1041,2,FALSE))","v":243.30402000000001},null,"2001-07-01",10522.81,177.4,59.316854565952646,266.44807658188148]
["2001-08-01",121740,4.9000000000000004,2.6388099999999999,16148.437220197884,{"$f":"IF(K550=\"\",\"\",VLOOKUP($A550,'Tocalino Index'!$A$12:$B$1041,2,FALSE))","v":161.9846},"2001-08-01","2001-08-01",{"$f":"IF(H550=\"\",\"\",VLOOKUP($G550,WILL5000PR!$A$12:$B$1041,2,FALSE))","v":228.25189},null,"2001-08-01",9949.75,177.4,56.086527621195039,251.93762407290214]
["2001-09-01",121735,5,2.6330200000000001,15948.471247291372,{"$f":"IF(K551=\"\",\"\",VLOOKUP($A551,'Tocalino Index'!$A$12:$B$1041,2,FALSE))","v":159.97874999999999},"2001-09-01","2001-09-01",{"$f":"IF(H551=\"\",\"\",VLOOKUP($G551,WILL5000PR!$A$12:$B$1041,2,FALSE))","v":206.65233000000001},null,"2001-09-01",8847.56,178.1,49.677484559236383,223.14855207835427]
["2001-10-01",121771,5.3,2.6286999999999998,15358.255451713398,{"$f":"IF(K552=\"\",\"\",VLOOKUP($A552,'Tocalino Index'!$A$12:$B$1041,2,FALSE))","v":154.05831000000001},"2001-10-01","2001-10-01",{"$f":"IF(H552=\"\",\"\",VLOOKUP($G552,WILL5000PR!$A$12:$B$1041,2,FALSE))","v":212.42187000000001},null,"2001-10-01",9075.14,177.6,51.098761261261259,229.53284953168782]
["2001-11-01",121769,5.5,2.73075,14794.399052334235,{"$f":"IF(K553=\"\",\"\",VLOOKUP($A553,'Tocalino Index'!$A$12:$B$1041,2,FALSE))","v":148.40227999999999},"2001-11-01","2001-11-01",{"$f":"IF(H553=\"\",\"\",VLOOKUP($G553,WILL5000PR!$A$12:$B$1041,2,FALSE))","v":228.73589000000001},null,"2001-11-01",9851.56,177.5,55.501746478873237,249.31081906557063]
["2001-12-01",121779,5.7,2.7823199999999999,14356.803327391563,{"$f":"IF(K554=\"\",\"\",VLOOKUP($A554,'Tocalino Index'!$A$12:$B$1041,2,FALSE))","v":144.01275999999999},"2001-12-01","2001-12-01",{"$f":"IF(H554=\"\",\"\",VLOOKUP($G554,WILL5000PR!$A$12:$B$1041,2,FALSE))","v":233.48479},null,"2001-12-01",10021.5,177.4,56.490980834272825,253.7544058540756]
["2002-01-01",121880,5.7,2.6101100000000002,14666.472525634439,{"$f":"IF(K555=\"\",\"\",VLOOKUP($A555,'Tocalino Index'!$A$12:$B$1041,2,FALSE))","v":147.11904999999999},"2002-01-01",{"$f":"IF(($G$13-G555)<40,\"\",G555)","v":"2002-01-01"},{"$f":"IF(H555=\"\",\"\",VLOOKUP($G555,WILL5000PR!$A$12:$B$1041,2,FALSE))","v":229.84653},null,"2002-01-01",9920,177.7,55.824423185143502,250.760265236859]
["2002-02-01",121814,5.7,2.54881,14767.463428058107,{"$f":"IF(K556=\"\",\"\",VLOOKUP($A556,'Tocalino Index'!$A$12:$B$1041,2,FALSE))","v":148.13209000000001},"2002-02-01","2002-02-01",{"$f":"IF(H556=\"\",\"\",VLOOKUP($G556,WILL5000PR!$A$12:$B$1041,2,FALSE))","v":223.91840999999999},null,"2002-02-01",10106.129999999999,178,56.776011235955053,255.03474687774113]
["2002-03-01",121912,5.7,2.4363800000000002,14983.567630813703,{"$f":"IF(K557=\"\",\"\",VLOOKUP($A557,'Tocalino Index'!$A$12:$B$1041,2,FALSE))","v":150.29982000000001},"2002-03-01","2002-03-01",{"$f":"IF(H557=\"\",\"\",VLOOKUP($G557,WILL5000PR!$A$12:$B$1041,2,FALSE))","v":232.20916},null,"2002-03-01",10403.94,178.5,58.28537815126051,261.81474076619497]
["2002-04-01",121913,5.9,2.4851399999999999,14539.172870101156,{"$f":"IF(K558=\"\",\"\",VLOOKUP($A558,'Tocalino Index'!$A$12:$B$1041,2,FALSE))","v":145.84210999999999},"2002-04-01","2002-04-01",{"$f":"IF(H558=\"\",\"\",VLOOKUP($G558,WILL5000PR!$A$12:$B$1041,2,FALSE))","v":219.46236999999999},null,"2002-04-01",9946.2199999999993,179.3,55.472504182933626,249.1794642665854]
["2002-05-01",121988,5.8,2.5364300000000002,14633.122331741524,{"$f":"IF(K559=\"\",\"\",VLOOKUP($A559,'Tocalino Index'!$A$12:$B$1041,2,FALSE))","v":146.78451000000001},"2002-05-01","2002-05-01",{"$f":"IF(H559=\"\",\"\",VLOOKUP($G559,WILL5000PR!$A$12:$B$1041,2,FALSE))","v":216.57604000000001},null,"2002-05-01",9925.25,179.5,55.293871866295262,248.37705763980216]
["2002-06-01",122114,5.8,2.25806,15154.267900710594,{"$f":"IF(K560=\"\",\"\",VLOOKUP($A560,'Tocalino Index'!$A$12:$B$1041,2,FALSE))","v":152.01211000000001},"2002-06-01","2002-06-01",{"$f":"IF(H560=\"\",\"\",VLOOKUP($G560,WILL5000PR!$A$12:$B$1041,2,FALSE))","v":200.98238000000001},null,"2002-06-01",9243.26,179.6,51.465812917594654,231.18162555920773]
["2002-07-01",122103,5.8,2.19957,15263.69542362902,{"$f":"IF(K561=\"\",\"\",VLOOKUP($A561,'Tocalino Index'!$A$12:$B$1041,2,FALSE))","v":153.10978},"2002-07-01","2002-07-01",{"$f":"IF(H561=\"\",\"\",VLOOKUP($G561,WILL5000PR!$A$12:$B$1041,2,FALSE))","v":184.34828999999999},null,"2002-07-01",8736.59,180,48.536611111111114,218.02381075313235]
["2002-08-01",122201,5.7,2.3567200000000001,15167.586809520499,{"$f":"IF(K562=\"\",\"\",VLOOKUP($A562,'Tocalino Index'!$A$12:$B$1041,2,FALSE))","v":152.14571000000001},"2002-08-01","2002-08-01",{"$f":"IF(H562=\"\",\"\",VLOOKUP($G562,WILL5000PR!$A$12:$B$1041,2,FALSE))","v":184.52725000000001},null,"2002-08-01",8663.5,180.5,47.99722991689751,215.6009398373649]
["2002-09-01",122234,5.7,2.2447900000000001,15385.428689745102,{"$f":"IF(K563=\"\",\"\",VLOOKUP($A563,'Tocalino Index'!$A$12:$B$1041,2,FALSE))","v":154.33088000000001},"2002-09-01","2002-09-01",{"$f":"IF(H563=\"\",\"\",VLOOKUP($G563,WILL5000PR!$A$12:$B$1041,2,FALSE))","v":165.47981999999999},null,"2002-09-01",7591.93,180.8,41.990763274336281,188.6202191691066]
["2002-10-01",122213,5.7,2.1878299999999999,15493.868402336257,{"$f":"IF(K564=\"\",\"\",VLOOKUP($A564,'Tocalino Index'!$A$12:$B$1041,2,FALSE))","v":155.41864000000001},"2002-10-01","2002-10-01",{"$f":"IF(H564=\"\",\"\",VLOOKUP($G564,WILL5000PR!$A$12:$B$1041,2,FALSE))","v":177.61063999999999},null,"2002-10-01",8397.0300000000007,181.2,46.341225165562918,208.16225678459182]
["2002-11-01",122264,5.9,2.0202,15436.983914547613,{"$f":"IF(K565=\"\",\"\",VLOOKUP($A565,'Tocalino Index'!$A$12:$B$1041,2,FALSE))","v":154.84802999999999},"2002-11-01","2002-11-01",{"$f":"IF(H565=\"\",\"\",VLOOKUP($G565,WILL5000PR!$A$12:$B$1041,2,FALSE))","v":188.01121000000001},null,"2002-11-01",8896.09,181.5,49.014269972451793,220.16942831491667]
["2002-12-01",122284,6,1.96391,15354.76920256507,{"$f":"IF(K566=\"\",\"\",VLOOKUP($A566,'Tocalino Index'!$A$12:$B$1041,2,FALSE))","v":154.02333999999999},"2002-12-01","2002-12-01",{"$f":"IF(H566=\"\",\"\",VLOOKUP($G566,WILL5000PR!$A$12:$B$1041,2,FALSE))","v":177.70240999999999},null,"2002-12-01",8341.6299999999992,181.8,45.883553355335529,206.10641996665589]
["2003-01-01",122930,5.8,1.96078,15839.902690193512,{"$f":"IF(K567=\"\",\"\",VLOOKUP($A567,'Tocalino Index'!$A$12:$B$1041,2,FALSE))","v":158.8897},"2003-01-01","2003-01-01",{"$f":"IF(H567=\"\",\"\",VLOOKUP($G567,WILL5000PR!$A$12:$B$1041,2,FALSE))","v":172.29471000000001},null,"2003-01-01",8053.81,182.6,44.106297918948528,198.12308544756931]
["2003-02-01",123006,5.9,1.79799,15978.976330184891,{"$f":"IF(K568=\"\",\"\",VLOOKUP($A568,'Tocalino Index'!$A$12:$B$1041,2,FALSE))","v":160.28474},"2003-02-01","2003-02-01",{"$f":"IF(H568=\"\",\"\",VLOOKUP($G568,WILL5000PR!$A$12:$B$1041,2,FALSE))","v":167.76886999999999},null,"2003-02-01",7891.08,183.6,42.979738562091505,193.06264223987822]
["2003-03-01",123046,5.9,1.7441899999999999,16096.669496702725,{"$f":"IF(K569=\"\",\"\",VLOOKUP($A569,'Tocalino Index'!$A$12:$B$1041,2,FALSE))","v":161.46531999999999},"2003-03-01","2003-03-01",{"$f":"IF(H569=\"\",\"\",VLOOKUP($G569,WILL5000PR!$A$12:$B$1041,2,FALSE))","v":168.42491999999999},null,"2003-03-01",7992.13,183.9,43.459108210984233,195.21594456606923]
["2003-04-01",123125,6,1.47601,16469.346616711318,{"$f":"IF(K570=\"\",\"\",VLOOKUP($A570,'Tocalino Index'!$A$12:$B$1041,2,FALSE))","v":165.20364000000001},"2003-04-01","2003-04-01",{"$f":"IF(H570=\"\",\"\",VLOOKUP($G570,WILL5000PR!$A$12:$B$1041,2,FALSE))","v":182.41973999999999},null,"2003-04-01",8480.09,183.2,46.288700873362451,207.92632052780533]
["2003-05-01",123172,6.1,1.5263199999999999,16150.908957400163,{"$f":"IF(K571=\"\",\"\",VLOOKUP($A571,'Tocalino Index'!$A$12:$B$1041,2,FALSE))","v":162.0094},"2003-05-01","2003-05-01",{"$f":"IF(H571=\"\",\"\",VLOOKUP($G571,WILL5000PR!$A$12:$B$1041,2,FALSE))","v":193.5719},null,"2003-05-01",8850.26,182.9,48.388518316019685,217.35858599203391]
["2003-06-01",123231,6.3,1.4721299999999999,15855.499071683053,{"$f":"IF(K572=\"\",\"\",VLOOKUP($A572,'Tocalino Index'!$A$12:$B$1041,2,FALSE))","v":159.04615000000001},"2003-06-01","2003-06-01",{"$f":"IF(H572=\"\",\"\",VLOOKUP($G572,WILL5000PR!$A$12:$B$1041,2,FALSE))","v":195.95213000000001},null,"2003-06-01",8985.44,183.1,49.073948661933372,220.43750173421125]
["2003-07-01",123317,6.2,1.5223100000000001,15968.926396376213,{"$f":"IF(K573=\"\",\"\",VLOOKUP($A573,'Tocalino Index'!$A$12:$B$1041,2,FALSE))","v":160.18393},"2003-07-01","2003-07-01",{"$f":"IF(H573=\"\",\"\",VLOOKUP($G573,WILL5000PR!$A$12:$B$1041,2,FALSE))","v":200.1969},null,"2003-07-01",9233.7999999999993,183.7,50.26565051714752,225.79056149276303]
["2003-08-01",123379,6.1,1.3082199999999999,16654.338019119303,{"$f":"IF(K574=\"\",\"\",VLOOKUP($A574,'Tocalino Index'!$A$12:$B$1041,2,FALSE))","v":167.05928},"2003-08-01","2003-08-01",{"$f":"IF(H574=\"\",\"\",VLOOKUP($G574,WILL5000PR!$A$12:$B$1041,2,FALSE))","v":203.93299999999999},null,"2003-08-01",9415.82,184.5,51.034254742547425,229.24308976670932]
["2003-09-01",123469,6.1,1.25457,16788.065107817318,{"$f":"IF(K575=\"\",\"\",VLOOKUP($A575,'Tocalino Index'!$A$12:$B$1041,2,FALSE))","v":168.40069},"2003-09-01","2003-09-01",{"$f":"IF(H575=\"\",\"\",VLOOKUP($G575,WILL5000PR!$A$12:$B$1041,2,FALSE))","v":200.75746000000001},null,"2003-09-01",9275.06,185.1,50.108373851971905,225.0840832879779]
["2003-10-01",123523,6,1.30548,16908.26612351276,{"$f":"IF(K576=\"\",\"\",VLOOKUP($A576,'Tocalino Index'!$A$12:$B$1041,2,FALSE))","v":169.60642999999999},"2003-10-01","2003-10-01",{"$f":"IF(H576=\"\",\"\",VLOOKUP($G576,WILL5000PR!$A$12:$B$1041,2,FALSE))","v":212.94672},null,"2003-10-01",9801.1200000000008,184.9,53.007679826933483,238.10760764886479]
["2003-11-01",123595,5.8,1.09432,17927.076201858923,{"$f":"IF(K577=\"\",\"\",VLOOKUP($A577,'Tocalino Index'!$A$12:$B$1041,2,FALSE))","v":179.82608999999999},"2003-11-01","2003-11-01",{"$f":"IF(H577=\"\",\"\",VLOOKUP($G577,WILL5000PR!$A$12:$B$1041,2,FALSE))","v":216.19063},null,"2003-11-01",9782.4599999999991,185,52.878162162162155,237.52582136039385]
["2003-12-01",123676,5.7,1.09318,18205.906512119505,{"$f":"IF(K578=\"\",\"\",VLOOKUP($A578,'Tocalino Index'!$A$12:$B$1041,2,FALSE))","v":182.62303},"2003-12-01","2003-12-01",{"$f":"IF(H578=\"\",\"\",VLOOKUP($G578,WILL5000PR!$A$12:$B$1041,2,FALSE))","v":225.77887000000001},null,"2003-12-01",10453.92,185.5,56.355363881401615,253.14522189601098]
["2004-01-01",123095,5.7,1.1434500000000001,17987.272501442985,{"$f":"IF(K579=\"\",\"\",VLOOKUP($A579,'Tocalino Index'!$A$12:$B$1041,2,FALSE))","v":180.42992000000001},"2004-01-01","2004-01-01",{"$f":"IF(H579=\"\",\"\",VLOOKUP($G579,WILL5000PR!$A$12:$B$1041,2,FALSE))","v":229.45778000000001},null,"2004-01-01",10488.07,186.3,56.296672034353186,252.88158131912058]
["2004-02-01",123150,5.6,1.24675,17986.635995180193,{"$f":"IF(K580=\"\",\"\",VLOOKUP($A580,'Tocalino Index'!$A$12:$B$1041,2,FALSE))","v":180.42353},"2004-02-01","2004-02-01",{"$f":"IF(H580=\"\",\"\",VLOOKUP($G580,WILL5000PR!$A$12:$B$1041,2,FALSE))","v":231.19881000000001},null,"2004-02-01",10583.92,186.7,56.689448312801289,254.64591094659812]
["2004-03-01",123208,5.8,1.55844,16743.766341778963,{"$f":"IF(K581=\"\",\"\",VLOOKUP($A581,'Tocalino Index'!$A$12:$B$1041,2,FALSE))","v":167.95633000000001},"2004-03-01","2004-03-01",{"$f":"IF(H581=\"\",\"\",VLOOKUP($G581,WILL5000PR!$A$12:$B$1041,2,FALSE))","v":226.97416000000001},null,"2004-03-01",10357.700000000001,187.1,55.359166221272055,248.67035632231872]
["2004-04-01",123262,5.6,1.76623,16733.390078778426,{"$f":"IF(K582=\"\",\"\",VLOOKUP($A582,'Tocalino Index'!$A$12:$B$1041,2,FALSE))","v":167.85225},"2004-04-01","2004-04-01",{"$f":"IF(H582=\"\",\"\",VLOOKUP($G582,WILL5000PR!$A$12:$B$1041,2,FALSE))","v":221.21299999999999},null,"2004-04-01",10225.57,187.4,54.56547491995731,245.10513827118373]
["2004-05-01",123301,5.6,1.7107300000000001,16865.757591923106,{"$f":"IF(K583=\"\",\"\",VLOOKUP($A583,'Tocalino Index'!$A$12:$B$1041,2,FALSE))","v":169.18002999999999},"2004-05-01","2004-05-01",{"$f":"IF(H583=\"\",\"\",VLOOKUP($G583,WILL5000PR!$A$12:$B$1041,2,FALSE))","v":222.62818999999999},null,"2004-05-01",10188.450000000001,188.2,54.136291179596178,243.17726830983415]
["2004-06-01",123373,5.6,1.86528,16526.238801491705,{"$f":"IF(K584=\"\",\"\",VLOOKUP($A584,'Tocalino Index'!$A$12:$B$1041,2,FALSE))","v":165.77431999999999},"2004-06-01","2004-06-01",{"$f":"IF(H584=\"\",\"\",VLOOKUP($G584,WILL5000PR!$A$12:$B$1041,2,FALSE))","v":226.35835},null,"2004-06-01",10435.48,188.9,55.243409211222868,248.15038214458849]
["2004-07-01",123426,5.5,1.7580100000000001,17005.487730107838,{"$f":"IF(K585=\"\",\"\",VLOOKUP($A585,'Tocalino Index'!$A$12:$B$1041,2,FALSE))","v":170.58166},"2004-07-01","2004-07-01",{"$f":"IF(H585=\"\",\"\",VLOOKUP($G585,WILL5000PR!$A$12:$B$1041,2,FALSE))","v":218.0104},null,"2004-07-01",10139.709999999999,189.1,53.620888418826013,240.86210720972034]
["2004-08-01",123496,5.4,1.70455,17382.663222864219,{"$f":"IF(K586=\"\",\"\",VLOOKUP($A586,'Tocalino Index'!$A$12:$B$1041,2,FALSE))","v":174.36509000000001},"2004-08-01","2004-08-01",{"$f":"IF(H586=\"\",\"\",VLOOKUP($G586,WILL5000PR!$A$12:$B$1041,2,FALSE))","v":218.27903000000001},null,"2004-08-01",10173.92,189.2,53.773361522198734,241.54700807679112]
["2004-09-01",123564,5.4,1.9618,16784.482056018907,{"$f":"IF(K587=\"\",\"\",VLOOKUP($A587,'Tocalino Index'!$A$12:$B$1041,2,FALSE))","v":168.36474999999999},"2004-09-01","2004-09-01",{"$f":"IF(H587=\"\",\"\",VLOOKUP($G587,WILL5000PR!$A$12:$B$1041,2,FALSE))","v":221.03110000000001},null,"2004-09-01",10080.27,189.8,53.109957850368808,238.56703495363934]
["2004-10-01",123607,5.5,2.01031,16458.30864504927,{"$f":"IF(K588=\"\",\"\",VLOOKUP($A588,'Tocalino Index'!$A$12:$B$1041,2,FALSE))","v":165.09290999999999},"2004-10-01","2004-10-01",{"$f":"IF(H588=\"\",\"\",VLOOKUP($G588,WILL5000PR!$A$12:$B$1041,2,FALSE))","v":223.15771000000001},null,"2004-10-01",10027.469999999999,190.8,52.55487421383647,236.07362952311922]
["2004-11-01",123686,5.4,2.2164899999999998,16239.238809477854,{"$f":"IF(K589=\"\",\"\",VLOOKUP($A589,'Tocalino Index'!$A$12:$B$1041,2,FALSE))","v":162.89543},"2004-11-01","2004-11-01",{"$f":"IF(H589=\"\",\"\",VLOOKUP($G589,WILL5000PR!$A$12:$B$1041,2,FALSE))","v":233.03751},null,"2004-11-01",10428.02,191.7,54.397600417318735,244.35105515834005]
["2004-12-01",123751,5.4,2.2657099999999999,16143.449204313754,{"$f":"IF(K590=\"\",\"\",VLOOKUP($A590,'Tocalino Index'!$A$12:$B$1041,2,FALSE))","v":161.93457000000001},"2004-12-01","2004-12-01",{"$f":"IF(H590=\"\",\"\",VLOOKUP($G590,WILL5000PR!$A$12:$B$1041,2,FALSE))","v":241.98157},null,"2004-12-01",10783.01,191.7,56.249400104329688,252.66923838685889]
["2005-01-01",123764,5.3,2.26105,{"$f":"B591/(C591+D591)","v":16368.626050614665},{"$f":"IF(K591=\"\",\"\",VLOOKUP($A591,'Tocalino Index'!$A$12:$B$1041,2,FALSE))","v":164.19331},"2005-01-01","2005-01-01",{"$f":"IF(H591=\"\",\"\",VLOOKUP($G591,WILL5000PR!$A$12:$B$1041,2,FALSE))","v":234.92329000000001},null,"2005-01-01",10489.94,191.6,54.749164926931108,245.93026376719365]
["2005-02-01",123813,5.4,2.3088799999999998,16061.087992029969,{"$f":"IF(K592=\"\",\"\",VLOOKUP($A592,'Tocalino Index'!$A$12:$B$1041,2,FALSE))","v":161.10839999999999},"2005-02-01","2005-02-01",{"$f":"IF(H592=\"\",\"\",VLOOKUP($G592,WILL5000PR!$A$12:$B$1041,2,FALSE))","v":238.24759},null,"2005-02-01",10766.23,192.4,55.957536382536375,251.35820246182698]
["2005-03-01",123877,5.2,2.3529399999999998,16401.162990835357,{"$f":"IF(K593=\"\",\"\",VLOOKUP($A593,'Tocalino Index'!$A$12:$B$1041,2,FALSE))","v":164.51969},"2005-03-01","2005-03-01",{"$f":"IF(H593=\"\",\"\",VLOOKUP($G593,WILL5000PR!$A$12:$B$1041,2,FALSE))","v":231.96276},null,"2005-03-01",10503.76,193.1,54.395442775763854,244.34136315011645]
["2005-04-01",123941,5.2,2.1949999999999998,16760.108181203515,{"$f":"IF(K594=\"\",\"\",VLOOKUP($A594,'Tocalino Index'!$A$12:$B$1041,2,FALSE))","v":168.12026},"2005-04-01","2005-04-01",{"$f":"IF(H594=\"\",\"\",VLOOKUP($G594,WILL5000PR!$A$12:$B$1041,2,FALSE))","v":225.07339999999999},null,"2005-04-01",10192.51,193.7,52.620082601961798,236.36654204722618]
["2005-05-01",124017,5.0999999999999996,2.19164,17008.107915366094,{"$f":"IF(K595=\"\",\"\",VLOOKUP($A595,'Tocalino Index'!$A$12:$B$1041,2,FALSE))","v":170.60794000000001},"2005-05-01","2005-05-01",{"$f":"IF(H595=\"\",\"\",VLOOKUP($G595,WILL5000PR!$A$12:$B$1041,2,FALSE))","v":233.44839999999999},null,"2005-05-01",10467.48,193.6,54.067561983471073,242.86854050815694]
["2005-06-01",124121,5,2.0345900000000001,17644.382970436091,{"$f":"IF(K596=\"\",\"\",VLOOKUP($A596,'Tocalino Index'!$A$12:$B$1041,2,FALSE))","v":176.99039999999999},"2005-06-01","2005-06-01",{"$f":"IF(H596=\"\",\"\",VLOOKUP($G596,WILL5000PR!$A$12:$B$1041,2,FALSE))","v":234.87828999999999},null,"2005-06-01",10274.969999999999,193.7,53.045792462570986,238.27880753013611]
["2005-07-01",124194,5,2.0833300000000001,17533.278839190043,{"$f":"IF(K597=\"\",\"\",VLOOKUP($A597,'Tocalino Index'!$A$12:$B$1041,2,FALSE))","v":175.87592000000001},"2005-07-01","2005-07-01",{"$f":"IF(H597=\"\",\"\",VLOOKUP($G597,WILL5000PR!$A$12:$B$1041,2,FALSE))","v":243.19511},null,"2005-07-01",10640.91,194.9,54.596767573114413,245.24570316299847]
["2005-08-01",124270,4.9000000000000004,2.13306,17669.407057525455,{"$f":"IF(K598=\"\",\"\",VLOOKUP($A598,'Tocalino Index'!$A$12:$B$1041,2,FALSE))","v":177.24142000000001},"2005-08-01","2005-08-01",{"$f":"IF(H598=\"\",\"\",VLOOKUP($G598,WILL5000PR!$A$12:$B$1041,2,FALSE))","v":239.3237},null,"2005-08-01",10481.6,196.1,53.450280469148396,240.09574560181284]
["2005-09-01",124382,5,1.92405,17963.763982062519,{"$f":"IF(K599=\"\",\"\",VLOOKUP($A599,'Tocalino Index'!$A$12:$B$1041,2,FALSE))","v":180.19409999999999},"2005-09-01","2005-09-01",{"$f":"IF(H599=\"\",\"\",VLOOKUP($G599,WILL5000PR!$A$12:$B$1041,2,FALSE))","v":238.05824999999999},null,"2005-09-01",10568.7,198.8,53.162474849094565,238.80293844853509]
["2005-10-01",124472,5,2.0717500000000002,17601.300950966877,{"$f":"IF(K600=\"\",\"\",VLOOKUP($A600,'Tocalino Index'!$A$12:$B$1041,2,FALSE))","v":176.55824000000001},"2005-10-01","2005-10-01",{"$f":"IF(H600=\"\",\"\",VLOOKUP($G600,WILL5000PR!$A$12:$B$1041,2,FALSE))","v":232.95468},null,"2005-10-01",10440.07,199.1,52.436313410346557,235.54106085812427]
["2005-11-01",124582,5,2.1179999999999999,17502.388311323404,{"$f":"IF(K601=\"\",\"\",VLOOKUP($A601,'Tocalino Index'!$A$12:$B$1041,2,FALSE))","v":175.56604999999999},"2005-11-01","2005-11-01",{"$f":"IF(H601=\"\",\"\",VLOOKUP($G601,WILL5000PR!$A$12:$B$1041,2,FALSE))","v":243.67166},null,"2005-11-01",10805.87,198.1,54.54755174154468,245.02462833097829]
["2005-12-01",124671,4.9000000000000004,2.1147999999999998,17772.56657353025,{"$f":"IF(K602=\"\",\"\",VLOOKUP($A602,'Tocalino Index'!$A$12:$B$1041,2,FALSE))","v":178.27620999999999},"2005-12-01","2005-12-01",{"$f":"IF(H602=\"\",\"\",VLOOKUP($G602,WILL5000PR!$A$12:$B$1041,2,FALSE))","v":244.67336},null,"2005-12-01",10717.5,198.1,54.101463907117619,243.02082610074521]
["2006-01-01",124579,4.7,2.1105499999999999,18292.061580929589,{"$f":"IF(K603=\"\",\"\",VLOOKUP($A603,'Tocalino Index'!$A$12:$B$1041,2,FALSE))","v":183.48724999999999},"2006-01-01","2006-01-01",{"$f":"IF(H603=\"\",\"\",VLOOKUP($G603,WILL5000PR!$A$12:$B$1041,2,FALSE))","v":251.23371},null,"2006-01-01",10864.86,199.3,{"$f":"L603/M603","v":54.515102860010032},{"$f":"IF(M603=\"\",\"\",N603/$P$14)","v":244.87886972433256}]
["2006-02-01",124637,4.8,2.1063200000000002,18046.803507511959,{"$f":"IF(K604=\"\",\"\",VLOOKUP($A604,'Tocalino Index'!$A$12:$B$1041,2,FALSE))","v":181.02707000000001},"2006-02-01","2006-02-01",{"$f":"IF(H604=\"\",\"\",VLOOKUP($G604,WILL5000PR!$A$12:$B$1041,2,FALSE))","v":250.16696999999999},null,"2006-02-01",10993.41,199.4,55.132447342026076,247.65194747812211]
["2006-03-01",124661,4.7,2.0989499999999999,18335.331190845645,{"$f":"IF(K605=\"\",\"\",VLOOKUP($A605,'Tocalino Index'!$A$12:$B$1041,2,FALSE))","v":183.92128},"2006-03-01","2006-03-01",{"$f":"IF(H605=\"\",\"\",VLOOKUP($G605,WILL5000PR!$A$12:$B$1041,2,FALSE))","v":253.04033000000001},null,"2006-03-01",11109.32,199.7,55.630045067601401,249.88712933092327]
["2006-04-01",124711,4.7,2.2976999999999999,17821.712848507366,{"$f":"IF(K606=\"\",\"\",VLOOKUP($A606,'Tocalino Index'!$A$12:$B$1041,2,FALSE))","v":178.76919000000001},"2006-04-01","2006-04-01",{"$f":"IF(H606=\"\",\"\",VLOOKUP($G606,WILL5000PR!$A$12:$B$1041,2,FALSE))","v":253.40928},null,"2006-04-01",11367.14,200.7,56.637468858993522,254.41242207416548]
["2006-05-01",124756,4.5999999999999996,2.4438900000000001,17711.236262917224,{"$f":"IF(K607=\"\",\"\",VLOOKUP($A607,'Tocalino Index'!$A$12:$B$1041,2,FALSE))","v":177.661},"2006-05-01","2006-05-01",{"$f":"IF(H607=\"\",\"\",VLOOKUP($G607,WILL5000PR!$A$12:$B$1041,2,FALSE))","v":243.59469000000001},null,"2006-05-01",11168.31,201.3,55.48092399403874,249.21728559899682]
["2006-06-01",124805,4.5999999999999996,2.6420699999999999,17233.332458813573,{"$f":"IF(K608=\"\",\"\",VLOOKUP($A608,'Tocalino Index'!$A$12:$B$1041,2,FALSE))","v":172.86716000000001},"2006-06-01","2006-06-01",{"$f":"IF(H608=\"\",\"\",VLOOKUP($G608,WILL5000PR!$A$12:$B$1041,2,FALSE))","v":243.23676},null,"2006-06-01",11150.22,201.8,55.25381565906838,248.19712734092056]
["2006-07-01",124881,4.7,2.6879,16903.450236197026,{"$f":"IF(K609=\"\",\"\",VLOOKUP($A609,'Tocalino Index'!$A$12:$B$1041,2,FALSE))","v":169.55812},"2006-07-01","2006-07-01",{"$f":"IF(H609=\"\",\"\",VLOOKUP($G609,WILL5000PR!$A$12:$B$1041,2,FALSE))","v":241.98698999999999},null,"2006-07-01",11185.68,202.9,55.129029078363729,247.63659282412456]
["2006-08-01",124974,4.7,2.8344100000000001,16587.098392574866,{"$f":"IF(K610=\"\",\"\",VLOOKUP($A610,'Tocalino Index'!$A$12:$B$1041,2,FALSE))","v":166.38480000000001},"2006-08-01","2006-08-01",{"$f":"IF(H610=\"\",\"\",VLOOKUP($G610,WILL5000PR!$A$12:$B$1041,2,FALSE))","v":246.62775999999999},null,"2006-08-01",11381.15,203.8,55.844700686947981,250.85135066937602]
["2006-09-01",125045,4.5,2.9309500000000002,16827.592703490132,{"$f":"IF(K611=\"\",\"\",VLOOKUP($A611,'Tocalino Index'!$A$12:$B$1041,2,FALSE))","v":168.79719},"2006-09-01","2006-09-01",{"$f":"IF(H611=\"\",\"\",VLOOKUP($G611,WILL5000PR!$A$12:$B$1041,2,FALSE))","v":252.98985999999999},null,"2006-09-01",11679.07,202.8,57.589102564102561,258.68710879166269]
["2006-10-01",125113,4.4000000000000004,2.7722799999999999,17443.964820112989,{"$f":"IF(K612=\"\",\"\",VLOOKUP($A612,'Tocalino Index'!$A$12:$B$1041,2,FALSE))","v":174.98000999999999},"2006-10-01","2006-10-01",{"$f":"IF(H612=\"\",\"\",VLOOKUP($G612,WILL5000PR!$A$12:$B$1041,2,FALSE))","v":263.32817999999997},null,"2006-10-01",12080.73,201.9,59.83521545319465,268.7765254248211]
["2006-11-01",125201,4.5,2.6172800000000001,17591.130319447879,{"$f":"IF(K613=\"\",\"\",VLOOKUP($A613,'Tocalino Index'!$A$12:$B$1041,2,FALSE))","v":176.45622},"2006-11-01","2006-11-01",{"$f":"IF(H613=\"\",\"\",VLOOKUP($G613,WILL5000PR!$A$12:$B$1041,2,FALSE))","v":269.07276000000002},null,"2006-11-01",12221.93,202,60.504603960396039,271.78338210215077]
["2006-12-01",125244,4.4000000000000004,2.61341,17857.789577395302,{"$f":"IF(K614=\"\",\"\",VLOOKUP($A614,'Tocalino Index'!$A$12:$B$1041,2,FALSE))","v":179.13108},"2006-12-01","2006-12-01",{"$f":"IF(H614=\"\",\"\",VLOOKUP($G614,WILL5000PR!$A$12:$B$1041,2,FALSE))","v":271.42541},null,"2006-12-01",12463.15,203.1,61.364598719842441,275.64643167215473]
["2007-01-01",125387,4.5999999999999996,2.6574800000000001,17276.933591274108,{"$f":"IF(K615=\"\",\"\",VLOOKUP($A615,'Tocalino Index'!$A$12:$B$1041,2,FALSE))","v":173.30452},"2007-01-01","2007-01-01",{"$f":"IF(H615=\"\",\"\",VLOOKUP($G615,WILL5000PR!$A$12:$B$1041,2,FALSE))","v":275.47143},null,"2007-01-01",12621.69,203.43700000000001,62.042253867290611,278.69042164675153]
["2007-02-01",125456,4.5,2.7185700000000002,17379.619509127155,{"$f":"IF(K616=\"\",\"\",VLOOKUP($A616,'Tocalino Index'!$A$12:$B$1041,2,FALSE))","v":174.33456000000001},"2007-02-01","2007-02-01",{"$f":"IF(H616=\"\",\"\",VLOOKUP($G616,WILL5000PR!$A$12:$B$1041,2,FALSE))","v":269.12257},null,"2007-02-01",12268.63,204.226,60.073790800387805,269.84819287658712]
["2007-03-01",125488,4.4000000000000004,2.5051399999999999,18173.129002453243,{"$f":"IF(K617=\"\",\"\",VLOOKUP($A617,'Tocalino Index'!$A$12:$B$1041,2,FALSE))","v":182.29424},"2007-03-01","2007-03-01",{"$f":"IF(H617=\"\",\"\",VLOOKUP($G617,WILL5000PR!$A$12:$B$1041,2,FALSE))","v":269.32375999999999},null,"2007-03-01",12354.35,205.28800000000001,60.180575581621916,270.3278642916722]
["2007-04-01",125550,4.5,2.41553,18154.790739104596,{"$f":"IF(K618=\"\",\"\",VLOOKUP($A618,'Tocalino Index'!$A$12:$B$1041,2,FALSE))","v":182.11028999999999},"2007-04-01","2007-04-01",{"$f":"IF(H618=\"\",\"\",VLOOKUP($G618,WILL5000PR!$A$12:$B$1041,2,FALSE))","v":278.04038000000003},null,"2007-04-01",13062.91,205.904,63.441749553189837,284.97687996321338]
["2007-05-01",125581,4.4000000000000004,2.2677700000000001,18834.03296754387,{"$f":"IF(K619=\"\",\"\",VLOOKUP($A619,'Tocalino Index'!$A$12:$B$1041,2,FALSE))","v":188.92375000000001},"2007-05-01",{"$f":"IF(($G$13-G619)<40,\"\",G619)","v":"2007-05-01"},{"$f":"IF(H619=\"\",\"\",VLOOKUP($G619,WILL5000PR!$A$12:$B$1041,2,FALSE))","v":285.88742000000002},null,"2007-05-01",13627.64,206.755,65.912021474692267,296.07320674815304]
["2007-06-01",125620,4.5999999999999996,2.1816399999999998,18523.54297780478,{"$f":"IF(K620=\"\",\"\",VLOOKUP($A620,'Tocalino Index'!$A$12:$B$1041,2,FALSE))","v":185.80923000000001},"2007-06-01","2007-06-01",{"$f":"IF(H620=\"\",\"\",VLOOKUP($G620,WILL5000PR!$A$12:$B$1041,2,FALSE))","v":280.40778999999998},null,"2007-06-01",13408.62,207.23400000000001,64.70279973363445,290.64144861762691]
["2007-07-01",125715,4.7,2.1682000000000001,18303.922425089542,{"$f":"IF(K621=\"\",\"\",VLOOKUP($A621,'Tocalino Index'!$A$12:$B$1041,2,FALSE))","v":183.60622000000001},"2007-07-01","2007-07-01",{"$f":"IF(H621=\"\",\"\",VLOOKUP($G621,WILL5000PR!$A$12:$B$1041,2,FALSE))","v":270.68232},null,"2007-07-01",13211.99,207.60300000000001,63.640650664971119,285.87033291266459]
["2007-08-01",125791,4.5999999999999996,2.0884900000000002,18807.085007228838,{"$f":"IF(K622=\"\",\"\",VLOOKUP($A622,'Tocalino Index'!$A$12:$B$1041,2,FALSE))","v":188.65343999999999},"2007-08-01","2007-08-01",{"$f":"IF(H622=\"\",\"\",VLOOKUP($G622,WILL5000PR!$A$12:$B$1041,2,FALSE))","v":274.40744999999998},null,"2007-08-01",13357.74,207.667,64.322882306769969,288.93488025036078]
["2007-09-01",125867,4.7,2.1013500000000001,18506.178920361399,{"$f":"IF(K623=\"\",\"\",VLOOKUP($A623,'Tocalino Index'!$A$12:$B$1041,2,FALSE))","v":185.63505000000001},"2007-09-01","2007-09-01",{"$f":"IF(H623=\"\",\"\",VLOOKUP($G623,WILL5000PR!$A$12:$B$1041,2,FALSE))","v":283.08076},null,"2007-09-01",13895.63,208.547,66.630687566831455,299.30141565026526]
["2007-10-01",125916,4.7,2.1565500000000002,18364.337750034636,{"$f":"IF(K624=\"\",\"\",VLOOKUP($A624,'Tocalino Index'!$A$12:$B$1041,2,FALSE))","v":184.21225000000001},"2007-10-01","2007-10-01",{"$f":"IF(H624=\"\",\"\",VLOOKUP($G624,WILL5000PR!$A$12:$B$1041,2,FALSE))","v":287.58706999999998},null,"2007-10-01",13930.01,209.19,66.590228978440649,299.11967787713428]
["2007-11-01",125978,4.7,2.3387899999999999,17897.678436208495,{"$f":"IF(K625=\"\",\"\",VLOOKUP($A625,'Tocalino Index'!$A$12:$B$1041,2,FALSE))","v":179.53120000000001},"2007-11-01","2007-11-01",{"$f":"IF(H625=\"\",\"\",VLOOKUP($G625,WILL5000PR!$A$12:$B$1041,2,FALSE))","v":272.59172999999998},null,"2007-11-01",13371.72,210.834,63.42297731864879,284.89255610917212]
["2007-12-01",126009,5,2.4353699999999998,16947.240016300468,{"$f":"IF(K626=\"\",\"\",VLOOKUP($A626,'Tocalino Index'!$A$12:$B$1041,2,FALSE))","v":169.99736999999999},"2007-12-01","2007-12-01",{"$f":"IF(H626=\"\",\"\",VLOOKUP($G626,WILL5000PR!$A$12:$B$1041,2,FALSE))","v":270.64787000000001},null,"2007-12-01",13264.82,211.44499999999999,62.73413890136915,281.79833149623693]
["2008-01-01",125396,5,2.4789099999999999,16766.614386321002,{"$f":"IF(K627=\"\",\"\",VLOOKUP($A627,'Tocalino Index'!$A$12:$B$1041,2,FALSE))","v":168.18552},"2008-01-01","2008-01-01",{"$f":"IF(H627=\"\",\"\",VLOOKUP($G627,WILL5000PR!$A$12:$B$1041,2,FALSE))","v":252.69156000000001},null,"2008-01-01",12650.36,212.17400000000001,59.622573925174621,267.82135127479307]
["2008-02-01",125440,4.9000000000000004,2.2970799999999998,17429.290767922546,{"$f":"IF(K628=\"\",\"\",VLOOKUP($A628,'Tocalino Index'!$A$12:$B$1041,2,FALSE))","v":174.83280999999999},"2008-02-01","2008-02-01",{"$f":"IF(H628=\"\",\"\",VLOOKUP($G628,WILL5000PR!$A$12:$B$1041,2,FALSE))","v":243.85606000000001},null,"2008-02-01",12266.39,212.68700000000001,57.67343561195559,259.06592824453412]
["2008-03-01",125474,5.0999999999999996,2.3885200000000002,16755.513773081999,{"$f":"IF(K629=\"\",\"\",VLOOKUP($A629,'Tocalino Index'!$A$12:$B$1041,2,FALSE))","v":168.07417000000001},"2008-03-01","2008-03-01",{"$f":"IF(H629=\"\",\"\",VLOOKUP($G629,WILL5000PR!$A$12:$B$1041,2,FALSE))","v":239.70516000000001},null,"2008-03-01",12262.89,213.44800000000001,57.451416738503049,258.06863157010355]
["2008-04-01",125506,5,2.29467,17205.164866950799,{"$f":"IF(K630=\"\",\"\",VLOOKUP($A630,'Tocalino Index'!$A$12:$B$1041,2,FALSE))","v":172.58461},"2008-04-01","2008-04-01",{"$f":"IF(H630=\"\",\"\",VLOOKUP($G630,WILL5000PR!$A$12:$B$1041,2,FALSE))","v":249.85973999999999},null,"2008-04-01",12820.13,213.94200000000001,59.92339045161772,269.17260271017875]
["2008-05-01",125563,5.4,2.3222200000000002,16259.961513657989,{"$f":"IF(K631=\"\",\"\",VLOOKUP($A631,'Tocalino Index'!$A$12:$B$1041,2,FALSE))","v":163.10329999999999},"2008-05-01","2008-05-01",{"$f":"IF(H631=\"\",\"\",VLOOKUP($G631,WILL5000PR!$A$12:$B$1041,2,FALSE))","v":252.44830999999999},null,"2008-05-01",12638.32,215.208,58.726069662837808,263.79430300841022]
["2008-06-01",125627,5.6,2.3917299999999999,15719.625162511747,{"$f":"IF(K632=\"\",\"\",VLOOKUP($A632,'Tocalino Index'!$A$12:$B$1041,2,FALSE))","v":157.6832},"2008-06-01","2008-06-01",{"$f":"IF(H632=\"\",\"\",VLOOKUP($G632,WILL5000PR!$A$12:$B$1041,2,FALSE))","v":229.19909000000001},null,"2008-06-01",11350.01,217.46299999999999,52.192832803741325,234.44735924852827]
["2008-07-01",125699,5.8,2.4633099999999999,15211.700880155771,{"$f":"IF(K633=\"\",\"\",VLOOKUP($A633,'Tocalino Index'!$A$12:$B$1041,2,FALSE))","v":152.58822000000001},"2008-07-01","2008-07-01",{"$f":"IF(H633=\"\",\"\",VLOOKUP($G633,WILL5000PR!$A$12:$B$1041,2,FALSE))","v":225.72013999999999},null,"2008-07-01",11378.02,219.01599999999999,51.950633743653434,233.35941427601452]
["2008-08-01",125742,6.1,2.4981200000000001,14624.359743757937,{"$f":"IF(K634=\"\",\"\",VLOOKUP($A634,'Tocalino Index'!$A$12:$B$1041,2,FALSE))","v":146.69662},"2008-08-01","2008-08-01",{"$f":"IF(H634=\"\",\"\",VLOOKUP($G634,WILL5000PR!$A$12:$B$1041,2,FALSE))","v":229.71296000000001},null,"2008-08-01",11543.55,218.69,52.784992455073386,237.10730811603599]
["2008-09-01",125801,6.1,2.4386199999999998,14733.177023921899,{"$f":"IF(K635=\"\",\"\",VLOOKUP($A635,'Tocalino Index'!$A$12:$B$1041,2,FALSE))","v":147.78816},"2008-09-01","2008-09-01",{"$f":"IF(H635=\"\",\"\",VLOOKUP($G635,WILL5000PR!$A$12:$B$1041,2,FALSE))","v":208.26872},null,"2008-09-01",10850.66,218.87700000000001,49.574235757982791,222.68476409254973]
["2008-10-01",125812,6.5,2.2213599999999998,14425.731766605208,{"$f":"IF(K636=\"\",\"\",VLOOKUP($A636,'Tocalino Index'!$A$12:$B$1041,2,FALSE))","v":144.70418000000001},"2008-10-01","2008-10-01",{"$f":"IF(H636=\"\",\"\",VLOOKUP($G636,WILL5000PR!$A$12:$B$1041,2,FALSE))","v":173.1413},null,"2008-10-01",9325.01,216.995,42.97338648355953,193.03410904944647]
["2008-11-01",125857,6.8,2.0158900000000002,14276.153627143714,{"$f":"IF(K637=\"\",\"\",VLOOKUP($A637,'Tocalino Index'!$A$12:$B$1041,2,FALSE))","v":143.20376999999999},"2008-11-01","2008-11-01",{"$f":"IF(H637=\"\",\"\",VLOOKUP($G637,WILL5000PR!$A$12:$B$1041,2,FALSE))","v":161.90083000000001},null,"2008-11-01",8829.0400000000009,213.15299999999999,41.421138806397288,186.06149711671645]
["2008-12-01",125904,7.3,1.7624599999999999,13892.916492872797,{"$f":"IF(K638=\"\",\"\",VLOOKUP($A638,'Tocalino Index'!$A$12:$B$1041,2,FALSE))","v":139.35953000000001},"2008-12-01","2008-12-01",{"$f":"IF(H638=\"\",\"\",VLOOKUP($G638,WILL5000PR!$A$12:$B$1041,2,FALSE))","v":165.98840000000001},null,"2008-12-01",8776.39,211.398,41.515955685484251,186.48740936788155]
["2009-01-01",125461,7.8,1.67235,13244.97088895575,{"$f":"IF(K639=\"\",\"\",VLOOKUP($A639,'Tocalino Index'!$A$12:$B$1041,2,FALSE))","v":132.86000000000001},"2009-01-01","2009-01-01",{"$f":"IF(H639=\"\",\"\",VLOOKUP($G639,WILL5000PR!$A$12:$B$1041,2,FALSE))","v":151.55455000000001},null,"2009-01-01",8000.86,211.93299999999999,37.751836665361225,169.57919196026575]
["2009-02-01",125498,8.3000000000000007,1.80098,12424.339024530293,{"$f":"IF(K640=\"\",\"\",VLOOKUP($A640,'Tocalino Index'!$A$12:$B$1041,2,FALSE))","v":124.62826},"2009-02-01","2009-02-01",{"$f":"IF(H640=\"\",\"\",VLOOKUP($G640,WILL5000PR!$A$12:$B$1041,2,FALSE))","v":134.65268},null,"2009-02-01",7062.93,212.70500000000001,33.20528431395595,149.15632668908341]
["2009-03-01",125493,8.6999999999999993,1.7876099999999999,11965.833969798648,{"$f":"IF(K641=\"\",\"\",VLOOKUP($A641,'Tocalino Index'!$A$12:$B$1041,2,FALSE))","v":120.029},"2009-03-01","2009-03-01",{"$f":"IF(H641=\"\",\"\",VLOOKUP($G641,WILL5000PR!$A$12:$B$1041,2,FALSE))","v":145.71212},null,"2009-03-01",7608.92,212.495,35.807524882938424,160.84544944318685]
["2009-04-01",125491,9,1.9323300000000001,11478.888763877416,{"$f":"IF(K642=\"\",\"\",VLOOKUP($A642,'Tocalino Index'!$A$12:$B$1041,2,FALSE))","v":115.14447},"2009-04-01","2009-04-01",{"$f":"IF(H642=\"\",\"\",VLOOKUP($G642,WILL5000PR!$A$12:$B$1041,2,FALSE))","v":160.37788},null,"2009-04-01",8168.12,212.709,38.400443798804936,172.49269983973718]
["2009-05-01",125513,9.4,1.84613,11160.550340428217,{"$f":"IF(K643=\"\",\"\",VLOOKUP($A643,'Tocalino Index'!$A$12:$B$1041,2,FALSE))","v":111.95122000000001},"2009-05-01","2009-05-01",{"$f":"IF(H643=\"\",\"\",VLOOKUP($G643,WILL5000PR!$A$12:$B$1041,2,FALSE))","v":167.98258999999999},null,"2009-05-01",8500.33,213.02199999999999,39.903531090685469,179.24448600214973]
["2009-06-01",125533,9.5,1.71197,11196.337485740685,{"$f":"IF(K644=\"\",\"\",VLOOKUP($A644,'Tocalino Index'!$A$12:$B$1041,2,FALSE))","v":112.31019999999999},"2009-06-01","2009-06-01",{"$f":"IF(H644=\"\",\"\",VLOOKUP($G644,WILL5000PR!$A$12:$B$1041,2,FALSE))","v":166.93617},null,"2009-06-01",8447,214.79,39.326784300945114,176.65377086855767]
["2009-07-01",125604,9.5,1.5270999999999999,11390.483445330141,{"$f":"IF(K645=\"\",\"\",VLOOKUP($A645,'Tocalino Index'!$A$12:$B$1041,2,FALSE))","v":114.25767999999999},"2009-07-01","2009-07-01",{"$f":"IF(H645=\"\",\"\",VLOOKUP($G645,WILL5000PR!$A$12:$B$1041,2,FALSE))","v":180.00210999999999},null,"2009-07-01",9171.61,214.726,42.713085513631327,191.86485128489909]
["2009-08-01",125617,9.6,1.43397,11384.569651721004,{"$f":"IF(K646=\"\",\"\",VLOOKUP($A646,'Tocalino Index'!$A$12:$B$1041,2,FALSE))","v":114.19835999999999},"2009-08-01","2009-08-01",{"$f":"IF(H646=\"\",\"\",VLOOKUP($G646,WILL5000PR!$A$12:$B$1041,2,FALSE))","v":185.9006},null,"2009-08-01",9496.2800000000007,215.44499999999999,44.077513982687002,197.9937895752669]
["2009-09-01",125637,9.8000000000000007,1.47984,11138.189903402885,{"$f":"IF(K647=\"\",\"\",VLOOKUP($A647,'Tocalino Index'!$A$12:$B$1041,2,FALSE))","v":111.72693},"2009-09-01","2009-09-01",{"$f":"IF(H647=\"\",\"\",VLOOKUP($G647,WILL5000PR!$A$12:$B$1041,2,FALSE))","v":193.22461999999999},null,"2009-09-01",9712.2800000000007,215.86099999999999,44.993213225177321,202.10706064593285]
["2009-10-01",125644,10,1.7127300000000001,10727.131932521283,{"$f":"IF(K648=\"\",\"\",VLOOKUP($A648,'Tocalino Index'!$A$12:$B$1041,2,FALSE))","v":107.60361},"2009-10-01","2009-10-01",{"$f":"IF(H648=\"\",\"\",VLOOKUP($G648,WILL5000PR!$A$12:$B$1041,2,FALSE))","v":188.10785999999999},null,"2009-10-01",9712.73,216.50899999999999,44.860629350281052,201.51150110875938]
["2009-11-01",125647,9.9,1.71424,10818.357464629627,{"$f":"IF(K649=\"\",\"\",VLOOKUP($A649,'Tocalino Index'!$A$12:$B$1041,2,FALSE))","v":108.51869000000001},"2009-11-01","2009-11-01",{"$f":"IF(H649=\"\",\"\",VLOOKUP($G649,WILL5000PR!$A$12:$B$1041,2,FALSE))","v":198.40962999999999},null,"2009-11-01",10344.84,217.23400000000001,47.620722354695857,213.90968839624844]
["2009-12-01",125640,9.9,1.8236699999999999,10716.780666804849,{"$f":"IF(K650=\"\",\"\",VLOOKUP($A650,'Tocalino Index'!$A$12:$B$1041,2,FALSE))","v":107.49978},"2009-12-01","2009-12-01",{"$f":"IF(H650=\"\",\"\",VLOOKUP($G650,WILL5000PR!$A$12:$B$1041,2,FALSE))","v":203.78958},null,"2009-12-01",10428.049999999999,217.34700000000001,47.978808081086918,215.5181899553161]
["2010-01-01",125156,9.6999999999999993,1.4709300000000001,11203.722519074063,{"$f":"IF(K651=\"\",\"\",VLOOKUP($A651,'Tocalino Index'!$A$12:$B$1041,2,FALSE))","v":110.97942},"2010-01-01","2010-01-01",{"$f":"IF(H651=\"\",\"\",VLOOKUP($G651,WILL5000PR!$A$12:$B$1041,2,FALSE))","v":195.85881000000001},null,"2010-01-01",10067.33,217.488,46.28912859560068,207.92824183277878]
["2010-02-01",125178,9.8000000000000007,1.3177700000000001,11259.272318099762,{"$f":"IF(K652=\"\",\"\",VLOOKUP($A652,'Tocalino Index'!$A$12:$B$1041,2,FALSE))","v":112.62059000000001},"2010-02-01","2010-02-01",{"$f":"IF(H652=\"\",\"\",VLOOKUP($G652,WILL5000PR!$A$12:$B$1041,2,FALSE))","v":201.94540000000001},null,"2010-02-01",10325.26,217.28100000000001,47.520307804179843,213.45863171022546]
["2010-03-01",125191,9.9,1.1454599999999999,11334.159011937936,{"$f":"IF(K653=\"\",\"\",VLOOKUP($A653,'Tocalino Index'!$A$12:$B$1041,2,FALSE))","v":113.55132999999999},"2010-03-01","2010-03-01",{"$f":"IF(H653=\"\",\"\",VLOOKUP($G653,WILL5000PR!$A$12:$B$1041,2,FALSE))","v":213.32364999999999},null,"2010-03-01",10856.63,217.35300000000001,49.949299066495513,224.36952802484046]
["2010-04-01",125192,9.9,0.96521999999999997,11522.27014271225,{"$f":"IF(K654=\"\",\"\",VLOOKUP($A654,'Tocalino Index'!$A$12:$B$1041,2,FALSE))","v":115.55526999999999},"2010-04-01","2010-04-01",{"$f":"IF(H654=\"\",\"\",VLOOKUP($G654,WILL5000PR!$A$12:$B$1041,2,FALSE))","v":217.23715000000001},null,"2010-04-01",11008.61,217.40299999999999,50.636881735762621,227.4581118861704]
["2010-05-01",125249,9.6,0.96936999999999995,{"$f":"B655/(C655+D655)","v":11850.185961887984},{"$f":"IF(K655=\"\",\"\",VLOOKUP($A655,'Tocalino Index'!$A$12:$B$1041,2,FALSE))","v":119.19859},"2010-05-01","2010-05-01",{"$f":"IF(H655=\"\",\"\",VLOOKUP($G655,WILL5000PR!$A$12:$B$1041,2,FALSE))","v":199.46281999999999},null,"2010-05-01",10136.629999999999,217.29,46.650237010446865,209.55032114358104]
["2010-06-01",125268,9.4,0.97985999999999995,12068.370864346916,{"$f":"IF(K656=\"\",\"\",VLOOKUP($A656,'Tocalino Index'!$A$12:$B$1041,2,FALSE))","v":121.40446},"2010-06-01","2010-06-01",{"$f":"IF(H656=\"\",\"\",VLOOKUP($G656,WILL5000PR!$A$12:$B$1041,2,FALSE))","v":188.34611000000001},null,"2010-06-01",9774.02,217.19900000000001,45.000299264729577,202.13889074924998]
["2010-07-01",125326,9.5,1.00017,11935.616280498314,{"$f":"IF(K657=\"\",\"\",VLOOKUP($A657,'Tocalino Index'!$A$12:$B$1041,2,FALSE))","v":121.37213},"2010-07-01","2010-07-01",{"$f":"IF(H657=\"\",\"\",VLOOKUP($G657,WILL5000PR!$A$12:$B$1041,2,FALSE))","v":201.10443000000001},null,"2010-07-01",10465.94,217.60499999999999,48.096045587187803,216.04481444058959]
["2010-08-01",125337,9.5,0.95901999999999998,11983.627529156651,{"$f":"IF(K658=\"\",\"\",VLOOKUP($A658,'Tocalino Index'!$A$12:$B$1041,2,FALSE))","v":120.69123},"2010-08-01","2010-08-01",{"$f":"IF(H658=\"\",\"\",VLOOKUP($G658,WILL5000PR!$A$12:$B$1041,2,FALSE))","v":191.02996999999999},null,"2010-08-01",10014.719999999999,217.923,45.955314491815912,206.42876707909875]
["2010-09-01",125354,9.5,0.81438999999999995,12153.312023299488,{"$f":"IF(K659=\"\",\"\",VLOOKUP($A659,'Tocalino Index'!$A$12:$B$1041,2,FALSE))","v":121.90958999999999},"2010-09-01","2010-09-01",{"$f":"IF(H659=\"\",\"\",VLOOKUP($G659,WILL5000PR!$A$12:$B$1041,2,FALSE))","v":208.37816000000001},null,"2010-09-01",10788.05,218.27500000000001,49.424120948344971,222.01045655235507]
["2010-10-01",125407,9.5,0.59728000000000003,12419.879413069659,{"$f":"IF(K660=\"\",\"\",VLOOKUP($A660,'Tocalino Index'!$A$12:$B$1041,2,FALSE))","v":125.76127},"2010-10-01","2010-10-01",{"$f":"IF(H660=\"\",\"\",VLOOKUP($G660,WILL5000PR!$A$12:$B$1041,2,FALSE))","v":215.97949},null,"2010-10-01",11118.49,219.035,50.761248202342088,228.01675927322191]
["2010-11-01",125415,9.8000000000000007,0.65347999999999995,11997.440086937555,{"$f":"IF(K661=\"\",\"\",VLOOKUP($A661,'Tocalino Index'!$A$12:$B$1041,2,FALSE))","v":120.13252},"2010-11-01","2010-11-01",{"$f":"IF(H661=\"\",\"\",VLOOKUP($G661,WILL5000PR!$A$12:$B$1041,2,FALSE))","v":216.56347},null,"2010-11-01",11006.02,219.59,50.120770526891029,225.13976847581165]
["2010-12-01",125410,9.4,0.63698999999999995,12494.781802113981,{"$f":"IF(K662=\"\",\"\",VLOOKUP($A662,'Tocalino Index'!$A$12:$B$1041,2,FALSE))","v":126.27973},"2010-12-01","2010-12-01",{"$f":"IF(H662=\"\",\"\",VLOOKUP($G662,WILL5000PR!$A$12:$B$1041,2,FALSE))","v":230.66408999999999},null,"2010-12-01",11577.51,220.47200000000001,52.512382524765052,235.88275917258156]
["2011-01-01",124628,9.1,0.95582,12393.618819748168,{"$f":"IF(K663=\"\",\"\",VLOOKUP($A663,'Tocalino Index'!$A$12:$B$1041,2,FALSE))","v":123.97847},"2011-01-01","2011-01-01",{"$f":"IF(H663=\"\",\"\",VLOOKUP($G663,WILL5000PR!$A$12:$B$1041,2,FALSE))","v":234.29012},null,"2011-01-01",11891.93,221.18700000000001,53.764145270743761,241.50560917775235]
["2011-02-01",124647,9,1.0967,12345.320748363327,{"$f":"IF(K664=\"\",\"\",VLOOKUP($A664,'Tocalino Index'!$A$12:$B$1041,2,FALSE))","v":123.49621},"2011-02-01","2011-02-01",{"$f":"IF(H664=\"\",\"\",VLOOKUP($G664,WILL5000PR!$A$12:$B$1041,2,FALSE))","v":240.98436000000001},null,"2011-02-01",12226.34,221.898,55.098919323292684,247.50134144601734]
["2011-03-01",124644,9,1.20225,12217.305006248622,{"$f":"IF(K665=\"\",\"\",VLOOKUP($A665,'Tocalino Index'!$A$12:$B$1041,2,FALSE))","v":122.461},"2011-03-01","2011-03-01",{"$f":"IF(H665=\"\",\"\",VLOOKUP($G665,WILL5000PR!$A$12:$B$1041,2,FALSE))","v":239.16997000000001},null,"2011-03-01",12319.73,223.04599999999999,55.234032441738478,248.10826220731349]
["2011-04-01",124658,9.1,1.34365,11936.248342294122,{"$f":"IF(K666=\"\",\"\",VLOOKUP($A666,'Tocalino Index'!$A$12:$B$1041,2,FALSE))","v":120.05537},"2011-04-01","2011-04-01",{"$f":"IF(H666=\"\",\"\",VLOOKUP($G666,WILL5000PR!$A$12:$B$1041,2,FALSE))","v":244.30237},null,"2011-04-01",12810.54,224.09299999999999,57.166176542774657,256.78734816302125]
["2011-05-01",124727,9,1.50118,11877.42710819165,{"$f":"IF(K667=\"\",\"\",VLOOKUP($A667,'Tocalino Index'!$A$12:$B$1041,2,FALSE))","v":119.67874999999999},"2011-05-01","2011-05-01",{"$f":"IF(H667=\"\",\"\",VLOOKUP($G667,WILL5000PR!$A$12:$B$1041,2,FALSE))","v":239.79392000000001},null,"2011-05-01",12569.79,224.80600000000001,{"$f":"L667/M667","v":55.913943578018383},{"$f":"IF(M667=\"\",\"\",N667/$P$14)","v":251.16238596073936}]
["2011-06-01",124738,9.1,1.6211800000000001,11634.726774478182,{"$f":"IF(K668=\"\",\"\",VLOOKUP($A668,'Tocalino Index'!$A$12:$B$1041,2,FALSE))","v":117.11732000000001},"2011-06-01","2011-06-01",{"$f":"IF(H668=\"\",\"\",VLOOKUP($G668,WILL5000PR!$A$12:$B$1041,2,FALSE))","v":235.45088999999999},null,"2011-06-01",12414.34,224.80600000000001,55.222458475307597,248.05627258115248]
["2011-07-01",124771,9,1.7484299999999999,11608.300002884143,{"$f":"IF(K669=\"\",\"\",VLOOKUP($A669,'Tocalino Index'!$A$12:$B$1041,2,FALSE))","v":116.51793000000001},"2011-07-01","2011-07-01",{"$f":"IF(H669=\"\",\"\",VLOOKUP($G669,WILL5000PR!$A$12:$B$1041,2,FALSE))","v":229.93337},null,"2011-07-01",12143.24,225.39500000000001,53.875374342820379,242.00524410498622]
["2011-08-01",124756,9,1.9395199999999999,11404.156672322004,{"$f":"IF(K670=\"\",\"\",VLOOKUP($A670,'Tocalino Index'!$A$12:$B$1041,2,FALSE))","v":114.12734},"2011-08-01","2011-08-01",{"$f":"IF(H670=\"\",\"\",VLOOKUP($G670,WILL5000PR!$A$12:$B$1041,2,FALSE))","v":215.12496999999999},null,"2011-08-01",11613.53,226.10599999999999,51.363210175758276,230.72073963708024]
["2011-09-01",124728,9,1.9755400000000001,11364.17889233696,{"$f":"IF(K671=\"\",\"\",VLOOKUP($A671,'Tocalino Index'!$A$12:$B$1041,2,FALSE))","v":113.86745000000001},"2011-09-01","2011-09-01",{"$f":"IF(H671=\"\",\"\",VLOOKUP($G671,WILL5000PR!$A$12:$B$1041,2,FALSE))","v":198.03766999999999},null,"2011-09-01",10913.38,226.59700000000001,48.162067458968998,216.3413810889252]
["2011-10-01",124743,8.8000000000000007,2.09992,11444.395922171903,{"$f":"IF(K672=\"\",\"\",VLOOKUP($A672,'Tocalino Index'!$A$12:$B$1041,2,FALSE))","v":114.71428},"2011-10-01","2011-10-01",{"$f":"IF(H672=\"\",\"\",VLOOKUP($G672,WILL5000PR!$A$12:$B$1041,2,FALSE))","v":220.74659},null,"2011-10-01",11955.01,226.75,52.723307607497247,236.83022314396226]
["2011-11-01",124722,8.6,2.1624599999999998,11588.614498915676,{"$f":"IF(K673=\"\",\"\",VLOOKUP($A673,'Tocalino Index'!$A$12:$B$1041,2,FALSE))","v":116.50775},"2011-11-01","2011-11-01",{"$f":"IF(H673=\"\",\"\",VLOOKUP($G673,WILL5000PR!$A$12:$B$1041,2,FALSE))","v":219.68541999999999},null,"2011-11-01",12045.68,227.16900000000001,53.02519269794734,238.1862745106061]
["2011-12-01",124690,8.5,2.2389899999999998,11610.961552250259,{"$f":"IF(K674=\"\",\"\",VLOOKUP($A674,'Tocalino Index'!$A$12:$B$1041,2,FALSE))","v":116.06216999999999},"2011-12-01","2011-12-01",{"$f":"IF(H674=\"\",\"\",VLOOKUP($G674,WILL5000PR!$A$12:$B$1041,2,FALSE))","v":221.85162},null,"2011-12-01",12217.56,227.22300000000001,53.769028663471559,241.52754511162877]
["2012-01-01",124356,8.1999999999999993,2.2802500000000001,11865.747477397963,{"$f":"IF(K675=\"\",\"\",VLOOKUP($A675,'Tocalino Index'!$A$12:$B$1041,2,FALSE))","v":117.93239},"2012-01-01","2012-01-01",{"$f":"IF(H675=\"\",\"\",VLOOKUP($G675,WILL5000PR!$A$12:$B$1041,2,FALSE))","v":231.52325999999999},null,"2012-01-01",12632.91,227.84200000000001,55.445923051939495,249.06006327544074]
["2012-02-01",124341,8.3000000000000007,2.1714000000000002,11874.343449777489,{"$f":"IF(K676=\"\",\"\",VLOOKUP($A676,'Tocalino Index'!$A$12:$B$1041,2,FALSE))","v":119.24312999999999},"2012-02-01","2012-02-01",{"$f":"IF(H676=\"\",\"\",VLOOKUP($G676,WILL5000PR!$A$12:$B$1041,2,FALSE))","v":239.70612},null,"2012-02-01",12952.07,228.32900000000001,56.725470702363694,254.80772155646642]
["2012-03-01",124323,8.1999999999999993,2.2546300000000001,11891.669049980726,{"$f":"IF(K677=\"\",\"\",VLOOKUP($A677,'Tocalino Index'!$A$12:$B$1041,2,FALSE))","v":119.35687},"2012-03-01","2012-03-01",{"$f":"IF(H677=\"\",\"\",VLOOKUP($G677,WILL5000PR!$A$12:$B$1041,2,FALSE))","v":244.89802},null,"2012-03-01",13212.04,228.80699999999999,57.743163452167117,259.37914190099855]
["2012-04-01",124357,8.1999999999999993,2.3156300000000001,11825.920082772027,{"$f":"IF(K678=\"\",\"\",VLOOKUP($A678,'Tocalino Index'!$A$12:$B$1041,2,FALSE))","v":118.63907},"2012-04-01","2012-04-01",{"$f":"IF(H678=\"\",\"\",VLOOKUP($G678,WILL5000PR!$A$12:$B$1041,2,FALSE))","v":242.16076000000001},null,"2012-04-01",13213.63,229.18700000000001,57.654360849437353,258.98024545131403]
["2012-05-01",124363,8.1999999999999993,2.2469999999999999,11904.183019048533,{"$f":"IF(K679=\"\",\"\",VLOOKUP($A679,'Tocalino Index'!$A$12:$B$1041,2,FALSE))","v":119.35048999999999},"2012-05-01","2012-05-01",{"$f":"IF(H679=\"\",\"\",VLOOKUP($G679,WILL5000PR!$A$12:$B$1041,2,FALSE))","v":226.97171},null,"2012-05-01",12393.45,228.71299999999999,54.187781193023575,243.40855864276389]
["2012-06-01",124355,8.1999999999999993,2.21529,11939.657945194038,{"$f":"IF(K680=\"\",\"\",VLOOKUP($A680,'Tocalino Index'!$A$12:$B$1041,2,FALSE))","v":120.03149999999999},"2012-06-01","2012-06-01",{"$f":"IF(H680=\"\",\"\",VLOOKUP($G680,WILL5000PR!$A$12:$B$1041,2,FALSE))","v":235.89411000000001},null,"2012-06-01",12880.09,228.524,56.362088883443313,253.17543023851553]
["2012-07-01",124372,8.1999999999999993,2.1044900000000002,12069.690008918444,{"$f":"IF(K681=\"\",\"\",VLOOKUP($A681,'Tocalino Index'!$A$12:$B$1041,2,FALSE))","v":121.00655},"2012-07-01","2012-07-01",{"$f":"IF(H681=\"\",\"\",VLOOKUP($G681,WILL5000PR!$A$12:$B$1041,2,FALSE))","v":238.47542000000001},null,"2012-07-01",13008.68,228.59,56.90835119646529,255.62921076479142]
["2012-08-01",124308,8.1,1.9163399999999999,12410.521208345564,{"$f":"IF(K682=\"\",\"\",VLOOKUP($A682,'Tocalino Index'!$A$12:$B$1041,2,FALSE))","v":124.25507},"2012-08-01","2012-08-01",{"$f":"IF(H682=\"\",\"\",VLOOKUP($G682,WILL5000PR!$A$12:$B$1041,2,FALSE))","v":242.23739},null,"2012-08-01",13090.84,229.91800000000001,56.936994928626724,255.75787684792056]
["2012-09-01",124259,7.8,1.9925600000000001,12689.123171060479,{"$f":"IF(K683=\"\",\"\",VLOOKUP($A683,'Tocalino Index'!$A$12:$B$1041,2,FALSE))","v":127.08082},"2012-09-01",{"$f":"IF(($G$13-G683)<40,\"\",G683)","v":"2012-09-01"},{"$f":"IF(H683=\"\",\"\",VLOOKUP($G683,WILL5000PR!$A$12:$B$1041,2,FALSE))","v":247.00522000000001},null,"2012-09-01",13437.13,231.01499999999999,58.165616951280221,261.27677998561438]
["2012-10-01",124270,7.8,2.0006499999999998,12679.771239662676,{"$f":"IF(K684=\"\",\"\",VLOOKUP($A684,'Tocalino Index'!$A$12:$B$1041,2,FALSE))","v":127.26841},"2012-10-01","2012-10-01",{"$f":"IF(H684=\"\",\"\",VLOOKUP($G684,WILL5000PR!$A$12:$B$1041,2,FALSE))","v":242.44856999999999},null,"2012-10-01",13096.46,231.63800000000001,56.538478142619084,253.96776117347483]
["2012-11-01",124248,7.8,1.94526,12749.582874135735,{"$f":"IF(K685=\"\",\"\",VLOOKUP($A685,'Tocalino Index'!$A$12:$B$1041,2,FALSE))","v":129.11510999999999},"2012-11-01","2012-11-01",{"$f":"IF(H685=\"\",\"\",VLOOKUP($G685,WILL5000PR!$A$12:$B$1041,2,FALSE))","v":244.54769999999999},null,"2012-11-01",13025.58,231.249,56.327076008977336,253.01815431541866]
["2012-12-01",124219,7.9,1.8907400000000001,12687.396458286095,{"$f":"IF(K686=\"\",\"\",VLOOKUP($A686,'Tocalino Index'!$A$12:$B$1041,2,FALSE))","v":127.15075},"2012-12-01","2012-12-01",{"$f":"IF(H686=\"\",\"\",VLOOKUP($G686,WILL5000PR!$A$12:$B$1041,2,FALSE))","v":247.68414999999999},null,"2012-12-01",13104.14,231.221,56.67365853447567,254.57498412326433]
["2013-01-01",124357,7.9,1.9128099999999999,12672.924473214094,{"$f":"IF(K687=\"\",\"\",VLOOKUP($A687,'Tocalino Index'!$A$12:$B$1041,2,FALSE))","v":125.87764},"2013-01-01","2013-01-01",{"$f":"IF(H687=\"\",\"\",VLOOKUP($G687,WILL5000PR!$A$12:$B$1041,2,FALSE))","v":260.04950000000002},null,"2013-01-01",13860.58,231.679,59.82665671036218,268.7380800186653]
["2013-02-01",124354,7.7,2.0050400000000002,12813.34234583268,{"$f":"IF(K688=\"\",\"\",VLOOKUP($A688,'Tocalino Index'!$A$12:$B$1041,2,FALSE))","v":128.74657999999999},"2013-02-01","2013-02-01",{"$f":"IF(H688=\"\",\"\",VLOOKUP($G688,WILL5000PR!$A$12:$B$1041,2,FALSE))","v":260.6798},null,"2013-02-01",14054.49,232.93700000000001,60.336013600243838,271.02608339638653]
["2013-03-01",124343,7.5,1.8919299999999999,13239.344841795029,{"$f":"IF(K689=\"\",\"\",VLOOKUP($A689,'Tocalino Index'!$A$12:$B$1041,2,FALSE))","v":132.84472},"2013-03-01","2013-03-01",{"$f":"IF(H689=\"\",\"\",VLOOKUP($G689,WILL5000PR!$A$12:$B$1041,2,FALSE))","v":269.62290000000002},null,"2013-03-01",14578.54,232.28200000000001,62.7622458907707,281.92458656015339]
["2013-04-01",124380,7.5,1.7220899999999999,13487.181322238235,{"$f":"IF(K690=\"\",\"\",VLOOKUP($A690,'Tocalino Index'!$A$12:$B$1041,2,FALSE))","v":133.93214},"2013-04-01","2013-04-01",{"$f":"IF(H690=\"\",\"\",VLOOKUP($G690,WILL5000PR!$A$12:$B$1041,2,FALSE))","v":274.31258000000003},null,"2013-04-01",14839.8,231.797,64.020673261517615,287.57737369640813]
["2013-05-01",124388,7.5,1.67622,13555.472732781036,{"$f":"IF(K691=\"\",\"\",VLOOKUP($A691,'Tocalino Index'!$A$12:$B$1041,2,FALSE))","v":136.43063000000001},"2013-05-01","2013-05-01",{"$f":"IF(H691=\"\",\"\",VLOOKUP($G691,WILL5000PR!$A$12:$B$1041,2,FALSE))","v":279.4794},null,"2013-05-01",15115.57,231.893,65.183381990831975,292.80019791420807]
["2013-06-01",124406,7.5,1.6334,13620.995467186371,{"$f":"IF(K692=\"\",\"\",VLOOKUP($A692,'Tocalino Index'!$A$12:$B$1041,2,FALSE))","v":136.78614999999999},"2013-06-01","2013-06-01",{"$f":"IF(H692=\"\",\"\",VLOOKUP($G692,WILL5000PR!$A$12:$B$1041,2,FALSE))","v":274.81680999999998},null,"2013-06-01",14909.6,232.44499999999999,64.142485319107749,288.12454681755344]
["2013-07-01",124401,7.3,1.69557,13829.140343524645,{"$f":"IF(K693=\"\",\"\",VLOOKUP($A693,'Tocalino Index'!$A$12:$B$1041,2,FALSE))","v":138.64812000000001},"2013-07-01","2013-07-01",{"$f":"IF(H693=\"\",\"\",VLOOKUP($G693,WILL5000PR!$A$12:$B$1041,2,FALSE))","v":289.31774999999999},null,"2013-07-01",15499.54,232.9,66.550193215972527,298.93983941499431]
["2013-08-01",124409,7.2,1.7660800000000001,13875.517505978087,{"$f":"IF(K694=\"\",\"\",VLOOKUP($A694,'Tocalino Index'!$A$12:$B$1041,2,FALSE))","v":138.9366},"2013-08-01","2013-08-01",{"$f":"IF(H694=\"\",\"\",VLOOKUP($G694,WILL5000PR!$A$12:$B$1041,2,FALSE))","v":279.99632000000003},null,"2013-08-01",14810.31,233.45599999999999,63.439406140771709,284.96635348240079]
["2013-09-01",124465,7.2,1.73767,13925.888962112049,{"$f":"IF(K695=\"\",\"\",VLOOKUP($A695,'Tocalino Index'!$A$12:$B$1041,2,FALSE))","v":139.4676},"2013-09-01","2013-09-01",{"$f":"IF(H695=\"\",\"\",VLOOKUP($G695,WILL5000PR!$A$12:$B$1041,2,FALSE))","v":289.17930000000001},null,"2013-09-01",15129.67,233.54400000000001,64.782953105196455,291.0014931924872]
["2013-10-01",124461,7.2,1.6821999999999999,14012.406836144197,{"$f":"IF(K696=\"\",\"\",VLOOKUP($A696,'Tocalino Index'!$A$12:$B$1041,2,FALSE))","v":140.48473999999999},"2013-10-01","2013-10-01",{"$f":"IF(H696=\"\",\"\",VLOOKUP($G696,WILL5000PR!$A$12:$B$1041,2,FALSE))","v":302.07445999999999},null,"2013-10-01",15545.75,233.66900000000001,66.528936230308688,298.8443541943854]
["2013-11-01",124474,7,1.7200899999999999,14274.393956943106,{"$f":"IF(K697=\"\",\"\",VLOOKUP($A697,'Tocalino Index'!$A$12:$B$1041,2,FALSE))","v":144.48548},"2013-11-01","2013-11-01",{"$f":"IF(H697=\"\",\"\",VLOOKUP($G697,WILL5000PR!$A$12:$B$1041,2,FALSE))","v":310.79284999999999},null,"2013-11-01",16086.41,234.1,68.715976078598885,308.66841794909664]
["2013-12-01",124438,6.7,1.7187600000000001,14781.036637224483,{"$f":"IF(K698=\"\",\"\",VLOOKUP($A698,'Tocalino Index'!$A$12:$B$1041,2,FALSE))","v":147.88004000000001},"2013-12-01","2013-12-01",{"$f":"IF(H698=\"\",\"\",VLOOKUP($G698,WILL5000PR!$A$12:$B$1041,2,FALSE))","v":318.32947999999999},null,"2013-12-01",16576.66,234.71899999999999,70.623426309757633,317.23658038769696]
["2014-01-01",124453,6.6,1.6196699999999999,15140.875485268876,{"$f":"IF(K699=\"\",\"\",VLOOKUP($A699,'Tocalino Index'!$A$12:$B$1041,2,FALSE))","v":152.11169000000001},"2014-01-01","2014-01-01",{"$f":"IF(H699=\"\",\"\",VLOOKUP($G699,WILL5000PR!$A$12:$B$1041,2,FALSE))","v":306.86216999999999},null,"2014-01-01",15698.85,235.28800000000001,66.721847268028966,299.71090005775096]
["2014-02-01",124439,6.7,1.5596000000000001,15065.98382488256,{"$f":"IF(K700=\"\",\"\",VLOOKUP($A700,'Tocalino Index'!$A$12:$B$1041,2,FALSE))","v":151.21422999999999},"2014-02-01","2014-02-01",{"$f":"IF(H700=\"\",\"\",VLOOKUP($G700,WILL5000PR!$A$12:$B$1041,2,FALSE))","v":319.17685999999998},null,"2014-02-01",16321.71,235.547,69.292795068500126,311.25945740187484]
["2014-03-01",124410,6.7,1.6488700000000001,14901.417796659907,{"$f":"IF(K701=\"\",\"\",VLOOKUP($A701,'Tocalino Index'!$A$12:$B$1041,2,FALSE))","v":149.53326999999999},"2014-03-01","2014-03-01",{"$f":"IF(H701=\"\",\"\",VLOOKUP($G701,WILL5000PR!$A$12:$B$1041,2,FALSE))","v":318.86554999999998},null,"2014-03-01",16457.66,236.02799999999999,69.727574694527775,313.21246377653432]
["2014-04-01",124453,6.3,1.82646,15314.540402586121,{"$f":"IF(K702=\"\",\"\",VLOOKUP($A702,'Tocalino Index'!$A$12:$B$1041,2,FALSE))","v":155.63843},"2014-04-01","2014-04-01",{"$f":"IF(H702=\"\",\"\",VLOOKUP($G702,WILL5000PR!$A$12:$B$1041,2,FALSE))","v":318.03003999999999},null,"2014-04-01",16580.84,236.46799999999999,70.118747568381352,314.96959099799557]
["2014-05-01",124442,6.3,1.9491499999999999,15085.433044616717,{"$f":"IF(K703=\"\",\"\",VLOOKUP($A703,'Tocalino Index'!$A$12:$B$1041,2,FALSE))","v":151.38807},"2014-05-01","2014-05-01",{"$f":"IF(H703=\"\",\"\",VLOOKUP($G703,WILL5000PR!$A$12:$B$1041,2,FALSE))","v":323.12927000000002},null,"2014-05-01",16717.169999999998,236.91800000000001,70.560995787572068,316.95614588593401]
["2014-06-01",124478,6.1,1.9273800000000001,15506.678393199278,{"$f":"IF(K704=\"\",\"\",VLOOKUP($A704,'Tocalino Index'!$A$12:$B$1041,2,FALSE))","v":155.63477},"2014-06-01","2014-06-01",{"$f":"IF(H704=\"\",\"\",VLOOKUP($G704,WILL5000PR!$A$12:$B$1041,2,FALSE))","v":329.89091000000002},null,"2014-06-01",16826.599999999999,237.23099999999999,70.929178732964914,318.61000360222778]
["2014-07-01",124500,6.2,null,null,{"$f":"IF(K705=\"\",\"\",VLOOKUP($A705,'Tocalino Index'!$A$12:$B$1041,2,FALSE))","v":155.23465999999999},"2014-07-01","2014-07-01",{"$f":"IF(H705=\"\",\"\",VLOOKUP($G705,WILL5000PR!$A$12:$B$1041,2,FALSE))","v":323.52285999999998},null,"2014-07-01",16563.3,237.49799999999999,{"$f":"IF(M705=\"\",\"\",L705/M705)","v":69.740797817244783},313.27186132281582,{"$f":"VLOOKUP($K705,CPIAUCSL!$A$12:$B$1041,1,FALSE)","v":"2014-07-01"}]
["2014-08-01",null,null,null,null,{"$f":"IF(K706=\"\",\"\",VLOOKUP($A706,'Tocalino Index'!$A$12:$B$1041,2,FALSE))","v":159.42884000000001},"2014-08-01","2014-08-01",{"$f":"IF(H706=\"\",\"\",VLOOKUP($G706,WILL5000PR!$A$12:$B$1041,2,FALSE))","v":336.57580999999999},null,"2014-08-01",17098.45,237.46,72.005600943316765,323.44523348144151]
["2014-09-01",null,null,null,null,{"$f":"IF(K707=\"\",\"\",VLOOKUP($A707,'Tocalino Index'!$A$12:$B$1041,2,FALSE))","v":163.55680000000001},"2014-09-01","2014-09-01",{"$f":"IF(H707=\"\",\"\",VLOOKUP($G707,WILL5000PR!$A$12:$B$1041,2,FALSE))","v":328.99516999999997},null,"2014-09-01",17042.900000000001,237.477,71.766528969121225,322.3713352082583]
["2014-10-01",null,null,null,null,{"$f":"IF(K708=\"\",\"\",VLOOKUP($A708,'Tocalino Index'!$A$12:$B$1041,2,FALSE))","v":166.26649},"2014-10-01","2014-10-01",{"$f":"IF(H708=\"\",\"\",VLOOKUP($G708,WILL5000PR!$A$12:$B$1041,2,FALSE))","v":338.54635999999999},null,"2014-10-01",17390.52,237.43,73.244830055174162,329.01178308550976]
["2014-11-01",null,null,null,null,{"$f":"IF(K709=\"\",\"\",VLOOKUP($A709,'Tocalino Index'!$A$12:$B$1041,2,FALSE))","v":165.7449},"2014-11-01","2014-11-01",{"$f":"IF(H709=\"\",\"\",VLOOKUP($G709,WILL5000PR!$A$12:$B$1041,2,FALSE))","v":348.10376000000002},null,"2014-11-01",17828.240000000002,236.983,75.230037597633597,337.92922712691671]
["2014-12-01",null,null,null,null,{"$f":"IF(K710=\"\",\"\",VLOOKUP($A710,'Tocalino Index'!$A$12:$B$1041,2,FALSE))","v":173.04859999999999},"2014-12-01","2014-12-01",{"$f":"IF(H710=\"\",\"\",VLOOKUP($G710,WILL5000PR!$A$12:$B$1041,2,FALSE))","v":349.33120000000002},null,"2014-12-01",17823.07,236.25200000000001,75.44092748421177,338.87653299909255]
["2015-01-01",null,null,null,null,{"$f":"IF(K711=\"\",\"\",VLOOKUP($A711,'Tocalino Index'!$A$12:$B$1041,2,FALSE))","v":170.98670999999999},"2015-01-01","2015-01-01",{"$f":"IF(H711=\"\",\"\",VLOOKUP($G711,WILL5000PR!$A$12:$B$1041,2,FALSE))","v":340.92284000000001},null,"2015-01-01",17164.95,234.74700000000001,73.121062249996797,328.45582485283569]
["2015-02-01",null,null,null,null,{"$f":"IF(K712=\"\",\"\",VLOOKUP($A712,'Tocalino Index'!$A$12:$B$1041,2,FALSE))","v":174.38048000000001},"2015-02-01","2015-02-01",{"$f":"IF(H712=\"\",\"\",VLOOKUP($G712,WILL5000PR!$A$12:$B$1041,2,FALSE))","v":357.98068999999998},null,"2015-02-01",18132.7,235.34200000000001,77.048295671830786,346.09674325946298]
["2015-03-01",null,null,null,null,{"$f":"IF(K713=\"\",\"\",VLOOKUP($A713,'Tocalino Index'!$A$12:$B$1041,2,FALSE))","v":175.40852000000001},"2015-03-01","2015-03-01",{"$f":"IF(H713=\"\",\"\",VLOOKUP($G713,WILL5000PR!$A$12:$B$1041,2,FALSE))","v":351.27699000000001},null,"2015-03-01",17776.12,235.976,75.330203071498786,338.37916497420463]
["2015-04-01",null,null,null,null,{"$f":"IF(K714=\"\",\"\",VLOOKUP($A714,'Tocalino Index'!$A$12:$B$1041,2,FALSE))","v":174.03870000000001},"2015-04-01","2015-04-01",{"$f":"IF(H714=\"\",\"\",VLOOKUP($G714,WILL5000PR!$A$12:$B$1041,2,FALSE))","v":352.11824999999999},null,"2015-04-01",17840.52,236.22200000000001,75.524379609011859,339.25139539364068]
["2015-05-01",null,null,null,null,{"$f":"IF(K715=\"\",\"\",VLOOKUP($A715,'Tocalino Index'!$A$12:$B$1041,2,FALSE))","v":170.59350000000001},"2015-05-01","2015-05-01",{"$f":"IF(H715=\"\",\"\",VLOOKUP($G715,WILL5000PR!$A$12:$B$1041,2,FALSE))","v":354.08872000000002},null,"2015-05-01",18010.68,237.001,75.994109729494809,341.3613974837902]
["2015-06-01",null,null,null,null,{"$f":"IF(K716=\"\",\"\",VLOOKUP($A716,'Tocalino Index'!$A$12:$B$1041,2,FALSE))","v":177.28936999999999},"2015-06-01","2015-06-01",{"$f":"IF(H716=\"\",\"\",VLOOKUP($G716,WILL5000PR!$A$12:$B$1041,2,FALSE))","v":346.06873999999999},null,"2015-06-01",17619.509999999998,237.65700000000001,74.138401141140378,333.02565568356118]
["2015-07-01",null,null,null,null,{"$f":"IF(K717=\"\",\"\",VLOOKUP($A717,'Tocalino Index'!$A$12:$B$1041,2,FALSE))","v":178.45240999999999},"2015-07-01","2015-07-01",{"$f":"IF(H717=\"\",\"\",VLOOKUP($G717,WILL5000PR!$A$12:$B$1041,2,FALSE))","v":351.74673000000001},null,"2015-07-01",17689.86,238.03399999999999,74.316526210541355,333.82578378341071]
["2015-08-01",null,null,null,null,{"$f":"IF(K718=\"\",\"\",VLOOKUP($A718,'Tocalino Index'!$A$12:$B$1041,2,FALSE))","v":180.69997000000001},"2015-08-01","2015-08-01",{"$f":"IF(H718=\"\",\"\",VLOOKUP($G718,WILL5000PR!$A$12:$B$1041,2,FALSE))","v":330.55381},null,"2015-08-01",16528.03,238.03299999999999,69.435876538127062,311.90217156221883]
["2015-09-01",null,null,null,null,{"$f":"IF(K719=\"\",\"\",VLOOKUP($A719,'Tocalino Index'!$A$12:$B$1041,2,FALSE))","v":182.14314999999999},"2015-09-01","2015-09-01",{"$f":"IF(H719=\"\",\"\",VLOOKUP($G719,WILL5000PR!$A$12:$B$1041,2,FALSE))","v":321.51267000000001},null,"2015-09-01",16284.7,237.49799999999999,68.567735307244703,308.00252848669402]
["2015-10-01",null,null,null,null,{"$f":"IF(K720=\"\",\"\",VLOOKUP($A720,'Tocalino Index'!$A$12:$B$1041,2,FALSE))","v":181.71464},"2015-10-01","2015-10-01",{"$f":"IF(H720=\"\",\"\",VLOOKUP($G720,WILL5000PR!$A$12:$B$1041,2,FALSE))","v":347.01618999999999},null,"2015-10-01",17663.54,237.733,74.299907879848405,333.75113514801797]
["2015-11-01",null,null,null,null,{"$f":"IF(K721=\"\",\"\",VLOOKUP($A721,'Tocalino Index'!$A$12:$B$1041,2,FALSE))","v":177.03029000000001},"2015-11-01","2015-11-01",{"$f":"IF(H721=\"\",\"\",VLOOKUP($G721,WILL5000PR!$A$12:$B$1041,2,FALSE))","v":348.05489999999998},null,"2015-11-01",17719.919999999998,238.017,74.448127654747339,334.41693029548838]
["2015-12-01",null,null,null,null,{"$f":"IF(K722=\"\",\"\",VLOOKUP($A722,'Tocalino Index'!$A$12:$B$1041,2,FALSE))","v":177.67918},"2015-12-01","2015-12-01",{"$f":"IF(H722=\"\",\"\",VLOOKUP($G722,WILL5000PR!$A$12:$B$1041,2,FALSE))","v":341.75749000000002},null,"2015-12-01",17425.03,237.761,73.288007705216586,329.20573473532858]
["2016-01-01",null,null,null,null,{"$f":"IF(K723=\"\",\"\",VLOOKUP($A723,'Tocalino Index'!$A$12:$B$1041,2,FALSE))","v":181.31679},"2016-01-01","2016-01-01",{"$f":"IF(H723=\"\",\"\",VLOOKUP($G723,WILL5000PR!$A$12:$B$1041,2,FALSE))","v":322.21368999999999},null,"2016-01-01",16466.3,237.827,69.236461797861466,311.00641142162061]
["2016-02-01",null,null,null,null,{"$f":"IF(K724=\"\",\"\",VLOOKUP($A724,'Tocalino Index'!$A$12:$B$1041,2,FALSE))","v":176.84484},"2016-02-01","2016-02-01",{"$f":"IF(H724=\"\",\"\",VLOOKUP($G724,WILL5000PR!$A$12:$B$1041,2,FALSE))","v":320.92788999999999},null,"2016-02-01",16516.5,237.51400000000001,69.539058750221031,312.365660433149]
["2016-03-01",null,null,null,null,{"$f":"IF(K725=\"\",\"\",VLOOKUP($A725,'Tocalino Index'!$A$12:$B$1041,2,FALSE))","v":176.41490999999999},"2016-03-01","2016-03-01",{"$f":"IF(H725=\"\",\"\",VLOOKUP($G725,WILL5000PR!$A$12:$B$1041,2,FALSE))","v":341.51691},null,"2016-03-01",17685.09,237.99,74.310223118618424,333.79747063815591]
["2016-04-01",null,null,null,null,{"$f":"IF(K726=\"\",\"\",VLOOKUP($A726,'Tocalino Index'!$A$12:$B$1041,2,FALSE))","v":173.66716},"2016-04-01","2016-04-01",{"$f":"IF(H726=\"\",\"\",VLOOKUP($G726,WILL5000PR!$A$12:$B$1041,2,FALSE))","v":341.72559999999999},null,"2016-04-01",17773.64,238.83500000000001,74.418071053237583,334.28191768028034]
["2016-05-01",null,null,null,null,{"$f":"IF(K727=\"\",\"\",VLOOKUP($A727,'Tocalino Index'!$A$12:$B$1041,2,FALSE))","v":178.69761},"2016-05-01","2016-05-01",{"$f":"IF(H727=\"\",\"\",VLOOKUP($G727,WILL5000PR!$A$12:$B$1041,2,FALSE))","v":345.62878999999998},null,"2016-05-01",17787.2,239.44,74.286668894086205,333.69166634580239]
["2016-06-01",null,null,null,null,{"$f":"IF(K728=\"\",\"\",VLOOKUP($A728,'Tocalino Index'!$A$12:$B$1041,2,FALSE))","v":176.07056},"2016-06-01","2016-06-01",{"$f":"IF(H728=\"\",\"\",VLOOKUP($G728,WILL5000PR!$A$12:$B$1041,2,FALSE))","v":344.94943000000001},null,"2016-06-01",17929.990000000002,240.14400000000001,74.663493570524352,335.38434224677917]
["2016-07-01",null,null,null,null,{"$f":"IF(K729=\"\",\"\",VLOOKUP($A729,'Tocalino Index'!$A$12:$B$1041,2,FALSE))","v":181.00153},"2016-07-01","2016-07-01",{"$f":"IF(H729=\"\",\"\",VLOOKUP($G729,WILL5000PR!$A$12:$B$1041,2,FALSE))","v":358.66836999999998},null,"2016-07-01",18432.240000000002,240.11099999999999,76.765495958119374,344.8264223645387]
["2016-08-01",null,null,null,null,{"$f":"IF(K730=\"\",\"\",VLOOKUP($A730,'Tocalino Index'!$A$12:$B$1041,2,FALSE))","v":175.12357},"2016-08-01","2016-08-01",{"$f":"IF(H730=\"\",\"\",VLOOKUP($G730,WILL5000PR!$A$12:$B$1041,2,FALSE))","v":358.32758000000001},null,"2016-08-01",18400.88,240.595,76.480724869594141,343.54724616143591]
["2016-09-01",null,null,null,null,{"$f":"IF(K731=\"\",\"\",VLOOKUP($A731,'Tocalino Index'!$A$12:$B$1041,2,FALSE))","v":173.68162000000001},"2016-09-01","2016-09-01",{"$f":"IF(H731=\"\",\"\",VLOOKUP($G731,WILL5000PR!$A$12:$B$1041,2,FALSE))","v":357.26459},null,"2016-09-01",18308.150000000001,241.06800000000001,75.945998639388065,{"$f":"IF(M731=\"\",\"\",N731/$P$14)","v":341.14528509018805}]
["2016-10-01",null,null,null,null,{"$f":"IF(K732=\"\",\"\",VLOOKUP($A732,'Tocalino Index'!$A$12:$B$1041,2,FALSE))","v":177.79861},"2016-10-01","2016-10-01",{"$f":"IF(H732=\"\",\"\",VLOOKUP($G732,WILL5000PR!$A$12:$B$1041,2,FALSE))","v":349.12610999999998},null,"2016-10-01",18142.419999999998,241.64099999999999,75.080056778444046,337.25552146451014]
["2016-11-01",null,null,null,null,{"$f":"IF(K733=\"\",\"\",VLOOKUP($A733,'Tocalino Index'!$A$12:$B$1041,2,FALSE))","v":184.58356000000001},"2016-11-01","2016-11-01",{"$f":"IF(H733=\"\",\"\",VLOOKUP($G733,WILL5000PR!$A$12:$B$1041,2,FALSE))","v":364.63452999999998},null,"2016-11-01",19123.580000000002,241.99299999999999,79.025343708289085,354.97753524479299]
["2016-12-01",null,null,null,null,{"$f":"IF(K734=\"\",\"\",VLOOKUP($A734,'Tocalino Index'!$A$12:$B$1041,2,FALSE))","v":183.20722000000001},"2016-12-01","2016-12-01",{"$f":"IF(H734=\"\",\"\",VLOOKUP($G734,WILL5000PR!$A$12:$B$1041,2,FALSE))","v":371.42863999999997},null,"2016-12-01",19762.599999999999,242.71199999999999,81.424074623422001,365.75250372974568]
["2017-01-01",null,null,null,null,{"$f":"IF(K735=\"\",\"\",VLOOKUP($A735,'Tocalino Index'!$A$12:$B$1041,2,FALSE))","v":181.19727},"2017-01-01","2017-01-01",{"$f":"IF(H735=\"\",\"\",VLOOKUP($G735,WILL5000PR!$A$12:$B$1041,2,FALSE))","v":375.43137999999999},null,"2017-01-01",19864.09,243.71700000000001,81.504737051580307,366.11483495908135]
["2017-02-01",null,null,null,null,{"$f":"IF(K736=\"\",\"\",VLOOKUP($A736,'Tocalino Index'!$A$12:$B$1041,2,FALSE))","v":184.27142000000001},"2017-02-01","2017-02-01",{"$f":"IF(H736=\"\",\"\",VLOOKUP($G736,WILL5000PR!$A$12:$B$1041,2,FALSE))","v":387.31191999999999},null,"2017-02-01",20812.240000000002,244.02799999999999,85.286278623764503,383.10131352062746]
["2017-03-01",null,null,null,null,{"$f":"IF(K737=\"\",\"\",VLOOKUP($A737,'Tocalino Index'!$A$12:$B$1041,2,FALSE))","v":195.41408000000001},"2017-03-01","2017-03-01",{"$f":"IF(H737=\"\",\"\",VLOOKUP($G737,WILL5000PR!$A$12:$B$1041,2,FALSE))","v":386.54854},null,"2017-03-01",20663.22,243.721,84.782271531792503,380.8373411434298]
["2017-04-01",null,null,null,null,{"$f":"IF(K738=\"\",\"\",VLOOKUP($A738,'Tocalino Index'!$A$12:$B$1041,2,FALSE))","v":200.03104999999999},"2017-04-01","2017-04-01",{"$f":"IF(H738=\"\",\"\",VLOOKUP($G738,WILL5000PR!$A$12:$B$1041,2,FALSE))","v":389.02974999999998},null,"2017-04-01",20940.509999999998,244.05799999999999,85.8013668881987,385.41506192034734]
["2017-05-01",null,null,null,null,{"$f":"IF(K739=\"\",\"\",VLOOKUP($A739,'Tocalino Index'!$A$12:$B$1041,2,FALSE))","v":205.29449},"2017-05-01","2017-05-01",{"$f":"IF(H739=\"\",\"\",VLOOKUP($G739,WILL5000PR!$A$12:$B$1041,2,FALSE))","v":391.69072},null,"2017-05-01",21008.65,243.92599999999999,86.127145117781637,386.87843996525214]
["2017-06-01",null,null,null,null,{"$f":"IF(K740=\"\",\"\",VLOOKUP($A740,'Tocalino Index'!$A$12:$B$1041,2,FALSE))","v":210.12461999999999},"2017-06-01","2017-06-01",{"$f":"IF(H740=\"\",\"\",VLOOKUP($G740,WILL5000PR!$A$12:$B$1041,2,FALSE))","v":394.17536999999999},null,"2017-06-01",21349.63,244.179,87.434341200512748,392.75029349672707]
["2017-07-01",null,null,null,null,{"$f":"IF(K741=\"\",\"\",VLOOKUP($A741,'Tocalino Index'!$A$12:$B$1041,2,FALSE))","v":211.01275000000001},"2017-07-01","2017-07-01",{"$f":"IF(H741=\"\",\"\",VLOOKUP($G741,WILL5000PR!$A$12:$B$1041,2,FALSE))","v":401.41748000000001},null,"2017-07-01",21891.119999999999,244.328,89.597262696047935,402.46601892586591]
["2017-08-01",null,null,null,null,{"$f":"IF(K742=\"\",\"\",VLOOKUP($A742,'Tocalino Index'!$A$12:$B$1041,2,FALSE))","v":208.35112000000001},"2017-08-01","2017-08-01",{"$f":"IF(H742=\"\",\"\",VLOOKUP($G742,WILL5000PR!$A$12:$B$1041,2,FALSE))","v":400.20742999999999},null,"2017-08-01",21948.1,245.304,89.473061996543052,401.90811615547534]
["2017-09-01",null,null,null,null,{"$f":"IF(K743=\"\",\"\",VLOOKUP($A743,'Tocalino Index'!$A$12:$B$1041,2,FALSE))","v":214.05488},"2017-09-01","2017-09-01",{"$f":"IF(H743=\"\",\"\",VLOOKUP($G743,WILL5000PR!$A$12:$B$1041,2,FALSE))","v":407.16807},null,"2017-09-01",22405.09,246.44499999999999,90.913144920773405,408.37689013358562]
["2017-10-01",null,null,null,null,{"$f":"IF(K744=\"\",\"\",VLOOKUP($A744,'Tocalino Index'!$A$12:$B$1041,2,FALSE))","v":211.77749},"2017-10-01","2017-10-01",{"$f":"IF(H744=\"\",\"\",VLOOKUP($G744,WILL5000PR!$A$12:$B$1041,2,FALSE))","v":415.76272},null,"2017-10-01",23377.24,246.57,94.809749766800508,425.88022664764793]
["2017-11-01",null,null,null,null,{"$f":"IF(K745=\"\",\"\",VLOOKUP($A745,'Tocalino Index'!$A$12:$B$1041,2,FALSE))","v":212.60884999999999},"2017-11-01","2017-11-01",{"$f":"IF(H745=\"\",\"\",VLOOKUP($G745,WILL5000PR!$A$12:$B$1041,2,FALSE))","v":427.31574000000001},null,"2017-11-01",24272.35,247.333,98.13631824301649,440.82299086856852]
["2017-12-01",null,null,null,null,{"$f":"IF(K746=\"\",\"\",VLOOKUP($A746,'Tocalino Index'!$A$12:$B$1041,2,FALSE))","v":215.08217999999999},"2017-12-01","2017-12-01",{"$f":"IF(H746=\"\",\"\",VLOOKUP($G746,WILL5000PR!$A$12:$B$1041,2,FALSE))","v":431.6046},null,"2017-12-01",24719.22,247.84700000000001,99.735804750511406,448.00779705155372]
["2018-01-01",null,null,null,null,{"$f":"IF(K747=\"\",\"\",VLOOKUP($A747,'Tocalino Index'!$A$12:$B$1041,2,FALSE))","v":214.94354999999999},"2018-01-01",{"$f":"IF(($G$13-G747)<40,\"\",G747)","v":"2018-01-01"},{"$f":"IF(H747=\"\",\"\",VLOOKUP($G747,WILL5000PR!$A$12:$B$1041,2,FALSE))","v":451.34258999999997},null,"2018-01-01",26149.39,248.816,105.09529129959488,472.08231841515669]
["2018-02-01",null,null,null,null,{"$f":"IF(K748=\"\",\"\",VLOOKUP($A748,'Tocalino Index'!$A$12:$B$1041,2,FALSE))","v":211.84076999999999},"2018-02-01","2018-02-01",{"$f":"IF(H748=\"\",\"\",VLOOKUP($G748,WILL5000PR!$A$12:$B$1041,2,FALSE))","v":431.83784000000003},null,"2018-02-01",25029.200000000001,249.47499999999999,100.32748772422087,450.66560470917062]
["2018-03-01",null,null,null,null,{"$f":"IF(K749=\"\",\"\",VLOOKUP($A749,'Tocalino Index'!$A$12:$B$1041,2,FALSE))","v":206.88835},"2018-03-01","2018-03-01",{"$f":"IF(H749=\"\",\"\",VLOOKUP($G749,WILL5000PR!$A$12:$B$1041,2,FALSE))","v":421.14301},null,"2018-03-01",24103.11,249.41300000000001,96.639349191902582,434.09868751009526]
["2018-04-01",null,null,null,null,{"$f":"IF(K750=\"\",\"\",VLOOKUP($A750,'Tocalino Index'!$A$12:$B$1041,2,FALSE))","v":205.97242},"2018-04-01","2018-04-01",{"$f":"IF(H750=\"\",\"\",VLOOKUP($G750,WILL5000PR!$A$12:$B$1041,2,FALSE))","v":420.69076000000001},null,"2018-04-01",24163.15,249.95699999999999,96.669227107062426,434.23289747596198]
["2018-05-01",null,null,null,null,{"$f":"IF(K751=\"\",\"\",VLOOKUP($A751,'Tocalino Index'!$A$12:$B$1041,2,FALSE))","v":208.64861999999999},"2018-05-01","2018-05-01",{"$f":"IF(H751=\"\",\"\",VLOOKUP($G751,WILL5000PR!$A$12:$B$1041,2,FALSE))","v":429.48354999999998},null,"2018-05-01",24415.84,250.64,97.413980210660711,437.57828781120833]
["2018-06-01",null,null,null,null,{"$f":"IF(K752=\"\",\"\",VLOOKUP($A752,'Tocalino Index'!$A$12:$B$1041,2,FALSE))","v":202.91081},"2018-06-01","2018-06-01",{"$f":"IF(H752=\"\",\"\",VLOOKUP($G752,WILL5000PR!$A$12:$B$1041,2,FALSE))","v":430.99961999999999},null,"2018-06-01",24271.41,251.17599999999999,96.631087365034887,434.06157583426454]
["2018-07-01",null,null,null,null,{"$f":"IF(K753=\"\",\"\",VLOOKUP($A753,'Tocalino Index'!$A$12:$B$1041,2,FALSE))","v":208.94506999999999},"2018-07-01","2018-07-01",{"$f":"IF(H753=\"\",\"\",VLOOKUP($G753,WILL5000PR!$A$12:$B$1041,2,FALSE))","v":445.18565999999998},null,"2018-07-01",25415.19,251.482,101.06166644133576,453.96349547687998]
["2018-08-01",null,null,null,null,{"$f":"IF(K754=\"\",\"\",VLOOKUP($A754,'Tocalino Index'!$A$12:$B$1041,2,FALSE))","v":214.18169},"2018-08-01","2018-08-01",{"$f":"IF(H754=\"\",\"\",VLOOKUP($G754,WILL5000PR!$A$12:$B$1041,2,FALSE))","v":459.54345999999998},null,"2018-08-01",25964.82,251.905,103.07385720807447,463.0021466905452]
["2018-09-01",null,null,null,null,{"$f":"IF(K755=\"\",\"\",VLOOKUP($A755,'Tocalino Index'!$A$12:$B$1041,2,FALSE))","v":215.12494000000001},"2018-09-01","2018-09-01",{"$f":"IF(H755=\"\",\"\",VLOOKUP($G755,WILL5000PR!$A$12:$B$1041,2,FALSE))","v":459.12653999999998},null,"2018-09-01",26458.31,252.261,104.88466310686155,471.13618805746364]
["2018-10-01",null,null,null,null,{"$f":"IF(K756=\"\",\"\",VLOOKUP($A756,'Tocalino Index'!$A$12:$B$1041,2,FALSE))","v":214.18191999999999},"2018-10-01","2018-10-01",{"$f":"IF(H756=\"\",\"\",VLOOKUP($G756,WILL5000PR!$A$12:$B$1041,2,FALSE))","v":424.43439000000001},null,"2018-10-01",25115.759999999998,252.77699999999999,99.359356270546769,446.31681100462464]
["2018-11-01",null,null,null,null,{"$f":"IF(K757=\"\",\"\",VLOOKUP($A757,'Tocalino Index'!$A$12:$B$1041,2,FALSE))","v":211.0591},"2018-11-01","2018-11-01",{"$f":"IF(H757=\"\",\"\",VLOOKUP($G757,WILL5000PR!$A$12:$B$1041,2,FALSE))","v":433.06371000000001},null,"2018-11-01",25538.46,252.66200000000001,101.07756607641829,454.03491577077614]
["2018-12-01",null,null,null,null,{"$f":"IF(K758=\"\",\"\",VLOOKUP($A758,'Tocalino Index'!$A$12:$B$1041,2,FALSE))","v":206.48196999999999},"2018-12-01","2018-12-01",{"$f":"IF(H758=\"\",\"\",VLOOKUP($G758,WILL5000PR!$A$12:$B$1041,2,FALSE))","v":393.33677999999998},null,"2018-12-01",23327.46,252.65299999999999,92.330033682560668,414.74147719861514]
["2019-01-01",null,null,null,null,{"$f":"IF(K759=\"\",\"\",VLOOKUP($A759,'Tocalino Index'!$A$12:$B$1041,2,FALSE))","v":205.84412},"2019-01-01","2019-01-01",{"$f":"IF(H759=\"\",\"\",VLOOKUP($G759,WILL5000PR!$A$12:$B$1041,2,FALSE))","v":426.00098000000003},null,"2019-01-01",24999.67,252.55,98.988992278756669,444.65315614683141]
["2019-02-01",null,null,null,null,{"$f":"IF(K760=\"\",\"\",VLOOKUP($A760,'Tocalino Index'!$A$12:$B$1041,2,FALSE))","v":214.76778999999999},"2019-02-01","2019-02-01",{"$f":"IF(H760=\"\",\"\",VLOOKUP($G760,WILL5000PR!$A$12:$B$1041,2,FALSE))","v":437.99401},null,"2019-02-01",25916,253.18100000000001,102.36155161722246,459.80250881342187]
["2019-03-01",null,null,null,null,{"$f":"IF(K761=\"\",\"\",VLOOKUP($A761,'Tocalino Index'!$A$12:$B$1041,2,FALSE))","v":216.28022999999999},"2019-03-01","2019-03-01",{"$f":"IF(H761=\"\",\"\",VLOOKUP($G761,WILL5000PR!$A$12:$B$1041,2,FALSE))","v":441.39557000000002},null,"2019-03-01",25928.68,254.095,102.04325153977842,458.37272222019431]
["2019-04-01",null,null,null,null,{"$f":"IF(K762=\"\",\"\",VLOOKUP($A762,'Tocalino Index'!$A$12:$B$1041,2,FALSE))","v":219.00890000000001},"2019-04-01","2019-04-01",{"$f":"IF(H762=\"\",\"\",VLOOKUP($G762,WILL5000PR!$A$12:$B$1041,2,FALSE))","v":456.18191000000002},null,"2019-04-01",26592.91,254.94300000000001,104.30923775118359,468.55140873363138]
["2019-05-01",null,null,null,null,{"$f":"IF(K763=\"\",\"\",VLOOKUP($A763,'Tocalino Index'!$A$12:$B$1041,2,FALSE))","v":225.96743000000001},"2019-05-01","2019-05-01",{"$f":"IF(H763=\"\",\"\",VLOOKUP($G763,WILL5000PR!$A$12:$B$1041,2,FALSE))","v":424.54507999999998},null,"2019-05-01",24815.040000000001,255.167,97.250193010851717,436.84256463982342]
["2019-06-01",null,null,null,null,{"$f":"IF(K764=\"\",\"\",VLOOKUP($A764,'Tocalino Index'!$A$12:$B$1041,2,FALSE))","v":221.43394000000001},"2019-06-01","2019-06-01",{"$f":"IF(H764=\"\",\"\",VLOOKUP($G764,WILL5000PR!$A$12:$B$1041,2,FALSE))","v":453.31008000000003},null,"2019-06-01",26599.96,255.40199999999999,104.14938019279411,467.83333729724745]
["2019-07-01",null,null,null,null,{"$f":"IF(K765=\"\",\"\",VLOOKUP($A765,'Tocalino Index'!$A$12:$B$1041,2,FALSE))","v":215.49543},"2019-07-01","2019-07-01",{"$f":"IF(H765=\"\",\"\",VLOOKUP($G765,WILL5000PR!$A$12:$B$1041,2,FALSE))","v":458.79012999999998},null,"2019-07-01",26864.27,256.08699999999999,104.90290409118776,471.21812556450516]
["2019-08-01",null,null,null,null,{"$f":"IF(K766=\"\",\"\",VLOOKUP($A766,'Tocalino Index'!$A$12:$B$1041,2,FALSE))","v":212.52749},"2019-08-01","2019-08-01",{"$f":"IF(H766=\"\",\"\",VLOOKUP($G766,WILL5000PR!$A$12:$B$1041,2,FALSE))","v":448.40629999999999},null,"2019-08-01",26403.279999999999,256.29399999999998,103.01950104177234,462.7579817551732]
["2019-09-01",null,null,null,null,{"$f":"IF(K767=\"\",\"\",VLOOKUP($A767,'Tocalino Index'!$A$12:$B$1041,2,FALSE))","v":216.73685},"2019-09-01","2019-09-01",{"$f":"IF(H767=\"\",\"\",VLOOKUP($G767,WILL5000PR!$A$12:$B$1041,2,FALSE))","v":455.52526999999998},null,"2019-09-01",26916.83,256.59300000000002,104.90087414699543,471.2090071658717]
[{"$f":"IF((TODAY()-G768)<40,\"\",G768)","v":"2019-10-01"},null,null,null,null,{"$f":"IF(K768=\"\",\"\",VLOOKUP($A768,'Tocalino Index'!$A$12:$B$1041,2,FALSE))","v":213.81773000000001},"2019-10-01","2019-10-01",{"$f":"IF(H768=\"\",\"\",VLOOKUP($G768,WILL5000PR!$A$12:$B$1041,2,FALSE))","v":463.88898999999998},null,{"$f":"IF((TODAY()-G768)<40,\"\",G768)","v":"2019-10-01"},{"$f":"IF(DJIA!B117=\"\",\"\",DJIA!B117)","v":27046.23},{"$f":"IF(CPIAUCSL!B885=\"\",\"\",CPIAUCSL!B885)","v":257.22899999999998},105.14455990576491,472.30363030780399]
["2019-11-01",null,null,null,null,{"$f":"IF(K769=\"\",\"\",VLOOKUP($A769,'Tocalino Index'!$A$12:$B$1041,2,FALSE))","v":213.77206000000001},"2019-11-01","2019-11-01",{"$f":"IF(H769=\"\",\"\",VLOOKUP($G769,WILL5000PR!$A$12:$B$1041,2,FALSE))","v":480.32645000000002},null,{"$f":"IF((TODAY()-G769)<40,\"\",G769)","v":"2019-11-01"},{"$f":"IF(DJIA!B118=\"\",\"\",DJIA!B118)","v":28051.41},{"$f":"IF(CPIAUCSL!B886=\"\",\"\",CPIAUCSL!B886)","v":257.82400000000001},{"$f":"IF(M769=\"\",\"\",L769/M769)","v":108.8006159240412},488.72643460303516]
["2019-12-01",null,null,null,null,{"$f":"IF(K770=\"\",\"\",VLOOKUP($A770,'Tocalino Index'!$A$12:$B$1041,2,FALSE))","v":216.59287},"2019-12-01","2019-12-01",{"$f":"IF(H770=\"\",\"\",VLOOKUP($G770,WILL5000PR!$A$12:$B$1041,2,FALSE))","v":494.02057000000002},null,{"$f":"IF((TODAY()-G770)<40,\"\",G770)","v":"2019-12-01"},{"$f":"IF(DJIA!B119=\"\",\"\",DJIA!B119)","v":28538.44},{"$f":"IF(CPIAUCSL!B887=\"\",\"\",CPIAUCSL!B887)","v":258.44400000000002},110.42407639566017,496.01893052573496]
["2020-01-01",null,null,null,null,{"$f":"IF(K771=\"\",\"\",VLOOKUP($A771,'Tocalino Index'!$A$12:$B$1041,2,FALSE))","v":214.89149},"2020-01-01","2020-01-01",{"$f":"IF(H771=\"\",\"\",VLOOKUP($G771,WILL5000PR!$A$12:$B$1041,2,FALSE))","v":491.58942999999999},null,{"$f":"IF((TODAY()-G771)<40,\"\",G771)","v":"2020-01-01"},{"$f":"IF(DJIA!B120=\"\",\"\",DJIA!B120)","v":28256.03},{"$f":"IF(CPIAUCSL!B888=\"\",\"\",CPIAUCSL!B888)","v":258.82},109.17251371609613,490.39697920799074]
["2020-02-01",null,null,null,null,{"$f":"IF(K772=\"\",\"\",VLOOKUP($A772,'Tocalino Index'!$A$12:$B$1041,2,FALSE))","v":214.82767000000001},"2020-02-01","2020-02-01",{"$f":"IF(H772=\"\",\"\",VLOOKUP($G772,WILL5000PR!$A$12:$B$1041,2,FALSE))","v":449.10975999999999},null,{"$f":"IF(($G$13-G772)<40,\"\",G772)","v":"2020-02-01"},{"$f":"IF(DJIA!B121=\"\",\"\",DJIA!B121)","v":25409.360000000001},{"$f":"IF(CPIAUCSL!B889=\"\",\"\",CPIAUCSL!B889)","v":259.05},{"$f":"IF(M772=\"\",\"\",L772/M772)","v":98.086701408994401},440.60011475539619]
["2020-03-01",null,null,null,null,{"$f":"IF(K773=\"\",\"\",VLOOKUP($A773,'Tocalino Index'!$A$12:$B$1041,2,FALSE))","v":193.69297},"2020-03-01","2020-03-01",{"$f":"IF(H773=\"\",\"\",VLOOKUP($G773,WILL5000PR!$A$12:$B$1041,2,FALSE))","v":388.05074999999999},null,{"$f":"IF(($G$13-G773)<40,\"\",G773)","v":"2020-03-01"},{"$f":"IF(DJIA!B122=\"\",\"\",DJIA!B122)","v":21917.16},{"$f":"IF(CPIAUCSL!B890=\"\",\"\",CPIAUCSL!B890)","v":257.95299999999997},{"$f":"IF(K773=\"\",\"\",VLOOKUP($G773,DJIA_def!$A$12:$B$1041,2,FALSE))","v":84.909423377911395},{"$f":"IF(K773=\"\",\"\",N773/$P$14)","v":381.40850030350538}]
["2020-04-01",null,null,null,null,{"$f":"IF(K774=\"\",\"\",VLOOKUP($A774,'Tocalino Index'!$A$12:$B$1041,2,FALSE))","v":77.772959999999998},"2020-04-01","2020-04-01",{"$f":"IF(H774=\"\",\"\",VLOOKUP($G774,WILL5000PR!$A$12:$B$1041,2,FALSE))","v":441.96633000000003},null,{"$f":"IF(($G$13-G774)<40,\"\",G774)","v":"2020-04-01"},{"$f":"IF(DJIA!B123=\"\",\"\",DJIA!B123)","v":24345.72},{"$f":"IF(CPIAUCSL!B891=\"\",\"\",CPIAUCSL!B891)","v":""},{"$f":"IF(K774=\"\",\"\",VLOOKUP($G774,DJIA_def!$A$12:$B$1041,2,FALSE))","v":95.066304296893307},{"$f":"IF(K774=\"\",\"\",N774/$P$14)","v":427.03265560872154}]
["2020-05-01",null,null,null,null,{"$f":"IF(K775=\"\",\"\",VLOOKUP($A775,'Tocalino Index'!$A$12:$B$1041,2,FALSE))","v":87.513319999999993},"2020-05-01","2020-05-01",{"$f":"IF(H775=\"\",\"\",VLOOKUP($G775,WILL5000PR!$A$12:$B$1041,2,FALSE))","v":463.95958999999999},null,"2020-05-01",{"$f":"IF(DJIA!B124=\"\",\"\",DJIA!B124)","v":{"$error":"#N/A"}},{"$f":"IF(CPIAUCSL!B892=\"\",\"\",CPIAUCSL!B892)","v":""},{"$f":"IF(K775=\"\",\"\",VLOOKUP($G775,DJIA_def!$A$12:$B$1041,2,FALSE))","v":99.203925461566115},445.61862428522574]
["2020-06-01",null,null,null,null,{"$f":"IF(K776=\"\",\"\",VLOOKUP($A776,'Tocalino Index'!$A$12:$B$1041,2,FALSE))","v":103.84726999999999},"2020-06-01","2020-06-01",{"$f":"IF(H776=\"\",\"\",VLOOKUP($G776,WILL5000PR!$A$12:$B$1041,2,FALSE))","v":471.56880999999998},null,"2020-06-01",{"$f":"IF(DJIA!B125=\"\",\"\",DJIA!B125)","v":""},{"$f":"IF(CPIAUCSL!B893=\"\",\"\",CPIAUCSL!B893)","v":""},{"$f":"IF(K776=\"\",\"\",VLOOKUP($G776,DJIA_def!$A$12:$B$1041,2,FALSE))","v":100.44469348524822},451.19208659730464]
["2020-07-01",null,null,null,null,{"$f":"IF(K777=\"\",\"\",VLOOKUP($A777,'Tocalino Index'!$A$12:$B$1041,2,FALSE))","v":107.77688999999999},"2020-07-01","2020-07-01",{"$f":"IF(H777=\"\",\"\",VLOOKUP($G777,WILL5000PR!$A$12:$B$1041,2,FALSE))","v":495.20803000000001},null,"2020-07-01",{"$f":"IF(DJIA!B126=\"\",\"\",DJIA!B126)","v":""},{"$f":"IF(CPIAUCSL!B894=\"\",\"\",CPIAUCSL!B894)","v":""},{"$f":"IF(K777=\"\",\"\",VLOOKUP($G777,DJIA_def!$A$12:$B$1041,2,FALSE))","v":102.32509156800037},459.63873226022474]
["2020-08-01",null,null,null,null,{"$f":"IF(K778=\"\",\"\",VLOOKUP($A778,'Tocalino Index'!$A$12:$B$1041,2,FALSE))","v":125.19123},"2020-08-01","2020-08-01",{"$f":"IF(H778=\"\",\"\",VLOOKUP($G778,WILL5000PR!$A$12:$B$1041,2,FALSE))","v":528.85131000000001},null,"2020-08-01",{"$f":"IF(DJIA!B127=\"\",\"\",DJIA!B127)","v":""},{"$f":"IF(CPIAUCSL!B895=\"\",\"\",CPIAUCSL!B895)","v":""},{"$f":"IF(K778=\"\",\"\",VLOOKUP($G778,DJIA_def!$A$12:$B$1041,2,FALSE))","v":109.59462012019537},492.29305816072895]
["2020-09-01",null,null,null,null,{"$f":"IF(K779=\"\",\"\",VLOOKUP($A779,'Tocalino Index'!$A$12:$B$1041,2,FALSE))","v":133.02118999999999},"2020-09-01","2020-09-01",{"$f":"IF(H779=\"\",\"\",VLOOKUP($G779,WILL5000PR!$A$12:$B$1041,2,FALSE))","v":507.67210999999998},null,"2020-09-01",{"$f":"IF(DJIA!B128=\"\",\"\",DJIA!B128)","v":""},{"$f":"IF(CPIAUCSL!B896=\"\",\"\",CPIAUCSL!B896)","v":""},{"$f":"IF(K779=\"\",\"\",VLOOKUP($G779,DJIA_def!$A$12:$B$1041,2,FALSE))","v":106.84077545196882},479.92293805871998]
["2020-10-01",null,null,null,null,{"$f":"IF(K780=\"\",\"\",VLOOKUP($A780,'Tocalino Index'!$A$12:$B$1041,2,FALSE))","v":150.18296000000001},"2020-10-01","2020-10-01",{"$f":"IF(H780=\"\",\"\",VLOOKUP($G780,WILL5000PR!$A$12:$B$1041,2,FALSE))","v":495.7808},null,"2020-10-01",{"$f":"IF(DJIA!B129=\"\",\"\",DJIA!B129)","v":""},{"$f":"IF(CPIAUCSL!B897=\"\",\"\",CPIAUCSL!B897)","v":""},{"$f":"IF(K780=\"\",\"\",VLOOKUP($G780,DJIA_def!$A$12:$B$1041,2,FALSE))","v":101.81723181423511},457.35745393631015]
["2020-11-01",null,null,null,null,{"$f":"IF(K781=\"\",\"\",VLOOKUP($A781,'Tocalino Index'!$A$12:$B$1041,2,FALSE))","v":151.27151000000001},"2020-11-01","2020-11-01",{"$f":"IF(H781=\"\",\"\",VLOOKUP($G781,WILL5000PR!$A$12:$B$1041,2,FALSE))","v":554.65918999999997},null,"2020-11-01",{"$f":"IF(DJIA!B130=\"\",\"\",DJIA!B130)","v":""},{"$f":"IF(CPIAUCSL!B898=\"\",\"\",CPIAUCSL!B898)","v":""},{"$f":"IF(K781=\"\",\"\",VLOOKUP($G781,DJIA_def!$A$12:$B$1041,2,FALSE))","v":113.63942748252579},510.46211229759109]
["2020-12-01",null,null,null,null,{"$f":"IF(K782=\"\",\"\",VLOOKUP($A782,'Tocalino Index'!$A$12:$B$1041,2,FALSE))","v":151.88921999999999},"2020-12-01","2020-12-01",{"$f":"IF(H782=\"\",\"\",VLOOKUP($G782,WILL5000PR!$A$12:$B$1041,2,FALSE))","v":578.10393999999997},null,"2020-12-01",{"$f":"IF(DJIA!B131=\"\",\"\",DJIA!B131)","v":""},{"$f":"IF(CPIAUCSL!B899=\"\",\"\",CPIAUCSL!B899)","v":""},{"$f":"IF(K782=\"\",\"\",VLOOKUP($G782,DJIA_def!$A$12:$B$1041,2,FALSE))","v":116.80302249699467},524.67280861413349]
["2021-01-01",null,null,null,null,{"$f":"IF(K783=\"\",\"\",VLOOKUP($A783,'Tocalino Index'!$A$12:$B$1041,2,FALSE))","v":161.92731000000001},"2021-01-01","2021-01-01",{"$f":"IF(H783=\"\",\"\",VLOOKUP($G783,WILL5000PR!$A$12:$B$1041,2,FALSE))","v":573.20761000000005},null,"2021-01-01",{"$f":"IF(DJIA!B132=\"\",\"\",DJIA!B132)","v":""},{"$f":"IF(CPIAUCSL!B900=\"\",\"\",CPIAUCSL!B900)","v":""},{"$f":"IF(K783=\"\",\"\",VLOOKUP($G783,DJIA_def!$A$12:$B$1041,2,FALSE))","v":114.15427374833429},512.77477365267885]
["2021-02-01",null,null,null,null,{"$f":"IF(K784=\"\",\"\",VLOOKUP($A784,'Tocalino Index'!$A$12:$B$1041,2,FALSE))","v":168.84305000000001},"2021-02-01","2021-02-01",{"$f":"IF(H784=\"\",\"\",VLOOKUP($G784,WILL5000PR!$A$12:$B$1041,2,FALSE))","v":586.67488000000003},null,"2021-02-01",{"$f":"IF(DJIA!B133=\"\",\"\",DJIA!B133)","v":""},{"$f":"IF(CPIAUCSL!B901=\"\",\"\",CPIAUCSL!B901)","v":""},{"$f":"IF(K784=\"\",\"\",VLOOKUP($G784,DJIA_def!$A$12:$B$1041,2,FALSE))","v":117.32895106168307},527.0352510515504]
["2021-03-01",null,null,null,null,{"$f":"IF(K785=\"\",\"\",VLOOKUP($A785,'Tocalino Index'!$A$12:$B$1041,2,FALSE))","v":162.93620000000001},"2021-03-01","2021-03-01",{"$f":"IF(H785=\"\",\"\",VLOOKUP($G785,WILL5000PR!$A$12:$B$1041,2,FALSE))","v":603.17852000000005},null,"2021-03-01",{"$f":"IF(DJIA!B134=\"\",\"\",DJIA!B134)","v":""},{"$f":"IF(CPIAUCSL!B902=\"\",\"\",CPIAUCSL!B902)","v":""},{"$f":"IF(K785=\"\",\"\",VLOOKUP($G785,DJIA_def!$A$12:$B$1041,2,FALSE))","v":124.49908272118499},559.24309152948649]
["2021-04-01",null,null,null,null,{"$f":"IF(K786=\"\",\"\",VLOOKUP($A786,'Tocalino Index'!$A$12:$B$1041,2,FALSE))","v":139.72138000000001},"2021-04-01","2021-04-01",{"$f":"IF(H786=\"\",\"\",VLOOKUP($G786,WILL5000PR!$A$12:$B$1041,2,FALSE))","v":629.33509000000004},null,"2021-04-01",{"$f":"IF(DJIA!B135=\"\",\"\",DJIA!B135)","v":""},{"$f":"IF(CPIAUCSL!B903=\"\",\"\",CPIAUCSL!B903)","v":""},{"$f":"IF(K786=\"\",\"\",VLOOKUP($G786,DJIA_def!$A$12:$B$1041,2,FALSE))","v":127.02909963625454},570.60778956805791]
["2021-05-01",null,null,null,null,{"$f":"IF(K787=\"\",\"\",VLOOKUP($A787,'Tocalino Index'!$A$12:$B$1041,2,FALSE))","v":131.80962},"2021-05-01","2021-05-01",{"$f":"IF(H787=\"\",\"\",VLOOKUP($G787,WILL5000PR!$A$12:$B$1041,2,FALSE))","v":626.32515999999998},null,"2021-05-01",{"$f":"IF(DJIA!B136=\"\",\"\",DJIA!B136)","v":""},{"$f":"IF(CPIAUCSL!B904=\"\",\"\",CPIAUCSL!B904)","v":""},{"$f":"IF(K787=\"\",\"\",VLOOKUP($G787,DJIA_def!$A$12:$B$1041,2,FALSE))","v":128.62813100683942},577.79055130085862]
["2021-06-01",null,null,null,null,{"$f":"IF(K788=\"\",\"\",VLOOKUP($A788,'Tocalino Index'!$A$12:$B$1041,2,FALSE))","v":122.7084},"2021-06-01","2021-06-01",{"$f":"IF(H788=\"\",\"\",VLOOKUP($G788,WILL5000PR!$A$12:$B$1041,2,FALSE))","v":635.42331999999999},null,"2021-06-01",{"$f":"IF(DJIA!B137=\"\",\"\",DJIA!B137)","v":""},{"$f":"IF(CPIAUCSL!B905=\"\",\"\",CPIAUCSL!B905)","v":""},{"$f":"IF(K788=\"\",\"\",VLOOKUP($G788,DJIA_def!$A$12:$B$1041,2,FALSE))","v":127.52305412128223},572.82660618295927]
["2021-07-01",null,null,null,null,{"$f":"IF(K789=\"\",\"\",VLOOKUP($A789,'Tocalino Index'!$A$12:$B$1041,2,FALSE))","v":132.08975000000001},"2021-07-01","2021-07-01",{"$f":"IF(H789=\"\",\"\",VLOOKUP($G789,WILL5000PR!$A$12:$B$1041,2,FALSE))","v":643.12225999999998},null,"2021-07-01",{"$f":"IF(DJIA!B138=\"\",\"\",DJIA!B138)","v":""},{"$f":"IF(CPIAUCSL!B906=\"\",\"\",CPIAUCSL!B906)","v":""},{"$f":"IF(K789=\"\",\"\",VLOOKUP($G789,DJIA_def!$A$12:$B$1041,2,FALSE))","v":128.55076463402068},577.44302577239773]
["2021-08-01",null,null,null,null,{"$f":"IF(K790=\"\",\"\",VLOOKUP($A790,'Tocalino Index'!$A$12:$B$1041,2,FALSE))","v":139.85386},"2021-08-01","2021-08-01",{"$f":"IF(H790=\"\",\"\",VLOOKUP($G790,WILL5000PR!$A$12:$B$1041,2,FALSE))","v":659.80318},null,"2021-08-01",{"$f":"IF(DJIA!B139=\"\",\"\",DJIA!B139)","v":""},{"$f":"IF(CPIAUCSL!B907=\"\",\"\",CPIAUCSL!B907)","v":""},{"$f":"IF(K790=\"\",\"\",VLOOKUP($G790,DJIA_def!$A$12:$B$1041,2,FALSE))","v":129.5881921794261},582.10309374277529]
["2021-09-01",null,null,null,null,{"$f":"IF(K791=\"\",\"\",VLOOKUP($A791,'Tocalino Index'!$A$12:$B$1041,2,FALSE))","v":145.04004},"2021-09-01","2021-09-01",{"$f":"IF(H791=\"\",\"\",VLOOKUP($G791,WILL5000PR!$A$12:$B$1041,2,FALSE))","v":628.13937999999996},null,"2021-09-01",{"$f":"IF(DJIA!B140=\"\",\"\",DJIA!B140)","v":""},{"$f":"IF(CPIAUCSL!B908=\"\",\"\",CPIAUCSL!B908)","v":""},{"$f":"IF(K791=\"\",\"\",VLOOKUP($G791,DJIA_def!$A$12:$B$1041,2,FALSE))","v":123.50533522121827},554.77923194165589]
["2021-10-01",null,null,null,null,{"$f":"IF(K792=\"\",\"\",VLOOKUP($A792,'Tocalino Index'!$A$12:$B$1041,2,FALSE))","v":139.25020000000001},"2021-10-01","2021-10-01",{"$f":"IF(H792=\"\",\"\",VLOOKUP($G792,WILL5000PR!$A$12:$B$1041,2,FALSE))","v":664.34966999999995},null,"2021-10-01",{"$f":"IF(DJIA!B141=\"\",\"\",DJIA!B141)","v":""},{"$f":"IF(CPIAUCSL!B909=\"\",\"\",CPIAUCSL!B909)","v":""},{"$f":"IF(K792=\"\",\"\",VLOOKUP($G792,DJIA_def!$A$12:$B$1041,2,FALSE))","v":129.53602245029327},581.86875016395686]
["2021-11-01",null,null,null,null,{"$f":"IF(K793=\"\",\"\",VLOOKUP($A793,'Tocalino Index'!$A$12:$B$1041,2,FALSE))","v":139.39048},"2021-11-01","2021-11-01",{"$f":"IF(H793=\"\",\"\",VLOOKUP($G793,WILL5000PR!$A$12:$B$1041,2,FALSE))","v":652.40542000000005},null,"2021-11-01",{"$f":"IF(DJIA!B142=\"\",\"\",DJIA!B142)","v":""},{"$f":"IF(CPIAUCSL!B910=\"\",\"\",CPIAUCSL!B910)","v":""},{"$f":"IF(K793=\"\",\"\",VLOOKUP($G793,DJIA_def!$A$12:$B$1041,2,FALSE))","v":123.72572306080492},555.76920210088952]
["2021-12-01",null,null,null,null,{"$f":"IF(K794=\"\",\"\",VLOOKUP($A794,'Tocalino Index'!$A$12:$B$1041,2,FALSE))","v":134.35222999999999},"2021-12-01","2021-12-01",{"$f":"IF(H794=\"\",\"\",VLOOKUP($G794,WILL5000PR!$A$12:$B$1041,2,FALSE))","v":674.89971000000003},null,"2021-12-01",{"$f":"IF(DJIA!B143=\"\",\"\",DJIA!B143)","v":""},{"$f":"IF(CPIAUCSL!B911=\"\",\"\",CPIAUCSL!B911)","v":""},{"$f":"IF(K794=\"\",\"\",VLOOKUP($G794,DJIA_def!$A$12:$B$1041,2,FALSE))","v":129.36981775589473},581.12216773868454]
["2022-01-01",null,null,null,null,{"$f":"IF(K795=\"\",\"\",VLOOKUP($A795,'Tocalino Index'!$A$12:$B$1041,2,FALSE))","v":126.68631000000001},"2022-01-01","2022-01-01",{"$f":"IF(H795=\"\",\"\",VLOOKUP($G795,WILL5000PR!$A$12:$B$1041,2,FALSE))","v":630.43255999999997},null,"2022-01-01",{"$f":"IF(DJIA!B144=\"\",\"\",DJIA!B144)","v":""},{"$f":"IF(CPIAUCSL!B912=\"\",\"\",CPIAUCSL!B912)","v":""},{"$f":"IF(K795=\"\",\"\",VLOOKUP($G795,DJIA_def!$A$12:$B$1041,2,FALSE))","v":124.3170004140142},558.42518773333518]
["2022-02-01",null,null,null,null,{"$f":"IF(K796=\"\",\"\",VLOOKUP($A796,'Tocalino Index'!$A$12:$B$1041,2,FALSE))","v":124.65054000000001},"2022-02-01","2022-02-01",{"$f":"IF(H796=\"\",\"\",VLOOKUP($G796,WILL5000PR!$A$12:$B$1041,2,FALSE))","v":608.60314000000005},null,"2022-02-01",{"$f":"IF(DJIA!B145=\"\",\"\",DJIA!B145)","v":""},{"$f":"IF(CPIAUCSL!B913=\"\",\"\",CPIAUCSL!B913)","v":""},{"$f":"IF(K796=\"\",\"\",VLOOKUP($G796,DJIA_def!$A$12:$B$1041,2,FALSE))","v":119.08436105547943},534.92045703359724]
["2022-03-01",null,null,null,null,{"$f":"IF(K797=\"\",\"\",VLOOKUP($A797,'Tocalino Index'!$A$12:$B$1041,2,FALSE))","v":126.87678},"2022-03-01","2022-03-01",{"$f":"IF(H797=\"\",\"\",VLOOKUP($G797,WILL5000PR!$A$12:$B$1041,2,FALSE))","v":619.86320999999998},null,"2022-03-01",{"$f":"IF(DJIA!B146=\"\",\"\",DJIA!B146)","v":""},{"$f":"IF(CPIAUCSL!B914=\"\",\"\",CPIAUCSL!B914)","v":""},{"$f":"IF(K797=\"\",\"\",VLOOKUP($G797,DJIA_def!$A$12:$B$1041,2,FALSE))","v":120.63209634329604},541.87279955941528]
["2022-04-01",null,null,null,null,{"$f":"IF(K798=\"\",\"\",VLOOKUP($A798,'Tocalino Index'!$A$12:$B$1041,2,FALSE))","v":129.61713},"2022-04-01","2022-04-01",{"$f":"IF(H798=\"\",\"\",VLOOKUP($G798,WILL5000PR!$A$12:$B$1041,2,FALSE))","v":560.30834000000004},null,"2022-04-01",{"$f":"IF(DJIA!B147=\"\",\"\",DJIA!B147)","v":""},{"$f":"IF(CPIAUCSL!B915=\"\",\"\",CPIAUCSL!B915)","v":""},{"$f":"IF(K798=\"\",\"\",VLOOKUP($G798,DJIA_def!$A$12:$B$1041,2,FALSE))","v":114.26179182359647},513.25773898455668]
["2022-05-01",null,null,null,null,{"$f":"IF(K799=\"\",\"\",VLOOKUP($A799,'Tocalino Index'!$A$12:$B$1041,2,FALSE))","v":132.5324},"2022-05-01","2022-05-01",{"$f":"IF(H799=\"\",\"\",VLOOKUP($G799,WILL5000PR!$A$12:$B$1041,2,FALSE))","v":552.32162000000005},null,"2022-05-01",{"$f":"IF(DJIA!B148=\"\",\"\",DJIA!B148)","v":""},{"$f":"IF(CPIAUCSL!B916=\"\",\"\",CPIAUCSL!B916)","v":""},{"$f":"IF(K799=\"\",\"\",VLOOKUP($G799,DJIA_def!$A$12:$B$1041,2,FALSE))","v":113.26379828886111},508.77480644005146]
["2022-06-01",null,null,null,null,{"$f":"IF(K800=\"\",\"\",VLOOKUP($A800,'Tocalino Index'!$A$12:$B$1041,2,FALSE))","v":134.43949000000001},"2022-06-01","2022-06-01",{"$f":"IF(H800=\"\",\"\",VLOOKUP($G800,WILL5000PR!$A$12:$B$1041,2,FALSE))","v":498.5283},null,"2022-06-01",{"$f":"IF(DJIA!B149=\"\",\"\",DJIA!B149)","v":""},{"$f":"IF(CPIAUCSL!B917=\"\",\"\",CPIAUCSL!B917)","v":""},{"$f":"IF(K800=\"\",\"\",VLOOKUP($G800,DJIA_def!$A$12:$B$1041,2,FALSE))","v":104.4197700931028},469.04791398698598]
["2022-07-01",null,null,null,null,{"$f":"IF(K801=\"\",\"\",VLOOKUP($A801,'Tocalino Index'!$A$12:$B$1041,2,FALSE))","v":135.83852999999999},"2022-07-01","2022-07-01",{"$f":"IF(H801=\"\",\"\",VLOOKUP($G801,WILL5000PR!$A$12:$B$1041,2,FALSE))","v":545.59403999999995},null,"2022-07-01",{"$f":"IF(DJIA!B150=\"\",\"\",DJIA!B150)","v":""},{"$f":"IF(CPIAUCSL!B918=\"\",\"\",CPIAUCSL!B918)","v":""},{"$f":"IF(K801=\"\",\"\",VLOOKUP($G801,DJIA_def!$A$12:$B$1041,2,FALSE))","v":111.48000190070191},500.76209032223596]
["2022-08-01",null,null,null,null,{"$f":"IF(K802=\"\",\"\",VLOOKUP($A802,'Tocalino Index'!$A$12:$B$1041,2,FALSE))","v":128.81352999999999},"2022-08-01","2022-08-01",{"$f":"IF(H802=\"\",\"\",VLOOKUP($G802,WILL5000PR!$A$12:$B$1041,2,FALSE))","v":524.21475999999996},null,"2022-08-01",{"$f":"IF(DJIA!B151=\"\",\"\",DJIA!B151)","v":""},{"$f":"IF(CPIAUCSL!B919=\"\",\"\",CPIAUCSL!B919)","v":""},{"$f":"IF(K802=\"\",\"\",VLOOKUP($G802,DJIA_def!$A$12:$B$1041,2,FALSE))","v":106.69927536231884},479.28732737101092]
["2022-09-01",null,null,null,null,{"$f":"IF(K803=\"\",\"\",VLOOKUP($A803,'Tocalino Index'!$A$12:$B$1041,2,FALSE))","v":125.76103999999999},"2022-09-01","2022-09-01",{"$f":"IF(H803=\"\",\"\",VLOOKUP($G803,WILL5000PR!$A$12:$B$1041,2,FALSE))","v":473.57458000000003},null,"2022-09-01",{"$f":"IF(DJIA!B152=\"\",\"\",DJIA!B152)","v":""},{"$f":"IF(CPIAUCSL!B920=\"\",\"\",CPIAUCSL!B920)","v":""},{"$f":"IF(K803=\"\",\"\",VLOOKUP($G803,DJIA_def!$A$12:$B$1041,2,FALSE))","v":96.869248227046015},435.13138144119188]
["2022-10-01",null,null,null,null,{"$f":"IF(K804=\"\",\"\",VLOOKUP($A804,'Tocalino Index'!$A$12:$B$1041,2,FALSE))","v":128.85691},"2022-10-01","2022-10-01",{"$f":"IF(H804=\"\",\"\",VLOOKUP($G804,WILL5000PR!$A$12:$B$1041,2,FALSE))","v":509.87007},null,"2022-10-01",{"$f":"IF(DJIA!B153=\"\",\"\",DJIA!B153)","v":""},{"$f":"IF(CPIAUCSL!B921=\"\",\"\",CPIAUCSL!B921)","v":""},{"$f":"IF(K804=\"\",\"\",VLOOKUP($G804,DJIA_def!$A$12:$B$1041,2,FALSE))","v":109.84690607308373},493.42631290573547]
["2022-11-01",null,null,null,null,{"$f":"IF(K805=\"\",\"\",VLOOKUP($A805,'Tocalino Index'!$A$12:$B$1041,2,FALSE))","v":133.30475000000001},"2022-11-01","2022-11-01",{"$f":"IF(H805=\"\",\"\",VLOOKUP($G805,WILL5000PR!$A$12:$B$1041,2,FALSE))","v":535.56793000000005},null,"2022-11-01",{"$f":"IF(DJIA!B154=\"\",\"\",DJIA!B154)","v":""},{"$f":"IF(CPIAUCSL!B922=\"\",\"\",CPIAUCSL!B922)","v":""},{"$f":"IF(K805=\"\",\"\",VLOOKUP($G805,DJIA_def!$A$12:$B$1041,2,FALSE))","v":115.84059504752209},520.34963698546164]
["2022-12-01",null,null,null,null,{"$f":"IF(K806=\"\",\"\",VLOOKUP($A806,'Tocalino Index'!$A$12:$B$1041,2,FALSE))","v":138.66369},"2022-12-01","2022-12-01",{"$f":"IF(H806=\"\",\"\",VLOOKUP($G806,WILL5000PR!$A$12:$B$1041,2,FALSE))","v":504.95136000000002},null,"2022-12-01",{"$f":"IF(DJIA!B155=\"\",\"\",DJIA!B155)","v":""},{"$f":"IF(CPIAUCSL!B923=\"\",\"\",CPIAUCSL!B923)","v":""},{"$f":"IF(K806=\"\",\"\",VLOOKUP($G806,DJIA_def!$A$12:$B$1041,2,FALSE))","v":110.86407572159604},497.99538350778892]
["2023-01-01",null,null,null,null,{"$f":"IF(K807=\"\",\"\",VLOOKUP($A807,'Tocalino Index'!$A$12:$B$1041,2,FALSE))","v":143.03798},"2023-01-01","2023-01-01",{"$f":"IF(H807=\"\",\"\",VLOOKUP($G807,WILL5000PR!$A$12:$B$1041,2,FALSE))","v":534.97433000000001},null,"2023-01-01",{"$f":"IF(DJIA!B156=\"\",\"\",DJIA!B156)","v":""},{"$f":"IF(CPIAUCSL!B924=\"\",\"\",CPIAUCSL!B924)","v":""},{"$f":"IF(K807=\"\",\"\",VLOOKUP($G807,DJIA_def!$A$12:$B$1041,2,FALSE))","v":113.41749407724865},509.46519954154445]
["2023-02-01",null,null,null,null,{"$f":"IF(K808=\"\",\"\",VLOOKUP($A808,'Tocalino Index'!$A$12:$B$1041,2,FALSE))","v":140.38750999999999},"2023-02-01","2023-02-01",{"$f":"IF(H808=\"\",\"\",VLOOKUP($G808,WILL5000PR!$A$12:$B$1041,2,FALSE))","v":518.66075000000001},null,"2023-02-01",{"$f":"IF(DJIA!B157=\"\",\"\",DJIA!B157)","v":""},{"$f":"IF(CPIAUCSL!B925=\"\",\"\",CPIAUCSL!B925)","v":""},{"$f":"IF(K808=\"\",\"\",VLOOKUP($G808,DJIA_def!$A$12:$B$1041,2,FALSE))","v":108.26095316395269},486.30229890870947]
["2023-03-01",null,null,null,null,{"$f":"IF(K809=\"\",\"\",VLOOKUP($A809,'Tocalino Index'!$A$12:$B$1041,2,FALSE))","v":140.80177},"2023-03-01","2023-03-01",{"$f":"IF(H809=\"\",\"\",VLOOKUP($G809,WILL5000PR!$A$12:$B$1041,2,FALSE))","v":530.37012000000004},null,"2023-03-01",{"$f":"IF(DJIA!B158=\"\",\"\",DJIA!B158)","v":""},{"$f":"IF(CPIAUCSL!B926=\"\",\"\",CPIAUCSL!B926)","v":""},{"$f":"IF(K809=\"\",\"\",VLOOKUP($G809,DJIA_def!$A$12:$B$1041,2,FALSE))","v":110.24939696760855},495.23428005896034]
["2023-04-01",null,null,null,null,{"$f":"IF(K810=\"\",\"\",VLOOKUP($A810,'Tocalino Index'!$A$12:$B$1041,2,FALSE))","v":143.47413},"2023-04-01","2023-04-01",{"$f":"IF(H810=\"\",\"\",VLOOKUP($G810,WILL5000PR!$A$12:$B$1041,2,FALSE))","v":532.69168999999999},null,"2023-04-01",{"$f":"IF(DJIA!B159=\"\",\"\",DJIA!B159)","v":""},{"$f":"IF(CPIAUCSL!B927=\"\",\"\",CPIAUCSL!B927)","v":""},{"$f":"IF(K810=\"\",\"\",VLOOKUP($G810,DJIA_def!$A$12:$B$1041,2,FALSE))","v":112.56564482797324},505.63873915911159]
["2023-05-01",null,null,null,null,{"$f":"IF(K811=\"\",\"\",VLOOKUP($A811,'Tocalino Index'!$A$12:$B$1041,2,FALSE))","v":142.03914},"2023-05-01",{"$f":"IF(($G$13-G811)<40,\"\",G811)","v":"2023-05-01"},{"$f":"IF(H811=\"\",\"\",VLOOKUP($G811,WILL5000PR!$A$12:$B$1041,2,FALSE))","v":532.69237999999996},null,"2023-05-01",{"$f":"IF(DJIA!B160=\"\",\"\",DJIA!B160)","v":""},{"$f":"IF(CPIAUCSL!B928=\"\",\"\",CPIAUCSL!B928)","v":""},{"$f":"IF(K811=\"\",\"\",VLOOKUP($G811,DJIA_def!$A$12:$B$1041,2,FALSE))","v":108.5028718009588},487.38898423602933]
["2023-06-01",null,null,null,null,{"$f":"IF(K812=\"\",\"\",VLOOKUP($A812,'Tocalino Index'!$A$12:$B$1041,2,FALSE))","v":151.56354999999999},"2023-06-01","2023-06-01",{"$f":"IF(H812=\"\",\"\",VLOOKUP($G812,WILL5000PR!$A$12:$B$1041,2,FALSE))","v":566.69527000000005},null,"2023-06-01",{"$f":"IF(DJIA!B161=\"\",\"\",DJIA!B161)","v":""},{"$f":"IF(CPIAUCSL!B929=\"\",\"\",CPIAUCSL!B929)","v":""},{"$f":"IF(K812=\"\",\"\",VLOOKUP($G812,DJIA_def!$A$12:$B$1041,2,FALSE))","v":113.24212334740868},508.67744378482837]
["2023-07-01",null,null,null,null,{"$f":"IF(K813=\"\",\"\",VLOOKUP($A813,'Tocalino Index'!$A$12:$B$1041,2,FALSE))","v":156.42486},"2023-07-01","2023-07-01",{"$f":"IF(H813=\"\",\"\",VLOOKUP($G813,WILL5000PR!$A$12:$B$1041,2,FALSE))","v":585.36342999999999},null,"2023-07-01",{"$f":"IF(DJIA!B162=\"\",\"\",DJIA!B162)","v":""},{"$f":"IF(CPIAUCSL!B930=\"\",\"\",CPIAUCSL!B930)","v":""},{"$f":"IF(K813=\"\",\"\",VLOOKUP($G813,DJIA_def!$A$12:$B$1041,2,FALSE))","v":116.83838894949203},524.83167279046916]
["2023-08-01",null,null,null,null,{"$f":"IF(K814=\"\",\"\",VLOOKUP($A814,'Tocalino Index'!$A$12:$B$1041,2,FALSE))","v":156.81313},"2023-08-01","2023-08-01",{"$f":"IF(H814=\"\",\"\",VLOOKUP($G814,WILL5000PR!$A$12:$B$1041,2,FALSE))","v":570.50050999999996},null,"2023-08-01",{"$f":"IF(DJIA!B163=\"\",\"\",DJIA!B163)","v":""},{"$f":"IF(CPIAUCSL!B931=\"\",\"\",CPIAUCSL!B931)","v":""},{"$f":"IF(K814=\"\",\"\",VLOOKUP($G814,DJIA_def!$A$12:$B$1041,2,FALSE))","v":113.37063169958435},509.25469629615031]
["2023-09-01",null,null,null,null,{"$f":"IF(K815=\"\",\"\",VLOOKUP($A815,'Tocalino Index'!$A$12:$B$1041,2,FALSE))","v":162.02592000000001},"2023-09-01","2023-09-01",{"$f":"IF(H815=\"\",\"\",VLOOKUP($G815,WILL5000PR!$A$12:$B$1041,2,FALSE))","v":541.31232},null,"2023-09-01",{"$f":"IF(DJIA!B164=\"\",\"\",DJIA!B164)","v":""},{"$f":"IF(CPIAUCSL!B932=\"\",\"\",CPIAUCSL!B932)","v":""},{"$f":"IF(K815=\"\",\"\",VLOOKUP($G815,DJIA_def!$A$12:$B$1041,2,FALSE))","v":108.97421304080578},489.5062233865192]
["2023-10-01",null,null,null,null,{"$f":"IF(K816=\"\",\"\",VLOOKUP($A816,'Tocalino Index'!$A$12:$B$1041,2,FALSE))","v":164.38559000000001},"2023-10-01","2023-10-01",{"$f":"IF(H816=\"\",\"\",VLOOKUP($G816,WILL5000PR!$A$12:$B$1041,2,FALSE))","v":526.62653999999998},null,"2023-10-01",{"$f":"IF(DJIA!B165=\"\",\"\",DJIA!B165)","v":""},{"$f":"IF(CPIAUCSL!B933=\"\",\"\",CPIAUCSL!B933)","v":""},{"$f":"IF(K816=\"\",\"\",VLOOKUP($G816,DJIA_def!$A$12:$B$1041,2,FALSE))","v":107.44742684944688},482.64798305978314]
["2023-11-01",null,null,null,null,{"$f":"IF(K817=\"\",\"\",VLOOKUP($A817,'Tocalino Index'!$A$12:$B$1041,2,FALSE))","v":167.18056000000001},"2023-11-01","2023-11-01",{"$f":"IF(H817=\"\",\"\",VLOOKUP($G817,WILL5000PR!$A$12:$B$1041,2,FALSE))","v":575.87911999999994},null,"2023-11-01",{"$f":"IF(DJIA!B166=\"\",\"\",DJIA!B166)","v":""},{"$f":"IF(CPIAUCSL!B934=\"\",\"\",CPIAUCSL!B934)","v":""},{"$f":"IF(K817=\"\",\"\",VLOOKUP($G817,DJIA_def!$A$12:$B$1041,2,FALSE))","v":116.75513206480967},524.45768740388485]
["2023-12-01",null,null,null,null,{"$f":"IF(K818=\"\",\"\",VLOOKUP($A818,'Tocalino Index'!$A$12:$B$1041,2,FALSE))","v":169.29548},"2023-12-01","2023-12-01",{"$f":"IF(H818=\"\",\"\",VLOOKUP($G818,WILL5000PR!$A$12:$B$1041,2,FALSE))","v":606.52314999999999},null,"2023-12-01",{"$f":"IF(DJIA!B167=\"\",\"\",DJIA!B167)","v":""},{"$f":"IF(CPIAUCSL!B935=\"\",\"\",CPIAUCSL!B935)","v":""},{"$f":"IF(K818=\"\",\"\",VLOOKUP($G818,DJIA_def!$A$12:$B$1041,2,FALSE))","v":122.03186012627489},548.16046215334143]
["",null,null,null,null,{"$f":"IF(K819=\"\",\"\",VLOOKUP($A819,'Tocalino Index'!$A$12:$B$1041,2,FALSE))","v":""},"2024-01-01","",{"$f":"IF(H819=\"\",\"\",VLOOKUP($G819,WILL5000PR!$A$12:$B$1041,2,FALSE))","v":""},null,"",{"$f":"IF(DJIA!B168=\"\",\"\",DJIA!B168)","v":""},{"$f":"IF(CPIAUCSL!B936=\"\",\"\",CPIAUCSL!B936)","v":""},{"$f":"IF(K819=\"\",\"\",VLOOKUP($G819,DJIA_def!$A$12:$B$1041,2,FALSE))","v":""},""]
["",null,null,null,null,{"$f":"IF(K820=\"\",\"\",VLOOKUP($A820,'Tocalino Index'!$A$12:$B$1041,2,FALSE))","v":""},"2024-02-01","",{"$f":"IF(H820=\"\",\"\",VLOOKUP($G820,WILL5000PR!$A$12:$B$1041,2,FALSE))","v":""},null,"",{"$f":"IF(DJIA!B169=\"\",\"\",DJIA!B169)","v":""},{"$f":"IF(CPIAUCSL!B937=\"\",\"\",CPIAUCSL!B937)","v":""},{"$f":"IF(K820=\"\",\"\",VLOOKUP($G820,DJIA_def!$A$12:$B$1041,2,FALSE))","v":""},""]
["",null,null,null,null,{"$f":"IF(K821=\"\",\"\",VLOOKUP($A821,'Tocalino Index'!$A$12:$B$1041,2,FALSE))","v":""},"2024-03-01","",{"$f":"IF(H821=\"\",\"\",VLOOKUP($G821,WILL5000PR!$A$12:$B$1041,2,FALSE))","v":""},null,"",{"$f":"IF(DJIA!B170=\"\",\"\",DJIA!B170)","v":""},{"$f":"IF(CPIAUCSL!B938=\"\",\"\",CPIAUCSL!B938)","v":""},{"$f":"IF(K821=\"\",\"\",VLOOKUP($G821,DJIA_def!$A$12:$B$1041,2,FALSE))","v":""},""]
["",null,null,null,null,{"$f":"IF(K822=\"\",\"\",VLOOKUP($A822,'Tocalino Index'!$A$12:$B$1041,2,FALSE))","v":""},"2024-04-01","",{"$f":"IF(H822=\"\",\"\",VLOOKUP($G822,WILL5000PR!$A$12:$B$1041,2,FALSE))","v":""},null,"",{"$f":"IF(DJIA!B171=\"\",\"\",DJIA!B171)","v":""},{"$f":"IF(CPIAUCSL!B939=\"\",\"\",CPIAUCSL!B939)","v":""},{"$f":"IF(K822=\"\",\"\",VLOOKUP($G822,DJIA_def!$A$12:$B$1041,2,FALSE))","v":""},""]
["",null,null,null,null,{"$f":"IF(K823=\"\",\"\",VLOOKUP($A823,'Tocalino Index'!$A$12:$B$1041,2,FALSE))","v":""},"2024-05-01","",{"$f":"IF(H823=\"\",\"\",VLOOKUP($G823,WILL5000PR!$A$12:$B$1041,2,FALSE))","v":""},null,"",{"$f":"IF(DJIA!B172=\"\",\"\",DJIA!B172)","v":""},{"$f":"IF(CPIAUCSL!B940=\"\",\"\",CPIAUCSL!B940)","v":""},{"$f":"IF(K823=\"\",\"\",VLOOKUP($G823,DJIA_def!$A$12:$B$1041,2,FALSE))","v":""},""]
["",null,null,null,null,{"$f":"IF(K824=\"\",\"\",VLOOKUP($A824,'Tocalino Index'!$A$12:$B$1041,2,FALSE))","v":""},"2024-06-01","",{"$f":"IF(H824=\"\",\"\",VLOOKUP($G824,WILL5000PR!$A$12:$B$1041,2,FALSE))","v":""},null,"",{"$f":"IF(DJIA!B173=\"\",\"\",DJIA!B173)","v":""},{"$f":"IF(CPIAUCSL!B941=\"\",\"\",CPIAUCSL!B941)","v":""},{"$f":"IF(K824=\"\",\"\",VLOOKUP($G824,DJIA_def!$A$12:$B$1041,2,FALSE))","v":""},""]
["",null,null,null,null,{"$f":"IF(K825=\"\",\"\",VLOOKUP($A825,'Tocalino Index'!$A$12:$B$1041,2,FALSE))","v":""},"2024-07-01","",{"$f":"IF(H825=\"\",\"\",VLOOKUP($G825,WILL5000PR!$A$12:$B$1041,2,FALSE))","v":""},null,"",{"$f":"IF(DJIA!B174=\"\",\"\",DJIA!B174)","v":""},{"$f":"IF(CPIAUCSL!B942=\"\",\"\",CPIAUCSL!B942)","v":""},{"$f":"IF(K825=\"\",\"\",VLOOKUP($G825,DJIA_def!$A$12:$B$1041,2,FALSE))","v":""},""]
["",null,null,null,null,{"$f":"IF(K826=\"\",\"\",VLOOKUP($A826,'Tocalino Index'!$A$12:$B$1041,2,FALSE))","v":""},"2024-08-01","",{"$f":"IF(H826=\"\",\"\",VLOOKUP($G826,WILL5000PR!$A$12:$B$1041,2,FALSE))","v":""},null,"",{"$f":"IF(DJIA!B175=\"\",\"\",DJIA!B175)","v":""},{"$f":"IF(CPIAUCSL!B943=\"\",\"\",CPIAUCSL!B943)","v":""},{"$f":"IF(K826=\"\",\"\",VLOOKUP($G826,DJIA_def!$A$12:$B$1041,2,FALSE))","v":""},""]
["",null,null,null,null,{"$f":"IF(K827=\"\",\"\",VLOOKUP($A827,'Tocalino Index'!$A$12:$B$1041,2,FALSE))","v":""},"2024-09-01","",{"$f":"IF(H827=\"\",\"\",VLOOKUP($G827,WILL5000PR!$A$12:$B$1041,2,FALSE))","v":""},null,"",{"$f":"IF(DJIA!B176=\"\",\"\",DJIA!B176)","v":""},{"$f":"IF(CPIAUCSL!B944=\"\",\"\",CPIAUCSL!B944)","v":""},{"$f":"IF(K827=\"\",\"\",VLOOKUP($G827,DJIA_def!$A$12:$B$1041,2,FALSE))","v":""},""]
["",null,null,null,null,{"$f":"IF(K828=\"\",\"\",VLOOKUP($A828,'Tocalino Index'!$A$12:$B$1041,2,FALSE))","v":""},"2024-10-01","",{"$f":"IF(H828=\"\",\"\",VLOOKUP($G828,WILL5000PR!$A$12:$B$1041,2,FALSE))","v":""},null,"",{"$f":"IF(DJIA!B177=\"\",\"\",DJIA!B177)","v":""},{"$f":"IF(CPIAUCSL!B945=\"\",\"\",CPIAUCSL!B945)","v":""},{"$f":"IF(K828=\"\",\"\",VLOOKUP($G828,DJIA_def!$A$12:$B$1041,2,FALSE))","v":""},""]
["",null,null,null,null,{"$f":"IF(K829=\"\",\"\",VLOOKUP($A829,'Tocalino Index'!$A$12:$B$1041,2,FALSE))","v":""},"2024-11-01","",{"$f":"IF(H829=\"\",\"\",VLOOKUP($G829,WILL5000PR!$A$12:$B$1041,2,FALSE))","v":""},null,"",{"$f":"IF(DJIA!B178=\"\",\"\",DJIA!B178)","v":""},{"$f":"IF(CPIAUCSL!B946=\"\",\"\",CPIAUCSL!B946)","v":""},{"$f":"IF(K829=\"\",\"\",VLOOKUP($G829,DJIA_def!$A$12:$B$1041,2,FALSE))","v":""},""]
["",null,null,null,null,{"$f":"IF(K830=\"\",\"\",VLOOKUP($A830,'Tocalino Index'!$A$12:$B$1041,2,FALSE))","v":""},"2024-12-01","",{"$f":"IF(H830=\"\",\"\",VLOOKUP($G830,WILL5000PR!$A$12:$B$1041,2,FALSE))","v":""},null,"",{"$f":"IF(DJIA!B179=\"\",\"\",DJIA!B179)","v":""},{"$f":"IF(CPIAUCSL!B947=\"\",\"\",CPIAUCSL!B947)","v":""},{"$f":"IF(K830=\"\",\"\",VLOOKUP($G830,DJIA_def!$A$12:$B$1041,2,FALSE))","v":""},""]
["",null,null,null,null,{"$f":"IF(K831=\"\",\"\",VLOOKUP($A831,'Tocalino Index'!$A$12:$B$1041,2,FALSE))","v":""},"2025-01-01","",{"$f":"IF(H831=\"\",\"\",VLOOKUP($G831,WILL5000PR!$A$12:$B$1041,2,FALSE))","v":""},null,"",{"$f":"IF(DJIA!B180=\"\",\"\",DJIA!B180)","v":""},{"$f":"IF(CPIAUCSL!B948=\"\",\"\",CPIAUCSL!B948)","v":""},{"$f":"IF(K831=\"\",\"\",VLOOKUP($G831,DJIA_def!$A$12:$B$1041,2,FALSE))","v":""},""]
[{"$f":"IF((TODAY()-G832)<40,\"\",G832)","v":""},null,null,null,null,{"$f":"IF(K832=\"\",\"\",VLOOKUP($A832,'Tocalino Index'!$A$12:$B$1041,2,FALSE))","v":""},"2025-02-01","",{"$f":"IF(H832=\"\",\"\",VLOOKUP($G832,WILL5000PR!$A$12:$B$1041,2,FALSE))","v":""},null,"",{"$f":"IF(DJIA!B181=\"\",\"\",DJIA!B181)","v":""},{"$f":"IF(CPIAUCSL!B949=\"\",\"\",CPIAUCSL!B949)","v":""},{"$f":"IF(K832=\"\",\"\",VLOOKUP($G832,DJIA_def!$A$12:$B$1041,2,FALSE))","v":""},""]
["",null,null,null,null,{"$f":"IF(K833=\"\",\"\",VLOOKUP($A833,'Tocalino Index'!$A$12:$B$1041,2,FALSE))","v":""},"2025-03-01","",{"$f":"IF(H833=\"\",\"\",VLOOKUP($G833,WILL5000PR!$A$12:$B$1041,2,FALSE))","v":""},null,"",{"$f":"IF(DJIA!B182=\"\",\"\",DJIA!B182)","v":""},{"$f":"IF(CPIAUCSL!B950=\"\",\"\",CPIAUCSL!B950)","v":""},{"$f":"IF(K833=\"\",\"\",VLOOKUP($G833,DJIA_def!$A$12:$B$1041,2,FALSE))","v":""},""]
["",null,null,null,null,{"$f":"IF(K834=\"\",\"\",VLOOKUP($A834,'Tocalino Index'!$A$12:$B$1041,2,FALSE))","v":""},"2025-04-01","",{"$f":"IF(H834=\"\",\"\",VLOOKUP($G834,WILL5000PR!$A$12:$B$1041,2,FALSE))","v":""},null,"",{"$f":"IF(DJIA!B183=\"\",\"\",DJIA!B183)","v":""},{"$f":"IF(CPIAUCSL!B951=\"\",\"\",CPIAUCSL!B951)","v":""},{"$f":"IF(K834=\"\",\"\",VLOOKUP($G834,DJIA_def!$A$12:$B$1041,2,FALSE))","v":""},""]
["",null,null,null,null,{"$f":"IF(K835=\"\",\"\",VLOOKUP($A835,'Tocalino Index'!$A$12:$B$1041,2,FALSE))","v":""},"2025-05-01","",{"$f":"IF(H835=\"\",\"\",VLOOKUP($G835,WILL5000PR!$A$12:$B$1041,2,FALSE))","v":""},null,"",{"$f":"IF(DJIA!B184=\"\",\"\",DJIA!B184)","v":""},{"$f":"IF(CPIAUCSL!B952=\"\",\"\",CPIAUCSL!B952)","v":""},{"$f":"IF(K835=\"\",\"\",VLOOKUP($G835,DJIA_def!$A$12:$B$1041,2,FALSE))","v":""},""]
["",null,null,null,null,{"$f":"IF(K836=\"\",\"\",VLOOKUP($A836,'Tocalino Index'!$A$12:$B$1041,2,FALSE))","v":""},"2025-06-01","",{"$f":"IF(H836=\"\",\"\",VLOOKUP($G836,WILL5000PR!$A$12:$B$1041,2,FALSE))","v":""},null,"",{"$f":"IF(DJIA!B185=\"\",\"\",DJIA!B185)","v":""},{"$f":"IF(CPIAUCSL!B953=\"\",\"\",CPIAUCSL!B953)","v":""},{"$f":"IF(K836=\"\",\"\",VLOOKUP($G836,DJIA_def!$A$12:$B$1041,2,FALSE))","v":""},""]
["",null,null,null,null,{"$f":"IF(K837=\"\",\"\",VLOOKUP($A837,'Tocalino Index'!$A$12:$B$1041,2,FALSE))","v":""},"2025-07-01","",{"$f":"IF(H837=\"\",\"\",VLOOKUP($G837,WILL5000PR!$A$12:$B$1041,2,FALSE))","v":""},null,"",{"$f":"IF(DJIA!B186=\"\",\"\",DJIA!B186)","v":""},{"$f":"IF(CPIAUCSL!B954=\"\",\"\",CPIAUCSL!B954)","v":""},{"$f":"IF(K837=\"\",\"\",VLOOKUP($G837,DJIA_def!$A$12:$B$1041,2,FALSE))","v":""},""]
["",null,null,null,null,{"$f":"IF(K838=\"\",\"\",VLOOKUP($A838,'Tocalino Index'!$A$12:$B$1041,2,FALSE))","v":""},"2025-08-01","",{"$f":"IF(H838=\"\",\"\",VLOOKUP($G838,WILL5000PR!$A$12:$B$1041,2,FALSE))","v":""},null,{"$f":"IF(($G$13-G838)<40,\"\",G838)","v":""},{"$f":"IF(DJIA!B187=\"\",\"\",DJIA!B187)","v":""},{"$f":"IF(CPIAUCSL!B955=\"\",\"\",CPIAUCSL!B955)","v":""},{"$f":"IF(K838=\"\",\"\",VLOOKUP($G838,DJIA_def!$A$12:$B$1041,2,FALSE))","v":""},{"$f":"IF(K838=\"\",\"\",N838/$P$14)","v":""}]
["",null,null,null,null,{"$f":"IF(K839=\"\",\"\",VLOOKUP($A839,'Tocalino Index'!$A$12:$B$1041,2,FALSE))","v":""},"2025-09-01","",{"$f":"IF(H839=\"\",\"\",VLOOKUP($G839,WILL5000PR!$A$12:$B$1041,2,FALSE))","v":""},null,"",{"$f":"IF(DJIA!B188=\"\",\"\",DJIA!B188)","v":""},{"$f":"IF(CPIAUCSL!B956=\"\",\"\",CPIAUCSL!B956)","v":""},{"$f":"IF(K839=\"\",\"\",VLOOKUP($G839,DJIA_def!$A$12:$B$1041,2,FALSE))","v":""},""]
["",null,null,null,null,{"$f":"IF(K840=\"\",\"\",VLOOKUP($A840,'Tocalino Index'!$A$12:$B$1041,2,FALSE))","v":""},"2025-10-01","",{"$f":"IF(H840=\"\",\"\",VLOOKUP($G840,WILL5000PR!$A$12:$B$1041,2,FALSE))","v":""},null,"",{"$f":"IF(DJIA!B189=\"\",\"\",DJIA!B189)","v":""},{"$f":"IF(CPIAUCSL!B957=\"\",\"\",CPIAUCSL!B957)","v":""},{"$f":"IF(K840=\"\",\"\",VLOOKUP($G840,DJIA_def!$A$12:$B$1041,2,FALSE))","v":""},""]
["",null,null,null,null,{"$f":"IF(K841=\"\",\"\",VLOOKUP($A841,'Tocalino Index'!$A$12:$B$1041,2,FALSE))","v":""},"2025-11-01","",{"$f":"IF(H841=\"\",\"\",VLOOKUP($G841,WILL5000PR!$A$12:$B$1041,2,FALSE))","v":""},null,"",{"$f":"IF(DJIA!B190=\"\",\"\",DJIA!B190)","v":""},{"$f":"IF(CPIAUCSL!B958=\"\",\"\",CPIAUCSL!B958)","v":""},{"$f":"IF(K841=\"\",\"\",VLOOKUP($G841,DJIA_def!$A$12:$B$1041,2,FALSE))","v":""},""]
["",null,null,null,null,{"$f":"IF(K842=\"\",\"\",VLOOKUP($A842,'Tocalino Index'!$A$12:$B$1041,2,FALSE))","v":""},"2025-12-01","",{"$f":"IF(H842=\"\",\"\",VLOOKUP($G842,WILL5000PR!$A$12:$B$1041,2,FALSE))","v":""},null,"",{"$f":"IF(DJIA!B191=\"\",\"\",DJIA!B191)","v":""},{"$f":"IF(CPIAUCSL!B959=\"\",\"\",CPIAUCSL!B959)","v":""},{"$f":"IF(K842=\"\",\"\",VLOOKUP($G842,DJIA_def!$A$12:$B$1041,2,FALSE))","v":""},""]
["",null,null,null,null,{"$f":"IF(K843=\"\",\"\",VLOOKUP($A843,'Tocalino Index'!$A$12:$B$1041,2,FALSE))","v":""},"2026-01-01","",{"$f":"IF(H843=\"\",\"\",VLOOKUP($G843,WILL5000PR!$A$12:$B$1041,2,FALSE))","v":""},null,"",{"$f":"IF(DJIA!B192=\"\",\"\",DJIA!B192)","v":""},{"$f":"IF(CPIAUCSL!B960=\"\",\"\",CPIAUCSL!B960)","v":""},{"$f":"IF(K843=\"\",\"\",VLOOKUP($G843,DJIA_def!$A$12:$B$1041,2,FALSE))","v":""},""]
["",null,null,null,null,{"$f":"IF(K844=\"\",\"\",VLOOKUP($A844,'Tocalino Index'!$A$12:$B$1041,2,FALSE))","v":""},"2026-02-01","",{"$f":"IF(H844=\"\",\"\",VLOOKUP($G844,WILL5000PR!$A$12:$B$1041,2,FALSE))","v":""},null,"",{"$f":"IF(DJIA!B193=\"\",\"\",DJIA!B193)","v":""},{"$f":"IF(CPIAUCSL!B961=\"\",\"\",CPIAUCSL!B961)","v":""},{"$f":"IF(K844=\"\",\"\",VLOOKUP($G844,DJIA_def!$A$12:$B$1041,2,FALSE))","v":""},""]
["",null,null,null,null,{"$f":"IF(K845=\"\",\"\",VLOOKUP($A845,'Tocalino Index'!$A$12:$B$1041,2,FALSE))","v":""},"2026-03-01","",{"$f":"IF(H845=\"\",\"\",VLOOKUP($G845,WILL5000PR!$A$12:$B$1041,2,FALSE))","v":""},null,"",{"$f":"IF(DJIA!B194=\"\",\"\",DJIA!B194)","v":""},{"$f":"IF(CPIAUCSL!B962=\"\",\"\",CPIAUCSL!B962)","v":""},{"$f":"IF(K845=\"\",\"\",VLOOKUP($G845,DJIA_def!$A$12:$B$1041,2,FALSE))","v":""},""]
["",null,null,null,null,{"$f":"IF(K846=\"\",\"\",VLOOKUP($A846,'Tocalino Index'!$A$12:$B$1041,2,FALSE))","v":""},"2026-04-01","",{"$f":"IF(H846=\"\",\"\",VLOOKUP($G846,WILL5000PR!$A$12:$B$1041,2,FALSE))","v":""},null,"",{"$f":"IF(DJIA!B195=\"\",\"\",DJIA!B195)","v":""},{"$f":"IF(CPIAUCSL!B963=\"\",\"\",CPIAUCSL!B963)","v":""},{"$f":"IF(K846=\"\",\"\",VLOOKUP($G846,DJIA_def!$A$12:$B$1041,2,FALSE))","v":""},""]
["",null,null,null,null,{"$f":"IF(K847=\"\",\"\",VLOOKUP($A847,'Tocalino Index'!$A$12:$B$1041,2,FALSE))","v":""},"2026-05-01","",{"$f":"IF(H847=\"\",\"\",VLOOKUP($G847,WILL5000PR!$A$12:$B$1041,2,FALSE))","v":""},null,"",{"$f":"IF(DJIA!B196=\"\",\"\",DJIA!B196)","v":""},{"$f":"IF(CPIAUCSL!B964=\"\",\"\",CPIAUCSL!B964)","v":""},{"$f":"IF(K847=\"\",\"\",VLOOKUP($G847,DJIA_def!$A$12:$B$1041,2,FALSE))","v":""},""]
["",null,null,null,null,{"$f":"IF(K848=\"\",\"\",VLOOKUP($A848,'Tocalino Index'!$A$12:$B$1041,2,FALSE))","v":""},"2026-06-01","",{"$f":"IF(H848=\"\",\"\",VLOOKUP($G848,WILL5000PR!$A$12:$B$1041,2,FALSE))","v":""},null,"",{"$f":"IF(DJIA!B197=\"\",\"\",DJIA!B197)","v":""},{"$f":"IF(CPIAUCSL!B965=\"\",\"\",CPIAUCSL!B965)","v":""},{"$f":"IF(K848=\"\",\"\",VLOOKUP($G848,DJIA_def!$A$12:$B$1041,2,FALSE))","v":""},""]
["",null,null,null,null,{"$f":"IF(K849=\"\",\"\",VLOOKUP($A849,'Tocalino Index'!$A$12:$B$1041,2,FALSE))","v":""},"2026-07-01","",{"$f":"IF(H849=\"\",\"\",VLOOKUP($G849,WILL5000PR!$A$12:$B$1041,2,FALSE))","v":""},null,"",{"$f":"IF(DJIA!B198=\"\",\"\",DJIA!B198)","v":""},{"$f":"IF(CPIAUCSL!B966=\"\",\"\",CPIAUCSL!B966)","v":""},{"$f":"IF(K849=\"\",\"\",VLOOKUP($G849,DJIA_def!$A$12:$B$1041,2,FALSE))","v":""},""]
["",null,null,null,null,{"$f":"IF(K850=\"\",\"\",VLOOKUP($A850,'Tocalino Index'!$A$12:$B$1041,2,FALSE))","v":""},"2026-08-01","",{"$f":"IF(H850=\"\",\"\",VLOOKUP($G850,WILL5000PR!$A$12:$B$1041,2,FALSE))","v":""},null,"",{"$f":"IF(DJIA!B199=\"\",\"\",DJIA!B199)","v":""},{"$f":"IF(CPIAUCSL!B967=\"\",\"\",CPIAUCSL!B967)","v":""},{"$f":"IF(K850=\"\",\"\",VLOOKUP($G850,DJIA_def!$A$12:$B$1041,2,FALSE))","v":""},""]
["",null,null,null,null,{"$f":"IF(K851=\"\",\"\",VLOOKUP($A851,'Tocalino Index'!$A$12:$B$1041,2,FALSE))","v":""},"2026-09-01","",{"$f":"IF(H851=\"\",\"\",VLOOKUP($G851,WILL5000PR!$A$12:$B$1041,2,FALSE))","v":""},null,"",{"$f":"IF(DJIA!B200=\"\",\"\",DJIA!B200)","v":""},{"$f":"IF(CPIAUCSL!B968=\"\",\"\",CPIAUCSL!B968)","v":""},{"$f":"IF(K851=\"\",\"\",VLOOKUP($G851,DJIA_def!$A$12:$B$1041,2,FALSE))","v":""},""]
["",null,null,null,null,{"$f":"IF(K852=\"\",\"\",VLOOKUP($A852,'Tocalino Index'!$A$12:$B$1041,2,FALSE))","v":""},"2026-10-01","",{"$f":"IF(H852=\"\",\"\",VLOOKUP($G852,WILL5000PR!$A$12:$B$1041,2,FALSE))","v":""},null,"",{"$f":"IF(DJIA!B201=\"\",\"\",DJIA!B201)","v":""},{"$f":"IF(CPIAUCSL!B969=\"\",\"\",CPIAUCSL!B969)","v":""},{"$f":"IF(K852=\"\",\"\",VLOOKUP($G852,DJIA_def!$A$12:$B$1041,2,FALSE))","v":""},""]
["",null,null,null,null,{"$f":"IF(K853=\"\",\"\",VLOOKUP($A853,'Tocalino Index'!$A$12:$B$1041,2,FALSE))","v":""},"2026-11-01","",{"$f":"IF(H853=\"\",\"\",VLOOKUP($G853,WILL5000PR!$A$12:$B$1041,2,FALSE))","v":""},null,"",{"$f":"IF(DJIA!B202=\"\",\"\",DJIA!B202)","v":""},{"$f":"IF(CPIAUCSL!B970=\"\",\"\",CPIAUCSL!B970)","v":""},{"$f":"IF(K853=\"\",\"\",VLOOKUP($G853,DJIA_def!$A$12:$B$1041,2,FALSE))","v":""},""]
["",null,null,null,null,{"$f":"IF(K854=\"\",\"\",VLOOKUP($A854,'Tocalino Index'!$A$12:$B$1041,2,FALSE))","v":""},"2026-12-01","",{"$f":"IF(H854=\"\",\"\",VLOOKUP($G854,WILL5000PR!$A$12:$B$1041,2,FALSE))","v":""},null,"",{"$f":"IF(DJIA!B203=\"\",\"\",DJIA!B203)","v":""},{"$f":"IF(CPIAUCSL!B971=\"\",\"\",CPIAUCSL!B971)","v":""},{"$f":"IF(K854=\"\",\"\",VLOOKUP($G854,DJIA_def!$A$12:$B$1041,2,FALSE))","v":""},""]
["",null,null,null,null,{"$f":"IF(K855=\"\",\"\",VLOOKUP($A855,'Tocalino Index'!$A$12:$B$1041,2,FALSE))","v":""},"2027-01-01","",{"$f":"IF(H855=\"\",\"\",VLOOKUP($G855,WILL5000PR!$A$12:$B$1041,2,FALSE))","v":""},null,"",{"$f":"IF(DJIA!B204=\"\",\"\",DJIA!B204)","v":""},{"$f":"IF(CPIAUCSL!B972=\"\",\"\",CPIAUCSL!B972)","v":""},{"$f":"IF(K855=\"\",\"\",VLOOKUP($G855,DJIA_def!$A$12:$B$1041,2,FALSE))","v":""},""]
["",null,null,null,null,{"$f":"IF(K856=\"\",\"\",VLOOKUP($A856,'Tocalino Index'!$A$12:$B$1041,2,FALSE))","v":""},"2027-02-01","",{"$f":"IF(H856=\"\",\"\",VLOOKUP($G856,WILL5000PR!$A$12:$B$1041,2,FALSE))","v":""},null,"",{"$f":"IF(DJIA!B205=\"\",\"\",DJIA!B205)","v":""},{"$f":"IF(CPIAUCSL!B973=\"\",\"\",CPIAUCSL!B973)","v":""},{"$f":"IF(K856=\"\",\"\",VLOOKUP($G856,DJIA_def!$A$12:$B$1041,2,FALSE))","v":""},""]
["",null,null,null,null,{"$f":"IF(K857=\"\",\"\",VLOOKUP($A857,'Tocalino Index'!$A$12:$B$1041,2,FALSE))","v":""},"2027-03-01","",{"$f":"IF(H857=\"\",\"\",VLOOKUP($G857,WILL5000PR!$A$12:$B$1041,2,FALSE))","v":""},null,"",{"$f":"IF(DJIA!B206=\"\",\"\",DJIA!B206)","v":""},{"$f":"IF(CPIAUCSL!B974=\"\",\"\",CPIAUCSL!B974)","v":""},{"$f":"IF(K857=\"\",\"\",VLOOKUP($G857,DJIA_def!$A$12:$B$1041,2,FALSE))","v":""},""]
["",null,null,null,null,{"$f":"IF(K858=\"\",\"\",VLOOKUP($A858,'Tocalino Index'!$A$12:$B$1041,2,FALSE))","v":""},"2027-04-01","",{"$f":"IF(H858=\"\",\"\",VLOOKUP($G858,WILL5000PR!$A$12:$B$1041,2,FALSE))","v":""},null,"",{"$f":"IF(DJIA!B207=\"\",\"\",DJIA!B207)","v":""},{"$f":"IF(CPIAUCSL!B975=\"\",\"\",CPIAUCSL!B975)","v":""},{"$f":"IF(K858=\"\",\"\",VLOOKUP($G858,DJIA_def!$A$12:$B$1041,2,FALSE))","v":""},""]
["",null,null,null,null,{"$f":"IF(K859=\"\",\"\",VLOOKUP($A859,'Tocalino Index'!$A$12:$B$1041,2,FALSE))","v":""},"2027-05-01","",{"$f":"IF(H859=\"\",\"\",VLOOKUP($G859,WILL5000PR!$A$12:$B$1041,2,FALSE))","v":""},null,"",{"$f":"IF(DJIA!B208=\"\",\"\",DJIA!B208)","v":""},{"$f":"IF(CPIAUCSL!B976=\"\",\"\",CPIAUCSL!B976)","v":""},{"$f":"IF(K859=\"\",\"\",VLOOKUP($G859,DJIA_def!$A$12:$B$1041,2,FALSE))","v":""},""]
["",null,null,null,null,{"$f":"IF(K860=\"\",\"\",VLOOKUP($A860,'Tocalino Index'!$A$12:$B$1041,2,FALSE))","v":""},"2027-06-01","",{"$f":"IF(H860=\"\",\"\",VLOOKUP($G860,WILL5000PR!$A$12:$B$1041,2,FALSE))","v":""},null,"",{"$f":"IF(DJIA!B209=\"\",\"\",DJIA!B209)","v":""},{"$f":"IF(CPIAUCSL!B977=\"\",\"\",CPIAUCSL!B977)","v":""},{"$f":"IF(K860=\"\",\"\",VLOOKUP($G860,DJIA_def!$A$12:$B$1041,2,FALSE))","v":""},""]
["",null,null,null,null,{"$f":"IF(K861=\"\",\"\",VLOOKUP($A861,'Tocalino Index'!$A$12:$B$1041,2,FALSE))","v":""},"2027-07-01","",{"$f":"IF(H861=\"\",\"\",VLOOKUP($G861,WILL5000PR!$A$12:$B$1041,2,FALSE))","v":""},null,"",{"$f":"IF(DJIA!B210=\"\",\"\",DJIA!B210)","v":""},{"$f":"IF(CPIAUCSL!B978=\"\",\"\",CPIAUCSL!B978)","v":""},{"$f":"IF(K861=\"\",\"\",VLOOKUP($G861,DJIA_def!$A$12:$B$1041,2,FALSE))","v":""},""]
["",null,null,null,null,{"$f":"IF(K862=\"\",\"\",VLOOKUP($A862,'Tocalino Index'!$A$12:$B$1041,2,FALSE))","v":""},"2027-08-01","",{"$f":"IF(H862=\"\",\"\",VLOOKUP($G862,WILL5000PR!$A$12:$B$1041,2,FALSE))","v":""},null,"",{"$f":"IF(DJIA!B211=\"\",\"\",DJIA!B211)","v":""},{"$f":"IF(CPIAUCSL!B979=\"\",\"\",CPIAUCSL!B979)","v":""},{"$f":"IF(K862=\"\",\"\",VLOOKUP($G862,DJIA_def!$A$12:$B$1041,2,FALSE))","v":""},""]
["",null,null,null,null,{"$f":"IF(K863=\"\",\"\",VLOOKUP($A863,'Tocalino Index'!$A$12:$B$1041,2,FALSE))","v":""},"2027-09-01","",{"$f":"IF(H863=\"\",\"\",VLOOKUP($G863,WILL5000PR!$A$12:$B$1041,2,FALSE))","v":""},null,"",{"$f":"IF(DJIA!B212=\"\",\"\",DJIA!B212)","v":""},{"$f":"IF(CPIAUCSL!B980=\"\",\"\",CPIAUCSL!B980)","v":""},{"$f":"IF(K863=\"\",\"\",VLOOKUP($G863,DJIA_def!$A$12:$B$1041,2,FALSE))","v":""},""]
["",null,null,null,null,{"$f":"IF(K864=\"\",\"\",VLOOKUP($A864,'Tocalino Index'!$A$12:$B$1041,2,FALSE))","v":""},"2027-10-01","",{"$f":"IF(H864=\"\",\"\",VLOOKUP($G864,WILL5000PR!$A$12:$B$1041,2,FALSE))","v":""},null,"",{"$f":"IF(DJIA!B213=\"\",\"\",DJIA!B213)","v":""},{"$f":"IF(CPIAUCSL!B981=\"\",\"\",CPIAUCSL!B981)","v":""},{"$f":"IF(K864=\"\",\"\",VLOOKUP($G864,DJIA_def!$A$12:$B$1041,2,FALSE))","v":""},""]
["",null,null,null,null,{"$f":"IF(K865=\"\",\"\",VLOOKUP($A865,'Tocalino Index'!$A$12:$B$1041,2,FALSE))","v":""},"2027-11-01","",{"$f":"IF(H865=\"\",\"\",VLOOKUP($G865,WILL5000PR!$A$12:$B$1041,2,FALSE))","v":""},null,"",{"$f":"IF(DJIA!B214=\"\",\"\",DJIA!B214)","v":""},{"$f":"IF(CPIAUCSL!B982=\"\",\"\",CPIAUCSL!B982)","v":""},{"$f":"IF(K865=\"\",\"\",VLOOKUP($G865,DJIA_def!$A$12:$B$1041,2,FALSE))","v":""},""]
["",null,null,null,null,{"$f":"IF(K866=\"\",\"\",VLOOKUP($A866,'Tocalino Index'!$A$12:$B$1041,2,FALSE))","v":""},"2027-12-01","",{"$f":"IF(H866=\"\",\"\",VLOOKUP($G866,WILL5000PR!$A$12:$B$1041,2,FALSE))","v":""},null,"",{"$f":"IF(DJIA!B215=\"\",\"\",DJIA!B215)","v":""},{"$f":"IF(CPIAUCSL!B983=\"\",\"\",CPIAUCSL!B983)","v":""},{"$f":"IF(K866=\"\",\"\",VLOOKUP($G866,DJIA_def!$A$12:$B$1041,2,FALSE))","v":""},""]
["",null,null,null,null,{"$f":"IF(K867=\"\",\"\",VLOOKUP($A867,'Tocalino Index'!$A$12:$B$1041,2,FALSE))","v":""},"2028-01-01","",{"$f":"IF(H867=\"\",\"\",VLOOKUP($G867,WILL5000PR!$A$12:$B$1041,2,FALSE))","v":""},null,"",{"$f":"IF(DJIA!B216=\"\",\"\",DJIA!B216)","v":""},{"$f":"IF(CPIAUCSL!B984=\"\",\"\",CPIAUCSL!B984)","v":""},{"$f":"IF(K867=\"\",\"\",VLOOKUP($G867,DJIA_def!$A$12:$B$1041,2,FALSE))","v":""},""]
["",null,null,null,null,{"$f":"IF(K868=\"\",\"\",VLOOKUP($A868,'Tocalino Index'!$A$12:$B$1041,2,FALSE))","v":""},"2028-02-01","",{"$f":"IF(H868=\"\",\"\",VLOOKUP($G868,WILL5000PR!$A$12:$B$1041,2,FALSE))","v":""},null,"",{"$f":"IF(DJIA!B217=\"\",\"\",DJIA!B217)","v":""},{"$f":"IF(CPIAUCSL!B985=\"\",\"\",CPIAUCSL!B985)","v":""},{"$f":"IF(K868=\"\",\"\",VLOOKUP($G868,DJIA_def!$A$12:$B$1041,2,FALSE))","v":""},""]
["",null,null,null,null,{"$f":"IF(K869=\"\",\"\",VLOOKUP($A869,'Tocalino Index'!$A$12:$B$1041,2,FALSE))","v":""},"2028-03-01","",{"$f":"IF(H869=\"\",\"\",VLOOKUP($G869,WILL5000PR!$A$12:$B$1041,2,FALSE))","v":""},null,"",{"$f":"IF(DJIA!B218=\"\",\"\",DJIA!B218)","v":""},{"$f":"IF(CPIAUCSL!B986=\"\",\"\",CPIAUCSL!B986)","v":""},{"$f":"IF(K869=\"\",\"\",VLOOKUP($G869,DJIA_def!$A$12:$B$1041,2,FALSE))","v":""},""]
["",null,null,null,null,{"$f":"IF(K870=\"\",\"\",VLOOKUP($A870,'Tocalino Index'!$A$12:$B$1041,2,FALSE))","v":""},"2028-04-01","",{"$f":"IF(H870=\"\",\"\",VLOOKUP($G870,WILL5000PR!$A$12:$B$1041,2,FALSE))","v":""},null,"",{"$f":"IF(DJIA!B219=\"\",\"\",DJIA!B219)","v":""},{"$f":"IF(CPIAUCSL!B987=\"\",\"\",CPIAUCSL!B987)","v":""},{"$f":"IF(K870=\"\",\"\",VLOOKUP($G870,DJIA_def!$A$12:$B$1041,2,FALSE))","v":""},""]
["",null,null,null,null,{"$f":"IF(K871=\"\",\"\",VLOOKUP($A871,'Tocalino Index'!$A$12:$B$1041,2,FALSE))","v":""},"2028-05-01","",{"$f":"IF(H871=\"\",\"\",VLOOKUP($G871,WILL5000PR!$A$12:$B$1041,2,FALSE))","v":""},null,"",{"$f":"IF(DJIA!B220=\"\",\"\",DJIA!B220)","v":""},{"$f":"IF(CPIAUCSL!B988=\"\",\"\",CPIAUCSL!B988)","v":""},{"$f":"IF(K871=\"\",\"\",VLOOKUP($G871,DJIA_def!$A$12:$B$1041,2,FALSE))","v":""},""]
["",null,null,null,null,{"$f":"IF(K872=\"\",\"\",VLOOKUP($A872,'Tocalino Index'!$A$12:$B$1041,2,FALSE))","v":""},"2028-06-01","",{"$f":"IF(H872=\"\",\"\",VLOOKUP($G872,WILL5000PR!$A$12:$B$1041,2,FALSE))","v":""},null,"",{"$f":"IF(DJIA!B221=\"\",\"\",DJIA!B221)","v":""},{"$f":"IF(CPIAUCSL!B989=\"\",\"\",CPIAUCSL!B989)","v":""},{"$f":"IF(K872=\"\",\"\",VLOOKUP($G872,DJIA_def!$A$12:$B$1041,2,FALSE))","v":""},""]
["",null,null,null,null,{"$f":"IF(K873=\"\",\"\",VLOOKUP($A873,'Tocalino Index'!$A$12:$B$1041,2,FALSE))","v":""},"2028-07-01","",{"$f":"IF(H873=\"\",\"\",VLOOKUP($G873,WILL5000PR!$A$12:$B$1041,2,FALSE))","v":""},null,"",{"$f":"IF(DJIA!B222=\"\",\"\",DJIA!B222)","v":""},{"$f":"IF(CPIAUCSL!B990=\"\",\"\",CPIAUCSL!B990)","v":""},{"$f":"IF(K873=\"\",\"\",VLOOKUP($G873,DJIA_def!$A$12:$B$1041,2,FALSE))","v":""},""]
["",null,null,null,null,{"$f":"IF(K874=\"\",\"\",VLOOKUP($A874,'Tocalino Index'!$A$12:$B$1041,2,FALSE))","v":""},"2028-08-01","",{"$f":"IF(H874=\"\",\"\",VLOOKUP($G874,WILL5000PR!$A$12:$B$1041,2,FALSE))","v":""},null,"",{"$f":"IF(DJIA!B223=\"\",\"\",DJIA!B223)","v":""},{"$f":"IF(CPIAUCSL!B991=\"\",\"\",CPIAUCSL!B991)","v":""},{"$f":"IF(K874=\"\",\"\",VLOOKUP($G874,DJIA_def!$A$12:$B$1041,2,FALSE))","v":""},""]
["",null,null,null,null,{"$f":"IF(K875=\"\",\"\",VLOOKUP($A875,'Tocalino Index'!$A$12:$B$1041,2,FALSE))","v":""},"2028-09-01",{"$f":"IF(($G$13-G875)<40,\"\",G875)","v":""},{"$f":"IF(H875=\"\",\"\",VLOOKUP($G875,WILL5000PR!$A$12:$B$1041,2,FALSE))","v":""},null,"",{"$f":"IF(DJIA!B224=\"\",\"\",DJIA!B224)","v":""},{"$f":"IF(CPIAUCSL!B992=\"\",\"\",CPIAUCSL!B992)","v":""},{"$f":"IF(K875=\"\",\"\",VLOOKUP($G875,DJIA_def!$A$12:$B$1041,2,FALSE))","v":""},""]
["",null,null,null,null,{"$f":"IF(K876=\"\",\"\",VLOOKUP($A876,'Tocalino Index'!$A$12:$B$1041,2,FALSE))","v":""},"2028-10-01","",{"$f":"IF(H876=\"\",\"\",VLOOKUP($G876,WILL5000PR!$A$12:$B$1041,2,FALSE))","v":""},null,"",{"$f":"IF(DJIA!B225=\"\",\"\",DJIA!B225)","v":""},{"$f":"IF(CPIAUCSL!B993=\"\",\"\",CPIAUCSL!B993)","v":""},{"$f":"IF(K876=\"\",\"\",VLOOKUP($G876,DJIA_def!$A$12:$B$1041,2,FALSE))","v":""},""]
["",null,null,null,null,{"$f":"IF(K877=\"\",\"\",VLOOKUP($A877,'Tocalino Index'!$A$12:$B$1041,2,FALSE))","v":""},"2028-11-01","",{"$f":"IF(H877=\"\",\"\",VLOOKUP($G877,WILL5000PR!$A$12:$B$1041,2,FALSE))","v":""},null,"",{"$f":"IF(DJIA!B226=\"\",\"\",DJIA!B226)","v":""},{"$f":"IF(CPIAUCSL!B994=\"\",\"\",CPIAUCSL!B994)","v":""},{"$f":"IF(K877=\"\",\"\",VLOOKUP($G877,DJIA_def!$A$12:$B$1041,2,FALSE))","v":""},""]
["",null,null,null,null,{"$f":"IF(K878=\"\",\"\",VLOOKUP($A878,'Tocalino Index'!$A$12:$B$1041,2,FALSE))","v":""},"2028-12-01","",{"$f":"IF(H878=\"\",\"\",VLOOKUP($G878,WILL5000PR!$A$12:$B$1041,2,FALSE))","v":""},null,"",{"$f":"IF(DJIA!B227=\"\",\"\",DJIA!B227)","v":""},{"$f":"IF(CPIAUCSL!B995=\"\",\"\",CPIAUCSL!B995)","v":""},{"$f":"IF(K878=\"\",\"\",VLOOKUP($G878,DJIA_def!$A$12:$B$1041,2,FALSE))","v":""},""]
["",null,null,null,null,{"$f":"IF(K879=\"\",\"\",VLOOKUP($A879,'Tocalino Index'!$A$12:$B$1041,2,FALSE))","v":""},"2029-01-01","",{"$f":"IF(H879=\"\",\"\",VLOOKUP($G879,WILL5000PR!$A$12:$B$1041,2,FALSE))","v":""},null,"",{"$f":"IF(DJIA!B228=\"\",\"\",DJIA!B228)","v":""},{"$f":"IF(CPIAUCSL!B996=\"\",\"\",CPIAUCSL!B996)","v":""},{"$f":"IF(K879=\"\",\"\",VLOOKUP($G879,DJIA_def!$A$12:$B$1041,2,FALSE))","v":""},""]
["",null,null,null,null,{"$f":"IF(K880=\"\",\"\",VLOOKUP($A880,'Tocalino Index'!$A$12:$B$1041,2,FALSE))","v":""},"2029-02-01","",{"$f":"IF(H880=\"\",\"\",VLOOKUP($G880,WILL5000PR!$A$12:$B$1041,2,FALSE))","v":""},null,"",{"$f":"IF(DJIA!B229=\"\",\"\",DJIA!B229)","v":""},{"$f":"IF(CPIAUCSL!B997=\"\",\"\",CPIAUCSL!B997)","v":""},{"$f":"IF(K880=\"\",\"\",VLOOKUP($G880,DJIA_def!$A$12:$B$1041,2,FALSE))","v":""},""]
["",null,null,null,null,{"$f":"IF(K881=\"\",\"\",VLOOKUP($A881,'Tocalino Index'!$A$12:$B$1041,2,FALSE))","v":""},"2029-03-01","",{"$f":"IF(H881=\"\",\"\",VLOOKUP($G881,WILL5000PR!$A$12:$B$1041,2,FALSE))","v":""},null,"",{"$f":"IF(DJIA!B230=\"\",\"\",DJIA!B230)","v":""},{"$f":"IF(CPIAUCSL!B998=\"\",\"\",CPIAUCSL!B998)","v":""},{"$f":"IF(K881=\"\",\"\",VLOOKUP($G881,DJIA_def!$A$12:$B$1041,2,FALSE))","v":""},""]
["",null,null,null,null,{"$f":"IF(K882=\"\",\"\",VLOOKUP($A882,'Tocalino Index'!$A$12:$B$1041,2,FALSE))","v":""},"2029-04-01","",{"$f":"IF(H882=\"\",\"\",VLOOKUP($G882,WILL5000PR!$A$12:$B$1041,2,FALSE))","v":""},null,"",{"$f":"IF(DJIA!B231=\"\",\"\",DJIA!B231)","v":""},{"$f":"IF(CPIAUCSL!B999=\"\",\"\",CPIAUCSL!B999)","v":""},{"$f":"IF(K882=\"\",\"\",VLOOKUP($G882,DJIA_def!$A$12:$B$1041,2,FALSE))","v":""},""]
["",null,null,null,null,{"$f":"IF(K883=\"\",\"\",VLOOKUP($A883,'Tocalino Index'!$A$12:$B$1041,2,FALSE))","v":""},"2029-05-01","",{"$f":"IF(H883=\"\",\"\",VLOOKUP($G883,WILL5000PR!$A$12:$B$1041,2,FALSE))","v":""},null,"",{"$f":"IF(DJIA!B232=\"\",\"\",DJIA!B232)","v":""},{"$f":"IF(CPIAUCSL!B1000=\"\",\"\",CPIAUCSL!B1000)","v":""},{"$f":"IF(K883=\"\",\"\",VLOOKUP($G883,DJIA_def!$A$12:$B$1041,2,FALSE))","v":""},""]
["",null,null,null,null,{"$f":"IF(K884=\"\",\"\",VLOOKUP($A884,'Tocalino Index'!$A$12:$B$1041,2,FALSE))","v":""},"2029-06-01","",{"$f":"IF(H884=\"\",\"\",VLOOKUP($G884,WILL5000PR!$A$12:$B$1041,2,FALSE))","v":""},null,"",{"$f":"IF(DJIA!B233=\"\",\"\",DJIA!B233)","v":""},{"$f":"IF(CPIAUCSL!B1001=\"\",\"\",CPIAUCSL!B1001)","v":""},{"$f":"IF(K884=\"\",\"\",VLOOKUP($G884,DJIA_def!$A$12:$B$1041,2,FALSE))","v":""},""]
["",null,null,null,null,{"$f":"IF(K885=\"\",\"\",VLOOKUP($A885,'Tocalino Index'!$A$12:$B$1041,2,FALSE))","v":""},"2029-07-01","",{"$f":"IF(H885=\"\",\"\",VLOOKUP($G885,WILL5000PR!$A$12:$B$1041,2,FALSE))","v":""},null,"",{"$f":"IF(DJIA!B234=\"\",\"\",DJIA!B234)","v":""},{"$f":"IF(CPIAUCSL!B1002=\"\",\"\",CPIAUCSL!B1002)","v":""},{"$f":"IF(K885=\"\",\"\",VLOOKUP($G885,DJIA_def!$A$12:$B$1041,2,FALSE))","v":""},""]
["",null,null,null,null,{"$f":"IF(K886=\"\",\"\",VLOOKUP($A886,'Tocalino Index'!$A$12:$B$1041,2,FALSE))","v":""},"2029-08-01","",{"$f":"IF(H886=\"\",\"\",VLOOKUP($G886,WILL5000PR!$A$12:$B$1041,2,FALSE))","v":""},null,"",{"$f":"IF(DJIA!B235=\"\",\"\",DJIA!B235)","v":""},{"$f":"IF(CPIAUCSL!B1003=\"\",\"\",CPIAUCSL!B1003)","v":""},{"$f":"IF(K886=\"\",\"\",VLOOKUP($G886,DJIA_def!$A$12:$B$1041,2,FALSE))","v":""},""]
["",null,null,null,null,{"$f":"IF(K887=\"\",\"\",VLOOKUP($A887,'Tocalino Index'!$A$12:$B$1041,2,FALSE))","v":""},"2029-09-01","",{"$f":"IF(H887=\"\",\"\",VLOOKUP($G887,WILL5000PR!$A$12:$B$1041,2,FALSE))","v":""},null,"",{"$f":"IF(DJIA!B236=\"\",\"\",DJIA!B236)","v":""},{"$f":"IF(CPIAUCSL!B1004=\"\",\"\",CPIAUCSL!B1004)","v":""},{"$f":"IF(K887=\"\",\"\",VLOOKUP($G887,DJIA_def!$A$12:$B$1041,2,FALSE))","v":""},""]
["",null,null,null,null,{"$f":"IF(K888=\"\",\"\",VLOOKUP($A888,'Tocalino Index'!$A$12:$B$1041,2,FALSE))","v":""},"2029-10-01","",{"$f":"IF(H888=\"\",\"\",VLOOKUP($G888,WILL5000PR!$A$12:$B$1041,2,FALSE))","v":""},null,"",{"$f":"IF(DJIA!B237=\"\",\"\",DJIA!B237)","v":""},{"$f":"IF(CPIAUCSL!B1005=\"\",\"\",CPIAUCSL!B1005)","v":""},{"$f":"IF(K888=\"\",\"\",VLOOKUP($G888,DJIA_def!$A$12:$B$1041,2,FALSE))","v":""},""]
["",null,null,null,null,{"$f":"IF(K889=\"\",\"\",VLOOKUP($A889,'Tocalino Index'!$A$12:$B$1041,2,FALSE))","v":""},"2029-11-01","",{"$f":"IF(H889=\"\",\"\",VLOOKUP($G889,WILL5000PR!$A$12:$B$1041,2,FALSE))","v":""},null,"",{"$f":"IF(DJIA!B238=\"\",\"\",DJIA!B238)","v":""},{"$f":"IF(CPIAUCSL!B1006=\"\",\"\",CPIAUCSL!B1006)","v":""},{"$f":"IF(K889=\"\",\"\",VLOOKUP($G889,DJIA_def!$A$12:$B$1041,2,FALSE))","v":""},""]
["",null,null,null,null,{"$f":"IF(K890=\"\",\"\",VLOOKUP($A890,'Tocalino Index'!$A$12:$B$1041,2,FALSE))","v":""},"2029-12-01","",{"$f":"IF(H890=\"\",\"\",VLOOKUP($G890,WILL5000PR!$A$12:$B$1041,2,FALSE))","v":""},null,"",{"$f":"IF(DJIA!B239=\"\",\"\",DJIA!B239)","v":""},{"$f":"IF(CPIAUCSL!B1007=\"\",\"\",CPIAUCSL!B1007)","v":""},{"$f":"IF(K890=\"\",\"\",VLOOKUP($G890,DJIA_def!$A$12:$B$1041,2,FALSE))","v":""},""]
["",null,null,null,null,{"$f":"IF(K891=\"\",\"\",VLOOKUP($A891,'Tocalino Index'!$A$12:$B$1041,2,FALSE))","v":""},"2030-01-01","",{"$f":"IF(H891=\"\",\"\",VLOOKUP($G891,WILL5000PR!$A$12:$B$1041,2,FALSE))","v":""},null,"",{"$f":"IF(DJIA!B240=\"\",\"\",DJIA!B240)","v":""},{"$f":"IF(CPIAUCSL!B1008=\"\",\"\",CPIAUCSL!B1008)","v":""},{"$f":"IF(K891=\"\",\"\",VLOOKUP($G891,DJIA_def!$A$12:$B$1041,2,FALSE))","v":""},""]
["",null,null,null,null,{"$f":"IF(K892=\"\",\"\",VLOOKUP($A892,'Tocalino Index'!$A$12:$B$1041,2,FALSE))","v":""},"2030-02-01","",{"$f":"IF(H892=\"\",\"\",VLOOKUP($G892,WILL5000PR!$A$12:$B$1041,2,FALSE))","v":""},null,"",{"$f":"IF(DJIA!B241=\"\",\"\",DJIA!B241)","v":""},{"$f":"IF(CPIAUCSL!B1009=\"\",\"\",CPIAUCSL!B1009)","v":""},{"$f":"IF(K892=\"\",\"\",VLOOKUP($G892,DJIA_def!$A$12:$B$1041,2,FALSE))","v":""},""]
["",null,null,null,null,{"$f":"IF(K893=\"\",\"\",VLOOKUP($A893,'Tocalino Index'!$A$12:$B$1041,2,FALSE))","v":""},"2030-03-01","",{"$f":"IF(H893=\"\",\"\",VLOOKUP($G893,WILL5000PR!$A$12:$B$1041,2,FALSE))","v":""},null,"",{"$f":"IF(DJIA!B242=\"\",\"\",DJIA!B242)","v":""},{"$f":"IF(CPIAUCSL!B1010=\"\",\"\",CPIAUCSL!B1010)","v":""},{"$f":"IF(K893=\"\",\"\",VLOOKUP($G893,DJIA_def!$A$12:$B$1041,2,FALSE))","v":""},""]
["",null,null,null,null,{"$f":"IF(K894=\"\",\"\",VLOOKUP($A894,'Tocalino Index'!$A$12:$B$1041,2,FALSE))","v":""},"2030-04-01","",{"$f":"IF(H894=\"\",\"\",VLOOKUP($G894,WILL5000PR!$A$12:$B$1041,2,FALSE))","v":""},null,"",{"$f":"IF(DJIA!B243=\"\",\"\",DJIA!B243)","v":""},{"$f":"IF(CPIAUCSL!B1011=\"\",\"\",CPIAUCSL!B1011)","v":""},{"$f":"IF(K894=\"\",\"\",VLOOKUP($G894,DJIA_def!$A$12:$B$1041,2,FALSE))","v":""},""]
["",null,null,null,null,{"$f":"IF(K895=\"\",\"\",VLOOKUP($A895,'Tocalino Index'!$A$12:$B$1041,2,FALSE))","v":""},"2030-05-01","",{"$f":"IF(H895=\"\",\"\",VLOOKUP($G895,WILL5000PR!$A$12:$B$1041,2,FALSE))","v":""},null,"",{"$f":"IF(DJIA!B244=\"\",\"\",DJIA!B244)","v":""},{"$f":"IF(CPIAUCSL!B1012=\"\",\"\",CPIAUCSL!B1012)","v":""},{"$f":"IF(K895=\"\",\"\",VLOOKUP($G895,DJIA_def!$A$12:$B$1041,2,FALSE))","v":""},""]
[{"$f":"IF((TODAY()-G896)<40,\"\",G896)","v":""},null,null,null,null,{"$f":"IF(K896=\"\",\"\",VLOOKUP($A896,'Tocalino Index'!$A$12:$B$1041,2,FALSE))","v":""},"2030-06-01","",{"$f":"IF(H896=\"\",\"\",VLOOKUP($G896,WILL5000PR!$A$12:$B$1041,2,FALSE))","v":""},null,"",{"$f":"IF(DJIA!B245=\"\",\"\",DJIA!B245)","v":""},{"$f":"IF(CPIAUCSL!B1013=\"\",\"\",CPIAUCSL!B1013)","v":""},{"$f":"IF(K896=\"\",\"\",VLOOKUP($G896,DJIA_def!$A$12:$B$1041,2,FALSE))","v":""},""]
["",null,null,null,null,{"$f":"IF(K897=\"\",\"\",VLOOKUP($A897,'Tocalino Index'!$A$12:$B$1041,2,FALSE))","v":""},"2030-07-01","",{"$f":"IF(H897=\"\",\"\",VLOOKUP($G897,WILL5000PR!$A$12:$B$1041,2,FALSE))","v":""},null,"",{"$f":"IF(DJIA!B246=\"\",\"\",DJIA!B246)","v":""},{"$f":"IF(CPIAUCSL!B1014=\"\",\"\",CPIAUCSL!B1014)","v":""},{"$f":"IF(K897=\"\",\"\",VLOOKUP($G897,DJIA_def!$A$12:$B$1041,2,FALSE))","v":""},""]
["",null,null,null,null,{"$f":"IF(K898=\"\",\"\",VLOOKUP($A898,'Tocalino Index'!$A$12:$B$1041,2,FALSE))","v":""},"2030-08-01","",{"$f":"IF(H898=\"\",\"\",VLOOKUP($G898,WILL5000PR!$A$12:$B$1041,2,FALSE))","v":""},null,"",{"$f":"IF(DJIA!B247=\"\",\"\",DJIA!B247)","v":""},{"$f":"IF(CPIAUCSL!B1015=\"\",\"\",CPIAUCSL!B1015)","v":""},{"$f":"IF(K898=\"\",\"\",VLOOKUP($G898,DJIA_def!$A$12:$B$1041,2,FALSE))","v":""},""]
["",null,null,null,null,{"$f":"IF(K899=\"\",\"\",VLOOKUP($A899,'Tocalino Index'!$A$12:$B$1041,2,FALSE))","v":""},"2030-09-01","",{"$f":"IF(H899=\"\",\"\",VLOOKUP($G899,WILL5000PR!$A$12:$B$1041,2,FALSE))","v":""},null,"",{"$f":"IF(DJIA!B248=\"\",\"\",DJIA!B248)","v":""},{"$f":"IF(CPIAUCSL!B1016=\"\",\"\",CPIAUCSL!B1016)","v":""},{"$f":"IF(K899=\"\",\"\",VLOOKUP($G899,DJIA_def!$A$12:$B$1041,2,FALSE))","v":""},""]
["",null,null,null,null,{"$f":"IF(K900=\"\",\"\",VLOOKUP($A900,'Tocalino Index'!$A$12:$B$1041,2,FALSE))","v":""},"2030-10-01","",{"$f":"IF(H900=\"\",\"\",VLOOKUP($G900,WILL5000PR!$A$12:$B$1041,2,FALSE))","v":""},null,"",{"$f":"IF(DJIA!B249=\"\",\"\",DJIA!B249)","v":""},{"$f":"IF(CPIAUCSL!B1017=\"\",\"\",CPIAUCSL!B1017)","v":""},{"$f":"IF(K900=\"\",\"\",VLOOKUP($G900,DJIA_def!$A$12:$B$1041,2,FALSE))","v":""},""]
["",null,null,null,null,{"$f":"IF(K901=\"\",\"\",VLOOKUP($A901,'Tocalino Index'!$A$12:$B$1041,2,FALSE))","v":""},"2030-11-01","",{"$f":"IF(H901=\"\",\"\",VLOOKUP($G901,WILL5000PR!$A$12:$B$1041,2,FALSE))","v":""},null,"",{"$f":"IF(DJIA!B250=\"\",\"\",DJIA!B250)","v":""},{"$f":"IF(CPIAUCSL!B1018=\"\",\"\",CPIAUCSL!B1018)","v":""},{"$f":"IF(K901=\"\",\"\",VLOOKUP($G901,DJIA_def!$A$12:$B$1041,2,FALSE))","v":""},""]
["",null,null,null,null,{"$f":"IF(K902=\"\",\"\",VLOOKUP($A902,'Tocalino Index'!$A$12:$B$1041,2,FALSE))","v":""},"2030-12-01","",{"$f":"IF(H902=\"\",\"\",VLOOKUP($G902,WILL5000PR!$A$12:$B$1041,2,FALSE))","v":""},null,{"$f":"IF(($G$13-G902)<40,\"\",G902)","v":""},{"$f":"IF(DJIA!B251=\"\",\"\",DJIA!B251)","v":""},{"$f":"IF(CPIAUCSL!B1019=\"\",\"\",CPIAUCSL!B1019)","v":""},{"$f":"IF(K902=\"\",\"\",VLOOKUP($G902,DJIA_def!$A$12:$B$1041,2,FALSE))","v":""},{"$f":"IF(K902=\"\",\"\",N902/$P$14)","v":""}]
["",null,null,null,null,{"$f":"IF(K903=\"\",\"\",VLOOKUP($A903,'Tocalino Index'!$A$12:$B$1041,2,FALSE))","v":""},"2031-01-01","",{"$f":"IF(H903=\"\",\"\",VLOOKUP($G903,WILL5000PR!$A$12:$B$1041,2,FALSE))","v":""},null,"",{"$f":"IF(DJIA!B252=\"\",\"\",DJIA!B252)","v":""},{"$f":"IF(CPIAUCSL!B1020=\"\",\"\",CPIAUCSL!B1020)","v":""},{"$f":"IF(K903=\"\",\"\",VLOOKUP($G903,DJIA_def!$A$12:$B$1041,2,FALSE))","v":""},""]
["",null,null,null,null,{"$f":"IF(K904=\"\",\"\",VLOOKUP($A904,'Tocalino Index'!$A$12:$B$1041,2,FALSE))","v":""},"2031-02-01","",{"$f":"IF(H904=\"\",\"\",VLOOKUP($G904,WILL5000PR!$A$12:$B$1041,2,FALSE))","v":""},null,"",{"$f":"IF(DJIA!B253=\"\",\"\",DJIA!B253)","v":""},{"$f":"IF(CPIAUCSL!B1021=\"\",\"\",CPIAUCSL!B1021)","v":""},{"$f":"IF(K904=\"\",\"\",VLOOKUP($G904,DJIA_def!$A$12:$B$1041,2,FALSE))","v":""},""]
["",null,null,null,null,{"$f":"IF(K905=\"\",\"\",VLOOKUP($A905,'Tocalino Index'!$A$12:$B$1041,2,FALSE))","v":""},"2031-03-01","",{"$f":"IF(H905=\"\",\"\",VLOOKUP($G905,WILL5000PR!$A$12:$B$1041,2,FALSE))","v":""},null,"",{"$f":"IF(DJIA!B254=\"\",\"\",DJIA!B254)","v":""},{"$f":"IF(CPIAUCSL!B1022=\"\",\"\",CPIAUCSL!B1022)","v":""},{"$f":"IF(K905=\"\",\"\",VLOOKUP($G905,DJIA_def!$A$12:$B$1041,2,FALSE))","v":""},""]
["",null,null,null,null,{"$f":"IF(K906=\"\",\"\",VLOOKUP($A906,'Tocalino Index'!$A$12:$B$1041,2,FALSE))","v":""},"2031-04-01","",{"$f":"IF(H906=\"\",\"\",VLOOKUP($G906,WILL5000PR!$A$12:$B$1041,2,FALSE))","v":""},null,"",{"$f":"IF(DJIA!B255=\"\",\"\",DJIA!B255)","v":""},{"$f":"IF(CPIAUCSL!B1023=\"\",\"\",CPIAUCSL!B1023)","v":""},{"$f":"IF(K906=\"\",\"\",VLOOKUP($G906,DJIA_def!$A$12:$B$1041,2,FALSE))","v":""},""]
["",null,null,null,null,{"$f":"IF(K907=\"\",\"\",VLOOKUP($A907,'Tocalino Index'!$A$12:$B$1041,2,FALSE))","v":""},"2031-05-01","",{"$f":"IF(H907=\"\",\"\",VLOOKUP($G907,WILL5000PR!$A$12:$B$1041,2,FALSE))","v":""},null,"",{"$f":"IF(DJIA!B256=\"\",\"\",DJIA!B256)","v":""},{"$f":"IF(CPIAUCSL!B1024=\"\",\"\",CPIAUCSL!B1024)","v":""},{"$f":"IF(K907=\"\",\"\",VLOOKUP($G907,DJIA_def!$A$12:$B$1041,2,FALSE))","v":""},""]
["",null,null,null,null,{"$f":"IF(K908=\"\",\"\",VLOOKUP($A908,'Tocalino Index'!$A$12:$B$1041,2,FALSE))","v":""},"2031-06-01","",{"$f":"IF(H908=\"\",\"\",VLOOKUP($G908,WILL5000PR!$A$12:$B$1041,2,FALSE))","v":""},null,"",{"$f":"IF(DJIA!B257=\"\",\"\",DJIA!B257)","v":""},{"$f":"IF(CPIAUCSL!B1025=\"\",\"\",CPIAUCSL!B1025)","v":""},{"$f":"IF(K908=\"\",\"\",VLOOKUP($G908,DJIA_def!$A$12:$B$1041,2,FALSE))","v":""},""]
["",null,null,null,null,{"$f":"IF(K909=\"\",\"\",VLOOKUP($A909,'Tocalino Index'!$A$12:$B$1041,2,FALSE))","v":""},"2031-07-01","",{"$f":"IF(H909=\"\",\"\",VLOOKUP($G909,WILL5000PR!$A$12:$B$1041,2,FALSE))","v":""},null,"",{"$f":"IF(DJIA!B258=\"\",\"\",DJIA!B258)","v":""},{"$f":"IF(CPIAUCSL!B1026=\"\",\"\",CPIAUCSL!B1026)","v":""},{"$f":"IF(K909=\"\",\"\",VLOOKUP($G909,DJIA_def!$A$12:$B$1041,2,FALSE))","v":""},""]
["",null,null,null,null,{"$f":"IF(K910=\"\",\"\",VLOOKUP($A910,'Tocalino Index'!$A$12:$B$1041,2,FALSE))","v":""},"2031-08-01","",{"$f":"IF(H910=\"\",\"\",VLOOKUP($G910,WILL5000PR!$A$12:$B$1041,2,FALSE))","v":""},null,"",{"$f":"IF(DJIA!B259=\"\",\"\",DJIA!B259)","v":""},{"$f":"IF(CPIAUCSL!B1027=\"\",\"\",CPIAUCSL!B1027)","v":""},{"$f":"IF(K910=\"\",\"\",VLOOKUP($G910,DJIA_def!$A$12:$B$1041,2,FALSE))","v":""},""]
["",null,null,null,null,{"$f":"IF(K911=\"\",\"\",VLOOKUP($A911,'Tocalino Index'!$A$12:$B$1041,2,FALSE))","v":""},"2031-09-01","",{"$f":"IF(H911=\"\",\"\",VLOOKUP($G911,WILL5000PR!$A$12:$B$1041,2,FALSE))","v":""},null,"",{"$f":"IF(DJIA!B260=\"\",\"\",DJIA!B260)","v":""},{"$f":"IF(CPIAUCSL!B1028=\"\",\"\",CPIAUCSL!B1028)","v":""},{"$f":"IF(K911=\"\",\"\",VLOOKUP($G911,DJIA_def!$A$12:$B$1041,2,FALSE))","v":""},""]
["",null,null,null,null,{"$f":"IF(K912=\"\",\"\",VLOOKUP($A912,'Tocalino Index'!$A$12:$B$1041,2,FALSE))","v":""},"2031-10-01","",{"$f":"IF(H912=\"\",\"\",VLOOKUP($G912,WILL5000PR!$A$12:$B$1041,2,FALSE))","v":""},null,"",{"$f":"IF(DJIA!B261=\"\",\"\",DJIA!B261)","v":""},{"$f":"IF(CPIAUCSL!B1029=\"\",\"\",CPIAUCSL!B1029)","v":""},{"$f":"IF(K912=\"\",\"\",VLOOKUP($G912,DJIA_def!$A$12:$B$1041,2,FALSE))","v":""},""]
["",null,null,null,null,{"$f":"IF(K913=\"\",\"\",VLOOKUP($A913,'Tocalino Index'!$A$12:$B$1041,2,FALSE))","v":""},"2031-11-01","",{"$f":"IF(H913=\"\",\"\",VLOOKUP($G913,WILL5000PR!$A$12:$B$1041,2,FALSE))","v":""},null,"",{"$f":"IF(DJIA!B262=\"\",\"\",DJIA!B262)","v":""},{"$f":"IF(CPIAUCSL!B1030=\"\",\"\",CPIAUCSL!B1030)","v":""},{"$f":"IF(K913=\"\",\"\",VLOOKUP($G913,DJIA_def!$A$12:$B$1041,2,FALSE))","v":""},""]
["",null,null,null,null,{"$f":"IF(K914=\"\",\"\",VLOOKUP($A914,'Tocalino Index'!$A$12:$B$1041,2,FALSE))","v":""},"2031-12-01","",{"$f":"IF(H914=\"\",\"\",VLOOKUP($G914,WILL5000PR!$A$12:$B$1041,2,FALSE))","v":""},null,"",{"$f":"IF(DJIA!B263=\"\",\"\",DJIA!B263)","v":""},{"$f":"IF(CPIAUCSL!B1031=\"\",\"\",CPIAUCSL!B1031)","v":""},{"$f":"IF(K914=\"\",\"\",VLOOKUP($G914,DJIA_def!$A$12:$B$1041,2,FALSE))","v":""},""]
["",null,null,null,null,{"$f":"IF(K915=\"\",\"\",VLOOKUP($A915,'Tocalino Index'!$A$12:$B$1041,2,FALSE))","v":""},"2032-01-01","",{"$f":"IF(H915=\"\",\"\",VLOOKUP($G915,WILL5000PR!$A$12:$B$1041,2,FALSE))","v":""},null,"",{"$f":"IF(DJIA!B264=\"\",\"\",DJIA!B264)","v":""},{"$f":"IF(CPIAUCSL!B1032=\"\",\"\",CPIAUCSL!B1032)","v":""},{"$f":"IF(K915=\"\",\"\",VLOOKUP($G915,DJIA_def!$A$12:$B$1041,2,FALSE))","v":""},""]
["",null,null,null,null,{"$f":"IF(K916=\"\",\"\",VLOOKUP($A916,'Tocalino Index'!$A$12:$B$1041,2,FALSE))","v":""},"2032-02-01","",{"$f":"IF(H916=\"\",\"\",VLOOKUP($G916,WILL5000PR!$A$12:$B$1041,2,FALSE))","v":""},null,"",{"$f":"IF(DJIA!B265=\"\",\"\",DJIA!B265)","v":""},{"$f":"IF(CPIAUCSL!B1033=\"\",\"\",CPIAUCSL!B1033)","v":""},{"$f":"IF(K916=\"\",\"\",VLOOKUP($G916,DJIA_def!$A$12:$B$1041,2,FALSE))","v":""},""]
["",null,null,null,null,{"$f":"IF(K917=\"\",\"\",VLOOKUP($A917,'Tocalino Index'!$A$12:$B$1041,2,FALSE))","v":""},"2032-03-01","",{"$f":"IF(H917=\"\",\"\",VLOOKUP($G917,WILL5000PR!$A$12:$B$1041,2,FALSE))","v":""},null,"",{"$f":"IF(DJIA!B266=\"\",\"\",DJIA!B266)","v":""},{"$f":"IF(CPIAUCSL!B1034=\"\",\"\",CPIAUCSL!B1034)","v":""},{"$f":"IF(K917=\"\",\"\",VLOOKUP($G917,DJIA_def!$A$12:$B$1041,2,FALSE))","v":""},""]
["",null,null,null,null,{"$f":"IF(K918=\"\",\"\",VLOOKUP($A918,'Tocalino Index'!$A$12:$B$1041,2,FALSE))","v":""},"2032-04-01","",{"$f":"IF(H918=\"\",\"\",VLOOKUP($G918,WILL5000PR!$A$12:$B$1041,2,FALSE))","v":""},null,"",{"$f":"IF(DJIA!B267=\"\",\"\",DJIA!B267)","v":""},{"$f":"IF(CPIAUCSL!B1035=\"\",\"\",CPIAUCSL!B1035)","v":""},{"$f":"IF(K918=\"\",\"\",VLOOKUP($G918,DJIA_def!$A$12:$B$1041,2,FALSE))","v":""},""]
["",null,null,null,null,{"$f":"IF(K919=\"\",\"\",VLOOKUP($A919,'Tocalino Index'!$A$12:$B$1041,2,FALSE))","v":""},"2032-05-01","",{"$f":"IF(H919=\"\",\"\",VLOOKUP($G919,WILL5000PR!$A$12:$B$1041,2,FALSE))","v":""},null,"",{"$f":"IF(DJIA!B268=\"\",\"\",DJIA!B268)","v":""},{"$f":"IF(CPIAUCSL!B1036=\"\",\"\",CPIAUCSL!B1036)","v":""},{"$f":"IF(K919=\"\",\"\",VLOOKUP($G919,DJIA_def!$A$12:$B$1041,2,FALSE))","v":""},""]
["",null,null,null,null,{"$f":"IF(K920=\"\",\"\",VLOOKUP($A920,'Tocalino Index'!$A$12:$B$1041,2,FALSE))","v":""},"2032-06-01","",{"$f":"IF(H920=\"\",\"\",VLOOKUP($G920,WILL5000PR!$A$12:$B$1041,2,FALSE))","v":""},null,"",{"$f":"IF(DJIA!B269=\"\",\"\",DJIA!B269)","v":""},{"$f":"IF(CPIAUCSL!B1037=\"\",\"\",CPIAUCSL!B1037)","v":""},{"$f":"IF(K920=\"\",\"\",VLOOKUP($G920,DJIA_def!$A$12:$B$1041,2,FALSE))","v":""},""]
["",null,null,null,null,{"$f":"IF(K921=\"\",\"\",VLOOKUP($A921,'Tocalino Index'!$A$12:$B$1041,2,FALSE))","v":""},"2032-07-01","",{"$f":"IF(H921=\"\",\"\",VLOOKUP($G921,WILL5000PR!$A$12:$B$1041,2,FALSE))","v":""},null,"",{"$f":"IF(DJIA!B270=\"\",\"\",DJIA!B270)","v":""},{"$f":"IF(CPIAUCSL!B1038=\"\",\"\",CPIAUCSL!B1038)","v":""},{"$f":"IF(K921=\"\",\"\",VLOOKUP($G921,DJIA_def!$A$12:$B$1041,2,FALSE))","v":""},""]
["",null,null,null,null,{"$f":"IF(K922=\"\",\"\",VLOOKUP($A922,'Tocalino Index'!$A$12:$B$1041,2,FALSE))","v":""},"2032-08-01","",{"$f":"IF(H922=\"\",\"\",VLOOKUP($G922,WILL5000PR!$A$12:$B$1041,2,FALSE))","v":""},null,"",{"$f":"IF(DJIA!B271=\"\",\"\",DJIA!B271)","v":""},{"$f":"IF(CPIAUCSL!B1039=\"\",\"\",CPIAUCSL!B1039)","v":""},{"$f":"IF(K922=\"\",\"\",VLOOKUP($G922,DJIA_def!$A$12:$B$1041,2,FALSE))","v":""},""]
["",null,null,null,null,{"$f":"IF(K923=\"\",\"\",VLOOKUP($A923,'Tocalino Index'!$A$12:$B$1041,2,FALSE))","v":""},"2032-09-01","",{"$f":"IF(H923=\"\",\"\",VLOOKUP($G923,WILL5000PR!$A$12:$B$1041,2,FALSE))","v":""},null,"",{"$f":"IF(DJIA!B272=\"\",\"\",DJIA!B272)","v":""},{"$f":"IF(CPIAUCSL!B1040=\"\",\"\",CPIAUCSL!B1040)","v":""},{"$f":"IF(K923=\"\",\"\",VLOOKUP($G923,DJIA_def!$A$12:$B$1041,2,FALSE))","v":""},""]
["",null,null,null,null,{"$f":"IF(K924=\"\",\"\",VLOOKUP($A924,'Tocalino Index'!$A$12:$B$1041,2,FALSE))","v":""},"2032-10-01","",{"$f":"IF(H924=\"\",\"\",VLOOKUP($G924,WILL5000PR!$A$12:$B$1041,2,FALSE))","v":""},null,"",{"$f":"IF(DJIA!B273=\"\",\"\",DJIA!B273)","v":""},{"$f":"IF(CPIAUCSL!B1041=\"\",\"\",CPIAUCSL!B1041)","v":""},{"$f":"IF(K924=\"\",\"\",VLOOKUP($G924,DJIA_def!$A$12:$B$1041,2,FALSE))","v":""},""]
["",null,null,null,null,{"$f":"IF(K925=\"\",\"\",VLOOKUP($A925,'Tocalino Index'!$A$12:$B$1041,2,FALSE))","v":""},"2032-11-01","",{"$f":"IF(H925=\"\",\"\",VLOOKUP($G925,WILL5000PR!$A$12:$B$1041,2,FALSE))","v":""},null,"",{"$f":"IF(DJIA!B274=\"\",\"\",DJIA!B274)","v":""},{"$f":"IF(CPIAUCSL!B1042=\"\",\"\",CPIAUCSL!B1042)","v":""},{"$f":"IF(K925=\"\",\"\",VLOOKUP($G925,DJIA_def!$A$12:$B$1041,2,FALSE))","v":""},""]
["",null,null,null,null,{"$f":"IF(K926=\"\",\"\",VLOOKUP($A926,'Tocalino Index'!$A$12:$B$1041,2,FALSE))","v":""},"2032-12-01","",{"$f":"IF(H926=\"\",\"\",VLOOKUP($G926,WILL5000PR!$A$12:$B$1041,2,FALSE))","v":""},null,"",{"$f":"IF(DJIA!B275=\"\",\"\",DJIA!B275)","v":""},{"$f":"IF(CPIAUCSL!B1043=\"\",\"\",CPIAUCSL!B1043)","v":""},{"$f":"IF(K926=\"\",\"\",VLOOKUP($G926,DJIA_def!$A$12:$B$1041,2,FALSE))","v":""},""]
["",null,null,null,null,{"$f":"IF(K927=\"\",\"\",VLOOKUP($A927,'Tocalino Index'!$A$12:$B$1041,2,FALSE))","v":""},"2033-01-01","",{"$f":"IF(H927=\"\",\"\",VLOOKUP($G927,WILL5000PR!$A$12:$B$1041,2,FALSE))","v":""},null,"",{"$f":"IF(DJIA!B276=\"\",\"\",DJIA!B276)","v":""},{"$f":"IF(CPIAUCSL!B1044=\"\",\"\",CPIAUCSL!B1044)","v":""},{"$f":"IF(K927=\"\",\"\",VLOOKUP($G927,DJIA_def!$A$12:$B$1041,2,FALSE))","v":""},""]
["",null,null,null,null,{"$f":"IF(K928=\"\",\"\",VLOOKUP($A928,'Tocalino Index'!$A$12:$B$1041,2,FALSE))","v":""},"2033-02-01","",{"$f":"IF(H928=\"\",\"\",VLOOKUP($G928,WILL5000PR!$A$12:$B$1041,2,FALSE))","v":""},null,"",{"$f":"IF(DJIA!B277=\"\",\"\",DJIA!B277)","v":""},{"$f":"IF(CPIAUCSL!B1045=\"\",\"\",CPIAUCSL!B1045)","v":""},{"$f":"IF(K928=\"\",\"\",VLOOKUP($G928,DJIA_def!$A$12:$B$1041,2,FALSE))","v":""},""]
["",null,null,null,null,{"$f":"IF(K929=\"\",\"\",VLOOKUP($A929,'Tocalino Index'!$A$12:$B$1041,2,FALSE))","v":""},"2033-03-01","",{"$f":"IF(H929=\"\",\"\",VLOOKUP($G929,WILL5000PR!$A$12:$B$1041,2,FALSE))","v":""},null,"",{"$f":"IF(DJIA!B278=\"\",\"\",DJIA!B278)","v":""},{"$f":"IF(CPIAUCSL!B1046=\"\",\"\",CPIAUCSL!B1046)","v":""},{"$f":"IF(K929=\"\",\"\",VLOOKUP($G929,DJIA_def!$A$12:$B$1041,2,FALSE))","v":""},""]
["",null,null,null,null,{"$f":"IF(K930=\"\",\"\",VLOOKUP($A930,'Tocalino Index'!$A$12:$B$1041,2,FALSE))","v":""},"2033-04-01","",{"$f":"IF(H930=\"\",\"\",VLOOKUP($G930,WILL5000PR!$A$12:$B$1041,2,FALSE))","v":""},null,"",{"$f":"IF(DJIA!B279=\"\",\"\",DJIA!B279)","v":""},{"$f":"IF(CPIAUCSL!B1047=\"\",\"\",CPIAUCSL!B1047)","v":""},{"$f":"IF(K930=\"\",\"\",VLOOKUP($G930,DJIA_def!$A$12:$B$1041,2,FALSE))","v":""},""]
["",null,null,null,null,{"$f":"IF(K931=\"\",\"\",VLOOKUP($A931,'Tocalino Index'!$A$12:$B$1041,2,FALSE))","v":""},"2033-05-01","",{"$f":"IF(H931=\"\",\"\",VLOOKUP($G931,WILL5000PR!$A$12:$B$1041,2,FALSE))","v":""},null,"",{"$f":"IF(DJIA!B280=\"\",\"\",DJIA!B280)","v":""},{"$f":"IF(CPIAUCSL!B1048=\"\",\"\",CPIAUCSL!B1048)","v":""},{"$f":"IF(K931=\"\",\"\",VLOOKUP($G931,DJIA_def!$A$12:$B$1041,2,FALSE))","v":""},""]
["",null,null,null,null,{"$f":"IF(K932=\"\",\"\",VLOOKUP($A932,'Tocalino Index'!$A$12:$B$1041,2,FALSE))","v":""},"2033-06-01","",{"$f":"IF(H932=\"\",\"\",VLOOKUP($G932,WILL5000PR!$A$12:$B$1041,2,FALSE))","v":""},null,"",{"$f":"IF(DJIA!B281=\"\",\"\",DJIA!B281)","v":""},{"$f":"IF(CPIAUCSL!B1049=\"\",\"\",CPIAUCSL!B1049)","v":""},{"$f":"IF(K932=\"\",\"\",VLOOKUP($G932,DJIA_def!$A$12:$B$1041,2,FALSE))","v":""},""]
["",null,null,null,null,{"$f":"IF(K933=\"\",\"\",VLOOKUP($A933,'Tocalino Index'!$A$12:$B$1041,2,FALSE))","v":""},"2033-07-01","",{"$f":"IF(H933=\"\",\"\",VLOOKUP($G933,WILL5000PR!$A$12:$B$1041,2,FALSE))","v":""},null,"",{"$f":"IF(DJIA!B282=\"\",\"\",DJIA!B282)","v":""},{"$f":"IF(CPIAUCSL!B1050=\"\",\"\",CPIAUCSL!B1050)","v":""},{"$f":"IF(K933=\"\",\"\",VLOOKUP($G933,DJIA_def!$A$12:$B$1041,2,FALSE))","v":""},""]
["",null,null,null,null,{"$f":"IF(K934=\"\",\"\",VLOOKUP($A934,'Tocalino Index'!$A$12:$B$1041,2,FALSE))","v":""},"2033-08-01","",{"$f":"IF(H934=\"\",\"\",VLOOKUP($G934,WILL5000PR!$A$12:$B$1041,2,FALSE))","v":""},null,"",{"$f":"IF(DJIA!B283=\"\",\"\",DJIA!B283)","v":""},{"$f":"IF(CPIAUCSL!B1051=\"\",\"\",CPIAUCSL!B1051)","v":""},{"$f":"IF(K934=\"\",\"\",VLOOKUP($G934,DJIA_def!$A$12:$B$1041,2,FALSE))","v":""},""]
["",null,null,null,null,{"$f":"IF(K935=\"\",\"\",VLOOKUP($A935,'Tocalino Index'!$A$12:$B$1041,2,FALSE))","v":""},"2033-09-01","",{"$f":"IF(H935=\"\",\"\",VLOOKUP($G935,WILL5000PR!$A$12:$B$1041,2,FALSE))","v":""},null,"",{"$f":"IF(DJIA!B284=\"\",\"\",DJIA!B284)","v":""},{"$f":"IF(CPIAUCSL!B1052=\"\",\"\",CPIAUCSL!B1052)","v":""},{"$f":"IF(K935=\"\",\"\",VLOOKUP($G935,DJIA_def!$A$12:$B$1041,2,FALSE))","v":""},""]
["",null,null,null,null,{"$f":"IF(K936=\"\",\"\",VLOOKUP($A936,'Tocalino Index'!$A$12:$B$1041,2,FALSE))","v":""},"2033-10-01","",{"$f":"IF(H936=\"\",\"\",VLOOKUP($G936,WILL5000PR!$A$12:$B$1041,2,FALSE))","v":""},null,"",{"$f":"IF(DJIA!B285=\"\",\"\",DJIA!B285)","v":""},{"$f":"IF(CPIAUCSL!B1053=\"\",\"\",CPIAUCSL!B1053)","v":""},{"$f":"IF(K936=\"\",\"\",VLOOKUP($G936,DJIA_def!$A$12:$B$1041,2,FALSE))","v":""},""]
["",null,null,null,null,{"$f":"IF(K937=\"\",\"\",VLOOKUP($A937,'Tocalino Index'!$A$12:$B$1041,2,FALSE))","v":""},"2033-11-01","",{"$f":"IF(H937=\"\",\"\",VLOOKUP($G937,WILL5000PR!$A$12:$B$1041,2,FALSE))","v":""},null,"",{"$f":"IF(DJIA!B286=\"\",\"\",DJIA!B286)","v":""},{"$f":"IF(CPIAUCSL!B1054=\"\",\"\",CPIAUCSL!B1054)","v":""},{"$f":"IF(K937=\"\",\"\",VLOOKUP($G937,DJIA_def!$A$12:$B$1041,2,FALSE))","v":""},""]
["",null,null,null,null,{"$f":"IF(K938=\"\",\"\",VLOOKUP($A938,'Tocalino Index'!$A$12:$B$1041,2,FALSE))","v":""},"2033-12-01","",{"$f":"IF(H938=\"\",\"\",VLOOKUP($G938,WILL5000PR!$A$12:$B$1041,2,FALSE))","v":""},null,"",{"$f":"IF(DJIA!B287=\"\",\"\",DJIA!B287)","v":""},{"$f":"IF(CPIAUCSL!B1055=\"\",\"\",CPIAUCSL!B1055)","v":""},{"$f":"IF(K938=\"\",\"\",VLOOKUP($G938,DJIA_def!$A$12:$B$1041,2,FALSE))","v":""},""]
["",null,null,null,null,{"$f":"IF(K939=\"\",\"\",VLOOKUP($A939,'Tocalino Index'!$A$12:$B$1041,2,FALSE))","v":""},"2034-01-01",{"$f":"IF(($G$13-G939)<40,\"\",G939)","v":""},{"$f":"IF(H939=\"\",\"\",VLOOKUP($G939,WILL5000PR!$A$12:$B$1041,2,FALSE))","v":""},null,"",{"$f":"IF(DJIA!B288=\"\",\"\",DJIA!B288)","v":""},{"$f":"IF(CPIAUCSL!B1056=\"\",\"\",CPIAUCSL!B1056)","v":""},{"$f":"IF(K939=\"\",\"\",VLOOKUP($G939,DJIA_def!$A$12:$B$1041,2,FALSE))","v":""},""]
["",null,null,null,null,{"$f":"IF(K940=\"\",\"\",VLOOKUP($A940,'Tocalino Index'!$A$12:$B$1041,2,FALSE))","v":""},"2034-02-01","",{"$f":"IF(H940=\"\",\"\",VLOOKUP($G940,WILL5000PR!$A$12:$B$1041,2,FALSE))","v":""},null,"",{"$f":"IF(DJIA!B289=\"\",\"\",DJIA!B289)","v":""},{"$f":"IF(CPIAUCSL!B1057=\"\",\"\",CPIAUCSL!B1057)","v":""},{"$f":"IF(K940=\"\",\"\",VLOOKUP($G940,DJIA_def!$A$12:$B$1041,2,FALSE))","v":""},""]
["",null,null,null,null,{"$f":"IF(K941=\"\",\"\",VLOOKUP($A941,'Tocalino Index'!$A$12:$B$1041,2,FALSE))","v":""},"2034-03-01","",{"$f":"IF(H941=\"\",\"\",VLOOKUP($G941,WILL5000PR!$A$12:$B$1041,2,FALSE))","v":""},null,"",{"$f":"IF(DJIA!B290=\"\",\"\",DJIA!B290)","v":""},{"$f":"IF(CPIAUCSL!B1058=\"\",\"\",CPIAUCSL!B1058)","v":""},{"$f":"IF(K941=\"\",\"\",VLOOKUP($G941,DJIA_def!$A$12:$B$1041,2,FALSE))","v":""},""]
["",null,null,null,null,{"$f":"IF(K942=\"\",\"\",VLOOKUP($A942,'Tocalino Index'!$A$12:$B$1041,2,FALSE))","v":""},"2034-04-01","",{"$f":"IF(H942=\"\",\"\",VLOOKUP($G942,WILL5000PR!$A$12:$B$1041,2,FALSE))","v":""},null,"",{"$f":"IF(DJIA!B291=\"\",\"\",DJIA!B291)","v":""},{"$f":"IF(CPIAUCSL!B1059=\"\",\"\",CPIAUCSL!B1059)","v":""},{"$f":"IF(K942=\"\",\"\",VLOOKUP($G942,DJIA_def!$A$12:$B$1041,2,FALSE))","v":""},""]
["",null,null,null,null,{"$f":"IF(K943=\"\",\"\",VLOOKUP($A943,'Tocalino Index'!$A$12:$B$1041,2,FALSE))","v":""},"2034-05-01","",{"$f":"IF(H943=\"\",\"\",VLOOKUP($G943,WILL5000PR!$A$12:$B$1041,2,FALSE))","v":""},null,"",{"$f":"IF(DJIA!B292=\"\",\"\",DJIA!B292)","v":""},{"$f":"IF(CPIAUCSL!B1060=\"\",\"\",CPIAUCSL!B1060)","v":""},{"$f":"IF(K943=\"\",\"\",VLOOKUP($G943,DJIA_def!$A$12:$B$1041,2,FALSE))","v":""},""]
["",null,null,null,null,{"$f":"IF(K944=\"\",\"\",VLOOKUP($A944,'Tocalino Index'!$A$12:$B$1041,2,FALSE))","v":""},"2034-06-01","",{"$f":"IF(H944=\"\",\"\",VLOOKUP($G944,WILL5000PR!$A$12:$B$1041,2,FALSE))","v":""},null,"",{"$f":"IF(DJIA!B293=\"\",\"\",DJIA!B293)","v":""},{"$f":"IF(CPIAUCSL!B1061=\"\",\"\",CPIAUCSL!B1061)","v":""},{"$f":"IF(K944=\"\",\"\",VLOOKUP($G944,DJIA_def!$A$12:$B$1041,2,FALSE))","v":""},""]
["",null,null,null,null,{"$f":"IF(K945=\"\",\"\",VLOOKUP($A945,'Tocalino Index'!$A$12:$B$1041,2,FALSE))","v":""},"2034-07-01","",{"$f":"IF(H945=\"\",\"\",VLOOKUP($G945,WILL5000PR!$A$12:$B$1041,2,FALSE))","v":""},null,"",{"$f":"IF(DJIA!B294=\"\",\"\",DJIA!B294)","v":""},{"$f":"IF(CPIAUCSL!B1062=\"\",\"\",CPIAUCSL!B1062)","v":""},{"$f":"IF(K945=\"\",\"\",VLOOKUP($G945,DJIA_def!$A$12:$B$1041,2,FALSE))","v":""},""]
["",null,null,null,null,{"$f":"IF(K946=\"\",\"\",VLOOKUP($A946,'Tocalino Index'!$A$12:$B$1041,2,FALSE))","v":""},"2034-08-01","",{"$f":"IF(H946=\"\",\"\",VLOOKUP($G946,WILL5000PR!$A$12:$B$1041,2,FALSE))","v":""},null,"",{"$f":"IF(DJIA!B295=\"\",\"\",DJIA!B295)","v":""},{"$f":"IF(CPIAUCSL!B1063=\"\",\"\",CPIAUCSL!B1063)","v":""},{"$f":"IF(K946=\"\",\"\",VLOOKUP($G946,DJIA_def!$A$12:$B$1041,2,FALSE))","v":""},""]
["",null,null,null,null,{"$f":"IF(K947=\"\",\"\",VLOOKUP($A947,'Tocalino Index'!$A$12:$B$1041,2,FALSE))","v":""},"2034-09-01","",{"$f":"IF(H947=\"\",\"\",VLOOKUP($G947,WILL5000PR!$A$12:$B$1041,2,FALSE))","v":""},null,"",{"$f":"IF(DJIA!B296=\"\",\"\",DJIA!B296)","v":""},{"$f":"IF(CPIAUCSL!B1064=\"\",\"\",CPIAUCSL!B1064)","v":""},{"$f":"IF(K947=\"\",\"\",VLOOKUP($G947,DJIA_def!$A$12:$B$1041,2,FALSE))","v":""},""]
["",null,null,null,null,{"$f":"IF(K948=\"\",\"\",VLOOKUP($A948,'Tocalino Index'!$A$12:$B$1041,2,FALSE))","v":""},"2034-10-01","",{"$f":"IF(H948=\"\",\"\",VLOOKUP($G948,WILL5000PR!$A$12:$B$1041,2,FALSE))","v":""},null,"",{"$f":"IF(DJIA!B297=\"\",\"\",DJIA!B297)","v":""},{"$f":"IF(CPIAUCSL!B1065=\"\",\"\",CPIAUCSL!B1065)","v":""},{"$f":"IF(K948=\"\",\"\",VLOOKUP($G948,DJIA_def!$A$12:$B$1041,2,FALSE))","v":""},""]
["",null,null,null,null,{"$f":"IF(K949=\"\",\"\",VLOOKUP($A949,'Tocalino Index'!$A$12:$B$1041,2,FALSE))","v":""},"2034-11-01","",{"$f":"IF(H949=\"\",\"\",VLOOKUP($G949,WILL5000PR!$A$12:$B$1041,2,FALSE))","v":""},null,"",{"$f":"IF(DJIA!B298=\"\",\"\",DJIA!B298)","v":""},{"$f":"IF(CPIAUCSL!B1066=\"\",\"\",CPIAUCSL!B1066)","v":""},{"$f":"IF(K949=\"\",\"\",VLOOKUP($G949,DJIA_def!$A$12:$B$1041,2,FALSE))","v":""},""]
["",null,null,null,null,{"$f":"IF(K950=\"\",\"\",VLOOKUP($A950,'Tocalino Index'!$A$12:$B$1041,2,FALSE))","v":""},"2034-12-01","",{"$f":"IF(H950=\"\",\"\",VLOOKUP($G950,WILL5000PR!$A$12:$B$1041,2,FALSE))","v":""},null,"",{"$f":"IF(DJIA!B299=\"\",\"\",DJIA!B299)","v":""},{"$f":"IF(CPIAUCSL!B1067=\"\",\"\",CPIAUCSL!B1067)","v":""},{"$f":"IF(K950=\"\",\"\",VLOOKUP($G950,DJIA_def!$A$12:$B$1041,2,FALSE))","v":""},""]
["",null,null,null,null,{"$f":"IF(K951=\"\",\"\",VLOOKUP($A951,'Tocalino Index'!$A$12:$B$1041,2,FALSE))","v":""},"2035-01-01","",{"$f":"IF(H951=\"\",\"\",VLOOKUP($G951,WILL5000PR!$A$12:$B$1041,2,FALSE))","v":""},null,"",{"$f":"IF(DJIA!B300=\"\",\"\",DJIA!B300)","v":""},{"$f":"IF(CPIAUCSL!B1068=\"\",\"\",CPIAUCSL!B1068)","v":""},{"$f":"IF(K951=\"\",\"\",VLOOKUP($G951,DJIA_def!$A$12:$B$1041,2,FALSE))","v":""},""]
["",null,null,null,null,{"$f":"IF(K952=\"\",\"\",VLOOKUP($A952,'Tocalino Index'!$A$12:$B$1041,2,FALSE))","v":""},"2035-02-01","",{"$f":"IF(H952=\"\",\"\",VLOOKUP($G952,WILL5000PR!$A$12:$B$1041,2,FALSE))","v":""},null,"",{"$f":"IF(DJIA!B301=\"\",\"\",DJIA!B301)","v":""},{"$f":"IF(CPIAUCSL!B1069=\"\",\"\",CPIAUCSL!B1069)","v":""},{"$f":"IF(K952=\"\",\"\",VLOOKUP($G952,DJIA_def!$A$12:$B$1041,2,FALSE))","v":""},""]
["",null,null,null,null,{"$f":"IF(K953=\"\",\"\",VLOOKUP($A953,'Tocalino Index'!$A$12:$B$1041,2,FALSE))","v":""},"2035-03-01","",{"$f":"IF(H953=\"\",\"\",VLOOKUP($G953,WILL5000PR!$A$12:$B$1041,2,FALSE))","v":""},null,"",{"$f":"IF(DJIA!B302=\"\",\"\",DJIA!B302)","v":""},{"$f":"IF(CPIAUCSL!B1070=\"\",\"\",CPIAUCSL!B1070)","v":""},{"$f":"IF(K953=\"\",\"\",VLOOKUP($G953,DJIA_def!$A$12:$B$1041,2,FALSE))","v":""},""]
["",null,null,null,null,{"$f":"IF(K954=\"\",\"\",VLOOKUP($A954,'Tocalino Index'!$A$12:$B$1041,2,FALSE))","v":""},"2035-04-01","",{"$f":"IF(H954=\"\",\"\",VLOOKUP($G954,WILL5000PR!$A$12:$B$1041,2,FALSE))","v":""},null,"",{"$f":"IF(DJIA!B303=\"\",\"\",DJIA!B303)","v":""},{"$f":"IF(CPIAUCSL!B1071=\"\",\"\",CPIAUCSL!B1071)","v":""},{"$f":"IF(K954=\"\",\"\",VLOOKUP($G954,DJIA_def!$A$12:$B$1041,2,FALSE))","v":""},""]
["",null,null,null,null,{"$f":"IF(K955=\"\",\"\",VLOOKUP($A955,'Tocalino Index'!$A$12:$B$1041,2,FALSE))","v":""},"2035-05-01","",{"$f":"IF(H955=\"\",\"\",VLOOKUP($G955,WILL5000PR!$A$12:$B$1041,2,FALSE))","v":""},null,"",{"$f":"IF(DJIA!B304=\"\",\"\",DJIA!B304)","v":""},{"$f":"IF(CPIAUCSL!B1072=\"\",\"\",CPIAUCSL!B1072)","v":""},{"$f":"IF(K955=\"\",\"\",VLOOKUP($G955,DJIA_def!$A$12:$B$1041,2,FALSE))","v":""},""]
["",null,null,null,null,{"$f":"IF(K956=\"\",\"\",VLOOKUP($A956,'Tocalino Index'!$A$12:$B$1041,2,FALSE))","v":""},"2035-06-01","",{"$f":"IF(H956=\"\",\"\",VLOOKUP($G956,WILL5000PR!$A$12:$B$1041,2,FALSE))","v":""},null,"",{"$f":"IF(DJIA!B305=\"\",\"\",DJIA!B305)","v":""},{"$f":"IF(CPIAUCSL!B1073=\"\",\"\",CPIAUCSL!B1073)","v":""},{"$f":"IF(K956=\"\",\"\",VLOOKUP($G956,DJIA_def!$A$12:$B$1041,2,FALSE))","v":""},""]
["",null,null,null,null,{"$f":"IF(K957=\"\",\"\",VLOOKUP($A957,'Tocalino Index'!$A$12:$B$1041,2,FALSE))","v":""},"2035-07-01","",{"$f":"IF(H957=\"\",\"\",VLOOKUP($G957,WILL5000PR!$A$12:$B$1041,2,FALSE))","v":""},null,"",{"$f":"IF(DJIA!B306=\"\",\"\",DJIA!B306)","v":""},{"$f":"IF(CPIAUCSL!B1074=\"\",\"\",CPIAUCSL!B1074)","v":""},{"$f":"IF(K957=\"\",\"\",VLOOKUP($G957,DJIA_def!$A$12:$B$1041,2,FALSE))","v":""},""]
["",null,null,null,null,{"$f":"IF(K958=\"\",\"\",VLOOKUP($A958,'Tocalino Index'!$A$12:$B$1041,2,FALSE))","v":""},"2035-08-01","",{"$f":"IF(H958=\"\",\"\",VLOOKUP($G958,WILL5000PR!$A$12:$B$1041,2,FALSE))","v":""},null,"",{"$f":"IF(DJIA!B307=\"\",\"\",DJIA!B307)","v":""},{"$f":"IF(CPIAUCSL!B1075=\"\",\"\",CPIAUCSL!B1075)","v":""},{"$f":"IF(K958=\"\",\"\",VLOOKUP($G958,DJIA_def!$A$12:$B$1041,2,FALSE))","v":""},""]
["",null,null,null,null,{"$f":"IF(K959=\"\",\"\",VLOOKUP($A959,'Tocalino Index'!$A$12:$B$1041,2,FALSE))","v":""},"2035-09-01","",{"$f":"IF(H959=\"\",\"\",VLOOKUP($G959,WILL5000PR!$A$12:$B$1041,2,FALSE))","v":""},null,"",{"$f":"IF(DJIA!B308=\"\",\"\",DJIA!B308)","v":""},{"$f":"IF(CPIAUCSL!B1076=\"\",\"\",CPIAUCSL!B1076)","v":""},{"$f":"IF(K959=\"\",\"\",VLOOKUP($G959,DJIA_def!$A$12:$B$1041,2,FALSE))","v":""},""]
[{"$f":"IF((TODAY()-G960)<40,\"\",G960)","v":""},null,null,null,null,{"$f":"IF(K960=\"\",\"\",VLOOKUP($A960,'Tocalino Index'!$A$12:$B$1041,2,FALSE))","v":""},"2035-10-01","",{"$f":"IF(H960=\"\",\"\",VLOOKUP($G960,WILL5000PR!$A$12:$B$1041,2,FALSE))","v":""},null,"",{"$f":"IF(DJIA!B309=\"\",\"\",DJIA!B309)","v":""},{"$f":"IF(CPIAUCSL!B1077=\"\",\"\",CPIAUCSL!B1077)","v":""},{"$f":"IF(K960=\"\",\"\",VLOOKUP($G960,DJIA_def!$A$12:$B$1041,2,FALSE))","v":""},""]
["",null,null,null,null,{"$f":"IF(K961=\"\",\"\",VLOOKUP($A961,'Tocalino Index'!$A$12:$B$1041,2,FALSE))","v":""},"2035-11-01","",{"$f":"IF(H961=\"\",\"\",VLOOKUP($G961,WILL5000PR!$A$12:$B$1041,2,FALSE))","v":""},null,"",{"$f":"IF(DJIA!B310=\"\",\"\",DJIA!B310)","v":""},{"$f":"IF(CPIAUCSL!B1078=\"\",\"\",CPIAUCSL!B1078)","v":""},{"$f":"IF(K961=\"\",\"\",VLOOKUP($G961,DJIA_def!$A$12:$B$1041,2,FALSE))","v":""},""]
["",null,null,null,null,{"$f":"IF(K962=\"\",\"\",VLOOKUP($A962,'Tocalino Index'!$A$12:$B$1041,2,FALSE))","v":""},"2035-12-01","",{"$f":"IF(H962=\"\",\"\",VLOOKUP($G962,WILL5000PR!$A$12:$B$1041,2,FALSE))","v":""},null,"",{"$f":"IF(DJIA!B311=\"\",\"\",DJIA!B311)","v":""},{"$f":"IF(CPIAUCSL!B1079=\"\",\"\",CPIAUCSL!B1079)","v":""},{"$f":"IF(K962=\"\",\"\",VLOOKUP($G962,DJIA_def!$A$12:$B$1041,2,FALSE))","v":""},""]
["",null,null,null,null,{"$f":"IF(K963=\"\",\"\",VLOOKUP($A963,'Tocalino Index'!$A$12:$B$1041,2,FALSE))","v":""},"2036-01-01","",{"$f":"IF(H963=\"\",\"\",VLOOKUP($G963,WILL5000PR!$A$12:$B$1041,2,FALSE))","v":""},null,"",{"$f":"IF(DJIA!B312=\"\",\"\",DJIA!B312)","v":""},{"$f":"IF(CPIAUCSL!B1080=\"\",\"\",CPIAUCSL!B1080)","v":""},{"$f":"IF(K963=\"\",\"\",VLOOKUP($G963,DJIA_def!$A$12:$B$1041,2,FALSE))","v":""},""]
["",null,null,null,null,{"$f":"IF(K964=\"\",\"\",VLOOKUP($A964,'Tocalino Index'!$A$12:$B$1041,2,FALSE))","v":""},"2036-02-01","",{"$f":"IF(H964=\"\",\"\",VLOOKUP($G964,WILL5000PR!$A$12:$B$1041,2,FALSE))","v":""},null,"",{"$f":"IF(DJIA!B313=\"\",\"\",DJIA!B313)","v":""},{"$f":"IF(CPIAUCSL!B1081=\"\",\"\",CPIAUCSL!B1081)","v":""},{"$f":"IF(K964=\"\",\"\",VLOOKUP($G964,DJIA_def!$A$12:$B$1041,2,FALSE))","v":""},""]
["",null,null,null,null,{"$f":"IF(K965=\"\",\"\",VLOOKUP($A965,'Tocalino Index'!$A$12:$B$1041,2,FALSE))","v":""},"2036-03-01","",{"$f":"IF(H965=\"\",\"\",VLOOKUP($G965,WILL5000PR!$A$12:$B$1041,2,FALSE))","v":""},null,"",{"$f":"IF(DJIA!B314=\"\",\"\",DJIA!B314)","v":""},{"$f":"IF(CPIAUCSL!B1082=\"\",\"\",CPIAUCSL!B1082)","v":""},{"$f":"IF(K965=\"\",\"\",VLOOKUP($G965,DJIA_def!$A$12:$B$1041,2,FALSE))","v":""},""]
["",null,null,null,null,{"$f":"IF(K966=\"\",\"\",VLOOKUP($A966,'Tocalino Index'!$A$12:$B$1041,2,FALSE))","v":""},"2036-04-01","",{"$f":"IF(H966=\"\",\"\",VLOOKUP($G966,WILL5000PR!$A$12:$B$1041,2,FALSE))","v":""},null,{"$f":"IF(($G$13-G966)<40,\"\",G966)","v":""},{"$f":"IF(DJIA!B315=\"\",\"\",DJIA!B315)","v":""},{"$f":"IF(CPIAUCSL!B1083=\"\",\"\",CPIAUCSL!B1083)","v":""},{"$f":"IF(K966=\"\",\"\",VLOOKUP($G966,DJIA_def!$A$12:$B$1041,2,FALSE))","v":""},{"$f":"IF(K966=\"\",\"\",N966/$P$14)","v":""}]
["",null,null,null,null,{"$f":"IF(K967=\"\",\"\",VLOOKUP($A967,'Tocalino Index'!$A$12:$B$1041,2,FALSE))","v":""},"2036-05-01","",{"$f":"IF(H967=\"\",\"\",VLOOKUP($G967,WILL5000PR!$A$12:$B$1041,2,FALSE))","v":""},null,"",{"$f":"IF(DJIA!B316=\"\",\"\",DJIA!B316)","v":""},{"$f":"IF(CPIAUCSL!B1084=\"\",\"\",CPIAUCSL!B1084)","v":""},{"$f":"IF(K967=\"\",\"\",VLOOKUP($G967,DJIA_def!$A$12:$B$1041,2,FALSE))","v":""},""]
["",null,null,null,null,{"$f":"IF(K968=\"\",\"\",VLOOKUP($A968,'Tocalino Index'!$A$12:$B$1041,2,FALSE))","v":""},"2036-06-01","",{"$f":"IF(H968=\"\",\"\",VLOOKUP($G968,WILL5000PR!$A$12:$B$1041,2,FALSE))","v":""},null,"",{"$f":"IF(DJIA!B317=\"\",\"\",DJIA!B317)","v":""},{"$f":"IF(CPIAUCSL!B1085=\"\",\"\",CPIAUCSL!B1085)","v":""},{"$f":"IF(K968=\"\",\"\",VLOOKUP($G968,DJIA_def!$A$12:$B$1041,2,FALSE))","v":""},""]
["",null,null,null,null,{"$f":"IF(K969=\"\",\"\",VLOOKUP($A969,'Tocalino Index'!$A$12:$B$1041,2,FALSE))","v":""},"2036-07-01","",{"$f":"IF(H969=\"\",\"\",VLOOKUP($G969,WILL5000PR!$A$12:$B$1041,2,FALSE))","v":""},null,"",{"$f":"IF(DJIA!B318=\"\",\"\",DJIA!B318)","v":""},{"$f":"IF(CPIAUCSL!B1086=\"\",\"\",CPIAUCSL!B1086)","v":""},{"$f":"IF(K969=\"\",\"\",VLOOKUP($G969,DJIA_def!$A$12:$B$1041,2,FALSE))","v":""},""]
["",null,null,null,null,{"$f":"IF(K970=\"\",\"\",VLOOKUP($A970,'Tocalino Index'!$A$12:$B$1041,2,FALSE))","v":""},"2036-08-01","",{"$f":"IF(H970=\"\",\"\",VLOOKUP($G970,WILL5000PR!$A$12:$B$1041,2,FALSE))","v":""},null,"",{"$f":"IF(DJIA!B319=\"\",\"\",DJIA!B319)","v":""},{"$f":"IF(CPIAUCSL!B1087=\"\",\"\",CPIAUCSL!B1087)","v":""},{"$f":"IF(K970=\"\",\"\",VLOOKUP($G970,DJIA_def!$A$12:$B$1041,2,FALSE))","v":""},""]
["",null,null,null,null,{"$f":"IF(K971=\"\",\"\",VLOOKUP($A971,'Tocalino Index'!$A$12:$B$1041,2,FALSE))","v":""},"2036-09-01","",{"$f":"IF(H971=\"\",\"\",VLOOKUP($G971,WILL5000PR!$A$12:$B$1041,2,FALSE))","v":""},null,"",{"$f":"IF(DJIA!B320=\"\",\"\",DJIA!B320)","v":""},{"$f":"IF(CPIAUCSL!B1088=\"\",\"\",CPIAUCSL!B1088)","v":""},{"$f":"IF(K971=\"\",\"\",VLOOKUP($G971,DJIA_def!$A$12:$B$1041,2,FALSE))","v":""},""]
["",null,null,null,null,{"$f":"IF(K972=\"\",\"\",VLOOKUP($A972,'Tocalino Index'!$A$12:$B$1041,2,FALSE))","v":""},"2036-10-01","",{"$f":"IF(H972=\"\",\"\",VLOOKUP($G972,WILL5000PR!$A$12:$B$1041,2,FALSE))","v":""},null,"",{"$f":"IF(DJIA!B321=\"\",\"\",DJIA!B321)","v":""},{"$f":"IF(CPIAUCSL!B1089=\"\",\"\",CPIAUCSL!B1089)","v":""},{"$f":"IF(K972=\"\",\"\",VLOOKUP($G972,DJIA_def!$A$12:$B$1041,2,FALSE))","v":""},""]
["",null,null,null,null,{"$f":"IF(K973=\"\",\"\",VLOOKUP($A973,'Tocalino Index'!$A$12:$B$1041,2,FALSE))","v":""},"2036-11-01","",{"$f":"IF(H973=\"\",\"\",VLOOKUP($G973,WILL5000PR!$A$12:$B$1041,2,FALSE))","v":""},null,"",{"$f":"IF(DJIA!B322=\"\",\"\",DJIA!B322)","v":""},{"$f":"IF(CPIAUCSL!B1090=\"\",\"\",CPIAUCSL!B1090)","v":""},{"$f":"IF(K973=\"\",\"\",VLOOKUP($G973,DJIA_def!$A$12:$B$1041,2,FALSE))","v":""},""]
["",null,null,null,null,{"$f":"IF(K974=\"\",\"\",VLOOKUP($A974,'Tocalino Index'!$A$12:$B$1041,2,FALSE))","v":""},"2036-12-01","",{"$f":"IF(H974=\"\",\"\",VLOOKUP($G974,WILL5000PR!$A$12:$B$1041,2,FALSE))","v":""},null,"",{"$f":"IF(DJIA!B323=\"\",\"\",DJIA!B323)","v":""},{"$f":"IF(CPIAUCSL!B1091=\"\",\"\",CPIAUCSL!B1091)","v":""},{"$f":"IF(K974=\"\",\"\",VLOOKUP($G974,DJIA_def!$A$12:$B$1041,2,FALSE))","v":""},""]
["",null,null,null,null,{"$f":"IF(K975=\"\",\"\",VLOOKUP($A975,'Tocalino Index'!$A$12:$B$1041,2,FALSE))","v":""},"2037-01-01","",{"$f":"IF(H975=\"\",\"\",VLOOKUP($G975,WILL5000PR!$A$12:$B$1041,2,FALSE))","v":""},null,"",{"$f":"IF(DJIA!B324=\"\",\"\",DJIA!B324)","v":""},{"$f":"IF(CPIAUCSL!B1092=\"\",\"\",CPIAUCSL!B1092)","v":""},{"$f":"IF(K975=\"\",\"\",VLOOKUP($G975,DJIA_def!$A$12:$B$1041,2,FALSE))","v":""},""]
["",null,null,null,null,{"$f":"IF(K976=\"\",\"\",VLOOKUP($A976,'Tocalino Index'!$A$12:$B$1041,2,FALSE))","v":""},"2037-02-01","",{"$f":"IF(H976=\"\",\"\",VLOOKUP($G976,WILL5000PR!$A$12:$B$1041,2,FALSE))","v":""},null,"",{"$f":"IF(DJIA!B325=\"\",\"\",DJIA!B325)","v":""},{"$f":"IF(CPIAUCSL!B1093=\"\",\"\",CPIAUCSL!B1093)","v":""},{"$f":"IF(K976=\"\",\"\",VLOOKUP($G976,DJIA_def!$A$12:$B$1041,2,FALSE))","v":""},""]
["",null,null,null,null,{"$f":"IF(K977=\"\",\"\",VLOOKUP($A977,'Tocalino Index'!$A$12:$B$1041,2,FALSE))","v":""},"2037-03-01","",{"$f":"IF(H977=\"\",\"\",VLOOKUP($G977,WILL5000PR!$A$12:$B$1041,2,FALSE))","v":""},null,"",{"$f":"IF(DJIA!B326=\"\",\"\",DJIA!B326)","v":""},{"$f":"IF(CPIAUCSL!B1094=\"\",\"\",CPIAUCSL!B1094)","v":""},{"$f":"IF(K977=\"\",\"\",VLOOKUP($G977,DJIA_def!$A$12:$B$1041,2,FALSE))","v":""},""]
["",null,null,null,null,{"$f":"IF(K978=\"\",\"\",VLOOKUP($A978,'Tocalino Index'!$A$12:$B$1041,2,FALSE))","v":""},"2037-04-01","",{"$f":"IF(H978=\"\",\"\",VLOOKUP($G978,WILL5000PR!$A$12:$B$1041,2,FALSE))","v":""},null,"",{"$f":"IF(DJIA!B327=\"\",\"\",DJIA!B327)","v":""},{"$f":"IF(CPIAUCSL!B1095=\"\",\"\",CPIAUCSL!B1095)","v":""},{"$f":"IF(K978=\"\",\"\",VLOOKUP($G978,DJIA_def!$A$12:$B$1041,2,FALSE))","v":""},""]
["",null,null,null,null,{"$f":"IF(K979=\"\",\"\",VLOOKUP($A979,'Tocalino Index'!$A$12:$B$1041,2,FALSE))","v":""},"2037-05-01","",{"$f":"IF(H979=\"\",\"\",VLOOKUP($G979,WILL5000PR!$A$12:$B$1041,2,FALSE))","v":""},null,"",{"$f":"IF(DJIA!B328=\"\",\"\",DJIA!B328)","v":""},{"$f":"IF(CPIAUCSL!B1096=\"\",\"\",CPIAUCSL!B1096)","v":""},{"$f":"IF(K979=\"\",\"\",VLOOKUP($G979,DJIA_def!$A$12:$B$1041,2,FALSE))","v":""},""]
["",null,null,null,null,{"$f":"IF(K980=\"\",\"\",VLOOKUP($A980,'Tocalino Index'!$A$12:$B$1041,2,FALSE))","v":""},"2037-06-01","",{"$f":"IF(H980=\"\",\"\",VLOOKUP($G980,WILL5000PR!$A$12:$B$1041,2,FALSE))","v":""},null,"",{"$f":"IF(DJIA!B329=\"\",\"\",DJIA!B329)","v":""},{"$f":"IF(CPIAUCSL!B1097=\"\",\"\",CPIAUCSL!B1097)","v":""},{"$f":"IF(K980=\"\",\"\",VLOOKUP($G980,DJIA_def!$A$12:$B$1041,2,FALSE))","v":""},""]
["",null,null,null,null,{"$f":"IF(K981=\"\",\"\",VLOOKUP($A981,'Tocalino Index'!$A$12:$B$1041,2,FALSE))","v":""},"2037-07-01","",{"$f":"IF(H981=\"\",\"\",VLOOKUP($G981,WILL5000PR!$A$12:$B$1041,2,FALSE))","v":""},null,"",{"$f":"IF(DJIA!B330=\"\",\"\",DJIA!B330)","v":""},{"$f":"IF(CPIAUCSL!B1098=\"\",\"\",CPIAUCSL!B1098)","v":""},{"$f":"IF(K981=\"\",\"\",VLOOKUP($G981,DJIA_def!$A$12:$B$1041,2,FALSE))","v":""},""]
["",null,null,null,null,{"$f":"IF(K982=\"\",\"\",VLOOKUP($A982,'Tocalino Index'!$A$12:$B$1041,2,FALSE))","v":""},"2037-08-01","",{"$f":"IF(H982=\"\",\"\",VLOOKUP($G982,WILL5000PR!$A$12:$B$1041,2,FALSE))","v":""},null,"",{"$f":"IF(DJIA!B331=\"\",\"\",DJIA!B331)","v":""},{"$f":"IF(CPIAUCSL!B1099=\"\",\"\",CPIAUCSL!B1099)","v":""},{"$f":"IF(K982=\"\",\"\",VLOOKUP($G982,DJIA_def!$A$12:$B$1041,2,FALSE))","v":""},""]
["",null,null,null,null,{"$f":"IF(K983=\"\",\"\",VLOOKUP($A983,'Tocalino Index'!$A$12:$B$1041,2,FALSE))","v":""},"2037-09-01","",{"$f":"IF(H983=\"\",\"\",VLOOKUP($G983,WILL5000PR!$A$12:$B$1041,2,FALSE))","v":""},null,"",{"$f":"IF(DJIA!B332=\"\",\"\",DJIA!B332)","v":""},{"$f":"IF(CPIAUCSL!B1100=\"\",\"\",CPIAUCSL!B1100)","v":""},{"$f":"IF(K983=\"\",\"\",VLOOKUP($G983,DJIA_def!$A$12:$B$1041,2,FALSE))","v":""},""]
["",null,null,null,null,{"$f":"IF(K984=\"\",\"\",VLOOKUP($A984,'Tocalino Index'!$A$12:$B$1041,2,FALSE))","v":""},"2037-10-01","",{"$f":"IF(H984=\"\",\"\",VLOOKUP($G984,WILL5000PR!$A$12:$B$1041,2,FALSE))","v":""},null,"",{"$f":"IF(DJIA!B333=\"\",\"\",DJIA!B333)","v":""},{"$f":"IF(CPIAUCSL!B1101=\"\",\"\",CPIAUCSL!B1101)","v":""},{"$f":"IF(K984=\"\",\"\",VLOOKUP($G984,DJIA_def!$A$12:$B$1041,2,FALSE))","v":""},""]
["",null,null,null,null,{"$f":"IF(K985=\"\",\"\",VLOOKUP($A985,'Tocalino Index'!$A$12:$B$1041,2,FALSE))","v":""},"2037-11-01","",{"$f":"IF(H985=\"\",\"\",VLOOKUP($G985,WILL5000PR!$A$12:$B$1041,2,FALSE))","v":""},null,"",{"$f":"IF(DJIA!B334=\"\",\"\",DJIA!B334)","v":""},{"$f":"IF(CPIAUCSL!B1102=\"\",\"\",CPIAUCSL!B1102)","v":""},{"$f":"IF(K985=\"\",\"\",VLOOKUP($G985,DJIA_def!$A$12:$B$1041,2,FALSE))","v":""},""]
["",null,null,null,null,{"$f":"IF(K986=\"\",\"\",VLOOKUP($A986,'Tocalino Index'!$A$12:$B$1041,2,FALSE))","v":""},"2037-12-01","",{"$f":"IF(H986=\"\",\"\",VLOOKUP($G986,WILL5000PR!$A$12:$B$1041,2,FALSE))","v":""},null,"",{"$f":"IF(DJIA!B335=\"\",\"\",DJIA!B335)","v":""},{"$f":"IF(CPIAUCSL!B1103=\"\",\"\",CPIAUCSL!B1103)","v":""},{"$f":"IF(K986=\"\",\"\",VLOOKUP($G986,DJIA_def!$A$12:$B$1041,2,FALSE))","v":""},""]
["",null,null,null,null,{"$f":"IF(K987=\"\",\"\",VLOOKUP($A987,'Tocalino Index'!$A$12:$B$1041,2,FALSE))","v":""},"2038-01-01","",{"$f":"IF(H987=\"\",\"\",VLOOKUP($G987,WILL5000PR!$A$12:$B$1041,2,FALSE))","v":""},null,"",{"$f":"IF(DJIA!B336=\"\",\"\",DJIA!B336)","v":""},{"$f":"IF(CPIAUCSL!B1104=\"\",\"\",CPIAUCSL!B1104)","v":""},{"$f":"IF(K987=\"\",\"\",VLOOKUP($G987,DJIA_def!$A$12:$B$1041,2,FALSE))","v":""},""]
["",null,null,null,null,{"$f":"IF(K988=\"\",\"\",VLOOKUP($A988,'Tocalino Index'!$A$12:$B$1041,2,FALSE))","v":""},"2038-02-01","",{"$f":"IF(H988=\"\",\"\",VLOOKUP($G988,WILL5000PR!$A$12:$B$1041,2,FALSE))","v":""},null,"",{"$f":"IF(DJIA!B337=\"\",\"\",DJIA!B337)","v":""},{"$f":"IF(CPIAUCSL!B1105=\"\",\"\",CPIAUCSL!B1105)","v":""},{"$f":"IF(K988=\"\",\"\",VLOOKUP($G988,DJIA_def!$A$12:$B$1041,2,FALSE))","v":""},""]
["",null,null,null,null,{"$f":"IF(K989=\"\",\"\",VLOOKUP($A989,'Tocalino Index'!$A$12:$B$1041,2,FALSE))","v":""},"2038-03-01","",{"$f":"IF(H989=\"\",\"\",VLOOKUP($G989,WILL5000PR!$A$12:$B$1041,2,FALSE))","v":""},null,"",{"$f":"IF(DJIA!B338=\"\",\"\",DJIA!B338)","v":""},{"$f":"IF(CPIAUCSL!B1106=\"\",\"\",CPIAUCSL!B1106)","v":""},{"$f":"IF(K989=\"\",\"\",VLOOKUP($G989,DJIA_def!$A$12:$B$1041,2,FALSE))","v":""},""]
["",null,null,null,null,{"$f":"IF(K990=\"\",\"\",VLOOKUP($A990,'Tocalino Index'!$A$12:$B$1041,2,FALSE))","v":""},"2038-04-01","",{"$f":"IF(H990=\"\",\"\",VLOOKUP($G990,WILL5000PR!$A$12:$B$1041,2,FALSE))","v":""},null,"",{"$f":"IF(DJIA!B339=\"\",\"\",DJIA!B339)","v":""},{"$f":"IF(CPIAUCSL!B1107=\"\",\"\",CPIAUCSL!B1107)","v":""},{"$f":"IF(K990=\"\",\"\",VLOOKUP($G990,DJIA_def!$A$12:$B$1041,2,FALSE))","v":""},""]
["",null,null,null,null,{"$f":"IF(K991=\"\",\"\",VLOOKUP($A991,'Tocalino Index'!$A$12:$B$1041,2,FALSE))","v":""},"2038-05-01","",{"$f":"IF(H991=\"\",\"\",VLOOKUP($G991,WILL5000PR!$A$12:$B$1041,2,FALSE))","v":""},null,"",{"$f":"IF(DJIA!B340=\"\",\"\",DJIA!B340)","v":""},{"$f":"IF(CPIAUCSL!B1108=\"\",\"\",CPIAUCSL!B1108)","v":""},{"$f":"IF(K991=\"\",\"\",VLOOKUP($G991,DJIA_def!$A$12:$B$1041,2,FALSE))","v":""},""]
["",null,null,null,null,{"$f":"IF(K992=\"\",\"\",VLOOKUP($A992,'Tocalino Index'!$A$12:$B$1041,2,FALSE))","v":""},"2038-06-01","",{"$f":"IF(H992=\"\",\"\",VLOOKUP($G992,WILL5000PR!$A$12:$B$1041,2,FALSE))","v":""},null,"",{"$f":"IF(DJIA!B341=\"\",\"\",DJIA!B341)","v":""},{"$f":"IF(CPIAUCSL!B1109=\"\",\"\",CPIAUCSL!B1109)","v":""},{"$f":"IF(K992=\"\",\"\",VLOOKUP($G992,DJIA_def!$A$12:$B$1041,2,FALSE))","v":""},""]
["",null,null,null,null,{"$f":"IF(K993=\"\",\"\",VLOOKUP($A993,'Tocalino Index'!$A$12:$B$1041,2,FALSE))","v":""},"2038-07-01","",{"$f":"IF(H993=\"\",\"\",VLOOKUP($G993,WILL5000PR!$A$12:$B$1041,2,FALSE))","v":""},null,"",{"$f":"IF(DJIA!B342=\"\",\"\",DJIA!B342)","v":""},{"$f":"IF(CPIAUCSL!B1110=\"\",\"\",CPIAUCSL!B1110)","v":""},{"$f":"IF(K993=\"\",\"\",VLOOKUP($G993,DJIA_def!$A$12:$B$1041,2,FALSE))","v":""},""]
["",null,null,null,null,{"$f":"IF(K994=\"\",\"\",VLOOKUP($A994,'Tocalino Index'!$A$12:$B$1041,2,FALSE))","v":""},"2038-08-01","",{"$f":"IF(H994=\"\",\"\",VLOOKUP($G994,WILL5000PR!$A$12:$B$1041,2,FALSE))","v":""},null,"",{"$f":"IF(DJIA!B343=\"\",\"\",DJIA!B343)","v":""},{"$f":"IF(CPIAUCSL!B1111=\"\",\"\",CPIAUCSL!B1111)","v":""},{"$f":"IF(K994=\"\",\"\",VLOOKUP($G994,DJIA_def!$A$12:$B$1041,2,FALSE))","v":""},""]
["",null,null,null,null,{"$f":"IF(K995=\"\",\"\",VLOOKUP($A995,'Tocalino Index'!$A$12:$B$1041,2,FALSE))","v":""},"2038-09-01","",{"$f":"IF(H995=\"\",\"\",VLOOKUP($G995,WILL5000PR!$A$12:$B$1041,2,FALSE))","v":""},null,"",{"$f":"IF(DJIA!B344=\"\",\"\",DJIA!B344)","v":""},{"$f":"IF(CPIAUCSL!B1112=\"\",\"\",CPIAUCSL!B1112)","v":""},{"$f":"IF(K995=\"\",\"\",VLOOKUP($G995,DJIA_def!$A$12:$B$1041,2,FALSE))","v":""},""]
["",null,null,null,null,{"$f":"IF(K996=\"\",\"\",VLOOKUP($A996,'Tocalino Index'!$A$12:$B$1041,2,FALSE))","v":""},"2038-10-01","",{"$f":"IF(H996=\"\",\"\",VLOOKUP($G996,WILL5000PR!$A$12:$B$1041,2,FALSE))","v":""},null,"",{"$f":"IF(DJIA!B345=\"\",\"\",DJIA!B345)","v":""},{"$f":"IF(CPIAUCSL!B1113=\"\",\"\",CPIAUCSL!B1113)","v":""},{"$f":"IF(K996=\"\",\"\",VLOOKUP($G996,DJIA_def!$A$12:$B$1041,2,FALSE))","v":""},""]
["",null,null,null,null,{"$f":"IF(K997=\"\",\"\",VLOOKUP($A997,'Tocalino Index'!$A$12:$B$1041,2,FALSE))","v":""},"2038-11-01","",{"$f":"IF(H997=\"\",\"\",VLOOKUP($G997,WILL5000PR!$A$12:$B$1041,2,FALSE))","v":""},null,"",{"$f":"IF(DJIA!B346=\"\",\"\",DJIA!B346)","v":""},{"$f":"IF(CPIAUCSL!B1114=\"\",\"\",CPIAUCSL!B1114)","v":""},{"$f":"IF(K997=\"\",\"\",VLOOKUP($G997,DJIA_def!$A$12:$B$1041,2,FALSE))","v":""},""]
["",null,null,null,null,{"$f":"IF(K998=\"\",\"\",VLOOKUP($A998,'Tocalino Index'!$A$12:$B$1041,2,FALSE))","v":""},"2038-12-01","",{"$f":"IF(H998=\"\",\"\",VLOOKUP($G998,WILL5000PR!$A$12:$B$1041,2,FALSE))","v":""},null,"",{"$f":"IF(DJIA!B347=\"\",\"\",DJIA!B347)","v":""},{"$f":"IF(CPIAUCSL!B1115=\"\",\"\",CPIAUCSL!B1115)","v":""},{"$f":"IF(K998=\"\",\"\",VLOOKUP($G998,DJIA_def!$A$12:$B$1041,2,FALSE))","v":""},""]
["",null,null,null,null,{"$f":"IF(K999=\"\",\"\",VLOOKUP($A999,'Tocalino Index'!$A$12:$B$1041,2,FALSE))","v":""},"2039-01-01","",{"$f":"IF(H999=\"\",\"\",VLOOKUP($G999,WILL5000PR!$A$12:$B$1041,2,FALSE))","v":""},null,"",{"$f":"IF(DJIA!B348=\"\",\"\",DJIA!B348)","v":""},{"$f":"IF(CPIAUCSL!B1116=\"\",\"\",CPIAUCSL!B1116)","v":""},{"$f":"IF(K999=\"\",\"\",VLOOKUP($G999,DJIA_def!$A$12:$B$1041,2,FALSE))","v":""},""]
["",null,null,null,null,{"$f":"IF(K1000=\"\",\"\",VLOOKUP($A1000,'Tocalino Index'!$A$12:$B$1041,2,FALSE))","v":""},"2039-02-01","",{"$f":"IF(H1000=\"\",\"\",VLOOKUP($G1000,WILL5000PR!$A$12:$B$1041,2,FALSE))","v":""},null,"",{"$f":"IF(DJIA!B349=\"\",\"\",DJIA!B349)","v":""},{"$f":"IF(CPIAUCSL!B1117=\"\",\"\",CPIAUCSL!B1117)","v":""},{"$f":"IF(K1000=\"\",\"\",VLOOKUP($G1000,DJIA_def!$A$12:$B$1041,2,FALSE))","v":""},""]
["",null,null,null,null,{"$f":"IF(K1001=\"\",\"\",VLOOKUP($A1001,'Tocalino Index'!$A$12:$B$1041,2,FALSE))","v":""},"2039-03-01","",{"$f":"IF(H1001=\"\",\"\",VLOOKUP($G1001,WILL5000PR!$A$12:$B$1041,2,FALSE))","v":""},null,"",{"$f":"IF(DJIA!B350=\"\",\"\",DJIA!B350)","v":""},{"$f":"IF(CPIAUCSL!B1118=\"\",\"\",CPIAUCSL!B1118)","v":""},{"$f":"IF(K1001=\"\",\"\",VLOOKUP($G1001,DJIA_def!$A$12:$B$1041,2,FALSE))","v":""},""]
["",null,null,null,null,{"$f":"IF(K1002=\"\",\"\",VLOOKUP($A1002,'Tocalino Index'!$A$12:$B$1041,2,FALSE))","v":""},"2039-04-01","",{"$f":"IF(H1002=\"\",\"\",VLOOKUP($G1002,WILL5000PR!$A$12:$B$1041,2,FALSE))","v":""},null,"",{"$f":"IF(DJIA!B351=\"\",\"\",DJIA!B351)","v":""},{"$f":"IF(CPIAUCSL!B1119=\"\",\"\",CPIAUCSL!B1119)","v":""},{"$f":"IF(K1002=\"\",\"\",VLOOKUP($G1002,DJIA_def!$A$12:$B$1041,2,FALSE))","v":""},""]
["",null,null,null,null,{"$f":"IF(K1003=\"\",\"\",VLOOKUP($A1003,'Tocalino Index'!$A$12:$B$1041,2,FALSE))","v":""},"2039-05-01",{"$f":"IF(($G$13-G1003)<40,\"\",G1003)","v":""},{"$f":"IF(H1003=\"\",\"\",VLOOKUP($G1003,WILL5000PR!$A$12:$B$1041,2,FALSE))","v":""},null,"",{"$f":"IF(DJIA!B352=\"\",\"\",DJIA!B352)","v":""},{"$f":"IF(CPIAUCSL!B1120=\"\",\"\",CPIAUCSL!B1120)","v":""},{"$f":"IF(K1003=\"\",\"\",VLOOKUP($G1003,DJIA_def!$A$12:$B$1041,2,FALSE))","v":""},""]
["",null,null,null,null,{"$f":"IF(K1004=\"\",\"\",VLOOKUP($A1004,'Tocalino Index'!$A$12:$B$1041,2,FALSE))","v":""},"2039-06-01","",{"$f":"IF(H1004=\"\",\"\",VLOOKUP($G1004,WILL5000PR!$A$12:$B$1041,2,FALSE))","v":""},null,"",{"$f":"IF(DJIA!B353=\"\",\"\",DJIA!B353)","v":""},{"$f":"IF(CPIAUCSL!B1121=\"\",\"\",CPIAUCSL!B1121)","v":""},{"$f":"IF(K1004=\"\",\"\",VLOOKUP($G1004,DJIA_def!$A$12:$B$1041,2,FALSE))","v":""},""]
["",null,null,null,null,{"$f":"IF(K1005=\"\",\"\",VLOOKUP($A1005,'Tocalino Index'!$A$12:$B$1041,2,FALSE))","v":""},"2039-07-01","",{"$f":"IF(H1005=\"\",\"\",VLOOKUP($G1005,WILL5000PR!$A$12:$B$1041,2,FALSE))","v":""},null,"",{"$f":"IF(DJIA!B354=\"\",\"\",DJIA!B354)","v":""},{"$f":"IF(CPIAUCSL!B1122=\"\",\"\",CPIAUCSL!B1122)","v":""},{"$f":"IF(K1005=\"\",\"\",VLOOKUP($G1005,DJIA_def!$A$12:$B$1041,2,FALSE))","v":""},""]
["",null,null,null,null,{"$f":"IF(K1006=\"\",\"\",VLOOKUP($A1006,'Tocalino Index'!$A$12:$B$1041,2,FALSE))","v":""},"2039-08-01","",{"$f":"IF(H1006=\"\",\"\",VLOOKUP($G1006,WILL5000PR!$A$12:$B$1041,2,FALSE))","v":""},null,"",{"$f":"IF(DJIA!B355=\"\",\"\",DJIA!B355)","v":""},{"$f":"IF(CPIAUCSL!B1123=\"\",\"\",CPIAUCSL!B1123)","v":""},{"$f":"IF(K1006=\"\",\"\",VLOOKUP($G1006,DJIA_def!$A$12:$B$1041,2,FALSE))","v":""},""]
["",null,null,null,null,{"$f":"IF(K1007=\"\",\"\",VLOOKUP($A1007,'Tocalino Index'!$A$12:$B$1041,2,FALSE))","v":""},"2039-09-01","",{"$f":"IF(H1007=\"\",\"\",VLOOKUP($G1007,WILL5000PR!$A$12:$B$1041,2,FALSE))","v":""},null,"",{"$f":"IF(DJIA!B356=\"\",\"\",DJIA!B356)","v":""},{"$f":"IF(CPIAUCSL!B1124=\"\",\"\",CPIAUCSL!B1124)","v":""},{"$f":"IF(K1007=\"\",\"\",VLOOKUP($G1007,DJIA_def!$A$12:$B$1041,2,FALSE))","v":""},""]
["",null,null,null,null,{"$f":"IF(K1008=\"\",\"\",VLOOKUP($A1008,'Tocalino Index'!$A$12:$B$1041,2,FALSE))","v":""},"2039-10-01","",{"$f":"IF(H1008=\"\",\"\",VLOOKUP($G1008,WILL5000PR!$A$12:$B$1041,2,FALSE))","v":""},null,"",{"$f":"IF(DJIA!B357=\"\",\"\",DJIA!B357)","v":""},{"$f":"IF(CPIAUCSL!B1125=\"\",\"\",CPIAUCSL!B1125)","v":""},{"$f":"IF(K1008=\"\",\"\",VLOOKUP($G1008,DJIA_def!$A$12:$B$1041,2,FALSE))","v":""},""]
["",null,null,null,null,{"$f":"IF(K1009=\"\",\"\",VLOOKUP($A1009,'Tocalino Index'!$A$12:$B$1041,2,FALSE))","v":""},"2039-11-01","",{"$f":"IF(H1009=\"\",\"\",VLOOKUP($G1009,WILL5000PR!$A$12:$B$1041,2,FALSE))","v":""},null,"",{"$f":"IF(DJIA!B358=\"\",\"\",DJIA!B358)","v":""},{"$f":"IF(CPIAUCSL!B1126=\"\",\"\",CPIAUCSL!B1126)","v":""},{"$f":"IF(K1009=\"\",\"\",VLOOKUP($G1009,DJIA_def!$A$12:$B$1041,2,FALSE))","v":""},""]
["",null,null,null,null,{"$f":"IF(K1010=\"\",\"\",VLOOKUP($A1010,'Tocalino Index'!$A$12:$B$1041,2,FALSE))","v":""},"2039-12-01","",{"$f":"IF(H1010=\"\",\"\",VLOOKUP($G1010,WILL5000PR!$A$12:$B$1041,2,FALSE))","v":""},null,"",{"$f":"IF(DJIA!B359=\"\",\"\",DJIA!B359)","v":""},{"$f":"IF(CPIAUCSL!B1127=\"\",\"\",CPIAUCSL!B1127)","v":""},{"$f":"IF(K1010=\"\",\"\",VLOOKUP($G1010,DJIA_def!$A$12:$B$1041,2,FALSE))","v":""},""]
["",null,null,null,null,{"$f":"IF(K1011=\"\",\"\",VLOOKUP($A1011,'Tocalino Index'!$A$12:$B$1041,2,FALSE))","v":""},"2040-01-01","",{"$f":"IF(H1011=\"\",\"\",VLOOKUP($G1011,WILL5000PR!$A$12:$B$1041,2,FALSE))","v":""},null,"",{"$f":"IF(DJIA!B360=\"\",\"\",DJIA!B360)","v":""},{"$f":"IF(CPIAUCSL!B1128=\"\",\"\",CPIAUCSL!B1128)","v":""},{"$f":"IF(K1011=\"\",\"\",VLOOKUP($G1011,DJIA_def!$A$12:$B$1041,2,FALSE))","v":""},""]
["",null,null,null,null,{"$f":"IF(K1012=\"\",\"\",VLOOKUP($A1012,'Tocalino Index'!$A$12:$B$1041,2,FALSE))","v":""},"2040-02-01","",{"$f":"IF(H1012=\"\",\"\",VLOOKUP($G1012,WILL5000PR!$A$12:$B$1041,2,FALSE))","v":""},null,"",{"$f":"IF(DJIA!B361=\"\",\"\",DJIA!B361)","v":""},{"$f":"IF(CPIAUCSL!B1129=\"\",\"\",CPIAUCSL!B1129)","v":""},{"$f":"IF(K1012=\"\",\"\",VLOOKUP($G1012,DJIA_def!$A$12:$B$1041,2,FALSE))","v":""},""]
["",null,null,null,null,{"$f":"IF(K1013=\"\",\"\",VLOOKUP($A1013,'Tocalino Index'!$A$12:$B$1041,2,FALSE))","v":""},"2040-03-01","",{"$f":"IF(H1013=\"\",\"\",VLOOKUP($G1013,WILL5000PR!$A$12:$B$1041,2,FALSE))","v":""},null,"",{"$f":"IF(DJIA!B362=\"\",\"\",DJIA!B362)","v":""},{"$f":"IF(CPIAUCSL!B1130=\"\",\"\",CPIAUCSL!B1130)","v":""},{"$f":"IF(K1013=\"\",\"\",VLOOKUP($G1013,DJIA_def!$A$12:$B$1041,2,FALSE))","v":""},""]
["",null,null,null,null,{"$f":"IF(K1014=\"\",\"\",VLOOKUP($A1014,'Tocalino Index'!$A$12:$B$1041,2,FALSE))","v":""},"2040-04-01","",{"$f":"IF(H1014=\"\",\"\",VLOOKUP($G1014,WILL5000PR!$A$12:$B$1041,2,FALSE))","v":""},null,"",{"$f":"IF(DJIA!B363=\"\",\"\",DJIA!B363)","v":""},{"$f":"IF(CPIAUCSL!B1131=\"\",\"\",CPIAUCSL!B1131)","v":""},{"$f":"IF(K1014=\"\",\"\",VLOOKUP($G1014,DJIA_def!$A$12:$B$1041,2,FALSE))","v":""},""]
["",null,null,null,null,{"$f":"IF(K1015=\"\",\"\",VLOOKUP($A1015,'Tocalino Index'!$A$12:$B$1041,2,FALSE))","v":""},"2040-05-01","",{"$f":"IF(H1015=\"\",\"\",VLOOKUP($G1015,WILL5000PR!$A$12:$B$1041,2,FALSE))","v":""},null,"",{"$f":"IF(DJIA!B364=\"\",\"\",DJIA!B364)","v":""},{"$f":"IF(CPIAUCSL!B1132=\"\",\"\",CPIAUCSL!B1132)","v":""},{"$f":"IF(K1015=\"\",\"\",VLOOKUP($G1015,DJIA_def!$A$12:$B$1041,2,FALSE))","v":""},""]
["",null,null,null,null,{"$f":"IF(K1016=\"\",\"\",VLOOKUP($A1016,'Tocalino Index'!$A$12:$B$1041,2,FALSE))","v":""},"2040-06-01","",{"$f":"IF(H1016=\"\",\"\",VLOOKUP($G1016,WILL5000PR!$A$12:$B$1041,2,FALSE))","v":""},null,"",{"$f":"IF(DJIA!B365=\"\",\"\",DJIA!B365)","v":""},{"$f":"IF(CPIAUCSL!B1133=\"\",\"\",CPIAUCSL!B1133)","v":""},{"$f":"IF(K1016=\"\",\"\",VLOOKUP($G1016,DJIA_def!$A$12:$B$1041,2,FALSE))","v":""},""]
["",null,null,null,null,{"$f":"IF(K1017=\"\",\"\",VLOOKUP($A1017,'Tocalino Index'!$A$12:$B$1041,2,FALSE))","v":""},"2040-07-01","",{"$f":"IF(H1017=\"\",\"\",VLOOKUP($G1017,WILL5000PR!$A$12:$B$1041,2,FALSE))","v":""},null,"",{"$f":"IF(DJIA!B366=\"\",\"\",DJIA!B366)","v":""},{"$f":"IF(CPIAUCSL!B1134=\"\",\"\",CPIAUCSL!B1134)","v":""},{"$f":"IF(K1017=\"\",\"\",VLOOKUP($G1017,DJIA_def!$A$12:$B$1041,2,FALSE))","v":""},""]
["",null,null,null,null,{"$f":"IF(K1018=\"\",\"\",VLOOKUP($A1018,'Tocalino Index'!$A$12:$B$1041,2,FALSE))","v":""},"2040-08-01","",{"$f":"IF(H1018=\"\",\"\",VLOOKUP($G1018,WILL5000PR!$A$12:$B$1041,2,FALSE))","v":""},null,"",{"$f":"IF(DJIA!B367=\"\",\"\",DJIA!B367)","v":""},{"$f":"IF(CPIAUCSL!B1135=\"\",\"\",CPIAUCSL!B1135)","v":""},{"$f":"IF(K1018=\"\",\"\",VLOOKUP($G1018,DJIA_def!$A$12:$B$1041,2,FALSE))","v":""},""]
["",null,null,null,null,{"$f":"IF(K1019=\"\",\"\",VLOOKUP($A1019,'Tocalino Index'!$A$12:$B$1041,2,FALSE))","v":""},"2040-09-01","",{"$f":"IF(H1019=\"\",\"\",VLOOKUP($G1019,WILL5000PR!$A$12:$B$1041,2,FALSE))","v":""},null,"",{"$f":"IF(DJIA!B368=\"\",\"\",DJIA!B368)","v":""},{"$f":"IF(CPIAUCSL!B1136=\"\",\"\",CPIAUCSL!B1136)","v":""},{"$f":"IF(K1019=\"\",\"\",VLOOKUP($G1019,DJIA_def!$A$12:$B$1041,2,FALSE))","v":""},""]
["",null,null,null,null,{"$f":"IF(K1020=\"\",\"\",VLOOKUP($A1020,'Tocalino Index'!$A$12:$B$1041,2,FALSE))","v":""},"2040-10-01","",{"$f":"IF(H1020=\"\",\"\",VLOOKUP($G1020,WILL5000PR!$A$12:$B$1041,2,FALSE))","v":""},null,"",{"$f":"IF(DJIA!B369=\"\",\"\",DJIA!B369)","v":""},{"$f":"IF(CPIAUCSL!B1137=\"\",\"\",CPIAUCSL!B1137)","v":""},{"$f":"IF(K1020=\"\",\"\",VLOOKUP($G1020,DJIA_def!$A$12:$B$1041,2,FALSE))","v":""},""]
["",null,null,null,null,{"$f":"IF(K1021=\"\",\"\",VLOOKUP($A1021,'Tocalino Index'!$A$12:$B$1041,2,FALSE))","v":""},"2040-11-01","",{"$f":"IF(H1021=\"\",\"\",VLOOKUP($G1021,WILL5000PR!$A$12:$B$1041,2,FALSE))","v":""},null,"",{"$f":"IF(DJIA!B370=\"\",\"\",DJIA!B370)","v":""},{"$f":"IF(CPIAUCSL!B1138=\"\",\"\",CPIAUCSL!B1138)","v":""},{"$f":"IF(K1021=\"\",\"\",VLOOKUP($G1021,DJIA_def!$A$12:$B$1041,2,FALSE))","v":""},""]
["",null,null,null,null,{"$f":"IF(K1022=\"\",\"\",VLOOKUP($A1022,'Tocalino Index'!$A$12:$B$1041,2,FALSE))","v":""},"2040-12-01","",{"$f":"IF(H1022=\"\",\"\",VLOOKUP($G1022,WILL5000PR!$A$12:$B$1041,2,FALSE))","v":""},null,"",{"$f":"IF(DJIA!B371=\"\",\"\",DJIA!B371)","v":""},{"$f":"IF(CPIAUCSL!B1139=\"\",\"\",CPIAUCSL!B1139)","v":""},{"$f":"IF(K1022=\"\",\"\",VLOOKUP($G1022,DJIA_def!$A$12:$B$1041,2,FALSE))","v":""},""]
["",null,null,null,null,{"$f":"IF(K1023=\"\",\"\",VLOOKUP($A1023,'Tocalino Index'!$A$12:$B$1041,2,FALSE))","v":""},"2041-01-01","",{"$f":"IF(H1023=\"\",\"\",VLOOKUP($G1023,WILL5000PR!$A$12:$B$1041,2,FALSE))","v":""},null,"",{"$f":"IF(DJIA!B372=\"\",\"\",DJIA!B372)","v":""},{"$f":"IF(CPIAUCSL!B1140=\"\",\"\",CPIAUCSL!B1140)","v":""},{"$f":"IF(K1023=\"\",\"\",VLOOKUP($G1023,DJIA_def!$A$12:$B$1041,2,FALSE))","v":""},""]
[{"$f":"IF((TODAY()-G1024)<40,\"\",G1024)","v":""},null,null,null,null,{"$f":"IF(K1024=\"\",\"\",VLOOKUP($A1024,'Tocalino Index'!$A$12:$B$1041,2,FALSE))","v":""},"2041-02-01","",{"$f":"IF(H1024=\"\",\"\",VLOOKUP($G1024,WILL5000PR!$A$12:$B$1041,2,FALSE))","v":""},null,"",{"$f":"IF(DJIA!B373=\"\",\"\",DJIA!B373)","v":""},{"$f":"IF(CPIAUCSL!B1141=\"\",\"\",CPIAUCSL!B1141)","v":""},{"$f":"IF(K1024=\"\",\"\",VLOOKUP($G1024,DJIA_def!$A$12:$B$1041,2,FALSE))","v":""},""]
["",null,null,null,null,{"$f":"IF(K1025=\"\",\"\",VLOOKUP($A1025,'Tocalino Index'!$A$12:$B$1041,2,FALSE))","v":""},"2041-03-01","",{"$f":"IF(H1025=\"\",\"\",VLOOKUP($G1025,WILL5000PR!$A$12:$B$1041,2,FALSE))","v":""},null,"",{"$f":"IF(DJIA!B374=\"\",\"\",DJIA!B374)","v":""},{"$f":"IF(CPIAUCSL!B1142=\"\",\"\",CPIAUCSL!B1142)","v":""},{"$f":"IF(K1025=\"\",\"\",VLOOKUP($G1025,DJIA_def!$A$12:$B$1041,2,FALSE))","v":""},""]
["",null,null,null,null,{"$f":"IF(K1026=\"\",\"\",VLOOKUP($A1026,'Tocalino Index'!$A$12:$B$1041,2,FALSE))","v":""},"2041-04-01","",{"$f":"IF(H1026=\"\",\"\",VLOOKUP($G1026,WILL5000PR!$A$12:$B$1041,2,FALSE))","v":""},null,"",{"$f":"IF(DJIA!B375=\"\",\"\",DJIA!B375)","v":""},{"$f":"IF(CPIAUCSL!B1143=\"\",\"\",CPIAUCSL!B1143)","v":""},{"$f":"IF(K1026=\"\",\"\",VLOOKUP($G1026,DJIA_def!$A$12:$B$1041,2,FALSE))","v":""},""]
["",null,null,null,null,{"$f":"IF(K1027=\"\",\"\",VLOOKUP($A1027,'Tocalino Index'!$A$12:$B$1041,2,FALSE))","v":""},"2041-05-01","",{"$f":"IF(H1027=\"\",\"\",VLOOKUP($G1027,WILL5000PR!$A$12:$B$1041,2,FALSE))","v":""},null,"",{"$f":"IF(DJIA!B376=\"\",\"\",DJIA!B376)","v":""},{"$f":"IF(CPIAUCSL!B1144=\"\",\"\",CPIAUCSL!B1144)","v":""},{"$f":"IF(K1027=\"\",\"\",VLOOKUP($G1027,DJIA_def!$A$12:$B$1041,2,FALSE))","v":""},""]
["",null,null,null,null,{"$f":"IF(K1028=\"\",\"\",VLOOKUP($A1028,'Tocalino Index'!$A$12:$B$1041,2,FALSE))","v":""},"2041-06-01","",{"$f":"IF(H1028=\"\",\"\",VLOOKUP($G1028,WILL5000PR!$A$12:$B$1041,2,FALSE))","v":""},null,"",{"$f":"IF(DJIA!B377=\"\",\"\",DJIA!B377)","v":""},{"$f":"IF(CPIAUCSL!B1145=\"\",\"\",CPIAUCSL!B1145)","v":""},{"$f":"IF(K1028=\"\",\"\",VLOOKUP($G1028,DJIA_def!$A$12:$B$1041,2,FALSE))","v":""},""]
["",null,null,null,null,{"$f":"IF(K1029=\"\",\"\",VLOOKUP($A1029,'Tocalino Index'!$A$12:$B$1041,2,FALSE))","v":""},"2041-07-01","",{"$f":"IF(H1029=\"\",\"\",VLOOKUP($G1029,WILL5000PR!$A$12:$B$1041,2,FALSE))","v":""},null,"",{"$f":"IF(DJIA!B378=\"\",\"\",DJIA!B378)","v":""},{"$f":"IF(CPIAUCSL!B1146=\"\",\"\",CPIAUCSL!B1146)","v":""},{"$f":"IF(K1029=\"\",\"\",VLOOKUP($G1029,DJIA_def!$A$12:$B$1041,2,FALSE))","v":""},""]
["",null,null,null,null,{"$f":"IF(K1030=\"\",\"\",VLOOKUP($A1030,'Tocalino Index'!$A$12:$B$1041,2,FALSE))","v":""},"2041-08-01","",{"$f":"IF(H1030=\"\",\"\",VLOOKUP($G1030,WILL5000PR!$A$12:$B$1041,2,FALSE))","v":""},null,{"$f":"IF(($G$13-G1030)<40,\"\",G1030)","v":""},{"$f":"IF(DJIA!B379=\"\",\"\",DJIA!B379)","v":""},{"$f":"IF(CPIAUCSL!B1147=\"\",\"\",CPIAUCSL!B1147)","v":""},{"$f":"IF(K1030=\"\",\"\",VLOOKUP($G1030,DJIA_def!$A$12:$B$1041,2,FALSE))","v":""},{"$f":"IF(K1030=\"\",\"\",N1030/$P$14)","v":""}]
["",null,null,null,null,{"$f":"IF(K1031=\"\",\"\",VLOOKUP($A1031,'Tocalino Index'!$A$12:$B$1041,2,FALSE))","v":""},"2041-09-01","",{"$f":"IF(H1031=\"\",\"\",VLOOKUP($G1031,WILL5000PR!$A$12:$B$1041,2,FALSE))","v":""},null,"",{"$f":"IF(DJIA!B380=\"\",\"\",DJIA!B380)","v":""},{"$f":"IF(CPIAUCSL!B1148=\"\",\"\",CPIAUCSL!B1148)","v":""},{"$f":"IF(K1031=\"\",\"\",VLOOKUP($G1031,DJIA_def!$A$12:$B$1041,2,FALSE))","v":""},""]
["",null,null,null,null,{"$f":"IF(K1032=\"\",\"\",VLOOKUP($A1032,'Tocalino Index'!$A$12:$B$1041,2,FALSE))","v":""},"2041-10-01","",{"$f":"IF(H1032=\"\",\"\",VLOOKUP($G1032,WILL5000PR!$A$12:$B$1041,2,FALSE))","v":""},null,"",{"$f":"IF(DJIA!B381=\"\",\"\",DJIA!B381)","v":""},{"$f":"IF(CPIAUCSL!B1149=\"\",\"\",CPIAUCSL!B1149)","v":""},{"$f":"IF(K1032=\"\",\"\",VLOOKUP($G1032,DJIA_def!$A$12:$B$1041,2,FALSE))","v":""},""]
["",null,null,null,null,{"$f":"IF(K1033=\"\",\"\",VLOOKUP($A1033,'Tocalino Index'!$A$12:$B$1041,2,FALSE))","v":""},"2041-11-01","",{"$f":"IF(H1033=\"\",\"\",VLOOKUP($G1033,WILL5000PR!$A$12:$B$1041,2,FALSE))","v":""},null,"",{"$f":"IF(DJIA!B382=\"\",\"\",DJIA!B382)","v":""},{"$f":"IF(CPIAUCSL!B1150=\"\",\"\",CPIAUCSL!B1150)","v":""},{"$f":"IF(K1033=\"\",\"\",VLOOKUP($G1033,DJIA_def!$A$12:$B$1041,2,FALSE))","v":""},""]
["",null,null,null,null,{"$f":"IF(K1034=\"\",\"\",VLOOKUP($A1034,'Tocalino Index'!$A$12:$B$1041,2,FALSE))","v":""},"2041-12-01","",{"$f":"IF(H1034=\"\",\"\",VLOOKUP($G1034,WILL5000PR!$A$12:$B$1041,2,FALSE))","v":""},null,"",{"$f":"IF(DJIA!B383=\"\",\"\",DJIA!B383)","v":""},{"$f":"IF(CPIAUCSL!B1151=\"\",\"\",CPIAUCSL!B1151)","v":""},{"$f":"IF(K1034=\"\",\"\",VLOOKUP($G1034,DJIA_def!$A$12:$B$1041,2,FALSE))","v":""},""]
["",null,null,null,null,{"$f":"IF(K1035=\"\",\"\",VLOOKUP($A1035,'Tocalino Index'!$A$12:$B$1041,2,FALSE))","v":""},"2042-01-01","",{"$f":"IF(H1035=\"\",\"\",VLOOKUP($G1035,WILL5000PR!$A$12:$B$1041,2,FALSE))","v":""},null,"",{"$f":"IF(DJIA!B384=\"\",\"\",DJIA!B384)","v":""},{"$f":"IF(CPIAUCSL!B1152=\"\",\"\",CPIAUCSL!B1152)","v":""},{"$f":"IF(K1035=\"\",\"\",VLOOKUP($G1035,DJIA_def!$A$12:$B$1041,2,FALSE))","v":""},""]
["",null,null,null,null,{"$f":"IF(K1036=\"\",\"\",VLOOKUP($A1036,'Tocalino Index'!$A$12:$B$1041,2,FALSE))","v":""},"2042-02-01","",{"$f":"IF(H1036=\"\",\"\",VLOOKUP($G1036,WILL5000PR!$A$12:$B$1041,2,FALSE))","v":""},null,"",{"$f":"IF(DJIA!B385=\"\",\"\",DJIA!B385)","v":""},{"$f":"IF(CPIAUCSL!B1153=\"\",\"\",CPIAUCSL!B1153)","v":""},{"$f":"IF(K1036=\"\",\"\",VLOOKUP($G1036,DJIA_def!$A$12:$B$1041,2,FALSE))","v":""},""]
["",null,null,null,null,{"$f":"IF(K1037=\"\",\"\",VLOOKUP($A1037,'Tocalino Index'!$A$12:$B$1041,2,FALSE))","v":""},"2042-03-01","",{"$f":"IF(H1037=\"\",\"\",VLOOKUP($G1037,WILL5000PR!$A$12:$B$1041,2,FALSE))","v":""},null,"",{"$f":"IF(DJIA!B386=\"\",\"\",DJIA!B386)","v":""},{"$f":"IF(CPIAUCSL!B1154=\"\",\"\",CPIAUCSL!B1154)","v":""},{"$f":"IF(K1037=\"\",\"\",VLOOKUP($G1037,DJIA_def!$A$12:$B$1041,2,FALSE))","v":""},""]
["",null,null,null,null,{"$f":"IF(K1038=\"\",\"\",VLOOKUP($A1038,'Tocalino Index'!$A$12:$B$1041,2,FALSE))","v":""},"2042-04-01","",{"$f":"IF(H1038=\"\",\"\",VLOOKUP($G1038,WILL5000PR!$A$12:$B$1041,2,FALSE))","v":""},null,"",{"$f":"IF(DJIA!B387=\"\",\"\",DJIA!B387)","v":""},{"$f":"IF(CPIAUCSL!B1155=\"\",\"\",CPIAUCSL!B1155)","v":""},{"$f":"IF(K1038=\"\",\"\",VLOOKUP($G1038,DJIA_def!$A$12:$B$1041,2,FALSE))","v":""},""]
["",null,null,null,null,{"$f":"IF(K1039=\"\",\"\",VLOOKUP($A1039,'Tocalino Index'!$A$12:$B$1041,2,FALSE))","v":""},"2042-05-01","",{"$f":"IF(H1039=\"\",\"\",VLOOKUP($G1039,WILL5000PR!$A$12:$B$1041,2,FALSE))","v":""},null,"",{"$f":"IF(DJIA!B388=\"\",\"\",DJIA!B388)","v":""},{"$f":"IF(CPIAUCSL!B1156=\"\",\"\",CPIAUCSL!B1156)","v":""},{"$f":"IF(K1039=\"\",\"\",VLOOKUP($G1039,DJIA_def!$A$12:$B$1041,2,FALSE))","v":""},""]
["",null,null,null,null,{"$f":"IF(K1040=\"\",\"\",VLOOKUP($A1040,'Tocalino Index'!$A$12:$B$1041,2,FALSE))","v":""},"2042-06-01","",{"$f":"IF(H1040=\"\",\"\",VLOOKUP($G1040,WILL5000PR!$A$12:$B$1041,2,FALSE))","v":""},null,"",{"$f":"IF(DJIA!B389=\"\",\"\",DJIA!B389)","v":""},{"$f":"IF(CPIAUCSL!B1157=\"\",\"\",CPIAUCSL!B1157)","v":""},{"$f":"IF(K1040=\"\",\"\",VLOOKUP($G1040,DJIA_def!$A$12:$B$1041,2,FALSE))","v":""},""]
["",null,null,null,null,{"$f":"IF(K1041=\"\",\"\",VLOOKUP($A1041,'Tocalino Index'!$A$12:$B$1041,2,FALSE))","v":""},"2042-07-01","",{"$f":"IF(H1041=\"\",\"\",VLOOKUP($G1041,WILL5000PR!$A$12:$B$1041,2,FALSE))","v":""},null,"",{"$f":"IF(DJIA!B390=\"\",\"\",DJIA!B390)","v":""},{"$f":"IF(CPIAUCSL!B1158=\"\",\"\",CPIAUCSL!B1158)","v":""},{"$f":"IF(K1041=\"\",\"\",VLOOKUP($G1041,DJIA_def!$A$12:$B$1041,2,FALSE))","v":""},""]
["",null,null,null,null,{"$f":"IF(K1042=\"\",\"\",VLOOKUP($A1042,'Tocalino Index'!$A$12:$B$1041,2,FALSE))","v":""},"2042-08-01","",{"$f":"IF(H1042=\"\",\"\",VLOOKUP($G1042,WILL5000PR!$A$12:$B$1041,2,FALSE))","v":""},null,"",{"$f":"IF(DJIA!B391=\"\",\"\",DJIA!B391)","v":""},{"$f":"IF(CPIAUCSL!B1159=\"\",\"\",CPIAUCSL!B1159)","v":""},{"$f":"IF(K1042=\"\",\"\",VLOOKUP($G1042,DJIA_def!$A$12:$B$1041,2,FALSE))","v":""},""]
["",null,null,null,null,{"$f":"IF(K1043=\"\",\"\",VLOOKUP($A1043,'Tocalino Index'!$A$12:$B$1041,2,FALSE))","v":""},"2042-09-01","",{"$f":"IF(H1043=\"\",\"\",VLOOKUP($G1043,WILL5000PR!$A$12:$B$1041,2,FALSE))","v":""},null,"",{"$f":"IF(DJIA!B392=\"\",\"\",DJIA!B392)","v":""},{"$f":"IF(CPIAUCSL!B1160=\"\",\"\",CPIAUCSL!B1160)","v":""},{"$f":"IF(K1043=\"\",\"\",VLOOKUP($G1043,DJIA_def!$A$12:$B$1041,2,FALSE))","v":""},""]
["",null,null,null,null,{"$f":"IF(K1044=\"\",\"\",VLOOKUP($A1044,'Tocalino Index'!$A$12:$B$1041,2,FALSE))","v":""},"2042-10-01","",{"$f":"IF(H1044=\"\",\"\",VLOOKUP($G1044,WILL5000PR!$A$12:$B$1041,2,FALSE))","v":""},null,"",{"$f":"IF(DJIA!B393=\"\",\"\",DJIA!B393)","v":""},{"$f":"IF(CPIAUCSL!B1161=\"\",\"\",CPIAUCSL!B1161)","v":""},{"$f":"IF(K1044=\"\",\"\",VLOOKUP($G1044,DJIA_def!$A$12:$B$1041,2,FALSE))","v":""},""]
["",null,null,null,null,{"$f":"IF(K1045=\"\",\"\",VLOOKUP($A1045,'Tocalino Index'!$A$12:$B$1041,2,FALSE))","v":""},"2042-11-01","",{"$f":"IF(H1045=\"\",\"\",VLOOKUP($G1045,WILL5000PR!$A$12:$B$1041,2,FALSE))","v":""},null,"",{"$f":"IF(DJIA!B394=\"\",\"\",DJIA!B394)","v":""},{"$f":"IF(CPIAUCSL!B1162=\"\",\"\",CPIAUCSL!B1162)","v":""},{"$f":"IF(K1045=\"\",\"\",VLOOKUP($G1045,DJIA_def!$A$12:$B$1041,2,FALSE))","v":""},""]
["",null,null,null,null,{"$f":"IF(K1046=\"\",\"\",VLOOKUP($A1046,'Tocalino Index'!$A$12:$B$1041,2,FALSE))","v":""},"2042-12-01","",{"$f":"IF(H1046=\"\",\"\",VLOOKUP($G1046,WILL5000PR!$A$12:$B$1041,2,FALSE))","v":""},null,"",{"$f":"IF(DJIA!B395=\"\",\"\",DJIA!B395)","v":""},{"$f":"IF(CPIAUCSL!B1163=\"\",\"\",CPIAUCSL!B1163)","v":""},{"$f":"IF(K1046=\"\",\"\",VLOOKUP($G1046,DJIA_def!$A$12:$B$1041,2,FALSE))","v":""},""]
["",null,null,null,null,{"$f":"IF(K1047=\"\",\"\",VLOOKUP($A1047,'Tocalino Index'!$A$12:$B$1041,2,FALSE))","v":""},"2043-01-01","",{"$f":"IF(H1047=\"\",\"\",VLOOKUP($G1047,WILL5000PR!$A$12:$B$1041,2,FALSE))","v":""},null,"",{"$f":"IF(DJIA!B396=\"\",\"\",DJIA!B396)","v":""},{"$f":"IF(CPIAUCSL!B1164=\"\",\"\",CPIAUCSL!B1164)","v":""},{"$f":"IF(K1047=\"\",\"\",VLOOKUP($G1047,DJIA_def!$A$12:$B$1041,2,FALSE))","v":""},""]
["",null,null,null,null,{"$f":"IF(K1048=\"\",\"\",VLOOKUP($A1048,'Tocalino Index'!$A$12:$B$1041,2,FALSE))","v":""},"2043-02-01","",{"$f":"IF(H1048=\"\",\"\",VLOOKUP($G1048,WILL5000PR!$A$12:$B$1041,2,FALSE))","v":""},null,"",{"$f":"IF(DJIA!B397=\"\",\"\",DJIA!B397)","v":""},{"$f":"IF(CPIAUCSL!B1165=\"\",\"\",CPIAUCSL!B1165)","v":""},{"$f":"IF(K1048=\"\",\"\",VLOOKUP($G1048,DJIA_def!$A$12:$B$1041,2,FALSE))","v":""},""]
["",null,null,null,null,{"$f":"IF(K1049=\"\",\"\",VLOOKUP($A1049,'Tocalino Index'!$A$12:$B$1041,2,FALSE))","v":""},"2043-03-01","",{"$f":"IF(H1049=\"\",\"\",VLOOKUP($G1049,WILL5000PR!$A$12:$B$1041,2,FALSE))","v":""},null,"",{"$f":"IF(DJIA!B398=\"\",\"\",DJIA!B398)","v":""},{"$f":"IF(CPIAUCSL!B1166=\"\",\"\",CPIAUCSL!B1166)","v":""},{"$f":"IF(K1049=\"\",\"\",VLOOKUP($G1049,DJIA_def!$A$12:$B$1041,2,FALSE))","v":""},""]
["",null,null,null,null,{"$f":"IF(K1050=\"\",\"\",VLOOKUP($A1050,'Tocalino Index'!$A$12:$B$1041,2,FALSE))","v":""},"2043-04-01","",{"$f":"IF(H1050=\"\",\"\",VLOOKUP($G1050,WILL5000PR!$A$12:$B$1041,2,FALSE))","v":""},null,"",{"$f":"IF(DJIA!B399=\"\",\"\",DJIA!B399)","v":""},{"$f":"IF(CPIAUCSL!B1167=\"\",\"\",CPIAUCSL!B1167)","v":""},{"$f":"IF(K1050=\"\",\"\",VLOOKUP($G1050,DJIA_def!$A$12:$B$1041,2,FALSE))","v":""},""]
["",null,null,null,null,{"$f":"IF(K1051=\"\",\"\",VLOOKUP($A1051,'Tocalino Index'!$A$12:$B$1041,2,FALSE))","v":""},"2043-05-01","",{"$f":"IF(H1051=\"\",\"\",VLOOKUP($G1051,WILL5000PR!$A$12:$B$1041,2,FALSE))","v":""},null,"",{"$f":"IF(DJIA!B400=\"\",\"\",DJIA!B400)","v":""},{"$f":"IF(CPIAUCSL!B1168=\"\",\"\",CPIAUCSL!B1168)","v":""},{"$f":"IF(K1051=\"\",\"\",VLOOKUP($G1051,DJIA_def!$A$12:$B$1041,2,FALSE))","v":""},""]
["",null,null,null,null,{"$f":"IF(K1052=\"\",\"\",VLOOKUP($A1052,'Tocalino Index'!$A$12:$B$1041,2,FALSE))","v":""},"2043-06-01","",{"$f":"IF(H1052=\"\",\"\",VLOOKUP($G1052,WILL5000PR!$A$12:$B$1041,2,FALSE))","v":""},null,"",{"$f":"IF(DJIA!B401=\"\",\"\",DJIA!B401)","v":""},{"$f":"IF(CPIAUCSL!B1169=\"\",\"\",CPIAUCSL!B1169)","v":""},{"$f":"IF(K1052=\"\",\"\",VLOOKUP($G1052,DJIA_def!$A$12:$B$1041,2,FALSE))","v":""},""]
["",null,null,null,null,{"$f":"IF(K1053=\"\",\"\",VLOOKUP($A1053,'Tocalino Index'!$A$12:$B$1041,2,FALSE))","v":""},"2043-07-01","",{"$f":"IF(H1053=\"\",\"\",VLOOKUP($G1053,WILL5000PR!$A$12:$B$1041,2,FALSE))","v":""},null,"",{"$f":"IF(DJIA!B402=\"\",\"\",DJIA!B402)","v":""},{"$f":"IF(CPIAUCSL!B1170=\"\",\"\",CPIAUCSL!B1170)","v":""},{"$f":"IF(K1053=\"\",\"\",VLOOKUP($G1053,DJIA_def!$A$12:$B$1041,2,FALSE))","v":""},""]
["",null,null,null,null,{"$f":"IF(K1054=\"\",\"\",VLOOKUP($A1054,'Tocalino Index'!$A$12:$B$1041,2,FALSE))","v":""},"2043-08-01","",{"$f":"IF(H1054=\"\",\"\",VLOOKUP($G1054,WILL5000PR!$A$12:$B$1041,2,FALSE))","v":""},null,"",{"$f":"IF(DJIA!B403=\"\",\"\",DJIA!B403)","v":""},{"$f":"IF(CPIAUCSL!B1171=\"\",\"\",CPIAUCSL!B1171)","v":""},{"$f":"IF(K1054=\"\",\"\",VLOOKUP($G1054,DJIA_def!$A$12:$B$1041,2,FALSE))","v":""},""]
["",null,null,null,null,{"$f":"IF(K1055=\"\",\"\",VLOOKUP($A1055,'Tocalino Index'!$A$12:$B$1041,2,FALSE))","v":""},"2043-09-01","",{"$f":"IF(H1055=\"\",\"\",VLOOKUP($G1055,WILL5000PR!$A$12:$B$1041,2,FALSE))","v":""},null,"",{"$f":"IF(DJIA!B404=\"\",\"\",DJIA!B404)","v":""},{"$f":"IF(CPIAUCSL!B1172=\"\",\"\",CPIAUCSL!B1172)","v":""},{"$f":"IF(K1055=\"\",\"\",VLOOKUP($G1055,DJIA_def!$A$12:$B$1041,2,FALSE))","v":""},""]
["",null,null,null,null,{"$f":"IF(K1056=\"\",\"\",VLOOKUP($A1056,'Tocalino Index'!$A$12:$B$1041,2,FALSE))","v":""},"2043-10-01","",{"$f":"IF(H1056=\"\",\"\",VLOOKUP($G1056,WILL5000PR!$A$12:$B$1041,2,FALSE))","v":""},null,"",{"$f":"IF(DJIA!B405=\"\",\"\",DJIA!B405)","v":""},{"$f":"IF(CPIAUCSL!B1173=\"\",\"\",CPIAUCSL!B1173)","v":""},{"$f":"IF(K1056=\"\",\"\",VLOOKUP($G1056,DJIA_def!$A$12:$B$1041,2,FALSE))","v":""},""]
["",null,null,null,null,{"$f":"IF(K1057=\"\",\"\",VLOOKUP($A1057,'Tocalino Index'!$A$12:$B$1041,2,FALSE))","v":""},"2043-11-01","",{"$f":"IF(H1057=\"\",\"\",VLOOKUP($G1057,WILL5000PR!$A$12:$B$1041,2,FALSE))","v":""},null,"",{"$f":"IF(DJIA!B406=\"\",\"\",DJIA!B406)","v":""},{"$f":"IF(CPIAUCSL!B1174=\"\",\"\",CPIAUCSL!B1174)","v":""},{"$f":"IF(K1057=\"\",\"\",VLOOKUP($G1057,DJIA_def!$A$12:$B$1041,2,FALSE))","v":""},""]
["",null,null,null,null,{"$f":"IF(K1058=\"\",\"\",VLOOKUP($A1058,'Tocalino Index'!$A$12:$B$1041,2,FALSE))","v":""},"2043-12-01","",{"$f":"IF(H1058=\"\",\"\",VLOOKUP($G1058,WILL5000PR!$A$12:$B$1041,2,FALSE))","v":""},null,"",{"$f":"IF(DJIA!B407=\"\",\"\",DJIA!B407)","v":""},{"$f":"IF(CPIAUCSL!B1175=\"\",\"\",CPIAUCSL!B1175)","v":""},{"$f":"IF(K1058=\"\",\"\",VLOOKUP($G1058,DJIA_def!$A$12:$B$1041,2,FALSE))","v":""},""]
["",null,null,null,null,{"$f":"IF(K1059=\"\",\"\",VLOOKUP($A1059,'Tocalino Index'!$A$12:$B$1041,2,FALSE))","v":""},"2044-01-01","",{"$f":"IF(H1059=\"\",\"\",VLOOKUP($G1059,WILL5000PR!$A$12:$B$1041,2,FALSE))","v":""},null,"",{"$f":"IF(DJIA!B408=\"\",\"\",DJIA!B408)","v":""},{"$f":"IF(CPIAUCSL!B1176=\"\",\"\",CPIAUCSL!B1176)","v":""},{"$f":"IF(K1059=\"\",\"\",VLOOKUP($G1059,DJIA_def!$A$12:$B$1041,2,FALSE))","v":""},""]
["",null,null,null,null,{"$f":"IF(K1060=\"\",\"\",VLOOKUP($A1060,'Tocalino Index'!$A$12:$B$1041,2,FALSE))","v":""},"2044-02-01","",{"$f":"IF(H1060=\"\",\"\",VLOOKUP($G1060,WILL5000PR!$A$12:$B$1041,2,FALSE))","v":""},null,"",{"$f":"IF(DJIA!B409=\"\",\"\",DJIA!B409)","v":""},{"$f":"IF(CPIAUCSL!B1177=\"\",\"\",CPIAUCSL!B1177)","v":""},{"$f":"IF(K1060=\"\",\"\",VLOOKUP($G1060,DJIA_def!$A$12:$B$1041,2,FALSE))","v":""},""]
["",null,null,null,null,{"$f":"IF(K1061=\"\",\"\",VLOOKUP($A1061,'Tocalino Index'!$A$12:$B$1041,2,FALSE))","v":""},"2044-03-01","",{"$f":"IF(H1061=\"\",\"\",VLOOKUP($G1061,WILL5000PR!$A$12:$B$1041,2,FALSE))","v":""},null,"",{"$f":"IF(DJIA!B410=\"\",\"\",DJIA!B410)","v":""},{"$f":"IF(CPIAUCSL!B1178=\"\",\"\",CPIAUCSL!B1178)","v":""},{"$f":"IF(K1061=\"\",\"\",VLOOKUP($G1061,DJIA_def!$A$12:$B$1041,2,FALSE))","v":""},""]
["",null,null,null,null,{"$f":"IF(K1062=\"\",\"\",VLOOKUP($A1062,'Tocalino Index'!$A$12:$B$1041,2,FALSE))","v":""},"2044-04-01","",{"$f":"IF(H1062=\"\",\"\",VLOOKUP($G1062,WILL5000PR!$A$12:$B$1041,2,FALSE))","v":""},null,"",{"$f":"IF(DJIA!B411=\"\",\"\",DJIA!B411)","v":""},{"$f":"IF(CPIAUCSL!B1179=\"\",\"\",CPIAUCSL!B1179)","v":""},{"$f":"IF(K1062=\"\",\"\",VLOOKUP($G1062,DJIA_def!$A$12:$B$1041,2,FALSE))","v":""},""]
["",null,null,null,null,{"$f":"IF(K1063=\"\",\"\",VLOOKUP($A1063,'Tocalino Index'!$A$12:$B$1041,2,FALSE))","v":""},"2044-05-01","",{"$f":"IF(H1063=\"\",\"\",VLOOKUP($G1063,WILL5000PR!$A$12:$B$1041,2,FALSE))","v":""},null,"",{"$f":"IF(DJIA!B412=\"\",\"\",DJIA!B412)","v":""},{"$f":"IF(CPIAUCSL!B1180=\"\",\"\",CPIAUCSL!B1180)","v":""},{"$f":"IF(K1063=\"\",\"\",VLOOKUP($G1063,DJIA_def!$A$12:$B$1041,2,FALSE))","v":""},""]
["",null,null,null,null,{"$f":"IF(K1064=\"\",\"\",VLOOKUP($A1064,'Tocalino Index'!$A$12:$B$1041,2,FALSE))","v":""},"2044-06-01","",{"$f":"IF(H1064=\"\",\"\",VLOOKUP($G1064,WILL5000PR!$A$12:$B$1041,2,FALSE))","v":""},null,"",{"$f":"IF(DJIA!B413=\"\",\"\",DJIA!B413)","v":""},{"$f":"IF(CPIAUCSL!B1181=\"\",\"\",CPIAUCSL!B1181)","v":""},{"$f":"IF(K1064=\"\",\"\",VLOOKUP($G1064,DJIA_def!$A$12:$B$1041,2,FALSE))","v":""},""]
["",null,null,null,null,{"$f":"IF(K1065=\"\",\"\",VLOOKUP($A1065,'Tocalino Index'!$A$12:$B$1041,2,FALSE))","v":""},"2044-07-01","",{"$f":"IF(H1065=\"\",\"\",VLOOKUP($G1065,WILL5000PR!$A$12:$B$1041,2,FALSE))","v":""},null,"",{"$f":"IF(DJIA!B414=\"\",\"\",DJIA!B414)","v":""},{"$f":"IF(CPIAUCSL!B1182=\"\",\"\",CPIAUCSL!B1182)","v":""},{"$f":"IF(K1065=\"\",\"\",VLOOKUP($G1065,DJIA_def!$A$12:$B$1041,2,FALSE))","v":""},""]
["",null,null,null,null,{"$f":"IF(K1066=\"\",\"\",VLOOKUP($A1066,'Tocalino Index'!$A$12:$B$1041,2,FALSE))","v":""},"2044-08-01","",{"$f":"IF(H1066=\"\",\"\",VLOOKUP($G1066,WILL5000PR!$A$12:$B$1041,2,FALSE))","v":""},null,"",{"$f":"IF(DJIA!B415=\"\",\"\",DJIA!B415)","v":""},{"$f":"IF(CPIAUCSL!B1183=\"\",\"\",CPIAUCSL!B1183)","v":""},{"$f":"IF(K1066=\"\",\"\",VLOOKUP($G1066,DJIA_def!$A$12:$B$1041,2,FALSE))","v":""},""]
["",null,null,null,null,{"$f":"IF(K1067=\"\",\"\",VLOOKUP($A1067,'Tocalino Index'!$A$12:$B$1041,2,FALSE))","v":""},"2044-09-01",{"$f":"IF(($G$13-G1067)<40,\"\",G1067)","v":""},{"$f":"IF(H1067=\"\",\"\",VLOOKUP($G1067,WILL5000PR!$A$12:$B$1041,2,FALSE))","v":""},null,"",{"$f":"IF(DJIA!B416=\"\",\"\",DJIA!B416)","v":""},{"$f":"IF(CPIAUCSL!B1184=\"\",\"\",CPIAUCSL!B1184)","v":""},{"$f":"IF(K1067=\"\",\"\",VLOOKUP($G1067,DJIA_def!$A$12:$B$1041,2,FALSE))","v":""},""]
["",null,null,null,null,{"$f":"IF(K1068=\"\",\"\",VLOOKUP($A1068,'Tocalino Index'!$A$12:$B$1041,2,FALSE))","v":""},"2044-10-01","",{"$f":"IF(H1068=\"\",\"\",VLOOKUP($G1068,WILL5000PR!$A$12:$B$1041,2,FALSE))","v":""},null,"",{"$f":"IF(DJIA!B417=\"\",\"\",DJIA!B417)","v":""},{"$f":"IF(CPIAUCSL!B1185=\"\",\"\",CPIAUCSL!B1185)","v":""},{"$f":"IF(K1068=\"\",\"\",VLOOKUP($G1068,DJIA_def!$A$12:$B$1041,2,FALSE))","v":""},""]
["",null,null,null,null,{"$f":"IF(K1069=\"\",\"\",VLOOKUP($A1069,'Tocalino Index'!$A$12:$B$1041,2,FALSE))","v":""},"2044-11-01","",{"$f":"IF(H1069=\"\",\"\",VLOOKUP($G1069,WILL5000PR!$A$12:$B$1041,2,FALSE))","v":""},null,"",{"$f":"IF(DJIA!B418=\"\",\"\",DJIA!B418)","v":""},{"$f":"IF(CPIAUCSL!B1186=\"\",\"\",CPIAUCSL!B1186)","v":""},{"$f":"IF(K1069=\"\",\"\",VLOOKUP($G1069,DJIA_def!$A$12:$B$1041,2,FALSE))","v":""},""]
["",null,null,null,null,{"$f":"IF(K1070=\"\",\"\",VLOOKUP($A1070,'Tocalino Index'!$A$12:$B$1041,2,FALSE))","v":""},"2044-12-01","",{"$f":"IF(H1070=\"\",\"\",VLOOKUP($G1070,WILL5000PR!$A$12:$B$1041,2,FALSE))","v":""},null,"",{"$f":"IF(DJIA!B419=\"\",\"\",DJIA!B419)","v":""},{"$f":"IF(CPIAUCSL!B1187=\"\",\"\",CPIAUCSL!B1187)","v":""},{"$f":"IF(K1070=\"\",\"\",VLOOKUP($G1070,DJIA_def!$A$12:$B$1041,2,FALSE))","v":""},""]
["",null,null,null,null,{"$f":"IF(K1071=\"\",\"\",VLOOKUP($A1071,'Tocalino Index'!$A$12:$B$1041,2,FALSE))","v":""},"2045-01-01","",{"$f":"IF(H1071=\"\",\"\",VLOOKUP($G1071,WILL5000PR!$A$12:$B$1041,2,FALSE))","v":""},null,"",{"$f":"IF(DJIA!B420=\"\",\"\",DJIA!B420)","v":""},{"$f":"IF(CPIAUCSL!B1188=\"\",\"\",CPIAUCSL!B1188)","v":""},{"$f":"IF(K1071=\"\",\"\",VLOOKUP($G1071,DJIA_def!$A$12:$B$1041,2,FALSE))","v":""},""]
["",null,null,null,null,{"$f":"IF(K1072=\"\",\"\",VLOOKUP($A1072,'Tocalino Index'!$A$12:$B$1041,2,FALSE))","v":""},"2045-02-01","",{"$f":"IF(H1072=\"\",\"\",VLOOKUP($G1072,WILL5000PR!$A$12:$B$1041,2,FALSE))","v":""},null,"",{"$f":"IF(DJIA!B421=\"\",\"\",DJIA!B421)","v":""},{"$f":"IF(CPIAUCSL!B1189=\"\",\"\",CPIAUCSL!B1189)","v":""},{"$f":"IF(K1072=\"\",\"\",VLOOKUP($G1072,DJIA_def!$A$12:$B$1041,2,FALSE))","v":""},""]
["",null,null,null,null,{"$f":"IF(K1073=\"\",\"\",VLOOKUP($A1073,'Tocalino Index'!$A$12:$B$1041,2,FALSE))","v":""},"2045-03-01","",{"$f":"IF(H1073=\"\",\"\",VLOOKUP($G1073,WILL5000PR!$A$12:$B$1041,2,FALSE))","v":""},null,"",{"$f":"IF(DJIA!B422=\"\",\"\",DJIA!B422)","v":""},{"$f":"IF(CPIAUCSL!B1190=\"\",\"\",CPIAUCSL!B1190)","v":""},{"$f":"IF(K1073=\"\",\"\",VLOOKUP($G1073,DJIA_def!$A$12:$B$1041,2,FALSE))","v":""},""]
["",null,null,null,null,{"$f":"IF(K1074=\"\",\"\",VLOOKUP($A1074,'Tocalino Index'!$A$12:$B$1041,2,FALSE))","v":""},"2045-04-01","",{"$f":"IF(H1074=\"\",\"\",VLOOKUP($G1074,WILL5000PR!$A$12:$B$1041,2,FALSE))","v":""},null,"",{"$f":"IF(DJIA!B423=\"\",\"\",DJIA!B423)","v":""},{"$f":"IF(CPIAUCSL!B1191=\"\",\"\",CPIAUCSL!B1191)","v":""},{"$f":"IF(K1074=\"\",\"\",VLOOKUP($G1074,DJIA_def!$A$12:$B$1041,2,FALSE))","v":""},""]
["",null,null,null,null,{"$f":"IF(K1075=\"\",\"\",VLOOKUP($A1075,'Tocalino Index'!$A$12:$B$1041,2,FALSE))","v":""},"2045-05-01","",{"$f":"IF(H1075=\"\",\"\",VLOOKUP($G1075,WILL5000PR!$A$12:$B$1041,2,FALSE))","v":""},null,"",{"$f":"IF(DJIA!B424=\"\",\"\",DJIA!B424)","v":""},{"$f":"IF(CPIAUCSL!B1192=\"\",\"\",CPIAUCSL!B1192)","v":""},{"$f":"IF(K1075=\"\",\"\",VLOOKUP($G1075,DJIA_def!$A$12:$B$1041,2,FALSE))","v":""},""]
["",null,null,null,null,{"$f":"IF(K1076=\"\",\"\",VLOOKUP($A1076,'Tocalino Index'!$A$12:$B$1041,2,FALSE))","v":""},"2045-06-01","",{"$f":"IF(H1076=\"\",\"\",VLOOKUP($G1076,WILL5000PR!$A$12:$B$1041,2,FALSE))","v":""},null,"",{"$f":"IF(DJIA!B425=\"\",\"\",DJIA!B425)","v":""},{"$f":"IF(CPIAUCSL!B1193=\"\",\"\",CPIAUCSL!B1193)","v":""},{"$f":"IF(K1076=\"\",\"\",VLOOKUP($G1076,DJIA_def!$A$12:$B$1041,2,FALSE))","v":""},""]
["",null,null,null,null,{"$f":"IF(K1077=\"\",\"\",VLOOKUP($A1077,'Tocalino Index'!$A$12:$B$1041,2,FALSE))","v":""},"2045-07-01","",{"$f":"IF(H1077=\"\",\"\",VLOOKUP($G1077,WILL5000PR!$A$12:$B$1041,2,FALSE))","v":""},null,"",{"$f":"IF(DJIA!B426=\"\",\"\",DJIA!B426)","v":""},{"$f":"IF(CPIAUCSL!B1194=\"\",\"\",CPIAUCSL!B1194)","v":""},{"$f":"IF(K1077=\"\",\"\",VLOOKUP($G1077,DJIA_def!$A$12:$B$1041,2,FALSE))","v":""},""]
["",null,null,null,null,{"$f":"IF(K1078=\"\",\"\",VLOOKUP($A1078,'Tocalino Index'!$A$12:$B$1041,2,FALSE))","v":""},"2045-08-01","",{"$f":"IF(H1078=\"\",\"\",VLOOKUP($G1078,WILL5000PR!$A$12:$B$1041,2,FALSE))","v":""},null,"",{"$f":"IF(DJIA!B427=\"\",\"\",DJIA!B427)","v":""},{"$f":"IF(CPIAUCSL!B1195=\"\",\"\",CPIAUCSL!B1195)","v":""},{"$f":"IF(K1078=\"\",\"\",VLOOKUP($G1078,DJIA_def!$A$12:$B$1041,2,FALSE))","v":""},""]
["",null,null,null,null,{"$f":"IF(K1079=\"\",\"\",VLOOKUP($A1079,'Tocalino Index'!$A$12:$B$1041,2,FALSE))","v":""},"2045-09-01","",{"$f":"IF(H1079=\"\",\"\",VLOOKUP($G1079,WILL5000PR!$A$12:$B$1041,2,FALSE))","v":""},null,"",{"$f":"IF(DJIA!B428=\"\",\"\",DJIA!B428)","v":""},{"$f":"IF(CPIAUCSL!B1196=\"\",\"\",CPIAUCSL!B1196)","v":""},{"$f":"IF(K1079=\"\",\"\",VLOOKUP($G1079,DJIA_def!$A$12:$B$1041,2,FALSE))","v":""},""]
["",null,null,null,null,{"$f":"IF(K1080=\"\",\"\",VLOOKUP($A1080,'Tocalino Index'!$A$12:$B$1041,2,FALSE))","v":""},"2045-10-01","",{"$f":"IF(H1080=\"\",\"\",VLOOKUP($G1080,WILL5000PR!$A$12:$B$1041,2,FALSE))","v":""},null,"",{"$f":"IF(DJIA!B429=\"\",\"\",DJIA!B429)","v":""},{"$f":"IF(CPIAUCSL!B1197=\"\",\"\",CPIAUCSL!B1197)","v":""},{"$f":"IF(K1080=\"\",\"\",VLOOKUP($G1080,DJIA_def!$A$12:$B$1041,2,FALSE))","v":""},""]
["",null,null,null,null,{"$f":"IF(K1081=\"\",\"\",VLOOKUP($A1081,'Tocalino Index'!$A$12:$B$1041,2,FALSE))","v":""},"2045-11-01","",{"$f":"IF(H1081=\"\",\"\",VLOOKUP($G1081,WILL5000PR!$A$12:$B$1041,2,FALSE))","v":""},null,"",{"$f":"IF(DJIA!B430=\"\",\"\",DJIA!B430)","v":""},{"$f":"IF(CPIAUCSL!B1198=\"\",\"\",CPIAUCSL!B1198)","v":""},{"$f":"IF(K1081=\"\",\"\",VLOOKUP($G1081,DJIA_def!$A$12:$B$1041,2,FALSE))","v":""},""]
["",null,null,null,null,{"$f":"IF(K1082=\"\",\"\",VLOOKUP($A1082,'Tocalino Index'!$A$12:$B$1041,2,FALSE))","v":""},"2045-12-01","",{"$f":"IF(H1082=\"\",\"\",VLOOKUP($G1082,WILL5000PR!$A$12:$B$1041,2,FALSE))","v":""},null,"",{"$f":"IF(DJIA!B431=\"\",\"\",DJIA!B431)","v":""},{"$f":"IF(CPIAUCSL!B1199=\"\",\"\",CPIAUCSL!B1199)","v":""},{"$f":"IF(K1082=\"\",\"\",VLOOKUP($G1082,DJIA_def!$A$12:$B$1041,2,FALSE))","v":""},""]
["",null,null,null,null,{"$f":"IF(K1083=\"\",\"\",VLOOKUP($A1083,'Tocalino Index'!$A$12:$B$1041,2,FALSE))","v":""},"2046-01-01","",{"$f":"IF(H1083=\"\",\"\",VLOOKUP($G1083,WILL5000PR!$A$12:$B$1041,2,FALSE))","v":""},null,"",{"$f":"IF(DJIA!B432=\"\",\"\",DJIA!B432)","v":""},{"$f":"IF(CPIAUCSL!B1200=\"\",\"\",CPIAUCSL!B1200)","v":""},{"$f":"IF(K1083=\"\",\"\",VLOOKUP($G1083,DJIA_def!$A$12:$B$1041,2,FALSE))","v":""},""]
["",null,null,null,null,{"$f":"IF(K1084=\"\",\"\",VLOOKUP($A1084,'Tocalino Index'!$A$12:$B$1041,2,FALSE))","v":""},"2046-02-01","",{"$f":"IF(H1084=\"\",\"\",VLOOKUP($G1084,WILL5000PR!$A$12:$B$1041,2,FALSE))","v":""},null,"",{"$f":"IF(DJIA!B433=\"\",\"\",DJIA!B433)","v":""},{"$f":"IF(CPIAUCSL!B1201=\"\",\"\",CPIAUCSL!B1201)","v":""},{"$f":"IF(K1084=\"\",\"\",VLOOKUP($G1084,DJIA_def!$A$12:$B$1041,2,FALSE))","v":""},""]
["",null,null,null,null,{"$f":"IF(K1085=\"\",\"\",VLOOKUP($A1085,'Tocalino Index'!$A$12:$B$1041,2,FALSE))","v":""},"2046-03-01","",{"$f":"IF(H1085=\"\",\"\",VLOOKUP($G1085,WILL5000PR!$A$12:$B$1041,2,FALSE))","v":""},null,"",{"$f":"IF(DJIA!B434=\"\",\"\",DJIA!B434)","v":""},{"$f":"IF(CPIAUCSL!B1202=\"\",\"\",CPIAUCSL!B1202)","v":""},{"$f":"IF(K1085=\"\",\"\",VLOOKUP($G1085,DJIA_def!$A$12:$B$1041,2,FALSE))","v":""},""]
["",null,null,null,null,{"$f":"IF(K1086=\"\",\"\",VLOOKUP($A1086,'Tocalino Index'!$A$12:$B$1041,2,FALSE))","v":""},"2046-04-01","",{"$f":"IF(H1086=\"\",\"\",VLOOKUP($G1086,WILL5000PR!$A$12:$B$1041,2,FALSE))","v":""},null,"",{"$f":"IF(DJIA!B435=\"\",\"\",DJIA!B435)","v":""},{"$f":"IF(CPIAUCSL!B1203=\"\",\"\",CPIAUCSL!B1203)","v":""},{"$f":"IF(K1086=\"\",\"\",VLOOKUP($G1086,DJIA_def!$A$12:$B$1041,2,FALSE))","v":""},""]
["",null,null,null,null,{"$f":"IF(K1087=\"\",\"\",VLOOKUP($A1087,'Tocalino Index'!$A$12:$B$1041,2,FALSE))","v":""},"2046-05-01","",{"$f":"IF(H1087=\"\",\"\",VLOOKUP($G1087,WILL5000PR!$A$12:$B$1041,2,FALSE))","v":""},null,"",{"$f":"IF(DJIA!B436=\"\",\"\",DJIA!B436)","v":""},{"$f":"IF(CPIAUCSL!B1204=\"\",\"\",CPIAUCSL!B1204)","v":""},{"$f":"IF(K1087=\"\",\"\",VLOOKUP($G1087,DJIA_def!$A$12:$B$1041,2,FALSE))","v":""},""]
[{"$f":"IF((TODAY()-G1088)<40,\"\",G1088)","v":""},null,null,null,null,{"$f":"IF(K1088=\"\",\"\",VLOOKUP($A1088,'Tocalino Index'!$A$12:$B$1041,2,FALSE))","v":""},"2046-06-01","",{"$f":"IF(H1088=\"\",\"\",VLOOKUP($G1088,WILL5000PR!$A$12:$B$1041,2,FALSE))","v":""},null,"",{"$f":"IF(DJIA!B437=\"\",\"\",DJIA!B437)","v":""},{"$f":"IF(CPIAUCSL!B1205=\"\",\"\",CPIAUCSL!B1205)","v":""},{"$f":"IF(K1088=\"\",\"\",VLOOKUP($G1088,DJIA_def!$A$12:$B$1041,2,FALSE))","v":""},""]
["",null,null,null,null,{"$f":"IF(K1089=\"\",\"\",VLOOKUP($A1089,'Tocalino Index'!$A$12:$B$1041,2,FALSE))","v":""},"2046-07-01","",{"$f":"IF(H1089=\"\",\"\",VLOOKUP($G1089,WILL5000PR!$A$12:$B$1041,2,FALSE))","v":""},null,"",{"$f":"IF(DJIA!B438=\"\",\"\",DJIA!B438)","v":""},{"$f":"IF(CPIAUCSL!B1206=\"\",\"\",CPIAUCSL!B1206)","v":""},{"$f":"IF(K1089=\"\",\"\",VLOOKUP($G1089,DJIA_def!$A$12:$B$1041,2,FALSE))","v":""},""]
["",null,null,null,null,{"$f":"IF(K1090=\"\",\"\",VLOOKUP($A1090,'Tocalino Index'!$A$12:$B$1041,2,FALSE))","v":""},"2046-08-01","",{"$f":"IF(H1090=\"\",\"\",VLOOKUP($G1090,WILL5000PR!$A$12:$B$1041,2,FALSE))","v":""},null,"",{"$f":"IF(DJIA!B439=\"\",\"\",DJIA!B439)","v":""},{"$f":"IF(CPIAUCSL!B1207=\"\",\"\",CPIAUCSL!B1207)","v":""},{"$f":"IF(K1090=\"\",\"\",VLOOKUP($G1090,DJIA_def!$A$12:$B$1041,2,FALSE))","v":""},""]
["",null,null,null,null,{"$f":"IF(K1091=\"\",\"\",VLOOKUP($A1091,'Tocalino Index'!$A$12:$B$1041,2,FALSE))","v":""},"2046-09-01","",{"$f":"IF(H1091=\"\",\"\",VLOOKUP($G1091,WILL5000PR!$A$12:$B$1041,2,FALSE))","v":""},null,"",{"$f":"IF(DJIA!B440=\"\",\"\",DJIA!B440)","v":""},{"$f":"IF(CPIAUCSL!B1208=\"\",\"\",CPIAUCSL!B1208)","v":""},{"$f":"IF(K1091=\"\",\"\",VLOOKUP($G1091,DJIA_def!$A$12:$B$1041,2,FALSE))","v":""},""]
["",null,null,null,null,{"$f":"IF(K1092=\"\",\"\",VLOOKUP($A1092,'Tocalino Index'!$A$12:$B$1041,2,FALSE))","v":""},"2046-10-01","",{"$f":"IF(H1092=\"\",\"\",VLOOKUP($G1092,WILL5000PR!$A$12:$B$1041,2,FALSE))","v":""},null,"",{"$f":"IF(DJIA!B441=\"\",\"\",DJIA!B441)","v":""},{"$f":"IF(CPIAUCSL!B1209=\"\",\"\",CPIAUCSL!B1209)","v":""},{"$f":"IF(K1092=\"\",\"\",VLOOKUP($G1092,DJIA_def!$A$12:$B$1041,2,FALSE))","v":""},""]
["",null,null,null,null,{"$f":"IF(K1093=\"\",\"\",VLOOKUP($A1093,'Tocalino Index'!$A$12:$B$1041,2,FALSE))","v":""},"2046-11-01","",{"$f":"IF(H1093=\"\",\"\",VLOOKUP($G1093,WILL5000PR!$A$12:$B$1041,2,FALSE))","v":""},null,"",{"$f":"IF(DJIA!B442=\"\",\"\",DJIA!B442)","v":""},{"$f":"IF(CPIAUCSL!B1210=\"\",\"\",CPIAUCSL!B1210)","v":""},{"$f":"IF(K1093=\"\",\"\",VLOOKUP($G1093,DJIA_def!$A$12:$B$1041,2,FALSE))","v":""},""]
["",null,null,null,null,{"$f":"IF(K1094=\"\",\"\",VLOOKUP($A1094,'Tocalino Index'!$A$12:$B$1041,2,FALSE))","v":""},"2046-12-01","",{"$f":"IF(H1094=\"\",\"\",VLOOKUP($G1094,WILL5000PR!$A$12:$B$1041,2,FALSE))","v":""},null,{"$f":"IF(($G$13-G1094)<40,\"\",G1094)","v":""},{"$f":"IF(DJIA!B443=\"\",\"\",DJIA!B443)","v":""},{"$f":"IF(CPIAUCSL!B1211=\"\",\"\",CPIAUCSL!B1211)","v":""},{"$f":"IF(K1094=\"\",\"\",VLOOKUP($G1094,DJIA_def!$A$12:$B$1041,2,FALSE))","v":""},{"$f":"IF(K1094=\"\",\"\",N1094/$P$14)","v":""}]
["",null,null,null,null,{"$f":"IF(K1095=\"\",\"\",VLOOKUP($A1095,'Tocalino Index'!$A$12:$B$1041,2,FALSE))","v":""},"2047-01-01","",{"$f":"IF(H1095=\"\",\"\",VLOOKUP($G1095,WILL5000PR!$A$12:$B$1041,2,FALSE))","v":""},null,"",{"$f":"IF(DJIA!B444=\"\",\"\",DJIA!B444)","v":""},{"$f":"IF(CPIAUCSL!B1212=\"\",\"\",CPIAUCSL!B1212)","v":""},{"$f":"IF(K1095=\"\",\"\",VLOOKUP($G1095,DJIA_def!$A$12:$B$1041,2,FALSE))","v":""},""]
["",null,null,null,null,{"$f":"IF(K1096=\"\",\"\",VLOOKUP($A1096,'Tocalino Index'!$A$12:$B$1041,2,FALSE))","v":""},"2047-02-01","",{"$f":"IF(H1096=\"\",\"\",VLOOKUP($G1096,WILL5000PR!$A$12:$B$1041,2,FALSE))","v":""},null,"",{"$f":"IF(DJIA!B445=\"\",\"\",DJIA!B445)","v":""},{"$f":"IF(CPIAUCSL!B1213=\"\",\"\",CPIAUCSL!B1213)","v":""},{"$f":"IF(K1096=\"\",\"\",VLOOKUP($G1096,DJIA_def!$A$12:$B$1041,2,FALSE))","v":""},""]
["",null,null,null,null,{"$f":"IF(K1097=\"\",\"\",VLOOKUP($A1097,'Tocalino Index'!$A$12:$B$1041,2,FALSE))","v":""},"2047-03-01","",{"$f":"IF(H1097=\"\",\"\",VLOOKUP($G1097,WILL5000PR!$A$12:$B$1041,2,FALSE))","v":""},null,"",{"$f":"IF(DJIA!B446=\"\",\"\",DJIA!B446)","v":""},{"$f":"IF(CPIAUCSL!B1214=\"\",\"\",CPIAUCSL!B1214)","v":""},{"$f":"IF(K1097=\"\",\"\",VLOOKUP($G1097,DJIA_def!$A$12:$B$1041,2,FALSE))","v":""},""]
["",null,null,null,null,{"$f":"IF(K1098=\"\",\"\",VLOOKUP($A1098,'Tocalino Index'!$A$12:$B$1041,2,FALSE))","v":""},"2047-04-01","",{"$f":"IF(H1098=\"\",\"\",VLOOKUP($G1098,WILL5000PR!$A$12:$B$1041,2,FALSE))","v":""},null,"",{"$f":"IF(DJIA!B447=\"\",\"\",DJIA!B447)","v":""},{"$f":"IF(CPIAUCSL!B1215=\"\",\"\",CPIAUCSL!B1215)","v":""},{"$f":"IF(K1098=\"\",\"\",VLOOKUP($G1098,DJIA_def!$A$12:$B$1041,2,FALSE))","v":""},""]
["",null,null,null,null,{"$f":"IF(K1099=\"\",\"\",VLOOKUP($A1099,'Tocalino Index'!$A$12:$B$1041,2,FALSE))","v":""},"2047-05-01","",{"$f":"IF(H1099=\"\",\"\",VLOOKUP($G1099,WILL5000PR!$A$12:$B$1041,2,FALSE))","v":""},null,"",{"$f":"IF(DJIA!B448=\"\",\"\",DJIA!B448)","v":""},{"$f":"IF(CPIAUCSL!B1216=\"\",\"\",CPIAUCSL!B1216)","v":""},{"$f":"IF(K1099=\"\",\"\",VLOOKUP($G1099,DJIA_def!$A$12:$B$1041,2,FALSE))","v":""},""]
["",null,null,null,null,{"$f":"IF(K1100=\"\",\"\",VLOOKUP($A1100,'Tocalino Index'!$A$12:$B$1041,2,FALSE))","v":""},"2047-06-01","",{"$f":"IF(H1100=\"\",\"\",VLOOKUP($G1100,WILL5000PR!$A$12:$B$1041,2,FALSE))","v":""},null,"",{"$f":"IF(DJIA!B449=\"\",\"\",DJIA!B449)","v":""},{"$f":"IF(CPIAUCSL!B1217=\"\",\"\",CPIAUCSL!B1217)","v":""},{"$f":"IF(K1100=\"\",\"\",VLOOKUP($G1100,DJIA_def!$A$12:$B$1041,2,FALSE))","v":""},""]
["",null,null,null,null,{"$f":"IF(K1101=\"\",\"\",VLOOKUP($A1101,'Tocalino Index'!$A$12:$B$1041,2,FALSE))","v":""},"2047-07-01","",{"$f":"IF(H1101=\"\",\"\",VLOOKUP($G1101,WILL5000PR!$A$12:$B$1041,2,FALSE))","v":""},null,"",{"$f":"IF(DJIA!B450=\"\",\"\",DJIA!B450)","v":""},{"$f":"IF(CPIAUCSL!B1218=\"\",\"\",CPIAUCSL!B1218)","v":""},{"$f":"IF(K1101=\"\",\"\",VLOOKUP($G1101,DJIA_def!$A$12:$B$1041,2,FALSE))","v":""},""]
["",null,null,null,null,{"$f":"IF(K1102=\"\",\"\",VLOOKUP($A1102,'Tocalino Index'!$A$12:$B$1041,2,FALSE))","v":""},"2047-08-01","",{"$f":"IF(H1102=\"\",\"\",VLOOKUP($G1102,WILL5000PR!$A$12:$B$1041,2,FALSE))","v":""},null,"",{"$f":"IF(DJIA!B451=\"\",\"\",DJIA!B451)","v":""},{"$f":"IF(CPIAUCSL!B1219=\"\",\"\",CPIAUCSL!B1219)","v":""},{"$f":"IF(K1102=\"\",\"\",VLOOKUP($G1102,DJIA_def!$A$12:$B$1041,2,FALSE))","v":""},""]
["",null,null,null,null,{"$f":"IF(K1103=\"\",\"\",VLOOKUP($A1103,'Tocalino Index'!$A$12:$B$1041,2,FALSE))","v":""},"2047-09-01","",{"$f":"IF(H1103=\"\",\"\",VLOOKUP($G1103,WILL5000PR!$A$12:$B$1041,2,FALSE))","v":""},null,"",{"$f":"IF(DJIA!B452=\"\",\"\",DJIA!B452)","v":""},{"$f":"IF(CPIAUCSL!B1220=\"\",\"\",CPIAUCSL!B1220)","v":""},{"$f":"IF(K1103=\"\",\"\",VLOOKUP($G1103,DJIA_def!$A$12:$B$1041,2,FALSE))","v":""},""]
["",null,null,null,null,{"$f":"IF(K1104=\"\",\"\",VLOOKUP($A1104,'Tocalino Index'!$A$12:$B$1041,2,FALSE))","v":""},"2047-10-01","",{"$f":"IF(H1104=\"\",\"\",VLOOKUP($G1104,WILL5000PR!$A$12:$B$1041,2,FALSE))","v":""},null,"",{"$f":"IF(DJIA!B453=\"\",\"\",DJIA!B453)","v":""},{"$f":"IF(CPIAUCSL!B1221=\"\",\"\",CPIAUCSL!B1221)","v":""},{"$f":"IF(K1104=\"\",\"\",VLOOKUP($G1104,DJIA_def!$A$12:$B$1041,2,FALSE))","v":""},""]
["",null,null,null,null,{"$f":"IF(K1105=\"\",\"\",VLOOKUP($A1105,'Tocalino Index'!$A$12:$B$1041,2,FALSE))","v":""},"2047-11-01","",{"$f":"IF(H1105=\"\",\"\",VLOOKUP($G1105,WILL5000PR!$A$12:$B$1041,2,FALSE))","v":""},null,"",{"$f":"IF(DJIA!B454=\"\",\"\",DJIA!B454)","v":""},{"$f":"IF(CPIAUCSL!B1222=\"\",\"\",CPIAUCSL!B1222)","v":""},{"$f":"IF(K1105=\"\",\"\",VLOOKUP($G1105,DJIA_def!$A$12:$B$1041,2,FALSE))","v":""},""]
["",null,null,null,null,{"$f":"IF(K1106=\"\",\"\",VLOOKUP($A1106,'Tocalino Index'!$A$12:$B$1041,2,FALSE))","v":""},"2047-12-01","",{"$f":"IF(H1106=\"\",\"\",VLOOKUP($G1106,WILL5000PR!$A$12:$B$1041,2,FALSE))","v":""},null,"",{"$f":"IF(DJIA!B455=\"\",\"\",DJIA!B455)","v":""},{"$f":"IF(CPIAUCSL!B1223=\"\",\"\",CPIAUCSL!B1223)","v":""},{"$f":"IF(K1106=\"\",\"\",VLOOKUP($G1106,DJIA_def!$A$12:$B$1041,2,FALSE))","v":""},""]
["",null,null,null,null,{"$f":"IF(K1107=\"\",\"\",VLOOKUP($A1107,'Tocalino Index'!$A$12:$B$1041,2,FALSE))","v":""},"2048-01-01","",{"$f":"IF(H1107=\"\",\"\",VLOOKUP($G1107,WILL5000PR!$A$12:$B$1041,2,FALSE))","v":""},null,"",{"$f":"IF(DJIA!B456=\"\",\"\",DJIA!B456)","v":""},{"$f":"IF(CPIAUCSL!B1224=\"\",\"\",CPIAUCSL!B1224)","v":""},{"$f":"IF(K1107=\"\",\"\",VLOOKUP($G1107,DJIA_def!$A$12:$B$1041,2,FALSE))","v":""},""]
["",null,null,null,null,{"$f":"IF(K1108=\"\",\"\",VLOOKUP($A1108,'Tocalino Index'!$A$12:$B$1041,2,FALSE))","v":""},"2048-02-01","",{"$f":"IF(H1108=\"\",\"\",VLOOKUP($G1108,WILL5000PR!$A$12:$B$1041,2,FALSE))","v":""},null,"",{"$f":"IF(DJIA!B457=\"\",\"\",DJIA!B457)","v":""},{"$f":"IF(CPIAUCSL!B1225=\"\",\"\",CPIAUCSL!B1225)","v":""},{"$f":"IF(K1108=\"\",\"\",VLOOKUP($G1108,DJIA_def!$A$12:$B$1041,2,FALSE))","v":""},""]
["",null,null,null,null,{"$f":"IF(K1109=\"\",\"\",VLOOKUP($A1109,'Tocalino Index'!$A$12:$B$1041,2,FALSE))","v":""},"2048-03-01","",{"$f":"IF(H1109=\"\",\"\",VLOOKUP($G1109,WILL5000PR!$A$12:$B$1041,2,FALSE))","v":""},null,"",{"$f":"IF(DJIA!B458=\"\",\"\",DJIA!B458)","v":""},{"$f":"IF(CPIAUCSL!B1226=\"\",\"\",CPIAUCSL!B1226)","v":""},{"$f":"IF(K1109=\"\",\"\",VLOOKUP($G1109,DJIA_def!$A$12:$B$1041,2,FALSE))","v":""},""]
["",null,null,null,null,{"$f":"IF(K1110=\"\",\"\",VLOOKUP($A1110,'Tocalino Index'!$A$12:$B$1041,2,FALSE))","v":""},"2048-04-01","",{"$f":"IF(H1110=\"\",\"\",VLOOKUP($G1110,WILL5000PR!$A$12:$B$1041,2,FALSE))","v":""},null,"",{"$f":"IF(DJIA!B459=\"\",\"\",DJIA!B459)","v":""},{"$f":"IF(CPIAUCSL!B1227=\"\",\"\",CPIAUCSL!B1227)","v":""},{"$f":"IF(K1110=\"\",\"\",VLOOKUP($G1110,DJIA_def!$A$12:$B$1041,2,FALSE))","v":""},""]
["",null,null,null,null,{"$f":"IF(K1111=\"\",\"\",VLOOKUP($A1111,'Tocalino Index'!$A$12:$B$1041,2,FALSE))","v":""},"2048-05-01","",{"$f":"IF(H1111=\"\",\"\",VLOOKUP($G1111,WILL5000PR!$A$12:$B$1041,2,FALSE))","v":""},null,"",{"$f":"IF(DJIA!B460=\"\",\"\",DJIA!B460)","v":""},{"$f":"IF(CPIAUCSL!B1228=\"\",\"\",CPIAUCSL!B1228)","v":""},{"$f":"IF(K1111=\"\",\"\",VLOOKUP($G1111,DJIA_def!$A$12:$B$1041,2,FALSE))","v":""},""]
["",null,null,null,null,{"$f":"IF(K1112=\"\",\"\",VLOOKUP($A1112,'Tocalino Index'!$A$12:$B$1041,2,FALSE))","v":""},"2048-06-01","",{"$f":"IF(H1112=\"\",\"\",VLOOKUP($G1112,WILL5000PR!$A$12:$B$1041,2,FALSE))","v":""},null,"",{"$f":"IF(DJIA!B461=\"\",\"\",DJIA!B461)","v":""},{"$f":"IF(CPIAUCSL!B1229=\"\",\"\",CPIAUCSL!B1229)","v":""},{"$f":"IF(K1112=\"\",\"\",VLOOKUP($G1112,DJIA_def!$A$12:$B$1041,2,FALSE))","v":""},""]
["",null,null,null,null,{"$f":"IF(K1113=\"\",\"\",VLOOKUP($A1113,'Tocalino Index'!$A$12:$B$1041,2,FALSE))","v":""},"2048-07-01","",{"$f":"IF(H1113=\"\",\"\",VLOOKUP($G1113,WILL5000PR!$A$12:$B$1041,2,FALSE))","v":""},null,"",{"$f":"IF(DJIA!B462=\"\",\"\",DJIA!B462)","v":""},{"$f":"IF(CPIAUCSL!B1230=\"\",\"\",CPIAUCSL!B1230)","v":""},{"$f":"IF(K1113=\"\",\"\",VLOOKUP($G1113,DJIA_def!$A$12:$B$1041,2,FALSE))","v":""},""]
["",null,null,null,null,{"$f":"IF(K1114=\"\",\"\",VLOOKUP($A1114,'Tocalino Index'!$A$12:$B$1041,2,FALSE))","v":""},"2048-08-01","",{"$f":"IF(H1114=\"\",\"\",VLOOKUP($G1114,WILL5000PR!$A$12:$B$1041,2,FALSE))","v":""},null,"",{"$f":"IF(DJIA!B463=\"\",\"\",DJIA!B463)","v":""},{"$f":"IF(CPIAUCSL!B1231=\"\",\"\",CPIAUCSL!B1231)","v":""},{"$f":"IF(K1114=\"\",\"\",VLOOKUP($G1114,DJIA_def!$A$12:$B$1041,2,FALSE))","v":""},""]
["",null,null,null,null,{"$f":"IF(K1115=\"\",\"\",VLOOKUP($A1115,'Tocalino Index'!$A$12:$B$1041,2,FALSE))","v":""},"2048-09-01","",{"$f":"IF(H1115=\"\",\"\",VLOOKUP($G1115,WILL5000PR!$A$12:$B$1041,2,FALSE))","v":""},null,"",{"$f":"IF(DJIA!B464=\"\",\"\",DJIA!B464)","v":""},{"$f":"IF(CPIAUCSL!B1232=\"\",\"\",CPIAUCSL!B1232)","v":""},{"$f":"IF(K1115=\"\",\"\",VLOOKUP($G1115,DJIA_def!$A$12:$B$1041,2,FALSE))","v":""},""]
["",null,null,null,null,{"$f":"IF(K1116=\"\",\"\",VLOOKUP($A1116,'Tocalino Index'!$A$12:$B$1041,2,FALSE))","v":""},"2048-10-01","",{"$f":"IF(H1116=\"\",\"\",VLOOKUP($G1116,WILL5000PR!$A$12:$B$1041,2,FALSE))","v":""},null,"",{"$f":"IF(DJIA!B465=\"\",\"\",DJIA!B465)","v":""},{"$f":"IF(CPIAUCSL!B1233=\"\",\"\",CPIAUCSL!B1233)","v":""},{"$f":"IF(K1116=\"\",\"\",VLOOKUP($G1116,DJIA_def!$A$12:$B$1041,2,FALSE))","v":""},""]
["",null,null,null,null,{"$f":"IF(K1117=\"\",\"\",VLOOKUP($A1117,'Tocalino Index'!$A$12:$B$1041,2,FALSE))","v":""},"2048-11-01","",{"$f":"IF(H1117=\"\",\"\",VLOOKUP($G1117,WILL5000PR!$A$12:$B$1041,2,FALSE))","v":""},null,"",{"$f":"IF(DJIA!B466=\"\",\"\",DJIA!B466)","v":""},{"$f":"IF(CPIAUCSL!B1234=\"\",\"\",CPIAUCSL!B1234)","v":""},{"$f":"IF(K1117=\"\",\"\",VLOOKUP($G1117,DJIA_def!$A$12:$B$1041,2,FALSE))","v":""},""]
["",null,null,null,null,{"$f":"IF(K1118=\"\",\"\",VLOOKUP($A1118,'Tocalino Index'!$A$12:$B$1041,2,FALSE))","v":""},"2048-12-01","",{"$f":"IF(H1118=\"\",\"\",VLOOKUP($G1118,WILL5000PR!$A$12:$B$1041,2,FALSE))","v":""},null,"",{"$f":"IF(DJIA!B467=\"\",\"\",DJIA!B467)","v":""},{"$f":"IF(CPIAUCSL!B1235=\"\",\"\",CPIAUCSL!B1235)","v":""},{"$f":"IF(K1118=\"\",\"\",VLOOKUP($G1118,DJIA_def!$A$12:$B$1041,2,FALSE))","v":""},""]
["",null,null,null,null,{"$f":"IF(K1119=\"\",\"\",VLOOKUP($A1119,'Tocalino Index'!$A$12:$B$1041,2,FALSE))","v":""},"2049-01-01","",{"$f":"IF(H1119=\"\",\"\",VLOOKUP($G1119,WILL5000PR!$A$12:$B$1041,2,FALSE))","v":""},null,"",{"$f":"IF(DJIA!B468=\"\",\"\",DJIA!B468)","v":""},{"$f":"IF(CPIAUCSL!B1236=\"\",\"\",CPIAUCSL!B1236)","v":""},{"$f":"IF(K1119=\"\",\"\",VLOOKUP($G1119,DJIA_def!$A$12:$B$1041,2,FALSE))","v":""},""]
["",null,null,null,null,{"$f":"IF(K1120=\"\",\"\",VLOOKUP($A1120,'Tocalino Index'!$A$12:$B$1041,2,FALSE))","v":""},"2049-02-01","",{"$f":"IF(H1120=\"\",\"\",VLOOKUP($G1120,WILL5000PR!$A$12:$B$1041,2,FALSE))","v":""},null,"",{"$f":"IF(DJIA!B469=\"\",\"\",DJIA!B469)","v":""},{"$f":"IF(CPIAUCSL!B1237=\"\",\"\",CPIAUCSL!B1237)","v":""},{"$f":"IF(K1120=\"\",\"\",VLOOKUP($G1120,DJIA_def!$A$12:$B$1041,2,FALSE))","v":""},""]
["",null,null,null,null,{"$f":"IF(K1121=\"\",\"\",VLOOKUP($A1121,'Tocalino Index'!$A$12:$B$1041,2,FALSE))","v":""},"2049-03-01","",{"$f":"IF(H1121=\"\",\"\",VLOOKUP($G1121,WILL5000PR!$A$12:$B$1041,2,FALSE))","v":""},null,"",{"$f":"IF(DJIA!B470=\"\",\"\",DJIA!B470)","v":""},{"$f":"IF(CPIAUCSL!B1238=\"\",\"\",CPIAUCSL!B1238)","v":""},{"$f":"IF(K1121=\"\",\"\",VLOOKUP($G1121,DJIA_def!$A$12:$B$1041,2,FALSE))","v":""},""]
["",null,null,null,null,{"$f":"IF(K1122=\"\",\"\",VLOOKUP($A1122,'Tocalino Index'!$A$12:$B$1041,2,FALSE))","v":""},"2049-04-01","",{"$f":"IF(H1122=\"\",\"\",VLOOKUP($G1122,WILL5000PR!$A$12:$B$1041,2,FALSE))","v":""},null,"",{"$f":"IF(DJIA!B471=\"\",\"\",DJIA!B471)","v":""},{"$f":"IF(CPIAUCSL!B1239=\"\",\"\",CPIAUCSL!B1239)","v":""},{"$f":"IF(K1122=\"\",\"\",VLOOKUP($G1122,DJIA_def!$A$12:$B$1041,2,FALSE))","v":""},""]
["",null,null,null,null,{"$f":"IF(K1123=\"\",\"\",VLOOKUP($A1123,'Tocalino Index'!$A$12:$B$1041,2,FALSE))","v":""},"2049-05-01","",{"$f":"IF(H1123=\"\",\"\",VLOOKUP($G1123,WILL5000PR!$A$12:$B$1041,2,FALSE))","v":""},null,"",{"$f":"IF(DJIA!B472=\"\",\"\",DJIA!B472)","v":""},{"$f":"IF(CPIAUCSL!B1240=\"\",\"\",CPIAUCSL!B1240)","v":""},{"$f":"IF(K1123=\"\",\"\",VLOOKUP($G1123,DJIA_def!$A$12:$B$1041,2,FALSE))","v":""},""]
["",null,null,null,null,{"$f":"IF(K1124=\"\",\"\",VLOOKUP($A1124,'Tocalino Index'!$A$12:$B$1041,2,FALSE))","v":""},"2049-06-01","",{"$f":"IF(H1124=\"\",\"\",VLOOKUP($G1124,WILL5000PR!$A$12:$B$1041,2,FALSE))","v":""},null,"",{"$f":"IF(DJIA!B473=\"\",\"\",DJIA!B473)","v":""},{"$f":"IF(CPIAUCSL!B1241=\"\",\"\",CPIAUCSL!B1241)","v":""},{"$f":"IF(K1124=\"\",\"\",VLOOKUP($G1124,DJIA_def!$A$12:$B$1041,2,FALSE))","v":""},""]
["",null,null,null,null,{"$f":"IF(K1125=\"\",\"\",VLOOKUP($A1125,'Tocalino Index'!$A$12:$B$1041,2,FALSE))","v":""},"2049-07-01","",{"$f":"IF(H1125=\"\",\"\",VLOOKUP($G1125,WILL5000PR!$A$12:$B$1041,2,FALSE))","v":""},null,"",{"$f":"IF(DJIA!B474=\"\",\"\",DJIA!B474)","v":""},{"$f":"IF(CPIAUCSL!B1242=\"\",\"\",CPIAUCSL!B1242)","v":""},{"$f":"IF(K1125=\"\",\"\",VLOOKUP($G1125,DJIA_def!$A$12:$B$1041,2,FALSE))","v":""},""]
["",null,null,null,null,{"$f":"IF(K1126=\"\",\"\",VLOOKUP($A1126,'Tocalino Index'!$A$12:$B$1041,2,FALSE))","v":""},"2049-08-01","",{"$f":"IF(H1126=\"\",\"\",VLOOKUP($G1126,WILL5000PR!$A$12:$B$1041,2,FALSE))","v":""},null,"",{"$f":"IF(DJIA!B475=\"\",\"\",DJIA!B475)","v":""},{"$f":"IF(CPIAUCSL!B1243=\"\",\"\",CPIAUCSL!B1243)","v":""},{"$f":"IF(K1126=\"\",\"\",VLOOKUP($G1126,DJIA_def!$A$12:$B$1041,2,FALSE))","v":""},""]
["",null,null,null,null,{"$f":"IF(K1127=\"\",\"\",VLOOKUP($A1127,'Tocalino Index'!$A$12:$B$1041,2,FALSE))","v":""},"2049-09-01","",{"$f":"IF(H1127=\"\",\"\",VLOOKUP($G1127,WILL5000PR!$A$12:$B$1041,2,FALSE))","v":""},null,"",{"$f":"IF(DJIA!B476=\"\",\"\",DJIA!B476)","v":""},{"$f":"IF(CPIAUCSL!B1244=\"\",\"\",CPIAUCSL!B1244)","v":""},{"$f":"IF(K1127=\"\",\"\",VLOOKUP($G1127,DJIA_def!$A$12:$B$1041,2,FALSE))","v":""},""]
["",null,null,null,null,{"$f":"IF(K1128=\"\",\"\",VLOOKUP($A1128,'Tocalino Index'!$A$12:$B$1041,2,FALSE))","v":""},"2049-10-01","",{"$f":"IF(H1128=\"\",\"\",VLOOKUP($G1128,WILL5000PR!$A$12:$B$1041,2,FALSE))","v":""},null,"",{"$f":"IF(DJIA!B477=\"\",\"\",DJIA!B477)","v":""},{"$f":"IF(CPIAUCSL!B1245=\"\",\"\",CPIAUCSL!B1245)","v":""},{"$f":"IF(K1128=\"\",\"\",VLOOKUP($G1128,DJIA_def!$A$12:$B$1041,2,FALSE))","v":""},""]
["",null,null,null,null,{"$f":"IF(K1129=\"\",\"\",VLOOKUP($A1129,'Tocalino Index'!$A$12:$B$1041,2,FALSE))","v":""},"2049-11-01","",{"$f":"IF(H1129=\"\",\"\",VLOOKUP($G1129,WILL5000PR!$A$12:$B$1041,2,FALSE))","v":""},null,"",{"$f":"IF(DJIA!B478=\"\",\"\",DJIA!B478)","v":""},{"$f":"IF(CPIAUCSL!B1246=\"\",\"\",CPIAUCSL!B1246)","v":""},{"$f":"IF(K1129=\"\",\"\",VLOOKUP($G1129,DJIA_def!$A$12:$B$1041,2,FALSE))","v":""},""]
["",null,null,null,null,{"$f":"IF(K1130=\"\",\"\",VLOOKUP($A1130,'Tocalino Index'!$A$12:$B$1041,2,FALSE))","v":""},"2049-12-01","",{"$f":"IF(H1130=\"\",\"\",VLOOKUP($G1130,WILL5000PR!$A$12:$B$1041,2,FALSE))","v":""},null,"",{"$f":"IF(DJIA!B479=\"\",\"\",DJIA!B479)","v":""},{"$f":"IF(CPIAUCSL!B1247=\"\",\"\",CPIAUCSL!B1247)","v":""},{"$f":"IF(K1130=\"\",\"\",VLOOKUP($G1130,DJIA_def!$A$12:$B$1041,2,FALSE))","v":""},""]
["",null,null,null,null,{"$f":"IF(K1131=\"\",\"\",VLOOKUP($A1131,'Tocalino Index'!$A$12:$B$1041,2,FALSE))","v":""},"2050-01-01",{"$f":"IF(($G$13-G1131)<40,\"\",G1131)","v":""},{"$f":"IF(H1131=\"\",\"\",VLOOKUP($G1131,WILL5000PR!$A$12:$B$1041,2,FALSE))","v":""},null,"",{"$f":"IF(DJIA!B480=\"\",\"\",DJIA!B480)","v":""},{"$f":"IF(CPIAUCSL!B1248=\"\",\"\",CPIAUCSL!B1248)","v":""},{"$f":"IF(K1131=\"\",\"\",VLOOKUP($G1131,DJIA_def!$A$12:$B$1041,2,FALSE))","v":""},""]
["",null,null,null,null,{"$f":"IF(K1132=\"\",\"\",VLOOKUP($A1132,'Tocalino Index'!$A$12:$B$1041,2,FALSE))","v":""},"2050-02-01","",{"$f":"IF(H1132=\"\",\"\",VLOOKUP($G1132,WILL5000PR!$A$12:$B$1041,2,FALSE))","v":""},null,"",{"$f":"IF(DJIA!B481=\"\",\"\",DJIA!B481)","v":""},{"$f":"IF(CPIAUCSL!B1249=\"\",\"\",CPIAUCSL!B1249)","v":""},{"$f":"IF(K1132=\"\",\"\",VLOOKUP($G1132,DJIA_def!$A$12:$B$1041,2,FALSE))","v":""},""]
["",null,null,null,null,{"$f":"IF(K1133=\"\",\"\",VLOOKUP($A1133,'Tocalino Index'!$A$12:$B$1041,2,FALSE))","v":""},"2050-03-01","",{"$f":"IF(H1133=\"\",\"\",VLOOKUP($G1133,WILL5000PR!$A$12:$B$1041,2,FALSE))","v":""},null,"",{"$f":"IF(DJIA!B482=\"\",\"\",DJIA!B482)","v":""},{"$f":"IF(CPIAUCSL!B1250=\"\",\"\",CPIAUCSL!B1250)","v":""},{"$f":"IF(K1133=\"\",\"\",VLOOKUP($G1133,DJIA_def!$A$12:$B$1041,2,FALSE))","v":""},""]
["",null,null,null,null,{"$f":"IF(K1134=\"\",\"\",VLOOKUP($A1134,'Tocalino Index'!$A$12:$B$1041,2,FALSE))","v":""},"2050-04-01","",{"$f":"IF(H1134=\"\",\"\",VLOOKUP($G1134,WILL5000PR!$A$12:$B$1041,2,FALSE))","v":""},null,"",{"$f":"IF(DJIA!B483=\"\",\"\",DJIA!B483)","v":""},{"$f":"IF(CPIAUCSL!B1251=\"\",\"\",CPIAUCSL!B1251)","v":""},{"$f":"IF(K1134=\"\",\"\",VLOOKUP($G1134,DJIA_def!$A$12:$B$1041,2,FALSE))","v":""},""]
["",null,null,null,null,{"$f":"IF(K1135=\"\",\"\",VLOOKUP($A1135,'Tocalino Index'!$A$12:$B$1041,2,FALSE))","v":""},"2050-05-01","",{"$f":"IF(H1135=\"\",\"\",VLOOKUP($G1135,WILL5000PR!$A$12:$B$1041,2,FALSE))","v":""},null,"",{"$f":"IF(DJIA!B484=\"\",\"\",DJIA!B484)","v":""},{"$f":"IF(CPIAUCSL!B1252=\"\",\"\",CPIAUCSL!B1252)","v":""},{"$f":"IF(K1135=\"\",\"\",VLOOKUP($G1135,DJIA_def!$A$12:$B$1041,2,FALSE))","v":""},""]
["",null,null,null,null,{"$f":"IF(K1136=\"\",\"\",VLOOKUP($A1136,'Tocalino Index'!$A$12:$B$1041,2,FALSE))","v":""},"2050-06-01","",{"$f":"IF(H1136=\"\",\"\",VLOOKUP($G1136,WILL5000PR!$A$12:$B$1041,2,FALSE))","v":""},null,"",{"$f":"IF(DJIA!B485=\"\",\"\",DJIA!B485)","v":""},{"$f":"IF(CPIAUCSL!B1253=\"\",\"\",CPIAUCSL!B1253)","v":""},{"$f":"IF(K1136=\"\",\"\",VLOOKUP($G1136,DJIA_def!$A$12:$B$1041,2,FALSE))","v":""},""]
["",null,null,null,null,{"$f":"IF(K1137=\"\",\"\",VLOOKUP($A1137,'Tocalino Index'!$A$12:$B$1041,2,FALSE))","v":""},"2050-07-01","",{"$f":"IF(H1137=\"\",\"\",VLOOKUP($G1137,WILL5000PR!$A$12:$B$1041,2,FALSE))","v":""},null,"",{"$f":"IF(DJIA!B486=\"\",\"\",DJIA!B486)","v":""},{"$f":"IF(CPIAUCSL!B1254=\"\",\"\",CPIAUCSL!B1254)","v":""},{"$f":"IF(K1137=\"\",\"\",VLOOKUP($G1137,DJIA_def!$A$12:$B$1041,2,FALSE))","v":""},""]
["",null,null,null,null,{"$f":"IF(K1138=\"\",\"\",VLOOKUP($A1138,'Tocalino Index'!$A$12:$B$1041,2,FALSE))","v":""},"2050-08-01","",{"$f":"IF(H1138=\"\",\"\",VLOOKUP($G1138,WILL5000PR!$A$12:$B$1041,2,FALSE))","v":""},null,"",{"$f":"IF(DJIA!B487=\"\",\"\",DJIA!B487)","v":""},{"$f":"IF(CPIAUCSL!B1255=\"\",\"\",CPIAUCSL!B1255)","v":""},{"$f":"IF(K1138=\"\",\"\",VLOOKUP($G1138,DJIA_def!$A$12:$B$1041,2,FALSE))","v":""},""]
["",null,null,null,null,{"$f":"IF(K1139=\"\",\"\",VLOOKUP($A1139,'Tocalino Index'!$A$12:$B$1041,2,FALSE))","v":""},"2050-09-01","",{"$f":"IF(H1139=\"\",\"\",VLOOKUP($G1139,WILL5000PR!$A$12:$B$1041,2,FALSE))","v":""},null,"",{"$f":"IF(DJIA!B488=\"\",\"\",DJIA!B488)","v":""},{"$f":"IF(CPIAUCSL!B1256=\"\",\"\",CPIAUCSL!B1256)","v":""},{"$f":"IF(K1139=\"\",\"\",VLOOKUP($G1139,DJIA_def!$A$12:$B$1041,2,FALSE))","v":""},""]
["",null,null,null,null,{"$f":"IF(K1140=\"\",\"\",VLOOKUP($A1140,'Tocalino Index'!$A$12:$B$1041,2,FALSE))","v":""},"2050-10-01","",{"$f":"IF(H1140=\"\",\"\",VLOOKUP($G1140,WILL5000PR!$A$12:$B$1041,2,FALSE))","v":""},null,"",{"$f":"IF(DJIA!B489=\"\",\"\",DJIA!B489)","v":""},{"$f":"IF(CPIAUCSL!B1257=\"\",\"\",CPIAUCSL!B1257)","v":""},{"$f":"IF(K1140=\"\",\"\",VLOOKUP($G1140,DJIA_def!$A$12:$B$1041,2,FALSE))","v":""},""]
["",null,null,null,null,{"$f":"IF(K1141=\"\",\"\",VLOOKUP($A1141,'Tocalino Index'!$A$12:$B$1041,2,FALSE))","v":""},"2050-11-01","",{"$f":"IF(H1141=\"\",\"\",VLOOKUP($G1141,WILL5000PR!$A$12:$B$1041,2,FALSE))","v":""},null,"",{"$f":"IF(DJIA!B490=\"\",\"\",DJIA!B490)","v":""},{"$f":"IF(CPIAUCSL!B1258=\"\",\"\",CPIAUCSL!B1258)","v":""},{"$f":"IF(K1141=\"\",\"\",VLOOKUP($G1141,DJIA_def!$A$12:$B$1041,2,FALSE))","v":""},""]
["",null,null,null,null,{"$f":"IF(K1142=\"\",\"\",VLOOKUP($A1142,'Tocalino Index'!$A$12:$B$1041,2,FALSE))","v":""},"2050-12-01","",{"$f":"IF(H1142=\"\",\"\",VLOOKUP($G1142,WILL5000PR!$A$12:$B$1041,2,FALSE))","v":""},null,"",{"$f":"IF(DJIA!B491=\"\",\"\",DJIA!B491)","v":""},{"$f":"IF(CPIAUCSL!B1259=\"\",\"\",CPIAUCSL!B1259)","v":""},{"$f":"IF(K1142=\"\",\"\",VLOOKUP($G1142,DJIA_def!$A$12:$B$1041,2,FALSE))","v":""},""]
["",null,null,null,null,{"$f":"IF(K1143=\"\",\"\",VLOOKUP($A1143,'Tocalino Index'!$A$12:$B$1041,2,FALSE))","v":""},"2051-01-01","",{"$f":"IF(H1143=\"\",\"\",VLOOKUP($G1143,WILL5000PR!$A$12:$B$1041,2,FALSE))","v":""},null,"",{"$f":"IF(DJIA!B492=\"\",\"\",DJIA!B492)","v":""},{"$f":"IF(CPIAUCSL!B1260=\"\",\"\",CPIAUCSL!B1260)","v":""},{"$f":"IF(K1143=\"\",\"\",VLOOKUP($G1143,DJIA_def!$A$12:$B$1041,2,FALSE))","v":""},""]
["",null,null,null,null,{"$f":"IF(K1144=\"\",\"\",VLOOKUP($A1144,'Tocalino Index'!$A$12:$B$1041,2,FALSE))","v":""},"2051-02-01","",{"$f":"IF(H1144=\"\",\"\",VLOOKUP($G1144,WILL5000PR!$A$12:$B$1041,2,FALSE))","v":""},null,"",{"$f":"IF(DJIA!B493=\"\",\"\",DJIA!B493)","v":""},{"$f":"IF(CPIAUCSL!B1261=\"\",\"\",CPIAUCSL!B1261)","v":""},{"$f":"IF(K1144=\"\",\"\",VLOOKUP($G1144,DJIA_def!$A$12:$B$1041,2,FALSE))","v":""},""]
["",null,null,null,null,{"$f":"IF(K1145=\"\",\"\",VLOOKUP($A1145,'Tocalino Index'!$A$12:$B$1041,2,FALSE))","v":""},"2051-03-01","",{"$f":"IF(H1145=\"\",\"\",VLOOKUP($G1145,WILL5000PR!$A$12:$B$1041,2,FALSE))","v":""},null,"",{"$f":"IF(DJIA!B494=\"\",\"\",DJIA!B494)","v":""},{"$f":"IF(CPIAUCSL!B1262=\"\",\"\",CPIAUCSL!B1262)","v":""},{"$f":"IF(K1145=\"\",\"\",VLOOKUP($G1145,DJIA_def!$A$12:$B$1041,2,FALSE))","v":""},""]
["",null,null,null,null,{"$f":"IF(K1146=\"\",\"\",VLOOKUP($A1146,'Tocalino Index'!$A$12:$B$1041,2,FALSE))","v":""},"2051-04-01","",{"$f":"IF(H1146=\"\",\"\",VLOOKUP($G1146,WILL5000PR!$A$12:$B$1041,2,FALSE))","v":""},null,"",{"$f":"IF(DJIA!B495=\"\",\"\",DJIA!B495)","v":""},{"$f":"IF(CPIAUCSL!B1263=\"\",\"\",CPIAUCSL!B1263)","v":""},{"$f":"IF(K1146=\"\",\"\",VLOOKUP($G1146,DJIA_def!$A$12:$B$1041,2,FALSE))","v":""},""]
["",null,null,null,null,{"$f":"IF(K1147=\"\",\"\",VLOOKUP($A1147,'Tocalino Index'!$A$12:$B$1041,2,FALSE))","v":""},"2051-05-01","",{"$f":"IF(H1147=\"\",\"\",VLOOKUP($G1147,WILL5000PR!$A$12:$B$1041,2,FALSE))","v":""},null,"",{"$f":"IF(DJIA!B496=\"\",\"\",DJIA!B496)","v":""},{"$f":"IF(CPIAUCSL!B1264=\"\",\"\",CPIAUCSL!B1264)","v":""},{"$f":"IF(K1147=\"\",\"\",VLOOKUP($G1147,DJIA_def!$A$12:$B$1041,2,FALSE))","v":""},""]
["",null,null,null,null,{"$f":"IF(K1148=\"\",\"\",VLOOKUP($A1148,'Tocalino Index'!$A$12:$B$1041,2,FALSE))","v":""},"2051-06-01","",{"$f":"IF(H1148=\"\",\"\",VLOOKUP($G1148,WILL5000PR!$A$12:$B$1041,2,FALSE))","v":""},null,"",{"$f":"IF(DJIA!B497=\"\",\"\",DJIA!B497)","v":""},{"$f":"IF(CPIAUCSL!B1265=\"\",\"\",CPIAUCSL!B1265)","v":""},{"$f":"IF(K1148=\"\",\"\",VLOOKUP($G1148,DJIA_def!$A$12:$B$1041,2,FALSE))","v":""},""]
["",null,null,null,null,{"$f":"IF(K1149=\"\",\"\",VLOOKUP($A1149,'Tocalino Index'!$A$12:$B$1041,2,FALSE))","v":""},"2051-07-01","",{"$f":"IF(H1149=\"\",\"\",VLOOKUP($G1149,WILL5000PR!$A$12:$B$1041,2,FALSE))","v":""},null,"",{"$f":"IF(DJIA!B498=\"\",\"\",DJIA!B498)","v":""},{"$f":"IF(CPIAUCSL!B1266=\"\",\"\",CPIAUCSL!B1266)","v":""},{"$f":"IF(K1149=\"\",\"\",VLOOKUP($G1149,DJIA_def!$A$12:$B$1041,2,FALSE))","v":""},""]
["",null,null,null,null,{"$f":"IF(K1150=\"\",\"\",VLOOKUP($A1150,'Tocalino Index'!$A$12:$B$1041,2,FALSE))","v":""},"2051-08-01","",{"$f":"IF(H1150=\"\",\"\",VLOOKUP($G1150,WILL5000PR!$A$12:$B$1041,2,FALSE))","v":""},null,"",{"$f":"IF(DJIA!B499=\"\",\"\",DJIA!B499)","v":""},{"$f":"IF(CPIAUCSL!B1267=\"\",\"\",CPIAUCSL!B1267)","v":""},{"$f":"IF(K1150=\"\",\"\",VLOOKUP($G1150,DJIA_def!$A$12:$B$1041,2,FALSE))","v":""},""]
["",null,null,null,null,{"$f":"IF(K1151=\"\",\"\",VLOOKUP($A1151,'Tocalino Index'!$A$12:$B$1041,2,FALSE))","v":""},"2051-09-01","",{"$f":"IF(H1151=\"\",\"\",VLOOKUP($G1151,WILL5000PR!$A$12:$B$1041,2,FALSE))","v":""},null,"",{"$f":"IF(DJIA!B500=\"\",\"\",DJIA!B500)","v":""},{"$f":"IF(CPIAUCSL!B1268=\"\",\"\",CPIAUCSL!B1268)","v":""},{"$f":"IF(K1151=\"\",\"\",VLOOKUP($G1151,DJIA_def!$A$12:$B$1041,2,FALSE))","v":""},""]
[{"$f":"IF((TODAY()-G1152)<40,\"\",G1152)","v":""},null,null,null,null,{"$f":"IF(K1152=\"\",\"\",VLOOKUP($A1152,'Tocalino Index'!$A$12:$B$1041,2,FALSE))","v":""},"2051-10-01","",{"$f":"IF(H1152=\"\",\"\",VLOOKUP($G1152,WILL5000PR!$A$12:$B$1041,2,FALSE))","v":""},null,"",{"$f":"IF(DJIA!B501=\"\",\"\",DJIA!B501)","v":""},{"$f":"IF(CPIAUCSL!B1269=\"\",\"\",CPIAUCSL!B1269)","v":""},{"$f":"IF(K1152=\"\",\"\",VLOOKUP($G1152,DJIA_def!$A$12:$B$1041,2,FALSE))","v":""},""]
["",null,null,null,null,{"$f":"IF(K1153=\"\",\"\",VLOOKUP($A1153,'Tocalino Index'!$A$12:$B$1041,2,FALSE))","v":""},"2051-11-01","",{"$f":"IF(H1153=\"\",\"\",VLOOKUP($G1153,WILL5000PR!$A$12:$B$1041,2,FALSE))","v":""},null,"",{"$f":"IF(DJIA!B502=\"\",\"\",DJIA!B502)","v":""},{"$f":"IF(CPIAUCSL!B1270=\"\",\"\",CPIAUCSL!B1270)","v":""},{"$f":"IF(K1153=\"\",\"\",VLOOKUP($G1153,DJIA_def!$A$12:$B$1041,2,FALSE))","v":""},""]
["",null,null,null,null,{"$f":"IF(K1154=\"\",\"\",VLOOKUP($A1154,'Tocalino Index'!$A$12:$B$1041,2,FALSE))","v":""},"2051-12-01","",{"$f":"IF(H1154=\"\",\"\",VLOOKUP($G1154,WILL5000PR!$A$12:$B$1041,2,FALSE))","v":""},null,"",{"$f":"IF(DJIA!B503=\"\",\"\",DJIA!B503)","v":""},{"$f":"IF(CPIAUCSL!B1271=\"\",\"\",CPIAUCSL!B1271)","v":""},{"$f":"IF(K1154=\"\",\"\",VLOOKUP($G1154,DJIA_def!$A$12:$B$1041,2,FALSE))","v":""},""]
["",null,null,null,null,{"$f":"IF(K1155=\"\",\"\",VLOOKUP($A1155,'Tocalino Index'!$A$12:$B$1041,2,FALSE))","v":""},"2052-01-01","",{"$f":"IF(H1155=\"\",\"\",VLOOKUP($G1155,WILL5000PR!$A$12:$B$1041,2,FALSE))","v":""},null,"",{"$f":"IF(DJIA!B504=\"\",\"\",DJIA!B504)","v":""},{"$f":"IF(CPIAUCSL!B1272=\"\",\"\",CPIAUCSL!B1272)","v":""},{"$f":"IF(K1155=\"\",\"\",VLOOKUP($G1155,DJIA_def!$A$12:$B$1041,2,FALSE))","v":""},""]
["",null,null,null,null,{"$f":"IF(K1156=\"\",\"\",VLOOKUP($A1156,'Tocalino Index'!$A$12:$B$1041,2,FALSE))","v":""},"2052-02-01","",{"$f":"IF(H1156=\"\",\"\",VLOOKUP($G1156,WILL5000PR!$A$12:$B$1041,2,FALSE))","v":""},null,"",{"$f":"IF(DJIA!B505=\"\",\"\",DJIA!B505)","v":""},{"$f":"IF(CPIAUCSL!B1273=\"\",\"\",CPIAUCSL!B1273)","v":""},{"$f":"IF(K1156=\"\",\"\",VLOOKUP($G1156,DJIA_def!$A$12:$B$1041,2,FALSE))","v":""},""]
["",null,null,null,null,{"$f":"IF(K1157=\"\",\"\",VLOOKUP($A1157,'Tocalino Index'!$A$12:$B$1041,2,FALSE))","v":""},"2052-03-01","",{"$f":"IF(H1157=\"\",\"\",VLOOKUP($G1157,WILL5000PR!$A$12:$B$1041,2,FALSE))","v":""},null,"",{"$f":"IF(DJIA!B506=\"\",\"\",DJIA!B506)","v":""},{"$f":"IF(CPIAUCSL!B1274=\"\",\"\",CPIAUCSL!B1274)","v":""},{"$f":"IF(K1157=\"\",\"\",VLOOKUP($G1157,DJIA_def!$A$12:$B$1041,2,FALSE))","v":""},""]
["",null,null,null,null,{"$f":"IF(K1158=\"\",\"\",VLOOKUP($A1158,'Tocalino Index'!$A$12:$B$1041,2,FALSE))","v":""},"2052-04-01","",{"$f":"IF(H1158=\"\",\"\",VLOOKUP($G1158,WILL5000PR!$A$12:$B$1041,2,FALSE))","v":""},null,{"$f":"IF(($G$13-G1158)<40,\"\",G1158)","v":""},{"$f":"IF(DJIA!B507=\"\",\"\",DJIA!B507)","v":""},{"$f":"IF(CPIAUCSL!B1275=\"\",\"\",CPIAUCSL!B1275)","v":""},{"$f":"IF(K1158=\"\",\"\",VLOOKUP($G1158,DJIA_def!$A$12:$B$1041,2,FALSE))","v":""},{"$f":"IF(K1158=\"\",\"\",N1158/$P$14)","v":""}]
["",null,null,null,null,{"$f":"IF(K1159=\"\",\"\",VLOOKUP($A1159,'Tocalino Index'!$A$12:$B$1041,2,FALSE))","v":""},"2052-05-01","",{"$f":"IF(H1159=\"\",\"\",VLOOKUP($G1159,WILL5000PR!$A$12:$B$1041,2,FALSE))","v":""},null,"",{"$f":"IF(DJIA!B508=\"\",\"\",DJIA!B508)","v":""},{"$f":"IF(CPIAUCSL!B1276=\"\",\"\",CPIAUCSL!B1276)","v":""},{"$f":"IF(K1159=\"\",\"\",VLOOKUP($G1159,DJIA_def!$A$12:$B$1041,2,FALSE))","v":""},""]
["",null,null,null,null,{"$f":"IF(K1160=\"\",\"\",VLOOKUP($A1160,'Tocalino Index'!$A$12:$B$1041,2,FALSE))","v":""},"2052-06-01","",{"$f":"IF(H1160=\"\",\"\",VLOOKUP($G1160,WILL5000PR!$A$12:$B$1041,2,FALSE))","v":""},null,"",{"$f":"IF(DJIA!B509=\"\",\"\",DJIA!B509)","v":""},{"$f":"IF(CPIAUCSL!B1277=\"\",\"\",CPIAUCSL!B1277)","v":""},{"$f":"IF(K1160=\"\",\"\",VLOOKUP($G1160,DJIA_def!$A$12:$B$1041,2,FALSE))","v":""},""]
["",null,null,null,null,{"$f":"IF(K1161=\"\",\"\",VLOOKUP($A1161,'Tocalino Index'!$A$12:$B$1041,2,FALSE))","v":""},"2052-07-01","",{"$f":"IF(H1161=\"\",\"\",VLOOKUP($G1161,WILL5000PR!$A$12:$B$1041,2,FALSE))","v":""},null,"",{"$f":"IF(DJIA!B510=\"\",\"\",DJIA!B510)","v":""},{"$f":"IF(CPIAUCSL!B1278=\"\",\"\",CPIAUCSL!B1278)","v":""},{"$f":"IF(K1161=\"\",\"\",VLOOKUP($G1161,DJIA_def!$A$12:$B$1041,2,FALSE))","v":""},""]
["",null,null,null,null,{"$f":"IF(K1162=\"\",\"\",VLOOKUP($A1162,'Tocalino Index'!$A$12:$B$1041,2,FALSE))","v":""},"2052-08-01","",{"$f":"IF(H1162=\"\",\"\",VLOOKUP($G1162,WILL5000PR!$A$12:$B$1041,2,FALSE))","v":""},null,"",{"$f":"IF(DJIA!B511=\"\",\"\",DJIA!B511)","v":""},{"$f":"IF(CPIAUCSL!B1279=\"\",\"\",CPIAUCSL!B1279)","v":""},{"$f":"IF(K1162=\"\",\"\",VLOOKUP($G1162,DJIA_def!$A$12:$B$1041,2,FALSE))","v":""},""]
["",null,null,null,null,{"$f":"IF(K1163=\"\",\"\",VLOOKUP($A1163,'Tocalino Index'!$A$12:$B$1041,2,FALSE))","v":""},"2052-09-01","",{"$f":"IF(H1163=\"\",\"\",VLOOKUP($G1163,WILL5000PR!$A$12:$B$1041,2,FALSE))","v":""},null,"",{"$f":"IF(DJIA!B512=\"\",\"\",DJIA!B512)","v":""},{"$f":"IF(CPIAUCSL!B1280=\"\",\"\",CPIAUCSL!B1280)","v":""},{"$f":"IF(K1163=\"\",\"\",VLOOKUP($G1163,DJIA_def!$A$12:$B$1041,2,FALSE))","v":""},""]
["",null,null,null,null,{"$f":"IF(K1164=\"\",\"\",VLOOKUP($A1164,'Tocalino Index'!$A$12:$B$1041,2,FALSE))","v":""},"2052-10-01","",{"$f":"IF(H1164=\"\",\"\",VLOOKUP($G1164,WILL5000PR!$A$12:$B$1041,2,FALSE))","v":""},null,"",{"$f":"IF(DJIA!B513=\"\",\"\",DJIA!B513)","v":""},{"$f":"IF(CPIAUCSL!B1281=\"\",\"\",CPIAUCSL!B1281)","v":""},{"$f":"IF(K1164=\"\",\"\",VLOOKUP($G1164,DJIA_def!$A$12:$B$1041,2,FALSE))","v":""},""]
["",null,null,null,null,{"$f":"IF(K1165=\"\",\"\",VLOOKUP($A1165,'Tocalino Index'!$A$12:$B$1041,2,FALSE))","v":""},"2052-11-01","",{"$f":"IF(H1165=\"\",\"\",VLOOKUP($G1165,WILL5000PR!$A$12:$B$1041,2,FALSE))","v":""},null,"",{"$f":"IF(DJIA!B514=\"\",\"\",DJIA!B514)","v":""},{"$f":"IF(CPIAUCSL!B1282=\"\",\"\",CPIAUCSL!B1282)","v":""},{"$f":"IF(K1165=\"\",\"\",VLOOKUP($G1165,DJIA_def!$A$12:$B$1041,2,FALSE))","v":""},""]
["",null,null,null,null,{"$f":"IF(K1166=\"\",\"\",VLOOKUP($A1166,'Tocalino Index'!$A$12:$B$1041,2,FALSE))","v":""},"2052-12-01","",{"$f":"IF(H1166=\"\",\"\",VLOOKUP($G1166,WILL5000PR!$A$12:$B$1041,2,FALSE))","v":""},null,"",{"$f":"IF(DJIA!B515=\"\",\"\",DJIA!B515)","v":""},{"$f":"IF(CPIAUCSL!B1283=\"\",\"\",CPIAUCSL!B1283)","v":""},{"$f":"IF(K1166=\"\",\"\",VLOOKUP($G1166,DJIA_def!$A$12:$B$1041,2,FALSE))","v":""},""]
["",null,null,null,null,{"$f":"IF(K1167=\"\",\"\",VLOOKUP($A1167,'Tocalino Index'!$A$12:$B$1041,2,FALSE))","v":""},"2053-01-01","",{"$f":"IF(H1167=\"\",\"\",VLOOKUP($G1167,WILL5000PR!$A$12:$B$1041,2,FALSE))","v":""},null,"",{"$f":"IF(DJIA!B516=\"\",\"\",DJIA!B516)","v":""},{"$f":"IF(CPIAUCSL!B1284=\"\",\"\",CPIAUCSL!B1284)","v":""},{"$f":"IF(K1167=\"\",\"\",VLOOKUP($G1167,DJIA_def!$A$12:$B$1041,2,FALSE))","v":""},""]
["",null,null,null,null,{"$f":"IF(K1168=\"\",\"\",VLOOKUP($A1168,'Tocalino Index'!$A$12:$B$1041,2,FALSE))","v":""},"2053-02-01","",{"$f":"IF(H1168=\"\",\"\",VLOOKUP($G1168,WILL5000PR!$A$12:$B$1041,2,FALSE))","v":""},null,"",{"$f":"IF(DJIA!B517=\"\",\"\",DJIA!B517)","v":""},{"$f":"IF(CPIAUCSL!B1285=\"\",\"\",CPIAUCSL!B1285)","v":""},{"$f":"IF(K1168=\"\",\"\",VLOOKUP($G1168,DJIA_def!$A$12:$B$1041,2,FALSE))","v":""},""]
["",null,null,null,null,{"$f":"IF(K1169=\"\",\"\",VLOOKUP($A1169,'Tocalino Index'!$A$12:$B$1041,2,FALSE))","v":""},"2053-03-01","",{"$f":"IF(H1169=\"\",\"\",VLOOKUP($G1169,WILL5000PR!$A$12:$B$1041,2,FALSE))","v":""},null,"",{"$f":"IF(DJIA!B518=\"\",\"\",DJIA!B518)","v":""},{"$f":"IF(CPIAUCSL!B1286=\"\",\"\",CPIAUCSL!B1286)","v":""},{"$f":"IF(K1169=\"\",\"\",VLOOKUP($G1169,DJIA_def!$A$12:$B$1041,2,FALSE))","v":""},""]
["",null,null,null,null,{"$f":"IF(K1170=\"\",\"\",VLOOKUP($A1170,'Tocalino Index'!$A$12:$B$1041,2,FALSE))","v":""},"2053-04-01","",{"$f":"IF(H1170=\"\",\"\",VLOOKUP($G1170,WILL5000PR!$A$12:$B$1041,2,FALSE))","v":""},null,"",{"$f":"IF(DJIA!B519=\"\",\"\",DJIA!B519)","v":""},{"$f":"IF(CPIAUCSL!B1287=\"\",\"\",CPIAUCSL!B1287)","v":""},{"$f":"IF(K1170=\"\",\"\",VLOOKUP($G1170,DJIA_def!$A$12:$B$1041,2,FALSE))","v":""},""]
["",null,null,null,null,{"$f":"IF(K1171=\"\",\"\",VLOOKUP($A1171,'Tocalino Index'!$A$12:$B$1041,2,FALSE))","v":""},"2053-05-01","",{"$f":"IF(H1171=\"\",\"\",VLOOKUP($G1171,WILL5000PR!$A$12:$B$1041,2,FALSE))","v":""},null,"",{"$f":"IF(DJIA!B520=\"\",\"\",DJIA!B520)","v":""},{"$f":"IF(CPIAUCSL!B1288=\"\",\"\",CPIAUCSL!B1288)","v":""},{"$f":"IF(K1171=\"\",\"\",VLOOKUP($G1171,DJIA_def!$A$12:$B$1041,2,FALSE))","v":""},""]
["",null,null,null,null,{"$f":"IF(K1172=\"\",\"\",VLOOKUP($A1172,'Tocalino Index'!$A$12:$B$1041,2,FALSE))","v":""},"2053-06-01","",{"$f":"IF(H1172=\"\",\"\",VLOOKUP($G1172,WILL5000PR!$A$12:$B$1041,2,FALSE))","v":""},null,"",{"$f":"IF(DJIA!B521=\"\",\"\",DJIA!B521)","v":""},{"$f":"IF(CPIAUCSL!B1289=\"\",\"\",CPIAUCSL!B1289)","v":""},{"$f":"IF(K1172=\"\",\"\",VLOOKUP($G1172,DJIA_def!$A$12:$B$1041,2,FALSE))","v":""},""]
["",null,null,null,null,{"$f":"IF(K1173=\"\",\"\",VLOOKUP($A1173,'Tocalino Index'!$A$12:$B$1041,2,FALSE))","v":""},"2053-07-01","",{"$f":"IF(H1173=\"\",\"\",VLOOKUP($G1173,WILL5000PR!$A$12:$B$1041,2,FALSE))","v":""},null,"",{"$f":"IF(DJIA!B522=\"\",\"\",DJIA!B522)","v":""},{"$f":"IF(CPIAUCSL!B1290=\"\",\"\",CPIAUCSL!B1290)","v":""},{"$f":"IF(K1173=\"\",\"\",VLOOKUP($G1173,DJIA_def!$A$12:$B$1041,2,FALSE))","v":""},""]
["",null,null,null,null,{"$f":"IF(K1174=\"\",\"\",VLOOKUP($A1174,'Tocalino Index'!$A$12:$B$1041,2,FALSE))","v":""},"2053-08-01","",{"$f":"IF(H1174=\"\",\"\",VLOOKUP($G1174,WILL5000PR!$A$12:$B$1041,2,FALSE))","v":""},null,"",{"$f":"IF(DJIA!B523=\"\",\"\",DJIA!B523)","v":""},{"$f":"IF(CPIAUCSL!B1291=\"\",\"\",CPIAUCSL!B1291)","v":""},{"$f":"IF(K1174=\"\",\"\",VLOOKUP($G1174,DJIA_def!$A$12:$B$1041,2,FALSE))","v":""},""]
["",null,null,null,null,{"$f":"IF(K1175=\"\",\"\",VLOOKUP($A1175,'Tocalino Index'!$A$12:$B$1041,2,FALSE))","v":""},"2053-09-01","",{"$f":"IF(H1175=\"\",\"\",VLOOKUP($G1175,WILL5000PR!$A$12:$B$1041,2,FALSE))","v":""},null,"",{"$f":"IF(DJIA!B524=\"\",\"\",DJIA!B524)","v":""},{"$f":"IF(CPIAUCSL!B1292=\"\",\"\",CPIAUCSL!B1292)","v":""},{"$f":"IF(K1175=\"\",\"\",VLOOKUP($G1175,DJIA_def!$A$12:$B$1041,2,FALSE))","v":""},""]

{"sheet":"Tocalino Index","index":4,"n_rows":648,"n_cols":2,"rows_kept":648,"cut":false,"hidden":false,"merged":[]}
["FRED Graph Observations"]
["Federal Reserve Economic Data"]
["Link: https://fred.stlouisfed.org"]
["Help: https://fredhelp.stlouisfed.org"]
["Economic Research Division"]
["Federal Reserve Bank of St. Louis"]
[]
["LNU00000060_UNRATE_CPILFESL_PC1","LNU00000060/(UNRATE+CPILFESL), Index Jul 1990=100 of (Thous. of Persons/(%+% Chg. from Yr. Ago)), Monthly"]
[]
["Frequency: Monthly"]
["observation_date","LNU00000060_UNRATE_CPILFESL_PC1"]
["1971-01-01",57.832940000000001]
["1971-02-01",59.253489999999999]
["1971-03-01",62.943840000000002]
["1971-04-01",65.256590000000003]
["1971-05-01",63.942880000000002]
["1971-06-01",65.673330000000007]
["1971-07-01",65.205150000000003]
["1971-08-01",66.360730000000004]
["1971-09-01",70.487989999999996]
["1971-10-01",74.008870000000002]
["1971-11-01",76.56532]
["1971-12-01",78.871510000000001]
["1972-01-01",78.840400000000002]
["1972-02-01",79.956010000000006]
["1972-03-01",79.209990000000005]
["1972-04-01",80.384739999999994]
["1972-05-01",82.860969999999995]
["1972-06-01",85.394490000000005]
["1972-07-01",86.651150000000001]
["1972-08-01",84.507530000000003]
["1972-09-01",85.632009999999994]
["1972-10-01",84.816209999999998]
["1972-11-01",90.600390000000004]
["1972-12-01",89.387519999999995]
["1973-01-01",98.863069999999993]
["1973-02-01",94.884420000000006]
["1973-03-01",90.888379999999998]
["1973-04-01",92.661439999999999]
["1973-05-01",91.430030000000002]
["1973-06-01",91.643619999999999]
["1973-07-01",93.029240000000001]
["1973-08-01",93.339110000000005]
["1973-09-01",86.15231]
["1973-10-01",83.933779999999999]
["1973-11-01",78.323830000000001]
["1973-12-01",77.861140000000006]
["1974-01-01",73.228350000000006]
["1974-02-01",71.249679999999998]
["1974-03-01",69.239850000000004]
["1974-04-01",66.704170000000005]
["1974-05-01",62.117899999999999]
["1974-06-01",56.780529999999999]
["1974-07-01",53.037550000000003]
["1974-08-01",49.452800000000003]
["1974-09-01",47.148249999999997]
["1974-10-01",45.886330000000001]
["1974-11-01",43.37171]
["1974-12-01",41.130760000000002]
["1975-01-01",38.95355]
["1975-02-01",38.319310000000002]
["1975-03-01",38.406280000000002]
["1975-04-01",38.206029999999998]
["1975-05-01",39.777349999999998]
["1975-06-01",41.365819999999999]
["1975-07-01",43.569279999999999]
["1975-08-01",47.155880000000003]
["1975-09-01",48.635669999999998]
["1975-10-01",50.167070000000002]
["1975-11-01",50.750630000000001]
["1975-12-01",52.004539999999999]
["1976-01-01",52.604480000000002]
["1976-02-01",55.076979999999999]
["1976-03-01",54.905729999999998]
["1976-04-01",55.46716]
["1976-05-01",56.099699999999999]
["1976-06-01",56.280610000000003]
["1976-07-01",54.235210000000002]
["1976-08-01",53.725290000000001]
["1976-09-01",54.696019999999997]
["1976-10-01",54.526940000000003]
["1976-11-01",55.808680000000003]
["1976-12-01",56.773960000000002]
["1977-01-01",58.295409999999997]
["1977-02-01",57.343249999999998]
["1977-03-01",58.404559999999996]
["1977-04-01",58.690190000000001]
["1977-05-01",59.822209999999998]
["1977-06-01",57.638030000000001]
["1977-07-01",60.773229999999998]
["1977-08-01",60.560980000000001]
["1977-09-01",61.741289999999999]
["1977-10-01",62.819800000000001]
["1977-11-01",62.196820000000002]
["1977-12-01",62.689259999999997]
["1978-01-01",63.001739999999998]
["1978-02-01",64.66301]
["1978-03-01",64.059849999999997]
["1978-04-01",63.659109999999998]
["1978-05-01",63.608640000000001]
["1978-06-01",63.626609999999999]
["1978-07-01",60.851689999999998]
["1978-08-01",61.000039999999998]
["1978-09-01",58.691670000000002]
["1978-10-01",57.73198]
["1978-11-01",56.944609999999997]
["1978-12-01",56.863680000000002]
["1979-01-01",56.947830000000003]
["1979-02-01",54.800800000000002]
["1979-03-01",54.335700000000003]
["1979-04-01",54.671900000000001]
["1979-05-01",55.155209999999997]
["1979-06-01",55.158340000000003]
["1979-07-01",54.354889999999997]
["1979-08-01",52.12762]
["1979-09-01",52.844889999999999]
["1979-10-01",51.924570000000003]
["1979-11-01",50.656440000000003]
["1979-12-01",48.486879999999999]
["1980-01-01",46.054830000000003]
["1980-02-01",46.072629999999997]
["1980-03-01",44.651029999999999]
["1980-04-01",42.314079999999997]
["1980-05-01",41.055100000000003]
["1980-06-01",40.026479999999999]
["1980-07-01",42.154530000000001]
["1980-08-01",43.623930000000001]
["1980-09-01",43.751620000000003]
["1980-10-01",43.479970000000002]
["1980-11-01",43.54439]
["1980-12-01",44.319650000000003]
["1981-01-01",45.600409999999997]
["1981-02-01",47.193469999999998]
["1981-03-01",49.767919999999997]
["1981-04-01",51.92192]
["1981-05-01",50.556460000000001]
["1981-06-01",51.333930000000002]
["1981-07-01",47.343350000000001]
["1981-08-01",45.863309999999998]
["1981-09-01",44.878549999999997]
["1981-10-01",46.281939999999999]
["1981-11-01",47.154559999999996]
["1981-12-01",48.572890000000001]
["1982-01-01",49.179380000000002]
["1982-02-01",48.595260000000003]
["1982-03-01",49.820259999999998]
["1982-04-01",48.615270000000002]
["1982-05-01",48.959240000000001]
["1982-06-01",49.019880000000001]
["1982-07-01",50.73912]
["1982-08-01",52.720820000000003]
["1982-09-01",55.70579]
["1982-10-01",54.854239999999997]
["1982-11-01",55.902160000000002]
["1982-12-01",58.418349999999997]
["1983-01-01",59.715519999999998]
["1983-02-01",60.352629999999998]
["1983-03-01",60.452129999999997]
["1983-04-01",62.92747]
["1983-05-01",65.559100000000001]
["1983-06-01",67.859480000000005]
["1983-07-01",71.870769999999993]
["1983-08-01",72.091470000000001]
["1983-09-01",72.199590000000001]
["1983-10-01",73.530469999999994]
["1983-11-01",71.224239999999995]
["1983-12-01",70.177149999999997]
["1984-01-01",70.504639999999995]
["1984-02-01",72.432130000000001]
["1984-03-01",71.478489999999994]
["1984-04-01",71.717799999999997]
["1984-05-01",73.075379999999996]
["1984-06-01",73.888319999999993]
["1984-07-01",73.043779999999998]
["1984-08-01",72.696640000000002]
["1984-09-01",74.117649999999998]
["1984-10-01",74.418700000000001]
["1984-11-01",77.795259999999999]
["1984-12-01",76.747929999999997]
["1985-01-01",79.593940000000003]
["1985-02-01",78.513199999999998]
["1985-03-01",78.807590000000005]
["1985-04-01",79.71593]
["1985-05-01",80.653580000000005]
["1985-06-01",80.218680000000006]
["1985-07-01",81.838650000000001]
["1985-08-01",84.265199999999993]
["1985-09-01",85.969319999999996]
["1985-10-01",85.538480000000007]
["1985-11-01",83.68629]
["1985-12-01",84.678219999999996]
["1986-01-01",86.186210000000003]
["1986-02-01",84.826660000000004]
["1986-03-01",85.784300000000002]
["1986-04-01",86.062160000000006]
["1986-05-01",86.972470000000001]
["1986-06-01",87.287809999999993]
["1986-07-01",88.395390000000006]
["1986-08-01",89.479969999999994]
["1986-09-01",87.418559999999999]
["1986-10-01",88.44462]
["1986-11-01",91.854370000000003]
["1986-12-01",94.803960000000004]
["1987-01-01",96.879689999999997]
["1987-02-01",97.148430000000005]
["1987-03-01",96.566040000000001]
["1987-04-01",97.204740000000001]
["1987-05-01",95.78058]
["1987-06-01",97.816389999999998]
["1987-07-01",99.11345]
["1987-08-01",100.37676999999999]
["1987-09-01",100.82316]
["1987-10-01",98.420590000000004]
["1987-11-01",100.70292999999999]
["1987-12-01",102.01974]
["1988-01-01",100.59866]
["1988-02-01",100.8931]
["1988-03-01",100.31843000000001]
["1988-04-01",104.79894]
["1988-05-01",103.00501]
["1988-06-01",102.70677999999999]
["1988-07-01",103.06480000000001]
["1988-08-01",101.35581999999999]
["1988-09-01",102.04479000000001]
["1988-10-01",103.30959]
["1988-11-01",103.72920000000001]
["1988-12-01",103.13162]
["1989-01-01",102.54826]
["1989-02-01",104.13184]
["1989-03-01",106.70263]
["1989-04-01",106.71451999999999]
["1989-05-01",106.15351]
["1989-06-01",105.4045]
["1989-07-01",106.87075]
["1989-08-01",108.09804]
["1989-09-01",110.14255]
["1989-10-01",108.68674]
["1989-11-01",107.02670999999999]
["1989-12-01",106.45972999999999]
["1990-01-01",107.15116999999999]
["1990-02-01",106.84602]
["1990-03-01",105.70614999999999]
["1990-04-01",103.10898]
["1990-05-01",104.29095]
["1990-06-01",104.98663999999999]
["1990-07-01",100]
["1990-08-01",95.065560000000005]
["1990-09-01",93.046670000000006]
["1990-10-01",94.726929999999996]
["1990-11-01",93.222989999999996]
["1990-12-01",92.069869999999995]
["1991-01-01",89.228729999999999]
["1991-02-01",87.512590000000003]
["1991-03-01",89.096029999999999]
["1991-04-01",90.657839999999993]
["1991-05-01",89.414079999999998]
["1991-06-01",90.866129999999998]
["1991-07-01",93.133129999999994]
["1991-08-01",93.83905]
["1991-09-01",94.116849999999999]
["1991-10-01",94.759240000000005]
["1991-11-01",94.469369999999998]
["1991-12-01",92.912869999999998]
["1992-01-01",96.210790000000003]
["1992-02-01",98.213189999999997]
["1992-03-01",97.098690000000005]
["1992-04-01",97.319810000000004]
["1992-05-01",95.236599999999996]
["1992-06-01",94.973669999999998]
["1992-07-01",96.038809999999998]
["1992-08-01",98.978049999999996]
["1992-09-01",101.15586]
["1992-10-01",101.54631999999999]
["1992-11-01",101.49208]
["1992-12-01",102.48757999999999]
["1993-01-01",102.98043]
["1993-02-01",103.8252]
["1993-03-01",107.12468]
["1993-04-01",104.94443]
["1993-05-01",105.81994]
["1993-06-01",107.01715]
["1993-07-01",110.56149000000001]
["1993-08-01",110.27374]
["1993-09-01",112.36938000000001]
["1993-10-01",113.07641]
["1993-11-01",114.84441]
["1993-12-01",116.36262000000001]
["1994-01-01",117.82324]
["1994-02-01",119.81394]
["1994-03-01",118.7345]
["1994-04-01",123.7443]
["1994-05-01",128.14031]
["1994-06-01",126.41803]
["1994-07-01",125.6429]
["1994-08-01",128.28043]
["1994-09-01",127.09395000000001]
["1994-10-01",130.81679]
["1994-11-01",135.30314000000001]
["1994-12-01",140.45239000000001]
["1995-01-01",133.61367999999999]
["1995-02-01",136.11516]
["1995-03-01",136.37889999999999]
["1995-04-01",127.48154]
["1995-05-01",131.55884]
["1995-06-01",132.74161000000001]
["1995-07-01",131.45236]
["1995-08-01",131.72355999999999]
["1995-09-01",133.54411999999999]
["1995-10-01",133.42346000000001]
["1995-11-01",133.1379]
["1995-12-01",133.28587999999999]
["1996-01-01",134.50184999999999]
["1996-02-01",137.50962999999999]
["1996-03-01",138.82829000000001]
["1996-04-01",140.65300999999999]
["1996-05-01",139.87846999999999]
["1996-06-01",145.36776]
["1996-07-01",142.00923]
["1996-08-01",150.76444000000001]
["1996-09-01",147.97609]
["1996-10-01",150.64435]
["1996-11-01",145.94839999999999]
["1996-12-01",144.95352]
["1997-01-01",149.53836000000001]
["1997-02-01",151.71788000000001]
["1997-03-01",153.17527000000001]
["1997-04-01",151.73427000000001]
["1997-05-01",157.45863]
["1997-06-01",158.07241999999999]
["1997-07-01",160.29951]
["1997-08-01",165.46706]
["1997-09-01",164.80885000000001]
["1997-10-01",168.24092999999999]
["1997-11-01",173.97438]
["1997-12-01",168.64250000000001]
["1998-01-01",171.26279]
["1998-02-01",171.42797999999999]
["1998-03-01",169.02264]
["1998-04-01",182.99548999999999]
["1998-05-01",178.91486]
["1998-06-01",174.68054000000001]
["1998-07-01",174.70578]
["1998-08-01",168.99825999999999]
["1998-09-01",169.59994]
["1998-10-01",175.34226000000001]
["1998-11-01",175.16627]
["1998-12-01",172.40511000000001]
["1999-01-01",178.37016]
["1999-02-01",180.35033000000001]
["1999-03-01",189.68101999999999]
["1999-04-01",181.80672999999999]
["1999-05-01",188.40825000000001]
["1999-06-01",189.37461999999999]
["1999-07-01",186.09200999999999]
["1999-08-01",194.75879]
["1999-09-01",189.4085]
["1999-10-01",190.94868]
["1999-11-01",193.1071]
["1999-12-01",202.50551999999999]
["2000-01-01",197.51649]
["2000-02-01",192.58676]
["2000-03-01",187.06826000000001]
["2000-04-01",198.87047999999999]
["2000-05-01",189.52188000000001]
["2000-06-01",184.66251]
["2000-07-01",186.73838000000001]
["2000-08-01",181.07684]
["2000-09-01",188.49114]
["2000-10-01",188.94855000000001]
["2000-11-01",185.85428999999999]
["2000-12-01",187.77200999999999]
["2001-01-01",179.89107000000001]
["2001-02-01",174.20160000000001]
["2001-03-01",176.31509]
["2001-04-01",172.65303]
["2001-05-01",178.11655999999999]
["2001-06-01",169.24904000000001]
["2001-07-01",167.11974000000001]
["2001-08-01",161.9846]
["2001-09-01",159.97874999999999]
["2001-10-01",154.05831000000001]
["2001-11-01",148.40227999999999]
["2001-12-01",144.01275999999999]
["2002-01-01",147.11904999999999]
["2002-02-01",148.13209000000001]
["2002-03-01",150.29982000000001]
["2002-04-01",145.84210999999999]
["2002-05-01",146.78451000000001]
["2002-06-01",152.01211000000001]
["2002-07-01",153.10978]
["2002-08-01",152.14571000000001]
["2002-09-01",154.33088000000001]
["2002-10-01",155.41864000000001]
["2002-11-01",154.84802999999999]
["2002-12-01",154.02333999999999]
["2003-01-01",158.8897]
["2003-02-01",160.28474]
["2003-03-01",161.46531999999999]
["2003-04-01",165.20364000000001]
["2003-05-01",162.0094]
["2003-06-01",159.04615000000001]
["2003-07-01",160.18393]
["2003-08-01",167.05928]
["2003-09-01",168.40069]
["2003-10-01",169.60642999999999]
["2003-11-01",179.82608999999999]
["2003-12-01",182.62303]
["2004-01-01",180.42992000000001]
["2004-02-01",180.42353]
["2004-03-01",167.95633000000001]
["2004-04-01",167.85225]
["2004-05-01",169.18002999999999]
["2004-06-01",165.77431999999999]
["2004-07-01",170.58166]
["2004-08-01",174.36509000000001]
["2004-09-01",168.36474999999999]
["2004-10-01",165.09290999999999]
["2004-11-01",162.89543]
["2004-12-01",161.93457000000001]
["2005-01-01",164.19331]
["2005-02-01",161.10839999999999]
["2005-03-01",164.51969]
["2005-04-01",168.12026]
["2005-05-01",170.60794000000001]
["2005-06-01",176.99039999999999]
["2005-07-01",175.87592000000001]
["2005-08-01",177.24142000000001]
["2005-09-01",180.19409999999999]
["2005-10-01",176.55824000000001]
["2005-11-01",175.56604999999999]
["2005-12-01",178.27620999999999]
["2006-01-01",183.48724999999999]
["2006-02-01",181.02707000000001]
["2006-03-01",183.92128]
["2006-04-01",178.76919000000001]
["2006-05-01",177.661]
["2006-06-01",172.86716000000001]
["2006-07-01",169.55812]
["2006-08-01",166.38480000000001]
["2006-09-01",168.79719]
["2006-10-01",174.98000999999999]
["2006-11-01",176.45622]
["2006-12-01",179.13108]
["2007-01-01",173.30452]
["2007-02-01",174.33456000000001]
["2007-03-01",182.29424]
["2007-04-01",182.11028999999999]
["2007-05-01",188.92375000000001]
["2007-06-01",185.80923000000001]
["2007-07-01",183.60622000000001]
["2007-08-01",188.65343999999999]
["2007-09-01",185.63505000000001]
["2007-10-01",184.21225000000001]
["2007-11-01",179.53120000000001]
["2007-12-01",169.99736999999999]
["2008-01-01",168.18552]
["2008-02-01",174.83280999999999]
["2008-03-01",168.07417000000001]
["2008-04-01",172.58461]
["2008-05-01",163.10329999999999]
["2008-06-01",157.6832]
["2008-07-01",152.58822000000001]
["2008-08-01",146.69662]
["2008-09-01",147.78816]
["2008-10-01",144.70418000000001]
["2008-11-01",143.20376999999999]
["2008-12-01",139.35953000000001]
["2009-01-01",132.86000000000001]
["2009-02-01",124.62826]
["2009-03-01",120.029]
["2009-04-01",115.14447]
["2009-05-01",111.95122000000001]
["2009-06-01",112.31019999999999]
["2009-07-01",114.25767999999999]
["2009-08-01",114.19835999999999]
["2009-09-01",111.72693]
["2009-10-01",107.60361]
["2009-11-01",108.51869000000001]
["2009-12-01",107.49978]
["2010-01-01",110.97942]
["2010-02-01",112.62059000000001]
["2010-03-01",113.55132999999999]
["2010-04-01",115.55526999999999]
["2010-05-01",119.19859]
["2010-06-01",121.40446]
["2010-07-01",121.37213]
["2010-08-01",120.69123]
["2010-09-01",121.90958999999999]
["2010-10-01",125.76127]
["2010-11-01",120.13252]
["2010-12-01",126.27973]
["2011-01-01",123.97847]
["2011-02-01",123.49621]
["2011-03-01",122.461]
["2011-04-01",120.05537]
["2011-05-01",119.67874999999999]
["2011-06-01",117.11732000000001]
["2011-07-01",116.51793000000001]
["2011-08-01",114.12734]
["2011-09-01",113.86745000000001]
["2011-10-01",114.71428]
["2011-11-01",116.50775]
["2011-12-01",116.06216999999999]
["2012-01-01",117.93239]
["2012-02-01",119.24312999999999]
["2012-03-01",119.35687]
["2012-04-01",118.63907]
["2012-05-01",119.35048999999999]
["2012-06-01",120.03149999999999]
["2012-07-01",121.00655]
["2012-08-01",124.25507]
["2012-09-01",127.08082]
["2012-10-01",127.26841]
["2012-11-01",129.11510999999999]
["2012-12-01",127.15075]
["2013-01-01",125.87764]
["2013-02-01",128.74657999999999]
["2013-03-01",132.84472]
["2013-04-01",133.93214]
["2013-05-01",136.43063000000001]
["2013-06-01",136.78614999999999]
["2013-07-01",138.64812000000001]
["2013-08-01",138.9366]
["2013-09-01",139.4676]
["2013-10-01",140.48473999999999]
["2013-11-01",144.48548]
["2013-12-01",147.88004000000001]
["2014-01-01",152.11169000000001]
["2014-02-01",151.21422999999999]
["2014-03-01",149.53326999999999]
["2014-04-01",155.63843]
["2014-05-01",151.38807]
["2014-06-01",155.63477]
["2014-07-01",155.23465999999999]
["2014-08-01",159.42884000000001]
["2014-09-01",163.55680000000001]
["2014-10-01",166.26649]
["2014-11-01",165.7449]
["2014-12-01",173.04859999999999]
["2015-01-01",170.98670999999999]
["2015-02-01",174.38048000000001]
["2015-03-01",175.40852000000001]
["2015-04-01",174.03870000000001]
["2015-05-01",170.59350000000001]
["2015-06-01",177.28936999999999]
["2015-07-01",178.45240999999999]
["2015-08-01",180.69997000000001]
["2015-09-01",182.14314999999999]
["2015-10-01",181.71464]
["2015-11-01",177.03029000000001]
["2015-12-01",177.67918]
["2016-01-01",181.31679]
["2016-02-01",176.84484]
["2016-03-01",176.41490999999999]
["2016-04-01",173.66716]
["2016-05-01",178.69761]
["2016-06-01",176.07056]
["2016-07-01",181.00153]
["2016-08-01",175.12357]
["2016-09-01",173.68162000000001]
["2016-10-01",177.79861]
["2016-11-01",184.58356000000001]
["2016-12-01",183.20722000000001]
["2017-01-01",181.19727]
["2017-02-01",184.27142000000001]
["2017-03-01",195.41408000000001]
["2017-04-01",200.03104999999999]
["2017-05-01",205.29449]
["2017-06-01",210.12461999999999]
["2017-07-01",211.01275000000001]
["2017-08-01",208.35112000000001]
["2017-09-01",214.05488]
["2017-10-01",211.77749]
["2017-11-01",212.60884999999999]
["2017-12-01",215.08217999999999]
["2018-01-01",214.94354999999999]
["2018-02-01",211.84076999999999]
["2018-03-01",206.88835]
["2018-04-01",205.97242]
["2018-05-01",208.64861999999999]
["2018-06-01",202.91081]
["2018-07-01",208.94506999999999]
["2018-08-01",214.18169]
["2018-09-01",215.12494000000001]
["2018-10-01",214.18191999999999]
["2018-11-01",211.0591]
["2018-12-01",206.48196999999999]
["2019-01-01",205.84412]
["2019-02-01",214.76778999999999]
["2019-03-01",216.28022999999999]
["2019-04-01",219.00890000000001]
["2019-05-01",225.96743000000001]
["2019-06-01",221.43394000000001]
["2019-07-01",215.49543]
["2019-08-01",212.52749]
["2019-09-01",216.73685]
["2019-10-01",213.81773000000001]
["2019-11-01",213.77206000000001]
["2019-12-01",216.59287]
["2020-01-01",214.89149]
["2020-02-01",214.82767000000001]
["2020-03-01",193.69297]
["2020-04-01",77.772959999999998]
["2020-05-01",87.513319999999993]
["2020-06-01",103.84726999999999]
["2020-07-01",107.77688999999999]
["2020-08-01",125.19123]
["2020-09-01",133.02118999999999]
["2020-10-01",150.18296000000001]
["2020-11-01",151.27151000000001]
["2020-12-01",151.88921999999999]
["2021-01-01",161.92731000000001]
["2021-02-01",168.84305000000001]
["2021-03-01",162.93620000000001]
["2021-04-01",139.72138000000001]
["2021-05-01",131.80962]
["2021-06-01",122.7084]
["2021-07-01",132.08975000000001]
["2021-08-01",139.85386]
["2021-09-01",145.04004]
["2021-10-01",139.25020000000001]
["2021-11-01",139.39048]
["2021-12-01",134.35222999999999]
["2022-01-01",126.68631000000001]
["2022-02-01",124.65054000000001]
["2022-03-01",126.87678]
["2022-04-01",129.61713]
["2022-05-01",132.5324]
["2022-06-01",134.43949000000001]
["2022-07-01",135.83852999999999]
["2022-08-01",128.81352999999999]
["2022-09-01",125.76103999999999]
["2022-10-01",128.85691]
["2022-11-01",133.30475000000001]
["2022-12-01",138.66369]
["2023-01-01",143.03798]
["2023-02-01",140.38750999999999]
["2023-03-01",140.80177]
["2023-04-01",143.47413]
["2023-05-01",142.03914]
["2023-06-01",151.56354999999999]
["2023-07-01",156.42486]
["2023-08-01",156.81313]
["2023-09-01",162.02592000000001]
["2023-10-01",164.38559000000001]
["2023-11-01",167.18056000000001]
["2023-12-01",169.29548]
["2024-01-01",{"$f":"NA()","v":{"$error":"#N/A"}}]

{"sheet":"WILL5000PR","index":5,"n_rows":649,"n_cols":2,"rows_kept":649,"cut":false,"hidden":false,"merged":[]}
["FRED Graph Observations"]
["Federal Reserve Economic Data"]
["Link: https://fred.stlouisfed.org"]
["Help: https://fredhelp.stlouisfed.org"]
["Economic Research Division"]
["Federal Reserve Bank of St. Louis"]
[]
["WILL5000PR_CPIAUCNS","WILL5000PR/CPIAUCNS, Index Jul 1990=100 of (Index/Index 1982-1984=100), Monthly, Not Seasonally Adjusted"]
[]
["Frequency: Monthly"]
["observation_date","WILL5000PR_CPIAUCNS"]
["1971-01-01",84.544449999999998]
["1971-02-01",85.497150000000005]
["1971-03-01",88.920649999999995]
["1971-04-01",91.785150000000002]
["1971-05-01",87.943200000000004]
["1971-06-01",87.490769999999998]
["1971-07-01",84.056129999999996]
["1971-08-01",86.805030000000002]
["1971-09-01",86.335679999999996]
["1971-10-01",82.649349999999998]
["1971-11-01",82.067160000000001]
["1971-12-01",88.990390000000005]
["1972-01-01",91.565619999999996]
["1972-02-01",93.833309999999997]
["1972-03-01",94.28698]
["1972-04-01",94.651200000000003]
["1972-05-01",95.712019999999995]
["1972-06-01",93.353639999999999]
["1972-07-01",92.554919999999996]
["1972-08-01",95.215130000000002]
["1972-09-01",94.098479999999995]
["1972-10-01",94.367689999999996]
["1972-11-01",98.168970000000002]
["1972-12-01",98.84639]
["1973-01-01",95.851230000000001]
["1973-02-01",90.721689999999995]
["1973-03-01",89.127250000000004]
["1973-04-01",84.030010000000004]
["1973-05-01",81.093940000000003]
["1973-06-01",79.749390000000005]
["1973-07-01",83.932919999999996]
["1973-08-01",79.582099999999997]
["1973-09-01",83.456810000000004]
["1973-10-01",82.700220000000002]
["1973-11-01",71.738110000000006]
["1973-12-01",71.866910000000004]
["1974-01-01",71.402169999999998]
["1974-02-01",70.371250000000003]
["1974-03-01",67.624300000000005]
["1974-04-01",64.183059999999998]
["1974-05-01",60.255949999999999]
["1974-06-01",58.148949999999999]
["1974-07-01",53.530270000000002]
["1974-08-01",47.780360000000002]
["1974-09-01",41.88355]
["1974-10-01",48.212350000000001]
["1974-11-01",45.477449999999997]
["1974-12-01",43.826279999999997]
["1975-01-01",49.958930000000002]
["1975-02-01",52.317219999999999]
["1975-03-01",53.39302]
["1975-04-01",55.645719999999997]
["1975-05-01",58.106529999999999]
["1975-06-01",60.395159999999997]
["1975-07-01",55.951059999999998]
["1975-08-01",54.372100000000003]
["1975-09-01",51.840580000000003]
["1975-10-01",54.306339999999999]
["1975-11-01",55.325130000000001]
["1975-12-01",54.438470000000002]
["1976-01-01",61.015410000000003]
["1976-02-01",60.894080000000002]
["1976-03-01",62.273269999999997]
["1976-04-01",61.376130000000003]
["1976-05-01",59.978700000000003]
["1976-06-01",62.055109999999999]
["1976-07-01",61.25808]
["1976-08-01",60.474080000000001]
["1976-09-01",61.589239999999997]
["1976-10-01",59.884639999999997]
["1976-11-01",59.738210000000002]
["1976-12-01",63.169449999999998]
["1977-01-01",60.519210000000001]
["1977-02-01",58.673270000000002]
["1977-03-01",57.556150000000002]
["1977-04-01",57.373199999999997]
["1977-05-01",56.36891]
["1977-06-01",58.346710000000002]
["1977-07-01",57.205150000000003]
["1977-08-01",55.88308]
["1977-09-01",55.689749999999997]
["1977-10-01",53.266570000000002]
["1977-11-01",54.924950000000003]
["1977-12-01",55.070689999999999]
["1978-01-01",51.58652]
["1978-02-01",50.369030000000002]
["1978-03-01",51.523940000000003]
["1978-04-01",55.257779999999997]
["1978-05-01",55.593809999999998]
["1978-06-01",54.247610000000002]
["1978-07-01",56.838009999999997]
["1978-08-01",58.621160000000003]
["1978-09-01",57.713979999999999]
["1978-10-01",50.92859]
["1978-11-01",51.926409999999997]
["1978-12-01",52.517560000000003]
["1979-01-01",54.431759999999997]
["1979-02-01",52.182310000000001]
["1979-03-01",55.069290000000002]
["1979-04-01",54.831670000000003]
["1979-05-01",52.872410000000002]
["1979-06-01",54.79636]
["1979-07-01",54.72007]
["1979-08-01",57.315300000000001]
["1979-09-01",56.907769999999999]
["1979-10-01",52.263579999999997]
["1979-11-01",54.591880000000003]
["1979-12-01",55.293909999999997]
["1980-01-01",58.289850000000001]
["1980-02-01",57.216419999999999]
["1980-03-01",49.354559999999999]
["1980-04-01",51.179819999999999]
["1980-05-01",53.091419999999999]
["1980-06-01",54.284059999999997]
["1980-07-01",57.891539999999999]
["1980-08-01",58.627220000000001]
["1980-09-01",59.671149999999997]
["1980-10-01",60.442219999999999]
["1980-11-01",66.093260000000001]
["1980-12-01",62.710700000000003]
["1981-01-01",59.44126]
["1981-02-01",59.238990000000001]
["1981-03-01",61.606310000000001]
["1981-04-01",60.587769999999999]
["1981-05-01",60.539830000000002]
["1981-06-01",59.173000000000002]
["1981-07-01",58.143799999999999]
["1981-08-01",54.15081]
["1981-09-01",49.958449999999999]
["1981-10-01",52.698320000000002]
["1981-11-01",54.535049999999998]
["1981-12-01",52.722250000000003]
["1982-01-01",50.965510000000002]
["1982-02-01",47.668529999999997]
["1982-03-01",47.039299999999997]
["1982-04-01",48.780119999999997]
["1982-05-01",46.567889999999998]
["1982-06-01",44.692100000000003]
["1982-07-01",43.45796]
["1982-08-01",48.11092]
["1982-09-01",48.63644]
["1982-10-01",54.041359999999997]
["1982-11-01",56.433570000000003]
["1982-12-01",57.30518]
["1983-01-01",59.448979999999999]
["1983-02-01",60.92906]
["1983-03-01",62.972850000000001]
["1983-04-01",67.091160000000002]
["1983-05-01",67.191079999999999]
["1983-06-01",69.381230000000002]
["1983-07-01",66.856800000000007]
["1983-08-01",66.683549999999997]
["1983-09-01",67.259640000000005]
["1983-10-01",65.137180000000001]
["1983-11-01",66.523759999999996]
["1983-12-01",65.558930000000004]
["1984-01-01",64.00188]
["1984-02-01",60.840629999999997]
["1984-03-01",61.36195]
["1984-04-01",61.118920000000003]
["1984-05-01",57.388190000000002]
["1984-06-01",58.383270000000003]
["1984-07-01",56.88496]
["1984-08-01",62.757919999999999]
["1984-09-01",62.311190000000003]
["1984-10-01",61.943390000000001]
["1984-11-01",60.993859999999998]
["1984-12-01",62.277830000000002]
["1985-01-01",67.390730000000005]
["1985-02-01",67.909970000000001]
["1985-03-01",67.346860000000007]
["1985-04-01",66.779200000000003]
["1985-05-01",69.959180000000003]
["1985-06-01",70.823700000000002]
["1985-07-01",70.518600000000006]
["1985-08-01",69.67877]
["1985-09-01",66.573049999999995]
["1985-10-01",69.118759999999995]
["1985-11-01",73.409319999999994]
["1985-12-01",76.308920000000001]
["1986-01-01",76.782759999999996]
["1986-02-01",82.345770000000002]
["1986-03-01",86.949039999999997]
["1986-04-01",86.361630000000005]
["1986-05-01",90.182640000000006]
["1986-06-01",90.700479999999999]
["1986-07-01",85.128929999999997]
["1986-08-01",90.296279999999996]
["1986-09-01",82.531260000000003]
["1986-10-01",86.471180000000004]
["1986-11-01",87.3767]
["1986-12-01",84.903880000000001]
["1987-01-01",95.043139999999994]
["1987-02-01",99.011570000000006]
["1987-03-01",100.69615]
["1987-04-01",98.254750000000001]
["1987-05-01",98.219300000000004]
["1987-06-01",102.00827]
["1987-07-01",106.12866]
["1987-08-01",109.31997]
["1987-09-01",106.2418]
["1987-10-01",81.647980000000004]
["1987-11-01",75.438800000000001]
["1987-12-01",80.703460000000007]
["1988-01-01",83.847350000000006]
["1988-02-01",87.547290000000004]
["1988-03-01",85.459029999999998]
["1988-04-01",85.829589999999996]
["1988-05-01",85.343599999999995]
["1988-06-01",89.130170000000007]
["1988-07-01",87.862530000000007]
["1988-08-01",84.618819999999999]
["1988-09-01",87.051900000000003]
["1988-10-01",88.176789999999997]
["1988-11-01",86.157139999999998]
["1988-12-01",87.561409999999995]
["1989-01-01",92.817689999999999]
["1989-02-01",90.553889999999996]
["1989-03-01",91.837969999999999]
["1989-04-01",95.562389999999994]
["1989-05-01",98.429379999999995]
["1989-06-01",97.396619999999999]
["1989-07-01",104.60727]
["1989-08-01",106.40112000000001]
["1989-09-01",105.62354999999999]
["1989-10-01",101.85773]
["1989-11-01",103.06227]
["1989-12-01",104.49500999999999]
["1990-01-01",95.668880000000001]
["1990-02-01",96.361590000000007]
["1990-03-01",98.000489999999999]
["1990-04-01",94.825509999999994]
["1990-05-01",102.84068000000001]
["1990-06-01",101.57136]
["1990-07-01",100]
["1990-08-01",89.403809999999993]
["1990-09-01",83.602980000000002]
["1990-10-01",81.793130000000005]
["1990-11-01",86.822810000000004]
["1990-12-01",89.309119999999993]
["1991-01-01",92.900109999999998]
["1991-02-01",99.607939999999999]
["1991-03-01",102.28077]
["1991-04-01",102.25059]
["1991-05-01",105.68206000000001]
["1991-06-01",100.44647000000001]
["1991-07-01",104.83714000000001]
["1991-08-01",107.04476]
["1991-09-01",105.14270999999999]
["1991-10-01",106.75913]
["1991-11-01",102.05686]
["1991-12-01",112.91070000000001]
["1992-01-01",112.37527]
["1992-02-01",113.17859]
["1992-03-01",109.57558]
["1992-04-01",110.72105000000001]
["1992-05-01",110.91557]
["1992-06-01",108.01418]
["1992-07-01",111.9936]
["1992-08-01",108.97254]
["1992-09-01",109.73734]
["1992-10-01",110.53021]
["1992-11-01",114.59737]
["1992-12-01",116.47919]
["1993-01-01",117.18219999999999]
["1993-02-01",116.93295999999999]
["1993-03-01",119.24733000000001]
["1993-04-01",115.48638]
["1993-05-01",118.59752]
["1993-06-01",118.7273]
["1993-07-01",118.55947]
["1993-08-01",122.44338999999999]
["1993-09-01",122.19793]
["1993-10-01",123.57044]
["1993-11-01",121.13504]
["1993-12-01",123.09088]
["1994-01-01",126.45004]
["1994-02-01",122.87572]
["1994-03-01",116.68145]
["1994-04-01",117.49108]
["1994-05-01",118.21599000000001]
["1994-06-01",114.42440000000001]
["1994-07-01",117.35053000000001]
["1994-08-01",121.69217]
["1994-09-01",118.7835]
["1994-10-01",120.46586000000001]
["1994-11-01",115.57939]
["1994-12-01",116.86733]
["1995-01-01",118.72798]
["1995-02-01",122.66068]
["1995-03-01",125.22068]
["1995-04-01",127.73744000000001]
["1995-05-01",131.4579]
["1995-06-01",135.13998000000001]
["1995-07-01",140.52383]
["1995-08-01",141.17477]
["1995-09-01",146.03774999999999]
["1995-10-01",143.91417999999999]
["1995-11-01",149.75528]
["1995-12-01",152.04214999999999]
["1996-01-01",155.01414]
["1996-02-01",156.88750999999999]
["1996-03-01",157.53254000000001]
["1996-04-01",160.59838999999999]
["1996-05-01",164.29038]
["1996-06-01",162.59762000000001]
["1996-07-01",153.31112999999999]
["1996-08-01",157.59924000000001]
["1996-09-01",165.19704999999999]
["1996-10-01",166.76070999999999]
["1996-11-01",177.15473]
["1996-12-01",174.87427]
["1997-01-01",183.46681000000001]
["1997-02-01",182.49683999999999]
["1997-03-01",173.71111999999999]
["1997-04-01",180.84815]
["1997-05-01",193.45654999999999]
["1997-06-01",201.82903999999999]
["1997-07-01",216.81095999999999]
["1997-08-01",207.98519999999999]
["1997-09-01",219.42562000000001]
["1997-10-01",211.37294]
["1997-11-01",218.11668]
["1997-12-01",222.1078]
["1998-01-01",222.71141]
["1998-02-01",238.14008000000001]
["1998-03-01",249.29855000000001]
["1998-04-01",251.56245000000001]
["1998-05-01",244.1069]
["1998-06-01",252.06724]
["1998-07-01",246.01306]
["1998-08-01",207.16890000000001]
["1998-09-01",220.13032000000001]
["1998-10-01",235.69569999999999]
["1998-11-01",250.21519000000001]
["1998-12-01",266.05703999999997]
["1999-01-01",274.95951000000002]
["1999-02-01",264.34858000000003]
["1999-03-01",273.39229999999998]
["1999-04-01",284.20814999999999]
["1999-05-01",277.65642000000003]
["1999-06-01",291.72498999999999]
["1999-07-01",281.74885999999998]
["1999-08-01",277.67081000000002]
["1999-09-01",268.81088999999997]
["1999-10-01",285.18205]
["1999-11-01",294.22798999999998]
["1999-12-01",316.22287]
["2000-01-01",302.00038999999998]
["2000-02-01",306.58404999999999]
["2000-03-01",321.74811]
["2000-04-01",304.58996000000002]
["2000-05-01",293.25447000000003]
["2000-06-01",304.36293999999998]
["2000-07-01",297.23248000000001]
["2000-08-01",318.40908000000002]
["2000-09-01",301.97035]
["2000-10-01",294.83649000000003]
["2000-11-01",265.04613000000001]
["2000-12-01",269.61923000000002]
["2001-01-01",277.94810999999999]
["2001-02-01",250.40795]
["2001-03-01",232.79528999999999]
["2001-04-01",250.74949000000001]
["2001-05-01",251.74032]
["2001-06-01",246.92035999999999]
["2001-07-01",243.30402000000001]
["2001-08-01",228.25189]
["2001-09-01",206.65233000000001]
["2001-10-01",212.42187000000001]
["2001-11-01",228.73589000000001]
["2001-12-01",233.48479]
["2002-01-01",229.84653]
["2002-02-01",223.91840999999999]
["2002-03-01",232.20916]
["2002-04-01",219.46236999999999]
["2002-05-01",216.57604000000001]
["2002-06-01",200.98238000000001]
["2002-07-01",184.34828999999999]
["2002-08-01",184.52725000000001]
["2002-09-01",165.47981999999999]
["2002-10-01",177.61063999999999]
["2002-11-01",188.01121000000001]
["2002-12-01",177.70240999999999]
["2003-01-01",172.29471000000001]
["2003-02-01",167.76886999999999]
["2003-03-01",168.42491999999999]
["2003-04-01",182.41973999999999]
["2003-05-01",193.5719]
["2003-06-01",195.95213000000001]
["2003-07-01",200.1969]
["2003-08-01",203.93299999999999]
["2003-09-01",200.75746000000001]
["2003-10-01",212.94672]
["2003-11-01",216.19063]
["2003-12-01",225.77887000000001]
["2004-01-01",229.45778000000001]
["2004-02-01",231.19881000000001]
["2004-03-01",226.97416000000001]
["2004-04-01",221.21299999999999]
["2004-05-01",222.62818999999999]
["2004-06-01",226.35835]
["2004-07-01",218.0104]
["2004-08-01",218.27903000000001]
["2004-09-01",221.03110000000001]
["2004-10-01",223.15771000000001]
["2004-11-01",233.03751]
["2004-12-01",241.98157]
["2005-01-01",234.92329000000001]
["2005-02-01",238.24759]
["2005-03-01",231.96276]
["2005-04-01",225.07339999999999]
["2005-05-01",233.44839999999999]
["2005-06-01",234.87828999999999]
["2005-07-01",243.19511]
["2005-08-01",239.3237]
["2005-09-01",238.05824999999999]
["2005-10-01",232.95468]
["2005-11-01",243.67166]
["2005-12-01",244.67336]
["2006-01-01",251.23371]
["2006-02-01",250.16696999999999]
["2006-03-01",253.04033000000001]
["2006-04-01",253.40928]
["2006-05-01",243.59469000000001]
["2006-06-01",243.23676]
["2006-07-01",241.98698999999999]
["2006-08-01",246.62775999999999]
["2006-09-01",252.98985999999999]
["2006-10-01",263.32817999999997]
["2006-11-01",269.07276000000002]
["2006-12-01",271.42541]
["2007-01-01",275.47143]
["2007-02-01",269.12257]
["2007-03-01",269.32375999999999]
["2007-04-01",278.04038000000003]
["2007-05-01",285.88742000000002]
["2007-06-01",280.40778999999998]
["2007-07-01",270.68232]
["2007-08-01",274.40744999999998]
["2007-09-01",283.08076]
["2007-10-01",287.58706999999998]
["2007-11-01",272.59172999999998]
["2007-12-01",270.64787000000001]
["2008-01-01",252.69156000000001]
["2008-02-01",243.85606000000001]
["2008-03-01",239.70516000000001]
["2008-04-01",249.85973999999999]
["2008-05-01",252.44830999999999]
["2008-06-01",229.19909000000001]
["2008-07-01",225.72013999999999]
["2008-08-01",229.71296000000001]
["2008-09-01",208.26872]
["2008-10-01",173.1413]
["2008-11-01",161.90083000000001]
["2008-12-01",165.98840000000001]
["2009-01-01",151.55455000000001]
["2009-02-01",134.65268]
["2009-03-01",145.71212]
["2009-04-01",160.37788]
["2009-05-01",167.98258999999999]
["2009-06-01",166.93617]
["2009-07-01",180.00210999999999]
["2009-08-01",185.9006]
["2009-09-01",193.22461999999999]
["2009-10-01",188.10785999999999]
["2009-11-01",198.40962999999999]
["2009-12-01",203.78958]
["2010-01-01",195.85881000000001]
["2010-02-01",201.94540000000001]
["2010-03-01",213.32364999999999]
["2010-04-01",217.23715000000001]
["2010-05-01",199.46281999999999]
["2010-06-01",188.34611000000001]
["2010-07-01",201.10443000000001]
["2010-08-01",191.02996999999999]
["2010-09-01",208.37816000000001]
["2010-10-01",215.97949]
["2010-11-01",216.56347]
["2010-12-01",230.66408999999999]
["2011-01-01",234.29012]
["2011-02-01",240.98436000000001]
["2011-03-01",239.16997000000001]
["2011-04-01",244.30237]
["2011-05-01",239.79392000000001]
["2011-06-01",235.45088999999999]
["2011-07-01",229.93337]
["2011-08-01",215.12496999999999]
["2011-09-01",198.03766999999999]
["2011-10-01",220.74659]
["2011-11-01",219.68541999999999]
["2011-12-01",221.85162]
["2012-01-01",231.52325999999999]
["2012-02-01",239.70612]
["2012-03-01",244.89802]
["2012-04-01",242.16076000000001]
["2012-05-01",226.97171]
["2012-06-01",235.89411000000001]
["2012-07-01",238.47542000000001]
["2012-08-01",242.23739]
["2012-09-01",247.00522000000001]
["2012-10-01",242.44856999999999]
["2012-11-01",244.54769999999999]
["2012-12-01",247.68414999999999]
["2013-01-01",260.04950000000002]
["2013-02-01",260.6798]
["2013-03-01",269.62290000000002]
["2013-04-01",274.31258000000003]
["2013-05-01",279.4794]
["2013-06-01",274.81680999999998]
["2013-07-01",289.31774999999999]
["2013-08-01",279.99632000000003]
["2013-09-01",289.17930000000001]
["2013-10-01",302.07445999999999]
["2013-11-01",310.79284999999999]
["2013-12-01",318.32947999999999]
["2014-01-01",306.86216999999999]
["2014-02-01",319.17685999999998]
["2014-03-01",318.86554999999998]
["2014-04-01",318.03003999999999]
["2014-05-01",323.12927000000002]
["2014-06-01",329.89091000000002]
["2014-07-01",323.52285999999998]
["2014-08-01",336.57580999999999]
["2014-09-01",328.99516999999997]
["2014-10-01",338.54635999999999]
["2014-11-01",348.10376000000002]
["2014-12-01",349.33120000000002]
["2015-01-01",340.92284000000001]
["2015-02-01",357.98068999999998]
["2015-03-01",351.27699000000001]
["2015-04-01",352.11824999999999]
["2015-05-01",354.08872000000002]
["2015-06-01",346.06873999999999]
["2015-07-01",351.74673000000001]
["2015-08-01",330.55381]
["2015-09-01",321.51267000000001]
["2015-10-01",347.01618999999999]
["2015-11-01",348.05489999999998]
["2015-12-01",341.75749000000002]
["2016-01-01",322.21368999999999]
["2016-02-01",320.92788999999999]
["2016-03-01",341.51691]
["2016-04-01",341.72559999999999]
["2016-05-01",345.62878999999998]
["2016-06-01",344.94943000000001]
["2016-07-01",358.66836999999998]
["2016-08-01",358.32758000000001]
["2016-09-01",357.26459]
["2016-10-01",349.12610999999998]
["2016-11-01",364.63452999999998]
["2016-12-01",371.42863999999997]
["2017-01-01",375.43137999999999]
["2017-02-01",387.31191999999999]
["2017-03-01",386.54854]
["2017-04-01",389.02974999999998]
["2017-05-01",391.69072]
["2017-06-01",394.17536999999999]
["2017-07-01",401.41748000000001]
["2017-08-01",400.20742999999999]
["2017-09-01",407.16807]
["2017-10-01",415.76272]
["2017-11-01",427.31574000000001]
["2017-12-01",431.6046]
["2018-01-01",451.34258999999997]
["2018-02-01",431.83784000000003]
["2018-03-01",421.14301]
["2018-04-01",420.69076000000001]
["2018-05-01",429.48354999999998]
["2018-06-01",430.99961999999999]
["2018-07-01",445.18565999999998]
["2018-08-01",459.54345999999998]
["2018-09-01",459.12653999999998]
["2018-10-01",424.43439000000001]
["2018-11-01",433.06371000000001]
["2018-12-01",393.33677999999998]
["2019-01-01",426.00098000000003]
["2019-02-01",437.99401]
["2019-03-01",441.39557000000002]
["2019-04-01",456.18191000000002]
["2019-05-01",424.54507999999998]
["2019-06-01",453.31008000000003]
["2019-07-01",458.79012999999998]
["2019-08-01",448.40629999999999]
["2019-09-01",455.52526999999998]
["2019-10-01",463.88898999999998]
["2019-11-01",480.32645000000002]
["2019-12-01",494.02057000000002]
["2020-01-01",491.58942999999999]
["2020-02-01",449.10975999999999]
["2020-03-01",388.05074999999999]
["2020-04-01",441.96633000000003]
["2020-05-01",463.95958999999999]
["2020-06-01",471.56880999999998]
["2020-07-01",495.20803000000001]
["2020-08-01",528.85131000000001]
["2020-09-01",507.67210999999998]
["2020-10-01",495.7808]
["2020-11-01",554.65918999999997]
["2020-12-01",578.10393999999997]
["2021-01-01",573.20761000000005]
["2021-02-01",586.67488000000003]
["2021-03-01",603.17852000000005]
["2021-04-01",629.33509000000004]
["2021-05-01",626.32515999999998]
["2021-06-01",635.42331999999999]
["2021-07-01",643.12225999999998]
["2021-08-01",659.80318]
["2021-09-01",628.13937999999996]
["2021-10-01",664.34966999999995]
["2021-11-01",652.40542000000005]
["2021-12-01",674.89971000000003]
["2022-01-01",630.43255999999997]
["2022-02-01",608.60314000000005]
["2022-03-01",619.86320999999998]
["2022-04-01",560.30834000000004]
["2022-05-01",552.32162000000005]
["2022-06-01",498.5283]
["2022-07-01",545.59403999999995]
["2022-08-01",524.21475999999996]
["2022-09-01",473.57458000000003]
["2022-10-01",509.87007]
["2022-11-01",535.56793000000005]
["2022-12-01",504.95136000000002]
["2023-01-01",534.97433000000001]
["2023-02-01",518.66075000000001]
["2023-03-01",530.37012000000004]
["2023-04-01",532.69168999999999]
["2023-05-01",532.69237999999996]
["2023-06-01",566.69527000000005]
["2023-07-01",585.36342999999999]
["2023-08-01",570.50050999999996]
["2023-09-01",541.31232]
["2023-10-01",526.62653999999998]
["2023-11-01",575.87911999999994]
["2023-12-01",606.52314999999999]
["2024-01-01",{"$f":"NA()","v":{"$error":"#N/A"}}]
["2024-02-01",{"$f":"NA()","v":{"$error":"#N/A"}}]

{"sheet":"Tocalino Index 1980","index":6,"n_rows":530,"n_cols":2,"rows_kept":530,"cut":false,"hidden":false,"merged":[]}
["FRED Graph Observations"]
["Federal Reserve Economic Data"]
["Link: https://fred.stlouisfed.org"]
["Help: https://fredhelp.stlouisfed.org"]
["Economic Research Division"]
["Federal Reserve Bank of St. Louis"]
[]
["LNU00000060_UNRATE_CPILFESL_PC1","LNU00000060/(UNRATE+CPILFESL), Index Jul 1990=100 of (Thous. of Persons/(%+% Chg. from Yr. Ago)), Monthly"]
[]
["Frequency: Monthly"]
["observation_date","LNU00000060_UNRATE_CPILFESL_PC1"]
["1980-11-01",43.54439]
["1980-12-01",44.319650000000003]
["1981-01-01",45.600409999999997]
["1981-02-01",47.193469999999998]
["1981-03-01",49.767919999999997]
["1981-04-01",51.92192]
["1981-05-01",50.556460000000001]
["1981-06-01",51.333930000000002]
["1981-07-01",47.343350000000001]
["1981-08-01",45.863309999999998]
["1981-09-01",44.878549999999997]
["1981-10-01",46.281939999999999]
["1981-11-01",47.154559999999996]
["1981-12-01",48.572890000000001]
["1982-01-01",49.179380000000002]
["1982-02-01",48.595260000000003]
["1982-03-01",49.820259999999998]
["1982-04-01",48.615270000000002]
["1982-05-01",48.959240000000001]
["1982-06-01",49.019880000000001]
["1982-07-01",50.73912]
["1982-08-01",52.720820000000003]
["1982-09-01",55.70579]
["1982-10-01",54.854239999999997]
["1982-11-01",55.902160000000002]
["1982-12-01",58.418349999999997]
["1983-01-01",59.715519999999998]
["1983-02-01",60.352629999999998]
["1983-03-01",60.452129999999997]
["1983-04-01",62.92747]
["1983-05-01",65.559100000000001]
["1983-06-01",67.859480000000005]
["1983-07-01",71.870769999999993]
["1983-08-01",72.091470000000001]
["1983-09-01",72.199590000000001]
["1983-10-01",73.530469999999994]
["1983-11-01",71.224239999999995]
["1983-12-01",70.177149999999997]
["1984-01-01",70.504639999999995]
["1984-02-01",72.432130000000001]
["1984-03-01",71.478489999999994]
["1984-04-01",71.717799999999997]
["1984-05-01",73.075379999999996]
["1984-06-01",73.888319999999993]
["1984-07-01",73.043779999999998]
["1984-08-01",72.696640000000002]
["1984-09-01",74.117649999999998]
["1984-10-01",74.418700000000001]
["1984-11-01",77.795259999999999]
["1984-12-01",76.747929999999997]
["1985-01-01",79.593940000000003]
["1985-02-01",78.513199999999998]
["1985-03-01",78.807590000000005]
["1985-04-01",79.71593]
["1985-05-01",80.653580000000005]
["1985-06-01",80.218680000000006]
["1985-07-01",81.838650000000001]
["1985-08-01",84.265199999999993]
["1985-09-01",85.969319999999996]
["1985-10-01",85.538480000000007]
["1985-11-01",83.68629]
["1985-12-01",84.678219999999996]
["1986-01-01",86.186210000000003]
["1986-02-01",84.826660000000004]
["1986-03-01",85.784300000000002]
["1986-04-01",86.062160000000006]
["1986-05-01",86.972470000000001]
["1986-06-01",87.287809999999993]
["1986-07-01",88.395390000000006]
["1986-08-01",89.479969999999994]
["1986-09-01",87.418559999999999]
["1986-10-01",88.44462]
["1986-11-01",91.854370000000003]
["1986-12-01",94.803960000000004]
["1987-01-01",96.879689999999997]
["1987-02-01",97.148430000000005]
["1987-03-01",96.566040000000001]
["1987-04-01",97.204740000000001]
["1987-05-01",95.78058]
["1987-06-01",97.816389999999998]
["1987-07-01",99.11345]
["1987-08-01",100.37676999999999]
["1987-09-01",100.82316]
["1987-10-01",98.420590000000004]
["1987-11-01",100.70292999999999]
["1987-12-01",102.01974]
["1988-01-01",100.59866]
["1988-02-01",100.8931]
["1988-03-01",100.31843000000001]
["1988-04-01",104.79894]
["1988-05-01",103.00501]
["1988-06-01",102.70677999999999]
["1988-07-01",103.06480000000001]
["1988-08-01",101.35581999999999]
["1988-09-01",102.04479000000001]
["1988-10-01",103.30959]
["1988-11-01",103.72920000000001]
["1988-12-01",103.13162]
["1989-01-01",102.54826]
["1989-02-01",104.13184]
["1989-03-01",106.70263]
["1989-04-01",106.71451999999999]
["1989-05-01",106.15351]
["1989-06-01",105.4045]
["1989-07-01",106.87075]
["1989-08-01",108.09804]
["1989-09-01",110.14255]
["1989-10-01",108.68674]
["1989-11-01",107.02670999999999]
["1989-12-01",106.45972999999999]
["1990-01-01",107.15116999999999]
["1990-02-01",106.84602]
["1990-03-01",105.70614999999999]
["1990-04-01",103.10898]
["1990-05-01",104.29095]
["1990-06-01",104.98663999999999]
["1990-07-01",100]
["1990-08-01",95.065560000000005]
["1990-09-01",93.046670000000006]
["1990-10-01",94.726929999999996]
["1990-11-01",93.222989999999996]
["1990-12-01",92.069869999999995]
["1991-01-01",89.228729999999999]
["1991-02-01",87.512590000000003]
["1991-03-01",89.096029999999999]
["1991-04-01",90.657839999999993]
["1991-05-01",89.414079999999998]
["1991-06-01",90.866129999999998]
["1991-07-01",93.133129999999994]
["1991-08-01",93.83905]
["1991-09-01",94.116849999999999]
["1991-10-01",94.759240000000005]
["1991-11-01",94.469369999999998]
["1991-12-01",92.912869999999998]
["1992-01-01",96.210790000000003]
["1992-02-01",98.213189999999997]
["1992-03-01",97.098690000000005]
["1992-04-01",97.319810000000004]
["1992-05-01",95.236599999999996]
["1992-06-01",94.973669999999998]
["1992-07-01",96.038809999999998]
["1992-08-01",98.978049999999996]
["1992-09-01",101.15586]
["1992-10-01",101.54631999999999]
["1992-11-01",101.49208]
["1992-12-01",102.48757999999999]
["1993-01-01",102.98043]
["1993-02-01",103.8252]
["1993-03-01",107.12468]
["1993-04-01",104.94443]
["1993-05-01",105.81994]
["1993-06-01",107.01715]
["1993-07-01",110.56149000000001]
["1993-08-01",110.27374]
["1993-09-01",112.36938000000001]
["1993-10-01",113.07641]
["1993-11-01",114.84441]
["1993-12-01",116.36262000000001]
["1994-01-01",117.82324]
["1994-02-01",119.81394]
["1994-03-01",118.7345]
["1994-04-01",123.7443]
["1994-05-01",128.14031]
["1994-06-01",126.41803]
["1994-07-01",125.6429]
["1994-08-01",128.28043]
["1994-09-01",127.09395000000001]
["1994-10-01",130.81679]
["1994-11-01",135.30314000000001]
["1994-12-01",140.45239000000001]
["1995-01-01",133.61367999999999]
["1995-02-01",136.11516]
["1995-03-01",136.37889999999999]
["1995-04-01",127.48154]
["1995-05-01",131.55884]
["1995-06-01",132.74161000000001]
["1995-07-01",131.45236]
["1995-08-01",131.72355999999999]
["1995-09-01",133.54411999999999]
["1995-10-01",133.42346000000001]
["1995-11-01",133.1379]
["1995-12-01",133.28587999999999]
["1996-01-01",134.50184999999999]
["1996-02-01",137.50962999999999]
["1996-03-01",138.82829000000001]
["1996-04-01",140.65300999999999]
["1996-05-01",139.87846999999999]
["1996-06-01",145.36776]
["1996-07-01",142.00923]
["1996-08-01",150.76444000000001]
["1996-09-01",147.97609]
["1996-10-01",150.64435]
["1996-11-01",145.94839999999999]
["1996-12-01",144.95352]
["1997-01-01",149.53836000000001]
["1997-02-01",151.71788000000001]
["1997-03-01",153.17527000000001]
["1997-04-01",151.73427000000001]
["1997-05-01",157.45863]
["1997-06-01",158.07241999999999]
["1997-07-01",160.29951]
["1997-08-01",165.46706]
["1997-09-01",164.80885000000001]
["1997-10-01",168.24092999999999]
["1997-11-01",173.97438]
["1997-12-01",168.64250000000001]
["1998-01-01",171.26279]
["1998-02-01",171.42797999999999]
["1998-03-01",169.02264]
["1998-04-01",182.99548999999999]
["1998-05-01",178.91486]
["1998-06-01",174.68054000000001]
["1998-07-01",174.70578]
["1998-08-01",168.99825999999999]
["1998-09-01",169.59994]
["1998-10-01",175.34226000000001]
["1998-11-01",175.16627]
["1998-12-01",172.40511000000001]
["1999-01-01",178.37016]
["1999-02-01",180.35033000000001]
["1999-03-01",189.68101999999999]
["1999-04-01",181.80672999999999]
["1999-05-01",188.40825000000001]
["1999-06-01",189.37461999999999]
["1999-07-01",186.09200999999999]
["1999-08-01",194.75879]
["1999-09-01",189.4085]
["1999-10-01",190.94868]
["1999-11-01",193.1071]
["1999-12-01",202.50551999999999]
["2000-01-01",197.51649]
["2000-02-01",192.58676]
["2000-03-01",187.06826000000001]
["2000-04-01",198.87047999999999]
["2000-05-01",189.52188000000001]
["2000-06-01",184.66251]
["2000-07-01",186.73838000000001]
["2000-08-01",181.07684]
["2000-09-01",188.49114]
["2000-10-01",188.94855000000001]
["2000-11-01",185.85428999999999]
["2000-12-01",187.77200999999999]
["2001-01-01",179.89107000000001]
["2001-02-01",174.20160000000001]
["2001-03-01",176.31509]
["2001-04-01",172.65303]
["2001-05-01",178.11655999999999]
["2001-06-01",169.24904000000001]
["2001-07-01",167.11974000000001]
["2001-08-01",161.9846]
["2001-09-01",159.97874999999999]
["2001-10-01",154.05831000000001]
["2001-11-01",148.40227999999999]
["2001-12-01",144.01275999999999]
["2002-01-01",147.11904999999999]
["2002-02-01",148.13209000000001]
["2002-03-01",150.29982000000001]
["2002-04-01",145.84210999999999]
["2002-05-01",146.78451000000001]
["2002-06-01",152.01211000000001]
["2002-07-01",153.10978]
["2002-08-01",152.14571000000001]
["2002-09-01",154.33088000000001]
["2002-10-01",155.41864000000001]
["2002-11-01",154.84802999999999]
["2002-12-01",154.02333999999999]
["2003-01-01",158.8897]
["2003-02-01",160.28474]
["2003-03-01",161.46531999999999]
["2003-04-01",165.20364000000001]
["2003-05-01",162.0094]
["2003-06-01",159.04615000000001]
["2003-07-01",160.18393]
["2003-08-01",167.05928]
["2003-09-01",168.40069]
["2003-10-01",169.60642999999999]
["2003-11-01",179.82608999999999]
["2003-12-01",182.62303]
["2004-01-01",180.42992000000001]
["2004-02-01",180.42353]
["2004-03-01",167.95633000000001]
["2004-04-01",167.85225]
["2004-05-01",169.18002999999999]
["2004-06-01",165.77431999999999]
["2004-07-01",170.58166]
["2004-08-01",174.36509000000001]
["2004-09-01",168.36474999999999]
["2004-10-01",165.09290999999999]
["2004-11-01",162.89543]
["2004-12-01",161.93457000000001]
["2005-01-01",164.19331]
["2005-02-01",161.10839999999999]
["2005-03-01",164.51969]
["2005-04-01",168.12026]
["2005-05-01",170.60794000000001]
["2005-06-01",176.99039999999999]
["2005-07-01",175.87592000000001]
["2005-08-01",177.24142000000001]
["2005-09-01",180.19409999999999]
["2005-10-01",176.55824000000001]
["2005-11-01",175.56604999999999]
["2005-12-01",178.27620999999999]
["2006-01-01",183.48724999999999]
["2006-02-01",181.02707000000001]
["2006-03-01",183.92128]
["2006-04-01",178.76919000000001]
["2006-05-01",177.661]
["2006-06-01",172.86716000000001]
["2006-07-01",169.55812]
["2006-08-01",166.38480000000001]
["2006-09-01",168.79719]
["2006-10-01",174.98000999999999]
["2006-11-01",176.45622]
["2006-12-01",179.13108]
["2007-01-01",173.30452]
["2007-02-01",174.33456000000001]
["2007-03-01",182.29424]
["2007-04-01",182.11028999999999]
["2007-05-01",188.92375000000001]
["2007-06-01",185.80923000000001]
["2007-07-01",183.60622000000001]
["2007-08-01",188.65343999999999]
["2007-09-01",185.63505000000001]
["2007-10-01",184.21225000000001]
["2007-11-01",179.53120000000001]
["2007-12-01",169.99736999999999]
["2008-01-01",168.18552]
["2008-02-01",174.83280999999999]
["2008-03-01",168.07417000000001]
["2008-04-01",172.58461]
["2008-05-01",163.10329999999999]
["2008-06-01",157.6832]
["2008-07-01",152.58822000000001]
["2008-08-01",146.69662]
["2008-09-01",147.78816]
["2008-10-01",144.70418000000001]
["2008-11-01",143.20376999999999]
["2008-12-01",139.35953000000001]
["2009-01-01",132.86000000000001]
["2009-02-01",124.62826]
["2009-03-01",120.029]
["2009-04-01",115.14447]
["2009-05-01",111.95122000000001]
["2009-06-01",112.31019999999999]
["2009-07-01",114.25767999999999]
["2009-08-01",114.19835999999999]
["2009-09-01",111.72693]
["2009-10-01",107.60361]
["2009-11-01",108.51869000000001]
["2009-12-01",107.49978]
["2010-01-01",110.97942]
["2010-02-01",112.62059000000001]
["2010-03-01",113.55132999999999]
["2010-04-01",115.55526999999999]
["2010-05-01",119.19859]
["2010-06-01",121.40446]
["2010-07-01",121.37213]
["2010-08-01",120.69123]
["2010-09-01",121.90958999999999]
["2010-10-01",125.76127]
["2010-11-01",120.13252]
["2010-12-01",126.27973]
["2011-01-01",123.97847]
["2011-02-01",123.49621]
["2011-03-01",122.461]
["2011-04-01",120.05537]
["2011-05-01",119.67874999999999]
["2011-06-01",117.11732000000001]
["2011-07-01",116.51793000000001]
["2011-08-01",114.12734]
["2011-09-01",113.86745000000001]
["2011-10-01",114.71428]
["2011-11-01",116.50775]
["2011-12-01",116.06216999999999]
["2012-01-01",117.93239]
["2012-02-01",119.24312999999999]
["2012-03-01",119.35687]
["2012-04-01",118.63907]
["2012-05-01",119.35048999999999]
["2012-06-01",120.03149999999999]
["2012-07-01",121.00655]
["2012-08-01",124.25507]
["2012-09-01",127.08082]
["2012-10-01",127.26841]
["2012-11-01",129.11510999999999]
["2012-12-01",127.15075]
["2013-01-01",125.87764]
["2013-02-01",128.74657999999999]
["2013-03-01",132.84472]
["2013-04-01",133.93214]
["2013-05-01",136.43063000000001]
["2013-06-01",136.78614999999999]
["2013-07-01",138.64812000000001]
["2013-08-01",138.9366]
["2013-09-01",139.4676]
["2013-10-01",140.48473999999999]
["2013-11-01",144.48548]
["2013-12-01",147.88004000000001]
["2014-01-01",152.11169000000001]
["2014-02-01",151.21422999999999]
["2014-03-01",149.53326999999999]
["2014-04-01",155.63843]
["2014-05-01",151.38807]
["2014-06-01",155.63477]
["2014-07-01",155.23465999999999]
["2014-08-01",159.42884000000001]
["2014-09-01",163.55680000000001]
["2014-10-01",166.26649]
["2014-11-01",165.7449]
["2014-12-01",173.04859999999999]
["2015-01-01",170.98670999999999]
["2015-02-01",174.38048000000001]
["2015-03-01",175.40852000000001]
["2015-04-01",174.03870000000001]
["2015-05-01",170.59350000000001]
["2015-06-01",177.28936999999999]
["2015-07-01",178.45240999999999]
["2015-08-01",180.69997000000001]
["2015-09-01",182.14314999999999]
["2015-10-01",181.71464]
["2015-11-01",177.03029000000001]
["2015-12-01",177.67918]
["2016-01-01",181.31679]
["2016-02-01",176.84484]
["2016-03-01",176.41490999999999]
["2016-04-01",173.66716]
["2016-05-01",178.69761]
["2016-06-01",176.07056]
["2016-07-01",181.00153]
["2016-08-01",175.12357]
["2016-09-01",173.68162000000001]
["2016-10-01",177.79861]
["2016-11-01",184.58356000000001]
["2016-12-01",183.20722000000001]
["2017-01-01",181.19727]
["2017-02-01",184.27142000000001]
["2017-03-01",195.41408000000001]
["2017-04-01",200.03104999999999]
["2017-05-01",205.29449]
["2017-06-01",210.12461999999999]
["2017-07-01",211.01275000000001]
["2017-08-01",208.35112000000001]
["2017-09-01",214.05488]
["2017-10-01",211.77749]
["2017-11-01",212.60884999999999]
["2017-12-01",215.08217999999999]
["2018-01-01",214.94354999999999]
["2018-02-01",211.84076999999999]
["2018-03-01",206.88835]
["2018-04-01",205.97242]
["2018-05-01",208.64861999999999]
["2018-06-01",202.91081]
["2018-07-01",208.94506999999999]
["2018-08-01",214.18169]
["2018-09-01",215.12494000000001]
["2018-10-01",214.18191999999999]
["2018-11-01",211.0591]
["2018-12-01",206.48196999999999]
["2019-01-01",205.84412]
["2019-02-01",214.76778999999999]
["2019-03-01",216.28022999999999]
["2019-04-01",219.00890000000001]
["2019-05-01",225.96743000000001]
["2019-06-01",221.43394000000001]
["2019-07-01",215.49543]
["2019-08-01",212.52749]
["2019-09-01",216.73685]
["2019-10-01",213.81773000000001]
["2019-11-01",213.77206000000001]
["2019-12-01",216.59287]
["2020-01-01",214.89149]
["2020-02-01",214.82767000000001]
["2020-03-01",193.69297]
["2020-04-01",77.772959999999998]
["2020-05-01",87.513319999999993]
["2020-06-01",103.84726999999999]
["2020-07-01",107.77688999999999]
["2020-08-01",125.19123]
["2020-09-01",133.02118999999999]
["2020-10-01",150.18296000000001]
["2020-11-01",151.27151000000001]
["2020-12-01",151.88921999999999]
["2021-01-01",161.92731000000001]
["2021-02-01",168.84305000000001]
["2021-03-01",162.93620000000001]
["2021-04-01",139.72138000000001]
["2021-05-01",131.80962]
["2021-06-01",122.7084]
["2021-07-01",132.08975000000001]
["2021-08-01",139.85386]
["2021-09-01",145.04004]
["2021-10-01",139.25020000000001]
["2021-11-01",139.39048]
["2021-12-01",134.35222999999999]
["2022-01-01",126.68631000000001]
["2022-02-01",124.65054000000001]
["2022-03-01",126.87678]
["2022-04-01",129.61713]
["2022-05-01",132.5324]
["2022-06-01",134.43949000000001]
["2022-07-01",135.83852999999999]
["2022-08-01",128.81352999999999]
["2022-09-01",125.76103999999999]
["2022-10-01",128.85691]
["2022-11-01",133.30475000000001]
["2022-12-01",138.66369]
["2023-01-01",143.03798]
["2023-02-01",140.38750999999999]
["2023-03-01",140.80177]
["2023-04-01",143.47413]
["2023-05-01",142.03914]
["2023-06-01",151.56354999999999]
["2023-07-01",156.42486]
["2023-08-01",156.81313]
["2023-09-01",162.02592000000001]
["2023-10-01",164.38559000000001]
["2023-11-01",167.18056000000001]
["2023-12-01",169.29548]
["2024-01-01",{"$f":"NA()","v":{"$error":"#N/A"}}]

{"sheet":"WILL5000PR_M2","index":7,"n_rows":531,"n_cols":2,"rows_kept":531,"cut":false,"hidden":false,"merged":[]}
["FRED Graph Observations"]
["Federal Reserve Economic Data"]
["Link: https://fred.stlouisfed.org"]
["Help: https://fredhelp.stlouisfed.org"]
["Economic Research Division"]
["Federal Reserve Bank of St. Louis"]
[]
["WILL5000PR_M2SL","WILL5000PR/M2SL, Index Jul 1990=100 of (Index/Bil. of $), Monthly"]
[]
["Frequency: Monthly"]
["observation_date","WILL5000PR_M2SL"]
["1980-11-01",87.564809999999994]
["1980-12-01",83.651070000000004]
["1981-01-01",79.57987]
["1981-02-01",79.545379999999994]
["1981-03-01",82.377899999999997]
["1981-04-01",80.4542]
["1981-05-01",80.778689999999997]
["1981-06-01",79.367379999999997]
["1981-07-01",78.303929999999994]
["1981-08-01",72.945949999999996]
["1981-09-01",67.488630000000001]
["1981-10-01",70.688010000000006]
["1981-11-01",72.782229999999998]
["1981-12-01",69.808080000000004]
["1982-01-01",67.127650000000003]
["1982-02-01",62.839359999999999]
["1982-03-01",61.528230000000001]
["1982-04-01",63.457270000000001]
["1982-05-01",60.766539999999999]
["1982-06-01",58.706539999999997]
["1982-07-01",57.207349999999998]
["1982-08-01",62.991149999999998]
["1982-09-01",63.35633]
["1982-10-01",70.186019999999999]
["1982-11-01",72.600009999999997]
["1982-12-01",72.565200000000004]
["1983-01-01",73.374459999999999]
["1983-02-01",73.868179999999995]
["1983-03-01",75.648910000000001]
["1983-04-01",80.636300000000006]
["1983-05-01",80.671180000000007]
["1983-06-01",83.129490000000004]
["1983-07-01",79.986720000000005]
["1983-08-01",79.664060000000006]
["1983-09-01",80.396630000000002]
["1983-10-01",77.496350000000007]
["1983-11-01",78.810940000000002]
["1983-12-01",77.334590000000006]
["1984-01-01",75.422929999999994]
["1984-02-01",71.381680000000003]
["1984-03-01",71.570179999999993]
["1984-04-01",71.094840000000005]
["1984-05-01",66.572760000000002]
["1984-06-01",67.586290000000005]
["1984-07-01",65.856080000000006]
["1984-08-01",72.708780000000004]
["1984-09-01",72.08417]
["1984-10-01",71.40213]
["1984-11-01",69.614199999999997]
["1984-12-01",70.309179999999998]
["1985-01-01",75.376220000000004]
["1985-02-01",75.613489999999999]
["1985-03-01",74.884569999999997]
["1985-04-01",74.313370000000006]
["1985-05-01",77.682320000000004]
["1985-06-01",78.107079999999996]
["1985-07-01",77.373159999999999]
["1985-08-01",76.139110000000002]
["1985-09-01",72.579279999999997]
["1985-10-01",75.277479999999997]
["1985-11-01",79.853920000000002]
["1985-12-01",82.758920000000003]
["1986-01-01",83.167640000000006]
["1986-02-01",88.566810000000004]
["1986-03-01",92.347719999999995]
["1986-04-01",90.671099999999996]
["1986-05-01",93.952579999999998]
["1986-06-01",94.275919999999999]
["1986-07-01",87.757069999999999]
["1986-08-01",92.552760000000006]
["1986-09-01",84.300780000000003]
["1986-10-01",87.760559999999998]
["1986-11-01",88.303250000000006]
["1986-12-01",85.041370000000001]
["1987-01-01",95.244979999999998]
["1987-02-01",99.448269999999994]
["1987-03-01",101.36467]
["1987-04-01",98.93347]
["1987-05-01",99.062669999999997]
["1987-06-01",103.18478]
["1987-07-01",107.46603]
["1987-08-01",110.91401]
["1987-09-01",107.91892]
["1987-10-01",82.701239999999999]
["1987-11-01",76.366990000000001]
["1987-12-01",81.479650000000007]
["1988-01-01",84.247889999999998]
["1988-02-01",87.486900000000006]
["1988-03-01",85.165880000000001]
["1988-04-01",85.38494]
["1988-05-01",84.746020000000001]
["1988-06-01",88.50761]
["1988-07-01",87.356909999999999]
["1988-08-01",84.34948]
["1988-09-01",87.213399999999993]
["1988-10-01",88.384259999999998]
["1988-11-01",85.999570000000006]
["1988-12-01",87.312200000000004]
["1989-01-01",92.905550000000005]
["1989-02-01",90.998630000000006]
["1989-03-01",92.588210000000004]
["1989-04-01",96.770030000000006]
["1989-05-01",100.05364]
["1989-06-01",98.709490000000002]
["1989-07-01",105.42063]
["1989-08-01",106.63227000000001]
["1989-09-01",105.57129999999999]
["1989-10-01",101.58647000000001]
["1989-11-01",102.40195]
["1989-12-01",103.3571]
["1990-01-01",95.170919999999995]
["1990-02-01",95.935829999999996]
["1990-03-01",97.765870000000007]
["1990-04-01",94.405180000000001]
["1990-05-01",102.65518]
["1990-06-01",101.52194]
["1990-07-01",100]
["1990-08-01",89.739509999999996]
["1990-09-01",84.29074]
["1990-10-01",82.843519999999998]
["1990-11-01",88.046260000000004]
["1990-12-01",90.312939999999998]
["1991-01-01",94.048940000000002]
["1991-02-01",100.47613]
["1991-03-01",102.78412]
["1991-04-01",102.58177000000001]
["1991-05-01",106.00086]
["1991-06-01",100.77836000000001]
["1991-07-01",105.2064]
["1991-08-01",107.7726]
["1991-09-01",106.32576]
["1991-10-01",107.95041999999999]
["1991-11-01",103.33005]
["1991-12-01",114.17495]
["1992-01-01",113.49542]
["1992-02-01",114.08627]
["1992-03-01",110.88502]
["1992-04-01",112.34367]
["1992-05-01",112.73886]
["1992-06-01",110.35157]
["1992-07-01",114.64503999999999]
["1992-08-01",111.70877]
["1992-09-01",112.43170000000001]
["1992-10-01",113.19665999999999]
["1992-11-01",117.43486]
["1992-12-01",119.34191]
["1993-01-01",120.85209]
["1993-02-01",121.18092]
["1993-03-01",124.11293999999999]
["1993-04-01",120.54747999999999]
["1993-05-01",123.04353]
["1993-06-01",123.15194]
["1993-07-01",122.99214000000001]
["1993-08-01",127.23636]
["1993-09-01",127.00479]
["1993-10-01",128.79447999999999]
["1993-11-01",125.85489]
["1993-12-01",127.72499000000001]
["1994-01-01",131.55544]
["1994-02-01",128.24448000000001]
["1994-03-01",122.04013999999999]
["1994-04-01",123.01151]
["1994-05-01",123.51738]
["1994-06-01",120.35062000000001]
["1994-07-01",123.45321]
["1994-08-01",128.63041999999999]
["1994-09-01",125.87853]
["1994-10-01",127.81283000000001]
["1994-11-01",122.69027]
["1994-12-01",124.08592]
["1995-01-01",126.3493]
["1995-02-01",131.14944]
["1995-03-01",134.28405000000001]
["1995-04-01",137.11722]
["1995-05-01",140.38658000000001]
["1995-06-01",143.59678]
["1995-07-01",148.54320000000001]
["1995-08-01",148.72223]
["1995-09-01",153.58645999999999]
["1995-10-01",151.37223]
["1995-11-01",157.13088999999999]
["1995-12-01",159.00485]
["1996-01-01",162.24095]
["1996-02-01",164.10808]
["1996-03-01",164.50622000000001]
["1996-04-01",167.86234999999999]
["1996-05-01",171.499]
["1996-06-01",169.25178]
["1996-07-01",159.26613]
["1996-08-01",163.73133000000001]
["1996-09-01",171.73912000000001]
["1996-10-01",173.01974000000001]
["1996-11-01",183.07014000000001]
["1996-12-01",179.60140000000001]
["1997-01-01",188.23154]
["1997-02-01",187.25346999999999]
["1997-03-01",177.99593999999999]
["1997-04-01",184.78451999999999]
["1997-05-01",196.92429000000001]
["1997-06-01",204.81876]
["1997-07-01",219.29217]
["1997-08-01",208.97451000000001]
["1997-09-01",220.14440999999999]
["1997-10-01",211.56916000000001]
["1997-11-01",216.96129999999999]
["1997-12-01",219.66735]
["1998-01-01",219.40638000000001]
["1998-02-01",233.16193000000001]
["1998-03-01",243.02975000000001]
["1998-04-01",244.15333000000001]
["1998-05-01",235.97543999999999]
["1998-06-01",242.82128]
["1998-07-01",236.16800000000001]
["1998-08-01",197.94955999999999]
["1998-09-01",208.67204000000001]
["1998-10-01",221.88852]
["1998-11-01",233.46007]
["1998-12-01",246.45668000000001]
["1999-01-01",253.73587000000001]
["1999-02-01",242.98806999999999]
["1999-03-01",251.67812000000001]
["1999-04-01",261.84804000000003]
["1999-05-01",254.40873999999999]
["1999-06-01",266.00060000000002]
["1999-07-01",256.12569000000002]
["1999-08-01",252.06807000000001]
["1999-09-01",244.33448999999999]
["1999-10-01",258.33210000000003]
["1999-11-01",265.58580999999998]
["1999-12-01",283.74709999999999]
["2000-01-01",270.14776999999998]
["2000-02-01",275.09447]
["2000-03-01",289.17797000000002]
["2000-04-01",270.70393999999999]
["2000-05-01",261.60347999999999]
["2000-06-01",271.91401000000002]
["2000-07-01",265.18178]
["2000-08-01",282.41791999999998]
["2000-09-01",267.25184999999999]
["2000-10-01",260.52996000000002]
["2000-11-01",233.80753999999999]
["2000-12-01",235.54759000000001]
["2001-01-01",241.86914999999999]
["2001-02-01",217.09948]
["2001-03-01",199.97958]
["2001-04-01",213.56797]
["2001-05-01",215.50319999999999]
["2001-06-01",210.07639]
["2001-07-01",205.23206999999999]
["2001-08-01",191.29268999999999]
["2001-09-01",170.35408000000001]
["2001-10-01",174.89044999999999]
["2001-11-01",186.47725]
["2001-12-01",187.74841000000001]
["2002-01-01",184.55177]
["2002-02-01",179.53801999999999]
["2002-03-01",186.83065999999999]
["2002-04-01",177.55595]
["2002-05-01",174.39250999999999]
["2002-06-01",161.19623999999999]
["2002-07-01",146.89117999999999]
["2002-08-01",146.41030000000001]
["2002-09-01",130.94803999999999]
["2002-10-01",139.68387000000001]
["2002-11-01",146.57273000000001]
["2002-12-01",137.71789000000001]
["2003-01-01",133.36422999999999]
["2003-02-01",130.05277000000001]
["2003-03-01",130.88184000000001]
["2003-04-01",140.55246]
["2003-05-01",147.38997000000001]
["2003-06-01",148.45071999999999]
["2003-07-01",150.65822]
["2003-08-01",152.58689000000001]
["2003-09-01",151.39393999999999]
["2003-10-01",160.65599]
["2003-11-01",162.51510999999999]
["2003-12-01",169.58911000000001]
["2004-01-01",172.96034]
["2004-02-01",174.10183000000001]
["2004-03-01",171.02068]
["2004-04-01",166.10337000000001]
["2004-05-01",166.08123000000001]
["2004-06-01",169.3349]
["2004-07-01",162.47443999999999]
["2004-08-01",162.08221]
["2004-09-01",163.57275999999999]
["2004-10-01",165.28683000000001]
["2004-11-01",171.97985]
["2004-12-01",177.41317000000001]
["2005-01-01",172.43373]
["2005-02-01",175.65554]
["2005-03-01",172.11588]
["2005-04-01",167.76254]
["2005-05-01",173.35892999999999]
["2005-06-01",173.63872000000001]
["2005-07-01",179.74596]
["2005-08-01",176.90226000000001]
["2005-09-01",177.19750999999999]
["2005-10-01",172.84987000000001]
["2005-11-01",178.90755999999999]
["2005-12-01",178.19543999999999]
["2006-01-01",183.20543000000001]
["2006-02-01",182.13731999999999]
["2006-03-01",184.85749000000001]
["2006-04-01",185.68082999999999]
["2006-05-01",179.19597999999999]
["2006-06-01",178.29079999999999]
["2006-07-01",176.82973000000001]
["2006-08-01",179.77112]
["2006-09-01",182.78801999999999]
["2006-10-01",187.89756]
["2006-11-01",190.75376]
["2006-12-01",191.53086999999999]
["2007-01-01",193.93716000000001]
["2007-02-01",190.06145000000001]
["2007-03-01",191.02929]
["2007-04-01",196.51122000000001]
["2007-05-01",202.89639]
["2007-06-01",198.48363000000001]
["2007-07-01",190.75411]
["2007-08-01",191.03559999999999]
["2007-09-01",197.13371000000001]
["2007-10-01",200.32144]
["2007-11-01",190.37270000000001]
["2007-12-01",188.13497000000001]
["2008-01-01",175.72881000000001]
["2008-02-01",168.17008000000001]
["2008-03-01",165.31175999999999]
["2008-04-01",172.39166]
["2008-05-01",175.37105]
["2008-06-01",160.45641000000001]
["2008-07-01",157.90066999999999]
["2008-08-01",159.74832000000001]
["2008-09-01",143.35983999999999]
["2008-10-01",116.40929]
["2008-11-01",106.09444000000001]
["2008-12-01",105.3314]
["2009-01-01",95.638040000000004]
["2009-02-01",85.092359999999999]
["2009-03-01",91.575059999999993]
["2009-04-01",101.00015]
["2009-05-01",105.36754999999999]
["2009-06-01",105.48801]
["2009-07-01",113.50226000000001]
["2009-08-01",117.48591]
["2009-09-01",122.20252000000001]
["2009-10-01",118.70292000000001]
["2009-11-01",124.85458]
["2009-12-01",128.08653000000001]
["2010-01-01",124.07605]
["2010-02-01",127.22221999999999]
["2010-03-01",134.98819]
["2010-04-01",137.20805999999999]
["2010-05-01",125.2765]
["2010-06-01",117.91674999999999]
["2010-07-01",125.78766]
["2010-08-01",118.95697]
["2010-09-01",129.37279000000001]
["2010-10-01",133.50257999999999]
["2010-11-01",133.6053]
["2010-12-01",142.03397000000001]
["2011-01-01",144.60398000000001]
["2011-02-01",148.39608000000001]
["2011-03-01",147.77376000000001]
["2011-04-01",150.88102000000001]
["2011-05-01",147.63578999999999]
["2011-06-01",143.61190999999999]
["2011-07-01",137.87574000000001]
["2011-08-01",126.75328]
["2011-09-01",116.60861]
["2011-10-01",129.25346999999999]
["2011-11-01",127.84841]
["2011-12-01",128.15733]
["2012-01-01",133.32259999999999]
["2012-02-01",137.90006]
["2012-03-01",141.30850000000001]
["2012-04-01",139.38554999999999]
["2012-05-01",129.91390000000001]
["2012-06-01",133.86694]
["2012-07-01",134.40556000000001]
["2012-08-01",136.34290999999999]
["2012-09-01",138.55850000000001]
["2012-10-01",135.06900999999999]
["2012-11-01",134.67085]
["2012-12-01",134.44280000000001]
["2013-01-01",141.25882999999999]
["2013-02-01",142.51078000000001]
["2013-03-01",146.98741999999999]
["2013-04-01",148.99345]
["2013-05-01",151.57325]
["2013-06-01",148.59494000000001]
["2013-07-01",155.91766000000001]
["2013-08-01",150.25981999999999]
["2013-09-01",154.49954]
["2013-10-01",159.14657]
["2013-11-01",163.28473]
["2013-12-01",166.24038999999999]
["2014-01-01",160.1832]
["2014-02-01",165.76160999999999]
["2014-03-01",166.23070999999999]
["2014-04-01",165.60884999999999]
["2014-05-01",167.90774999999999]
["2014-06-01",170.92671999999999]
["2014-07-01",166.75552999999999]
["2014-08-01",172.75537]
["2014-09-01",168.39048]
["2014-10-01",171.85446999999999]
["2014-11-01",175.16432]
["2014-12-01",173.58709999999999]
["2015-01-01",167.74028999999999]
["2015-02-01",174.91148000000001]
["2015-03-01",172.54424]
["2015-04-01",172.69740999999999]
["2015-05-01",174.12573]
["2015-06-01",170.15472]
["2015-07-01",172.24620999999999]
["2015-08-01",160.9632]
["2015-09-01",155.55977999999999]
["2015-10-01",167.34083000000001]
["2015-11-01",166.27813]
["2015-12-01",161.89203000000001]
["2016-01-01",151.37710999999999]
["2016-02-01",149.85402999999999]
["2016-03-01",159.3929]
["2016-04-01",159.19038]
["2016-05-01",160.82682]
["2016-06-01",160.24458000000001]
["2016-07-01",165.59553]
["2016-08-01",164.50388000000001]
["2016-09-01",163.64322000000001]
["2016-10-01",159.29714999999999]
["2016-11-01",165.19519]
["2016-12-01",167.81872999999999]
["2017-01-01",169.71669]
["2017-02-01",174.64688000000001]
["2017-03-01",173.55956]
["2017-04-01",174.43810999999999]
["2017-05-01",175.09062]
["2017-06-01",176.08669]
["2017-07-01",178.41525999999999]
["2017-08-01",177.69246000000001]
["2017-09-01",181.15464]
["2017-10-01",184.16083]
["2017-11-01",188.87405999999999]
["2017-12-01",189.85963000000001]
["2018-01-01",199.45400000000001]
["2018-02-01",191.11299]
["2018-03-01",186.02713]
["2018-04-01",186.31798000000001]
["2018-05-01",190.20919000000001]
["2018-06-01",190.42031]
["2018-07-01",196.20587]
["2018-08-01",202.04468]
["2018-09-01",201.64662000000001]
["2018-10-01",186.61324999999999]
["2018-11-01",189.57900000000001]
["2018-12-01",170.13354000000001]
["2019-01-01",183.75237999999999]
["2019-02-01",189.20093]
["2019-03-01",191.21735000000001]
["2019-04-01",198.24446]
["2019-05-01",183.59828999999999]
["2019-06-01",194.55571]
["2019-07-01",196.13494]
["2019-08-01",190.73501999999999]
["2019-09-01",192.70688000000001]
["2019-10-01",194.96985000000001]
["2019-11-01",200.42787000000001]
["2019-12-01",204.89926]
["2020-01-01",203.68090000000001]
["2020-02-01",185.93445]
["2020-03-01",155.00479000000001]
["2020-04-01",164.84879000000001]
["2020-05-01",164.78126]
["2020-06-01",165.79415]
["2020-07-01",173.50649000000001]
["2020-08-01",185.27351999999999]
["2020-09-01",175.88399000000001]
["2020-10-01",170.44275999999999]
["2020-11-01",188.35343]
["2020-12-01",194.80042]
["2021-01-01",191.53817000000001]
["2021-02-01",194.66675000000001]
["2021-03-01",199.12038999999999]
["2021-04-01",206.58886999999999]
["2021-05-01",204.06093999999999]
["2021-06-01",208.17828]
["2021-07-01",210.11171999999999]
["2021-08-01",214.09309999999999]
["2021-09-01",203.23668000000001]
["2021-10-01",215.18549999999999]
["2021-11-01",210.36152000000001]
["2021-12-01",215.91695999999999]
["2022-01-01",203.26535000000001]
["2022-02-01",197.94228000000001]
["2022-03-01",203.09949]
["2022-04-01",184.78653]
["2022-05-01",184.25997000000001]
["2022-06-01",168.59380999999999]
["2022-07-01",184.17094]
["2022-08-01",177.24995999999999]
["2022-09-01",161.47436999999999]
["2022-10-01",175.30368999999999]
["2022-11-01",184.24456000000001]
["2022-12-01",173.51105999999999]
["2023-01-01",186.49001999999999]
["2023-02-01",182.86282]
["2023-03-01",189.6215]
["2023-04-01",192.99217999999999]
["2023-05-01",192.40610000000001]
["2023-06-01",205.01687999999999]
["2023-07-01",212.07995]
["2023-08-01",207.97851]
["2023-09-01",198.49734000000001]
["2023-10-01",193.31469999999999]
["2023-11-01",210.54378]
["2023-12-01",220.48981000000001]
["2024-01-01",{"$f":"NA()","v":{"$error":"#N/A"}}]
["2024-02-01",{"$f":"NA()","v":{"$error":"#N/A"}}]

{"sheet":"DJIA_def","index":8,"n_rows":131,"n_cols":2,"rows_kept":131,"cut":false,"hidden":false,"merged":[]}
["FRED Graph Observations"]
["Federal Reserve Economic Data"]
["Link: https://fred.stlouisfed.org"]
["Help: https://fredhelp.stlouisfed.org"]
["Economic Research Division"]
["Federal Reserve Bank of St. Louis"]
[]
["DJIA_CPIAUCSL","DJIA/CPIAUCSL, Index/Index 1982-1984=100, Monthly"]
[]
["Frequency: Monthly"]
["observation_date","DJIA_CPIAUCSL"]
["2014-03-01",69.727574694527775]
["2014-04-01",70.118747568381352]
["2014-05-01",70.560995787572068]
["2014-06-01",70.929178732964914]
["2014-07-01",69.740797817244783]
["2014-08-01",72.005600943316765]
["2014-09-01",71.766528969121225]
["2014-10-01",73.244830055174162]
["2014-11-01",75.230037597633583]
["2014-12-01",75.44092748421177]
["2015-01-01",73.121062249996811]
["2015-02-01",77.048295671830786]
["2015-03-01",75.330203071498801]
["2015-04-01",75.524379609011859]
["2015-05-01",75.994109729494809]
["2015-06-01",74.138401141140378]
["2015-07-01",74.316526210541355]
["2015-08-01",69.435876538127062]
["2015-09-01",68.567735307244689]
["2015-10-01",74.299907879848405]
["2015-11-01",74.448127654747353]
["2015-12-01",73.288007705216586]
["2016-01-01",69.287445508558733]
["2016-02-01",69.591212458286989]
["2016-03-01",74.282132056451616]
["2016-04-01",74.36918390573743]
["2016-05-01",74.250387172990145]
["2016-06-01",74.639250360083594]
["2016-07-01",76.768693174955544]
["2016-08-01",76.496622253632381]
["2016-09-01",75.91198958436992]
["2016-10-01",75.048998721772477]
["2016-11-01",79.014568682703512]
["2016-12-01",81.449243108017328]
["2017-01-01",81.537858450525007]
["2017-02-01",85.293968181110301]
["2017-03-01",84.72282813704426]
["2017-04-01",85.753932340402883]
["2017-05-01",86.099613121096382]
["2017-06-01",87.440070772393852]
["2017-07-01",89.628443803916596]
["2017-08-01",89.517217751638569]
["2017-09-01",90.916834053604404]
["2017-10-01",94.78822184197935]
["2017-11-01",98.155764222513383]
["2017-12-01",99.75270878311575]
["2018-01-01",105.07713203058761]
["2018-02-01",100.30577608213875]
["2018-03-01",96.575846331993731]
["2018-04-01",96.564919053499423]
["2018-05-01",97.354939551500848]
["2018-06-01",96.691910540279977]
["2018-07-01",101.16948100026272]
["2018-08-01",103.17297338106913]
["2018-09-01",104.91751988643122]
["2018-10-01",99.361321665374334]
["2018-11-01",101.10477683555429]
["2018-12-01",92.288392076497331]
["2019-01-01",98.923187109742869]
["2019-02-01",102.30457678369822]
["2019-03-01",102.00029897483104]
["2019-04-01",104.19970142352798]
["2019-05-01",97.203337381017661]
["2019-06-01",104.248566580054]
["2019-07-01",105.06783737802374]
["2019-08-01",103.11404793426514]
["2019-09-01",104.93440827099033]
["2019-10-01",105.13842888463871]
["2019-11-01",108.80947855533101]
["2019-12-01",110.3506356915272]
["2020-01-01",109.08105791836688]
["2020-02-01",98.011787940504846]
["2020-03-01",84.909423377911395]
["2020-04-01",95.066304296893307]
["2020-05-01",99.203925461566115]
["2020-06-01",100.44469348524822]
["2020-07-01",102.32509156800037]
["2020-08-01",109.59462012019537]
["2020-09-01",106.84077545196882]
["2020-10-01",101.81723181423511]
["2020-11-01",113.63942748252579]
["2020-12-01",116.80302249699467]
["2021-01-01",114.15427374833429]
["2021-02-01",117.32895106168307]
["2021-03-01",124.49908272118499]
["2021-04-01",127.02909963625454]
["2021-05-01",128.62813100683942]
["2021-06-01",127.52305412128223]
["2021-07-01",128.55076463402068]
["2021-08-01",129.5881921794261]
["2021-09-01",123.50533522121827]
["2021-10-01",129.53602245029327]
["2021-11-01",123.72572306080492]
["2021-12-01",129.36981775589473]
["2022-01-01",124.3170004140142]
["2022-02-01",119.08436105547943]
["2022-03-01",120.63209634329604]
["2022-04-01",114.26179182359647]
["2022-05-01",113.26379828886111]
["2022-06-01",104.4197700931028]
["2022-07-01",111.48000190070191]
["2022-08-01",106.69927536231884]
["2022-09-01",96.869248227046015]
["2022-10-01",109.84690607308373]
["2022-11-01",115.84059504752209]
["2022-12-01",110.86407572159604]
["2023-01-01",113.41749407724865]
["2023-02-01",108.26095316395269]
["2023-03-01",110.24939696760855]
["2023-04-01",112.56564482797324]
["2023-05-01",108.5028718009588]
["2023-06-01",113.24212334740868]
["2023-07-01",116.83838894949203]
["2023-08-01",113.37063169958435]
["2023-09-01",108.97421304080578]
["2023-10-01",107.44742684944688]
["2023-11-01",116.75513206480967]
["2023-12-01",122.03186012627489]
["2024-01-01"]
["2024-02-01"]

{"sheet":"Tocalino Index x DJIA","index":9,"n_rows":1176,"n_cols":16,"rows_kept":1176,"cut":false,"hidden":false,"merged":[[1,1,1,10],[9,0,10,11],[12,0,12,5],[13,0,13,2],[6,1,6,10],[7,1,7,10],[3,1,3,10],[4,1,4,10]]}
[]
[null,"Tocalino Index was developed by Sebastiao Buck Tocalino"]
[]
[null,"Copyright © Sebastiao Buck Tocalino"]
[null," www.deolhonabolsa.com/sbt/    -    www.deolhonabolsa.com.br/sbt/ "]
[]
[null,"The economy is directly proportional to the population between 25 and 54 years old, but"]
[null,"  inversely proportional to the unemployment rate and the consumer price inflation rate."]
[]
["The Tocalino Index: is the number of civilian people, between 25 and 54 years of age in the U.S., divided by the sum of the unemployment rate, and the core inflation rate, that is CPI less food and energy. The result is a gauge for the Stock Market indexes, adjusted for inflation, such as the Dow Jones Industrial Average, or the Wilshire 5000."]
[]
["Tocalino Index data sheet form FRED economic data repository",null,null,null,null,null,null,{"$f":"MAXA(H16:H1176)","v":"2023-12-01"}]
["Civilian Noninstitutional Population - 25 to 54 years (LNU00000060)",null,null,null,null,null,null,null,null,"Dow Jones Industrial Average / Consumer Price Index"]
["Tocalino Index  © ® ",null,null,"Índice Tocalino © ® ",null,null,{"$f":"TODAY()","v":"2024-02-08"},null,null,"  (Dow Jones adjusted for inflation)"]
["mmm-yyyy","LNU00000060","UNRATE","CPILFESL"," = LNU00000060/(UNRATE+CPILFESL)",null,null,"yyyy-mm-dd","DJIA","CPIAUCSL"," = DJIA/CPIAUCSL"]
["1957-01-01",64857,4.2,{"$error":"#N/A"},{"$f":"B16/(C16+D16)","v":{"$error":"#N/A"}},null,null,"1957-01-01",0,0]
["1957-02-01",64879,3.9,{"$error":"#N/A"},{"$error":"#N/A"},null,null,"1957-02-01",0,0]
["1957-03-01",64908,3.7,{"$error":"#N/A"},{"$error":"#N/A"},null,null,"1957-03-01",0,0]
["1957-04-01",64934,3.9,{"$error":"#N/A"},{"$error":"#N/A"},null,null,"1957-04-01",0,0]
["1957-05-01",64972,4.0999999999999996,{"$error":"#N/A"},{"$error":"#N/A"},null,null,"1957-05-01",0,0]
["1957-06-01",65025,4.3,{"$error":"#N/A"},{"$error":"#N/A"},null,null,"1957-06-01",0,0]
["1957-07-01",65113,4.2,{"$error":"#N/A"},{"$error":"#N/A"},null,null,"1957-07-01",0,0]
["1957-08-01",65134,4.0999999999999996,{"$error":"#N/A"},{"$error":"#N/A"},null,null,"1957-08-01",0,0]
["1957-09-01",65165,4.4000000000000004,{"$error":"#N/A"},{"$error":"#N/A"},null,null,"1957-09-01",0,0]
["1957-10-01",65205,4.5,{"$error":"#N/A"},{"$error":"#N/A"},null,null,"1957-10-01",0,0]
["1957-11-01",65251,5.0999999999999996,{"$error":"#N/A"},{"$error":"#N/A"},null,null,"1957-11-01",0,0]
["1957-12-01",65290,5.2,{"$error":"#N/A"},{"$error":"#N/A"},null,null,"1957-12-01",0,0]
["1958-01-01",65325,5.8,2.8070200000000001,7589.7348908216782,76.099999999999994,"1958-01-01","1958-01-01",450.02,28.64,{"$f":"I28/J28","v":15.712988826815641},{"$f":"IF(J28=\"\",\"\",K28/$M$418)","v":70.581889091953784}]
["1958-02-01",65350,6.4,2.7972000000000001,7105.4233897273079,71.3,"1958-02-01","1958-02-01",439.92,28.7,15.328222996515681,68.853541960804648,null,null,null,{"$f":"VLOOKUP($H29,CPIAUCSL!$A$12:$B$1041,2,FALSE)","v":28.7}]
["1958-03-01",65373,6.7,2.7874599999999998,6890.463833312604,69.099999999999994,"1958-03-01","1958-03-01",446.76,28.87,15.474887426394179,69.512350583245237]
["1958-04-01",65392,7.4,2.4305599999999998,6651.9099624029559,66.7,"1958-04-01","1958-04-01",455.86,28.94,15.751900483759503,70.756678133368283]
["1958-05-01",65422,7.4,2.4305599999999998,6654.9616705457265,66.8,"1958-05-01","1958-05-01",462.7,28.94,15.988251554941257,71.818354258565137]
["1958-06-01",65451,7.3,2.4221499999999998,6732.1528674213014,67.5,"1958-06-01","1958-06-01",478.18,28.91,16.540297474922173,74.298114431961437]
["1958-07-01",65460,7.5,2.0689700000000002,6840.8616601368794,68.599999999999994,"1958-07-01","1958-07-01",502.99,28.89,17.410522672204916,78.207118570932863]
["1958-08-01",65449,7.4,2.0689700000000002,6911.9450161950026,69.3,"1958-08-01","1958-08-01",508.63,28.94,17.575328265376641,78.947416309777353]
["1958-09-01",65426,7.1,2.0618599999999998,7141.1263651703921,71.599999999999994,"1958-09-01","1958-09-01",532.09,28.91,18.405050155655484,82.674481802046017]
["1958-10-01",65454,6.7,1.7123299999999999,7780.7218689709025,78,"1958-10-01","1958-10-01",543.22,28.91,18.790038049117953,84.403826428813616]
["1958-11-01",65476,6.2,1.70648,8281.3084963220044,83.1,"1958-11-01","1958-11-01",557.46,28.95,19.2559585492228,86.496715911936377]
["1958-12-01",65497,6.2,2.0477799999999999,7941.1671989311062,79.7,"1958-12-01","1958-12-01",583.65,28.97,20.146703486365205,90.497893603561181]
["1959-01-01",65525,6,2.0477799999999999,8141.9969233751426,81.7,"1959-01-01","1959-01-01",593.96,29.01,20.474319200275769,91.969525527880634]
["1959-02-01",65544,5.9,1.70068,8623.4389554618792,86.5,"1959-02-01","1959-02-01",603.5,29,20.810344827586206,93.478934324659235]
["1959-03-01",65566,5.6,1.69492,8987.8984279471206,90.2,"1959-03-01","1959-03-01",601.71,28.97,20.770107007248882,93.298188229587609]
["1959-04-01",65587,5.2,1.69492,9512.3656257070415,95.4,"1959-04-01","1959-04-01",623.75,28.98,21.523464458247066,96.682228824220104]
["1959-05-01",65614,5.0999999999999996,2.0339,9197.4936570459358,92.3,"1959-05-01","1959-05-01",643.79,29.04,22.169077134986225,99.582285767441221]
["1959-06-01",65638,5,2.0270299999999999,9340.7883558203102,93.7,"1959-06-01","1959-06-01",643.6,29.11,22.109240810717967,99.313504261279604]
["1959-07-01",65660,5.0999999999999996,2.0270299999999999,9212.8137527132621,92.4,"1959-07-01","1959-07-01",674.88,29.15,23.151972555746141,103.99739840716204]
["1959-08-01",65681,5.2,2.0270299999999999,9088.2423346796677,91.2,"1959-08-01","1959-08-01",664.41,29.18,22.769362577107607,102.27873524413269]
["1959-09-01",65650,5.5,2.0202,8729.8210153985274,87.6,"1959-09-01","1959-09-01",631.67999999999995,29.25,21.595897435897434,97.007593810567784]
["1959-10-01",65639,5.7,2.3569,8146.929960654842,81.7,"1959-10-01","1959-10-01",646.6,29.35,22.030664395229984,98.960543287123542]
["1959-11-01",65621,5.8,2.01342,8398.4989927586121,84.2,"1959-11-01","1959-11-01",659.18,29.35,22.459284497444632,100.88588141665031]
["1959-12-01",65642,5.3,2.0066899999999999,8983.8216757519476,90.1,"1959-12-01","1959-12-01",679.36,29.41,23.099625977558652,103.76226043203236]
["1960-01-01",65931,5.2,2.0066899999999999,9148.5827751714023,91.8,"1960-01-01","1960-01-01",622.62,29.37,21.199182839632279,95.225573474184657]
["1960-02-01",65952,4.8,2.3411400000000002,9235.5002142515059,92.6,"1960-02-01","1960-02-01",630.12,29.41,21.425365521931315,96.241573750930641]
["1960-03-01",65975,5.4,2,8915.54054054054,89.4,"1960-03-01","1960-03-01",616.59,29.41,20.965317919075144,94.175065002041393]
["1960-04-01",65974,5.2,2,9163.0555555555547,91.9,"1960-04-01","1960-04-01",601.70000000000005,29.54,20.368991198375088,91.496397886133451]
["1960-05-01",65989,5.0999999999999996,1.66113,9760.054902065187,97.9,"1960-05-01","1960-05-01",625.5,29.57,21.153195806560703,95.019002228974657]
["1960-06-01",66017,5.4,1.6556299999999999,9356.6414338620361,93.9,"1960-06-01","1960-06-01",640.62,29.61,21.635258358662615,97.184400929556361]
["1960-07-01",66034,5.5,1.3245,9676.0202212616296,97.1,"1960-07-01","1960-07-01",616.73,29.55,20.87072758037225,93.750170357929875]
["1960-08-01",66069,5.6,1.3245,9541.3387248176768,95.7,"1960-08-01","1960-08-01",625.99,29.61,21.141168524147247,94.964976332136033]
["1960-09-01",66073,5.5,0.99009999999999998,10180.5827337021,102.1,"1960-09-01","1960-09-01",580.14,29.61,19.592705167173253,88.009363359359412]
["1960-10-01",66091,6.1,1.31579,8912.1995094251597,89.4,"1960-10-01","1960-10-01",580.36,29.75,19.507899159663864,87.628419397498774]
["1960-11-01",66146,6.1,1.31579,8919.616116421852,89.5,"1960-11-01","1960-11-01",597.22,29.78,20.054398925453324,90.083266548659608]
["1960-12-01",66194,6.6,0.65573999999999999,9122.9840099011271,91.5,"1960-12-01","1960-12-01",615.89,29.81,20.660516605166052,92.805914118620748]
["1961-01-01",66237,6.6,0.98360999999999998,8734.2307950962677,87.6,"1961-01-01","1961-01-01",648.20000000000005,29.84,21.722520107238608,97.576375946394009]
["1961-02-01",66243,6.9,0.65359,8769.7373037191574,88,"1961-02-01","1961-02-01",662.08,29.84,22.187667560321717,99.665792944443908]
["1961-03-01",66253,6.9,0.98038999999999998,8407.325018178035,84.3,"1961-03-01","1961-03-01",676.63,29.84,22.675268096514746,101.85606796761581]
["1961-04-01",66274,7,0.98038999999999998,8304.6066670927103,83.3,"1961-04-01","1961-04-01",678.71,29.81,22.767863133176789,102.27199982374952]
["1961-05-01",66301,7.1,0.98038999999999998,8205.1732651518068,82.3,"1961-05-01","1961-05-01",696.72,29.84,23.348525469168901,104.88030337761744]
["1961-06-01",66328,6.9,0.97719999999999996,8420.2508505560345,84.5,"1961-06-01","1961-06-01",683.96,29.84,22.920911528150135,102.95948486932373]
["1961-07-01",66348,7,1.3071900000000001,7986.8162399078383,80.099999999999994,"1961-07-01","1961-07-01",705.37,29.92,23.575200534759357,105.8985154132623]
["1961-08-01",66362,6.6,1.6339900000000001,8059.5191395666006,80.8,"1961-08-01","1961-08-01",719.94,29.94,24.046092184368739,108.01373502891782]
["1961-09-01",66373,6.7,1.6339900000000001,7964.1324263648021,79.900000000000006,"1961-09-01","1961-09-01",701.21,29.98,23.389259506337559,105.06327845164022]
["1961-10-01",66380,6.5,0.97402999999999995,8881.4200638745097,89.1,"1961-10-01","1961-10-01",703.92,29.98,23.479653102068042,105.46932155513836]
["1961-11-01",66324,6.1,1.2987,8964.2775082109019,89.9,"1961-11-01","1961-11-01",721.6,29.98,24.069379586390927,108.11834076910424]
["1961-12-01",66316,6,1.62866,8693.0076841804457,87.2,"1961-12-01","1961-12-01",731.14,30.01,24.36321226257914,109.4382211299249]
["1962-01-01",66277,5.8,1.2987,9336.4982320706604,93.7,"1962-01-01","1962-01-01",700,30.04,23.30226364846871,104.67249780136193]
["1962-02-01",66272,5.5,1.2987,9747.7458925971132,97.8,"1962-02-01","1962-02-01",708.05,30.11,23.515443374294254,105.63008950658819]
["1962-03-01",66290,5.6,1.2945,9614.9104358546665,96.4,"1962-03-01","1962-03-01",706.95,30.17,23.43221743453762,105.25624312292302]
["1962-04-01",66023,5.6,1.2945,9576.1839147146275,96.1,"1962-04-01","1962-04-01",665.33,30.21,22.023502151605431,98.928370879268513]
["1962-05-01",66043,5.5,1.61812,{"$f":"B80/(C80+D80)","v":9278.1520963400453},93.1,"1962-05-01","1962-05-01",613.36,30.24,20.283068783068785,91.110439081318901]
["1962-06-01",66069,5.5,1.2903199999999999,9729.8801823772665,97.6,"1962-06-01","1962-06-01",561.28,30.21,18.579278384640848,83.457105507215715]
["1962-07-01",66167,5.4,1.2903199999999999,9889.9604204283205,99.2,"1962-07-01","1962-07-01",597.92999999999995,30.22,19.785903375248179,88.877199176300678]
["1962-08-01",66204,5.7,1.28617,9476.4370177078417,95.1,"1962-08-01","1962-08-01",609.17999999999995,30.28,20.118229854689563,90.369991602539869]
["1962-09-01",66282,5.6,1.28617,9625.3795651283654,96.6,"1962-09-01","1962-09-01",578.98,30.42,19.032873109796185,85.494628281302568]
["1962-10-01",66318,5.4,1.28617,9918.6828931959535,99.5,"1962-10-01","1962-10-01",589.77,30.38,19.413100724160632,87.202589993906187]
["1962-11-01",66334,5.7,0.96153999999999995,9957.7575155294417,99.9,"1962-11-01","1962-11-01",649.29999999999995,30.38,21.372613561553653,96.004614821105321]
["1962-12-01",66349,5.5,1.2820499999999999,9783.0302047316072,98.1,"1962-12-01","1962-12-01",652.1,30.38,21.464779460171165,96.418619012540873]
["1963-01-01",66390,5.7,0.96153999999999995,9966.1639801006968,100,"1963-01-01","1963-01-01",682.85,30.44,22.432654402102497,100.76626048032411]
["1963-02-01",66405,5.9,1.2820499999999999,9245.9673770023874,92.7,"1963-02-01","1963-02-01",662.94,30.48,21.75,97.69981412639406]
["1963-03-01",66422,5.7,1.27796,9518.8278522662786,95.5,"1963-03-01","1963-03-01",682.52,30.51,22.37037037037037,100.48648400569095]
["1963-04-01",66437,5.7,1.27796,9520.9774776582271,95.5,"1963-04-01","1963-04-01",717.7,30.48,23.546587926509186,105.76998913704561]
["1963-05-01",66440,5.9,0.95540999999999998,9691.6158187475285,97.2,"1963-05-01","1963-05-01",726.96,30.51,{"$f":"I92/J92","v":23.826941986234022},{"$f":"IF(J92=\"\",\"\",K92/$M$418)","v":107.02932428760636}]
["1963-06-01",66461,5.6,1.27389,9668.6155873893822,97,"1963-06-01","1963-06-01",706.88,30.61,23.093106827834042,103.73297676691253]
["1963-07-01",66509,5.6,1.27389,9675.598532999511,97.1,"1963-07-01","1963-07-01",695.43,30.69,22.659824046920818,101.78669413889463]
["1963-08-01",66551,5.4,1.2698400000000001,9977.9005193527864,100.1,"1963-08-01","1963-08-01",729.32,30.75,23.717723577235773,106.53872114929329]
["1963-09-01",66547,5.5,1.2698400000000001,9829.922125190551,98.6,"1963-09-01","1963-09-01",732.79,30.72,23.853841145833332,107.15015384590562]
["1963-10-01",66572,5.5,1.5872999999999999,9393.139841688655,94.2,"1963-10-01","1963-10-01",755.23,30.75,24.560325203252034,110.32364171225358]
["1963-11-01",66596,5.7,1.5872999999999999,9138.6384531994008,91.7,"1963-11-01","1963-11-01",750.52,30.78,24.383365821962311,109.5287498198431]
["1963-12-01",66613,5.5,1.5822799999999999,9405.586901393337,94.3,"1963-12-01","1963-12-01",762.95,30.88,24.706930051813472,110.98218269866648]
["1964-01-01",66653,5.6,2.2222200000000001,8520.9825343700377,85.5,"1964-01-01","1964-01-01",785.34,30.94,25.382676147382028,114.01759731630713]
["1964-02-01",66666,5.4,1.89873,9133.9178185793953,91.6,"1964-02-01","1964-02-01",800.14,30.91,25.886120996441282,116.27904412899585]
["1964-03-01",66679,5.4,1.5772900000000001,9556.5756905618091,95.9,"1964-03-01","1964-03-01",813.29,30.94,26.286037491919842,118.07544722206869]
["1964-04-01",66702,5.3,1.5772900000000001,9698.8784826581395,97.3,"1964-04-01","1964-04-01",810.77,30.95,26.196122778675281,117.67155523258724]
["1964-05-01",66724,5.0999999999999996,1.5772900000000001,9992.6766697267922,100.2,"1964-05-01","1964-05-01",820.56,30.98,26.486765655261458,118.97710718751276]
["1964-06-01",66749,5.2,1.57233,9856.1351853793294,98.9,"1964-06-01","1964-06-01",831.5,31.01,26.813930990003222,120.44671603316193]
["1964-07-01",66774,4.9000000000000004,1.57233,10316.84107577951,103.5,"1964-07-01","1964-07-01",841.1,31.02,27.114764667956159,121.79804451219465]
["1964-08-01",66789,5,1.2539199999999999,10679.541791388441,107.1,"1964-08-01","1964-08-01",838.48,31.05,27.004186795491144,121.30133473811078]
["1964-09-01",66814,5.0999999999999996,1.2539199999999999,10515.398368251412,105.5,"1964-09-01","1964-09-01",875.37,31.08,28.165057915057918,126.51590451311644]
["1964-10-01",66838,5.0999999999999996,1.25,10525.669291338583,105.6,"1964-10-01","1964-10-01",873.08,31.12,28.055269922879177,126.02274283821193]
["1964-11-01",66862,4.8,1.5625,10508.762278978389,105.4,"1964-11-01","1964-11-01",875.43,31.21,28.049663569368789,125.99755940391805]
["1964-12-01",66885,5,1.2461100000000001,10708.264824026475,107.4,"1964-12-01","1964-12-01",874.13,31.25,27.972159999999999,125.6494175960347]
["1965-01-01",66911,4.9000000000000004,1.24224,10893.582797155435,109.3,"1965-01-01","1965-01-01",902.86,31.28,28.863810741687978,129.6546641122911]
["1965-02-01",66929,5.0999999999999996,1.24224,10552.896137642221,105.9,"1965-02-01","1965-02-01",903.48,31.28,28.883631713554987,129.74369883722036]
["1965-03-01",66951,4.7,1.24224,11266.963300035004,113,"1965-03-01","1965-03-01",889.05,31.31,28.395081443628232,127.54915766189882]
["1965-04-01",66977,4.8,1.5528,10542.910212819545,105.8,"1965-04-01","1965-04-01",922.31,31.38,29.391650732950925,132.02569257366432]
["1965-05-01",66996,4.5999999999999996,1.5528,10888.701079183462,109.2,"1965-05-01","1965-05-01",918.04,31.48,29.162642947903429,130.99700208940513]
["1965-06-01",67021,4.5999999999999996,1.2383900000000001,11479.363317626949,115.1,"1965-06-01","1965-06-01",868.03,31.61,27.460613729832332,123.35157964144015]
["1965-07-01",66934,4.4000000000000004,1.2383900000000001,11871.119237938488,119.1,"1965-07-01","1965-07-01",881.74,31.58,27.920835972134263,125.41887286119791]
["1965-08-01",66975,4.4000000000000004,1.2383900000000001,11878.390817236836,119.2,"1965-08-01","1965-08-01",893.1,31.55,28.307448494453247,127.15551523220945]
["1965-09-01",67005,4.3,1.54799,11457.782930545369,114.9,"1965-09-01","1965-09-01",930.58,31.62,29.43010752688172,132.1984383952246]
["1965-10-01",67013,4.2,1.2345699999999999,12330.874383805894,123.7,"1965-10-01","1965-10-01",960.82,31.65,30.357661927330177,136.36496218906061]
["1965-11-01",67019,4.0999999999999996,1.2307699999999999,12572.104967950223,126.1,"1965-11-01","1965-11-01",946.71,31.75,29.817637795275591,133.93920323156632]
["1965-12-01",67024,4,1.5384599999999999,12101.558917099699,121.4,"1965-12-01","1965-12-01",969.26,31.85,30.432025117739403,136.69899758588022]
["1966-01-01",67022,4,1.22699,12822.293518832063,128.6,"1966-01-01","1966-01-01",983.51,31.88,30.850376411543287,138.57820878791131]
["1966-02-01",67029,3.8,1.5337400000000001,12566.979267830829,126.1,"1966-02-01","1966-02-01",951.89,32.08,29.672381546134666,133.28672008022079]
["1966-03-01",67002,3.8,1.5337400000000001,12561.917153817021,126,"1966-03-01","1966-03-01",924.77,32.18,28.737414543194529,129.08689928014891]
["1966-04-01",67037,3.8,1.8348599999999999,11896.835058901197,119.3,"1966-04-01","1966-04-01",933.68,32.28,28.924411400247831,129.92687896641684]
["1966-05-01",67096,3.9,2.1406700000000001,11107.377161804898,111.4,"1966-05-01","1966-05-01",884.07,32.35,27.328284389489955,122.75716345960483]
["1966-06-01",67098,3.8,2.4464800000000002,10741.729742190802,107.8,"1966-06-01","1966-06-01",870.1,32.380000000000003,26.871525633106856,120.7054280297551]
["1966-07-01",67105,3.8,2.7522899999999999,10241.457566743842,102.7,"1966-07-01","1966-07-01",847.38,32.450000000000003,26.113405238828964,117.29999255359975]
["1966-08-01",67129,3.8,3.0581,9788.2795526457758,98.2,"1966-08-01","1966-08-01",788.41,32.65,24.147320061255744,108.46844513265437]
["1966-09-01",67144,3.7,3.0487799999999998,9949.0574592741214,99.8,"1966-09-01","1966-09-01",774.22,32.75,23.64030534351145,106.19096266447214]
["1966-10-01",67162,3.7,3.6585399999999999,9127.0822744729267,91.6,"1966-10-01","1966-10-01",807.07,32.85,24.56834094368341,110.3596479812297]
["1966-11-01",67179,3.6,3.3434699999999999,9675.1336147488219,97.1,"1966-11-01","1966-11-01",791.59,32.880000000000003,24.075121654501217,108.14413382598131]
["1966-12-01",67212,3.8,3.3333300000000001,9422.2473935735488,94.5,"1966-12-01","1966-12-01",785.69,32.92,23.866646415552857,107.20767441930498]
["1967-01-01",67275,3.9,3.6363599999999998,8926.7232457048231,89.5,"1967-01-01","1967-01-01",849.89,32.9,25.832522796352585,116.03828393652803]
["1967-02-01",67318,3.8,3.3232599999999999,9450.4482498182006,94.8,"1967-02-01","1967-02-01",839.37,33,25.435454545454547,114.25467500281628]
["1967-03-01",67348,3.8,3.6253799999999998,9069.9735232405619,91,"1967-03-01","1967-03-01",865.98,33,26.241818181818182,117.87681649205814]
["1967-04-01",67357,3.8,3.3033000000000001,9482.4940520603104,95.1,"1967-04-01","1967-04-01",897.05,33.1,27.101208459214497,121.73715076165125]
["1967-05-01",67398,3.8,3.2934100000000002,9501.4950496305719,95.3,"1967-05-01","1967-05-01",852.56,33.1,25.757099697885195,115.69948749050042]
["1967-06-01",67475,3.9,3.2835800000000002,9392.9489196194645,94.2,"1967-06-01","1967-06-01",860.26,33.299999999999997,25.833633633633635,116.04327375702842]
["1967-07-01",67579,3.8,3.2738100000000001,9553.4089832777536,95.8,"1967-07-01","1967-07-01",904.24,33.4,27.073053892215569,121.61068198176139]
["1967-08-01",67788,3.8,3.5608300000000002,9209.2875395845313,92.4,"1967-08-01","1967-08-01",901.29,33.5,26.90417910447761,120.85210564278977]
["1967-09-01",67908,3.8,3.5503,{"$f":"B144/(C144+D144)","v":9238.8065793232927},92.7,"1967-09-01","1967-09-01",926.66,33.6,27.579166666666666,123.88411296984718]
["1967-10-01",67973,4,3.23529,9394.6476229701912,94.2,"1967-10-01","1967-10-01",879.74,33.700000000000003,26.105044510385756,117.26243661728422]
["1967-11-01",68036,3.9,3.5294099999999999,9157.6585489291883,91.9,"1967-11-01","1967-11-01",875.81,33.9,25.835103244837757,116.04987517042983]
["1967-12-01",68102,3.8,3.8123200000000002,8946.2870714841192,89.7,"1967-12-01","1967-12-01",905.11,34,26.620882352941177,119.57955208105548]
["1968-01-01",68170,3.7,3.8011699999999999,9087.9156184968469,91.2,"1968-01-01","1968-01-01",855.47,34.1,25.087096774193547,112.6898708877963]
["1968-02-01",68232,3.8,4.3859599999999999,8335.2471793167824,83.6,"1968-02-01","1968-02-01",840.5,34.200000000000003,24.576023391812864,110.39415711935767]
["1968-03-01",68293,3.7,4.3731799999999996,8459.2440649161781,84.9,"1968-03-01","1968-03-01",840.67,34.299999999999997,24.50932944606414,110.09457155140336]
["1968-04-01",68356,3.5,4.3604700000000003,8696.1721118457299,87.2,"1968-04-01","1968-04-01",912.22,34.4,26.518023255813954,119.11751462493878]
["1968-05-01",68418,3.5,4.3478300000000001,8718.0787555285988,87.5,"1968-05-01","1968-05-01",899,34.5,26.057971014492754,117.05098504031751]
["1968-06-01",68473,3.7,4.6242799999999997,8225.6963965652285,82.5,"1968-06-01","1968-06-01",897.8,34.700000000000003,25.873198847262245,116.22099853943698]
["1968-07-01",68522,3.7,4.8991400000000001,7968.4712657312239,79.900000000000006,"1968-07-01","1968-07-01",883,34.9,25.300859598853869,113.65008184119614]
["1968-08-01",68557,3.5,4.58453,8480.0229574260957,85.1,"1968-08-01","1968-08-01",896.01,35,25.600285714285715,114.99508762612852]
["1968-09-01",68607,3.4,4.8571400000000002,8308.8091033941546,83.3,"1968-09-01","1968-09-01",935.79,35.1,{"$f":"I156/J156","v":26.66068376068376},{"$f":"IF(J156=\"\",\"\",K156/$M$418)","v":119.75833783454601}]
["1968-10-01",68651,3.4,5.1282100000000002,8049.8721302594568,80.7,"1968-10-01","1968-10-01",952.39,35.299999999999997,26.979886685552408,121.19217996917904]
["1968-11-01",68734,3.4,5.3977300000000001,7812.697138921063,78.400000000000006,"1968-11-01","1968-11-01",985.08,35.4,27.827118644067799,124.99789973326614]
["1968-12-01",68793,3.4,5.0847499999999997,8107.8405374348094,81.3,"1968-12-01","1968-12-01",943.75,35.6,26.509831460674157,119.08071752781143]
["1969-01-01",68857,3.4,5.0704200000000004,8129.1128421022795,81.5,"1969-01-01","1969-01-01",946.05,35.700000000000003,26.499999999999996,119.03655514250309]
["1969-02-01",68900,3.4,5.3221299999999996,7899.4465801358156,79.2,"1969-02-01","1969-02-01",905.21,35.799999999999997,25.285195530726259,113.57971970121771]
["1969-03-01",68942,3.4,5.5865900000000002,7671.6529851701262,77,"1969-03-01","1969-03-01",935.48,36.1,25.913573407202215,116.40235886134825]
["1969-04-01",68988,3.4,6.1281299999999996,7240.455367422569,72.599999999999994,"1969-04-01","1969-04-01",950.18,36.299999999999997,26.175757575757576,117.58007585145133]
["1969-05-01",69054,3.4,5.8333300000000001,7478.7752630957621,75,"1969-05-01","1969-05-01",937.56,36.4,25.757142857142856,115.69968135953266]
["1969-06-01",69106,3.5,5.8010999999999999,7429.8738858844654,74.5,"1969-06-01","1969-06-01",873.19,36.6,23.857650273224046,107.16726423845994]
["1969-07-01",69208,3.5,5.7692300000000003,7466.4238561347593,74.900000000000006,"1969-07-01","1969-07-01",815.47,36.799999999999997,22.159510869565221,99.539314624750844]
["1969-08-01",69258,3.5,6.0274000000000001,7269.3494552553684,72.900000000000006,"1969-08-01","1969-08-01",836.72,36.9,22.675338753387535,101.85638535443596]
["1969-09-01",69302,3.7,5.9945500000000003,7148.5525372503107,71.7,"1969-09-01","1969-09-01",813.09,37.1,21.916172506738544,98.446251966452579]
["1969-10-01",69362,3.7,5.9620600000000001,7178.8003800431788,72,"1969-10-01","1969-10-01",855.99,37.299999999999997,22.948793565683648,103.08472946171403]
["1969-11-01",69424,3.5,5.66038,7578.7249000587308,76,"1969-11-01","1969-11-01",812.3,37.5,21.661333333333332,97.301528294093345]
["1969-12-01",69541,3.5,5.9139799999999996,7386.9925366316911,74.099999999999994,"1969-12-01","1969-12-01",800.36,37.700000000000003,21.22970822281167,95.362691831093315]
["1970-01-01",69604,3.9,6.16622,6914.6114430242933,69.400000000000006,"1970-01-01","1970-01-01",744.06,37.9,19.632189973614775,88.18672695706762]
["1970-02-01",69672,4.2,5.8510600000000004,6931.8061975552828,69.5,"1970-02-01","1970-02-01",777.59,38.1,20.409186351706037,91.676952323338767]
["1970-03-01",69743,4.4000000000000004,6.0846600000000004,6651.9085978944468,66.7,"1970-03-01","1970-03-01",785.57,38.299999999999997,20.510966057441255,92.134141212174171]
["1970-04-01",69821,4.5999999999999996,6.0367499999999996,6564.1290807812538,65.8,"1970-04-01","1970-04-01",736.07,38.5,19.1187012987013,85.880163826260485]
["1970-05-01",69903,4.8,6.2992100000000004,6298.0158047284449,63.2,"1970-05-01","1970-05-01",700.44,38.6,18.146113989637307,81.511354662249374]
["1970-06-01",69967,4.9000000000000004,6.5274200000000002,6122.729364983521,61.4,"1970-06-01","1970-06-01",683.53,38.799999999999997,17.616752577319588,79.13349206045045]
["1970-07-01",70043,5,6.2337699999999998,6235.0395281370365,62.5,"1970-07-01","1970-07-01",734.12,38.9,18.871979434447301,84.771902664029085]
["1970-08-01",70093,5.0999999999999996,6.2015500000000001,6202.0696276174513,62.2,"1970-08-01","1970-08-01",764.58,39,19.604615384615386,88.062863406729591]
["1970-09-01",70138,5.4,6.16967,6062.2299512432073,60.8,"1970-09-01","1970-09-01",760.68,39.200000000000003,19.405102040816324,87.166660344435172]
["1970-10-01",70210,5.5,6.1381100000000002,6032.7664887168103,60.5,"1970-10-01","1970-10-01",755.61,39.4,19.177918781725889,86.146165531296603]
["1970-11-01",70284,5.9,6.6326499999999999,5608.0717166760423,56.3,"1970-11-01","1970-11-01",794.09,39.6,20.052777777777777,90.075984441690764]
["1970-12-01",70340,6.1,6.5989800000000001,5539.0275439444749,55.6,"1970-12-01","1970-12-01",838.92,39.799999999999997,21.078391959798996,94.682987427845561]
["1971-01-01",70414,5.9,6.3131300000000001,5765.4344136187856,{"$f":"IF(D184=\"\",\"\",E184/$N$418)","v":57.832939801105354},"1971-01-01","1971-01-01",868.5,39.9,21.766917293233085,97.775805685216781]
["1971-02-01",70472,5.9,6.0301499999999999,5907.0506238395992,59.253488743820732,"1971-02-01","1971-02-01",878.83,39.9,22.025814536340853,98.938757985422058]
["1971-03-01",70511,6,5.23691,6274.9456923656062,62.943835702053413,"1971-03-01","1971-03-01",904.37,40,22.609249999999999,101.55951827757126]
["1971-04-01",70588,5.9,4.9504999999999999,6505.5066586793237,65.256587444369487,"1971-04-01","1971-04-01",941.75,40.1,23.485037406483791,105.49350755700588]
["1971-05-01",70663,5.9,5.1851900000000004,6374.5411670887006,63.942875614903258,"1971-05-01","1971-05-01",907.81,40.299999999999997,22.526302729528535,101.18692366114119]
["1971-06-01",70721,5.9,4.9019599999999999,6547.0525719406469,65.673333543318847,"1971-06-01","1971-06-01",891.14,40.5,22.003456790123458,98.838328208423221]
["1971-07-01",70789,6,4.8899800000000004,6500.379247712116,65.205154503063,"1971-07-01","1971-07-01",858.43,40.6,21.1435960591133,94.975880686847233]
["1971-08-01",70938,6.1,4.6228699999999998,6615.5795976263817,66.360726559510383,"1971-08-01","1971-08-01",898.07,40.700000000000003,22.065601965601964,99.117480948335967]
["1971-09-01",71087,6,4.1162200000000002,7027.0318360019846,70.487994485201796,"1971-09-01","1971-09-01",887.19,40.799999999999997,21.744852941176472,97.676693818791463]
["1971-10-01",71238,5.8,3.8554200000000001,7378.0322347448382,74.008871399994092,"1971-10-01","1971-10-01",839,40.9,20.513447432762838,92.145287414826882]
["1971-11-01",71362,6,3.3492799999999998,7632.8872383755752,76.565316071044592,"1971-11-01","1971-11-01",831.34,41,20.276585365853659,91.081315924683423]
["1971-12-01",71514,6,3.09524,7862.7941648598608,78.871507154896889,"1971-12-01","1971-12-01",890.2,41.1,21.659367396593673,97.292697413447428]
["1972-01-01",71723,5.8,3.3254199999999998,7859.6930333069604,78.840399775721693,"1972-01-01","1972-01-01",902.17,41.2,21.897330097087377,98.361612889642814]
["1972-02-01",71878,5.7,3.3175400000000002,7970.9100264595445,79.956014872245902,"1972-02-01","1972-02-01",928.13,41.4,22.418599033816427,100.70312453232287]
["1972-03-01",71997,5.8,3.3175400000000002,7896.537881928678,79.209989603556224,"1972-03-01","1972-03-01",940.7,41.4,22.722222222222225,102.06698334021756]
["1972-04-01",72138,5.7,3.3018900000000002,8013.6504667353192,80.384743244162308,"1972-04-01","1972-04-01",954.17,41.5,22.992048192771083,103.27902688822203]
["1972-05-01",72293,5.7,3.0516399999999999,8260.50888747709,82.860974376448112,"1972-05-01","1972-05-01",960.72,41.6,23.094230769230769,103.73802545038605]
["1972-06-01",72393,5.7,2.8037399999999999,8513.0777751906808,85.394487071392462,"1972-06-01","1972-06-01",929.03,41.7,22.278896882494003,100.07559008555238]
["1972-07-01",72538,5.6,2.7972000000000001,8638.3556423569771,86.651146471267879,"1972-07-01","1972-07-01",924.74,41.8,22.122966507177036,99.375159341408633]
["1972-08-01",72648,5.6,3.0232600000000001,8424.6561045358721,84.507531329772462,"1972-08-01","1972-08-01",963.73,41.9,23.000715990453461,103.31796216281759]
["1972-09-01",72761,5.5,3.0232600000000001,8536.7570624385498,85.632013456343486,"1972-09-01","1972-09-01",953.27,42.1,22.642992874109261,101.71108942830989]
["1972-10-01",72854,5.6,3.0162399999999998,8455.4283538991494,84.81620705432276,"1972-10-01","1972-10-01",955.52,42.2,22.642654028436016,101.70956735202053]
["1972-11-01",72959,5.3,2.7777799999999999,9032.0607889791499,90.60039372836988,"1972-11-01","1972-11-01",1018.21,42.4,24.014386792452832,107.87131613710226]
["1972-12-01",73092,5.2,3.00231,8911.1482009336396,89.387522342804559,"1972-12-01","1972-12-01",1020.02,42.5,24.000470588235295,107.80880530650923]
["1973-01-01",73216,4.9000000000000004,2.52874,{"$f":"B208/(C208+D208)","v":9855.7763496905263},98.863065544274548,"1973-01-01","1973-01-01",999.02,42.7,23.396252927400468,105.09469251775303]
["1973-02-01",73330,5,2.7522899999999999,9459.1404604316922,94.884420075291374,"1973-02-01","1973-02-01",955.07,43,22.210930232558141,99.770287599781]
["1973-03-01",73492,4.9000000000000004,3.2110099999999999,9060.7704835772602,90.888380013580004,"1973-03-01","1973-03-01",951.01,43.4,21.91267281105991,98.430531524277797]
["1973-04-01",73605,5,2.9680399999999998,9237.5289280676297,92.661439898781651,"1973-04-01","1973-04-01",921.43,43.7,21.085354691075512,94.714263637111202]
["1973-05-01",73730,4.9000000000000004,3.1890700000000001,9114.7684468053812,91.43003233892388,"1973-05-01","1973-05-01",901.41,43.9,20.533257403189065,92.234272721883968]
["1973-06-01",73836,4.9000000000000004,3.1818200000000001,9136.0609367691923,91.643616815296369,"1973-06-01","1973-06-01",891.71,44.2,20.17443438914027,90.622459306856854]
["1973-07-01",73958,4.8,3.1745999999999999,9274.1955709377271,93.029242148826498,"1973-07-01","1973-07-01",926.4,44.2,20.959276018099544,94.147925112281101]
["1973-08-01",74071,4.8,3.1602700000000001,9305.0863852608018,93.339107195757478,"1973-08-01","1973-08-01",887.57,45,19.72377777777778,88.598134379732912]
["1973-09-01",74184,4.8,3.8374700000000002,8588.6260675869198,86.152310252228133,"1973-09-01","1973-09-01",947.1,45.2,20.95353982300885,94.12215843668784]
["1973-10-01",74297,4.5999999999999996,4.27928,8367.4577217972637,83.933775670037846,"1973-10-01","1973-10-01",956.58,45.6,20.977631578947367,94.230377290810665]
["1973-11-01",74410,4.8,4.72973,7808.1960349348819,78.323834571241164,"1973-11-01","1973-11-01",822.25,45.9,17.913943355119827,80.468456830618805]
["1973-12-01",74582,4.9000000000000004,4.70852,7762.0694966550518,77.861140328241973,"1973-12-01","1973-12-01",850.86,46.3,18.377105831533477,82.54895742169623]
["1974-01-01",74878,5.0999999999999996,5.1569500000000001,7300.2208258790379,{"$f":"IF(D220=\"\",\"\",E220/$N$418)","v":73.22834694998123},"1974-01-01","1974-01-01",855.55,46.8,{"$f":"I220/J220","v":18.280982905982906},{"$f":"IF(J220=\"\",\"\",K220/$M$418)","v":82.117178481026073}]
["1974-02-01",74987,5.2,5.3571400000000002,7102.9653864588327,71.249682180769341,"1974-02-01","1974-02-01",860.53,47.3,18.193023255813955,81.722068528284495]
["1974-03-01",75085,5.0999999999999996,5.7777799999999999,6902.6032885386539,69.239854591703462,"1974-03-01","1974-03-01",846.68,47.8,17.712970711297071,79.56569867218326]
["1974-04-01",75199,5.0999999999999996,6.2084299999999999,6649.8178792281515,66.70416997360789,"1974-04-01","1974-04-01",836.75,48.1,17.396049896049895,78.142107649542595]
["1974-05-01",75327,5.0999999999999996,7.0640200000000002,6192.6073781529458,62.117901968779627,"1974-05-01","1974-05-01",802.17,48.6,16.505555555555553,74.142055624397628]
["1974-06-01",75452,5.4,7.9295200000000001,5660.5189084078047,56.780534784973923,"1974-06-01","1974-06-01",802.41,49,16.375714285714285,73.558815719596382]
["1974-07-01",75563,5.5,8.7912099999999995,5287.3759464733921,53.037546328842311,"1974-07-01","1974-07-01",757.43,49.3,15.36369168356998,69.012865369196007]
["1974-08-01",75660,5.5,9.8468300000000006,4930.0083470006512,49.452800170191601,"1974-08-01","1974-08-01",678.58,49.9,13.598797595190382,61.085057351381828]
["1974-09-01",75756,5.9,10.21739,4700.2647450983068,47.14824739145871,"1974-09-01","1974-09-01",607.87,50.6,12.013241106719367,53.962824054346598]
["1974-10-01",75859,6,10.58315,4574.4626322502054,45.886329295224662,"1974-10-01","1974-10-01",665.52,51,13.049411764705882,58.617246154967567]
["1974-11-01",75959,6.6,10.967739999999999,4323.777560460253,43.37171311441822,"1974-11-01","1974-11-01",618.66,51.5,12.012815533980582,53.960912404807452]
["1974-12-01",76058,7.2,11.34904,4100.37392770731,41.130756420187147,"1974-12-01","1974-12-01",616.24,51.9,11.873603082851638,53.335577664606184]
["1975-01-01",76167,8.1,11.513859999999999,3883.3253627791778,38.953547264923145,"1975-01-01","1975-01-01",703.69,52.3,13.45487571701721,60.438568121669626]
["1975-02-01",76266,8.1,11.864409999999999,3820.0978641492534,38.319313682558317,"1975-02-01","1975-02-01",739.05,52.6,14.050380228136881,63.113541916971741]
["1975-03-01",76363,8.6,11.34454,3828.7671713661985,38.406275303561337,"1975-03-01","1975-03-01",768.15,52.8,14.548295454545455,65.35014996620481]
["1975-04-01",76456,8.8000000000000007,11.273490000000001,3808.8045476895149,38.20603068528267,"1975-04-01","1975-04-01",821.34,53,15.496981132075472,69.611594304552156]
["1975-05-01",76570,9,10.309279999999999,3965.4508091446182,39.777345725724693,"1975-05-01","1975-05-01",832.29,53.1,15.674011299435028,70.406804164128843]
["1975-06-01",76686,8.8000000000000007,9.7959200000000006,4123.8078030019487,41.365821083488171,"1975-06-01","1975-06-01",878.99,53.5,16.429719626168225,73.80140476438639]
["1975-07-01",76840,8.6,9.0909099999999992,4343.4735691945752,43.569283324351304,"1975-07-01","1975-07-01",831.51,54,15.398333333333333,69.168473771168948]
["1975-08-01",76947,8.4,7.9681300000000004,4701.0257127723198,47.155880640668492,"1975-08-01","1975-08-01",835.34,54.2,15.412177121771217,69.230659314028088]
["1975-09-01",77068,8.4,7.4950700000000001,4848.5473797850527,48.635667084436406,"1975-09-01","1975-09-01",793.88,54.6,14.53992673992674,65.31255815642433]
["1975-10-01",77175,8.4,7.03125,5001.2150668286758,50.16707313659996,"1975-10-01","1975-10-01",836.04,54.9,15.228415300546448,68.405211232318308]
["1975-11-01",77291,8.3000000000000007,6.9767400000000004,5059.3909433557155,50.750634014010593,"1975-11-01","1975-11-01",860.67,55.3,15.563652802893309,69.911079814731409]
["1975-12-01",77407,8.1999999999999993,6.7307699999999997,5184.3943748380025,52.004540555861105,"1975-12-01","1975-12-01",852.41,55.6,15.331115107913668,68.866533167518028]
["1976-01-01",77527,7.9,6.8833700000000002,5244.203452933938,52.604484040589917,"1976-01-01","1976-01-01",975.28,55.8,17.478136200716847,78.510834854521164]
["1976-02-01",77635,7.7,6.4393900000000004,5490.6894851899551,55.076979752552774,"1976-02-01","1976-02-01",972.61,55.9,17.399105545617175,78.155833460795861]
["1976-03-01",77746,7.6,6.6037699999999999,5473.6172157110404,54.90572821065507,"1976-03-01","1976-03-01",999.45,56,17.84732142857143,80.169194768985676]
["1976-04-01",77851,7.7,6.3789899999999999,5529.5869945216236,55.467159772687516,"1976-04-01","1976-04-01",996.85,56.1,17.769162210338681,79.818107822153308]
["1976-05-01",77973,7.4,6.5420600000000002,5592.6455631377275,56.099698821974869,"1976-05-01","1976-05-01",975.23,56.4,17.291312056737588,77.67163098596501]
["1976-06-01",78099,7.6,6.3197000000000001,5610.6812646824292,56.280614528732642,"1976-06-01","1976-06-01",1002.78,56.7,17.685714285714283,79.44326429456541]
["1976-07-01",78218,7.8,6.6666699999999999,5406.7729477481689,54.235214898420672,"1976-07-01","1976-07-01",984.64,57,17.27438596491228,77.595599904345747]
["1976-08-01",78339,7.8,6.8265700000000002,5355.9378582948702,53.725289287057919,"1976-08-01","1976-08-01",973.74,57.3,16.993717277486912,76.334851463308624]
["1976-09-01",78459,7.6,6.7889900000000001,5452.7107184034458,54.696015617726069,"1976-09-01","1976-09-01",990.19,57.6,17.190798611111113,77.22013006849788]
["1976-10-01",78558,7.7,6.7518200000000004,5435.8551379687815,54.526937678639989,"1976-10-01","1976-10-01",964.93,57.9,16.66545768566494,74.860327274517232]
["1976-11-01",78673,7.8,6.3405800000000001,5563.6331748768434,55.808676223605765,"1976-11-01","1976-11-01",947.22,58.1,16.303270223752151,73.233400943124593]
["1976-12-01",78820,7.8,6.1261299999999999,5659.8638674204531,56.773964083918109,"1976-12-01","1976-12-01",1004.65,58.4,17.202910958904109,77.2745380743834]
["1977-01-01",78934,7.5,6.0822900000000004,5811.5384077353674,58.295407904122285,"1977-01-01","1977-01-01",954.37,58.7,16.258432708688243,73.031993270129973]
["1977-02-01",79048,7.6,6.22776,5716.6164295590897,57.343247727483515,"1977-02-01","1977-02-01",936.42,59.3,15.791231028667791,70.933348796679979]
["1977-03-01",79154,7.4,6.1946899999999996,5822.4203714832774,58.40456463182074,"1977-03-01","1977-03-01",919.13,59.6,15.421644295302013,69.273185341350427]
["1977-04-01",79275,7.2,6.3492100000000002,5850.8946278048679,58.69018924110221,"1977-04-01","1977-04-01",926.9,60,15.448333333333332,69.393071045022722]
["1977-05-01",79412,7,6.3157899999999998,5963.7467998519051,59.822206779451719,"1977-05-01","1977-05-01",898.66,60.2,14.927906976744184,67.055344226391171]
["1977-06-01",79544,7.2,6.6433600000000004,5746.0038603344847,57.638032368676896,"1977-06-01","1977-06-01",916.3,60.5,15.145454545454545,68.032556043708468]
["1977-07-01",79670,6.9,6.25,6058.555133079848,60.773226986231457,"1977-07-01","1977-07-01",890.07,60.8,14.639309210526317,65.758978795734706]
["1977-08-01",79800,7,6.2176200000000001,6037.3955371693237,60.560975567046377,"1977-08-01","1977-08-01",861.49,61.1,14.099672667757774,63.334960868180836]
["1977-09-01",79927,6.8,6.1855700000000002,6155.0628890376011,61.741294063269152,"1977-09-01","1977-09-01",847.11,61.3,13.819086460032628,62.07458292146007]
["1977-10-01",80054,6.8,5.9829100000000004,6262.5802731928798,62.819798467158762,"1977-10-01","1977-10-01",818.35,61.6,13.284902597402597,59.675058135792341]
["1977-11-01",80190,6.8,6.1328800000000001,6200.4750681982659,62.196822586398653,"1977-11-01","1977-11-01",829.7,62,13.38225806451613,60.112373585961549]
["1977-12-01",80317,6.4,6.4516099999999996,6249.5671748520217,62.68926437744733,"1977-12-01","1977-12-01",831.17,62.3,13.341412520064205,59.928897627302042]
["1978-01-01",80444,6.4,6.4080899999999996,6280.7178900210729,63.001736483777705,"1978-01-01","1978-01-01",769.92,62.7,12.279425837320574,55.158511351037276]
["1978-02-01",80564,6.3,6.1976500000000003,6446.3319103991553,64.663006907411386,"1978-02-01","1978-02-01",742.12,63,11.77968253968254,52.913691705513273]
["1978-03-01",80679,6.3,6.3333300000000001,6386.2022127182618,64.059847295011068,"1978-03-01","1978-03-01",757.36,63.4,11.945741324921135,53.659618714794448]
["1978-04-01",80810,6.1,6.6334999999999997,6346.2520124082148,63.659107755920054,"1978-04-01","1978-04-01",837.32,63.9,13.103599374021909,58.860653941548236]
["1978-05-01",80950,6,6.7656799999999997,{"$f":"B272/(C272+D272)","v":6341.2211492063097},63.608643283023419,"1978-05-01","1978-05-01",840.61,64.5,13.032713178294573,58.54223701526373]
["1978-06-01",81097,5.9,6.8852500000000001,6343.0124557595664,63.62661183779791,"1978-06-01","1978-06-01",818.95,65,12.59923076923077,56.59505766847775]
["1978-07-01",81226,6.2,7.18954,6066.3771869683351,60.851689828612479,"1978-07-01","1978-07-01",862.27,65.5,13.16442748091603,59.133890481190349]
["1978-08-01",81364,5.9,7.4796699999999996,6081.1664263767343,61.000040348460509,"1978-08-01","1978-08-01",876.82,65.900000000000006,13.305311077389984,59.766731915165671]
["1978-09-01",81498,6,7.9287999999999998,5851.0424444316814,58.691671986280944,"1978-09-01","1978-09-01",865.82,66.5,13.019849624060152,58.484454631001306]
["1978-10-01",81652,5.8,8.3871000000000002,5755.3693143771452,57.731977022453513,"1978-10-01","1978-10-01",792.45,67.099999999999994,11.809985096870344,53.049809140216851]
["1978-11-01",81788,5.9,8.5072200000000002,5676.8758997225004,56.94461138808218,"1978-11-01","1978-11-01",799.03,67.5,11.837481481481481,53.173321400706776]
["1978-12-01",81931,6,8.4529499999999995,5668.8080980007544,56.863683454846331,"1978-12-01","1978-12-01",805.01,67.900000000000006,11.85581737849779,53.255685250377311]
["1979-01-01",82080,5.9,8.5578400000000006,5677.1965936820434,56.947828261803437,"1979-01-01","1979-01-01",839.22,68.5,12.251386861313868,55.032561799582126]
["1979-02-01",82211,5.9,9.1482600000000005,5463.1565376993749,54.800797390472923,"1979-02-01","1979-02-01",808.82,69.2,11.688150289017342,52.502533826131184]
["1979-03-01",82359,5.8,9.4043899999999994,5416.7908084441406,54.335703828309015,"1979-03-01","1979-03-01",862.18,69.900000000000006,12.334477825464948,55.405801880186416]
["1979-04-01",82470,5.8,9.3312600000000003,5450.306187323461,54.671895821849077,"1979-04-01","1979-04-01",854.9,70.599999999999994,12.109065155807366,54.393260458242509]
["1979-05-01",82632,5.6,9.4281299999999995,5498.4885012306922,{"$f":"IF(D284=\"\",\"\",E284/$N$418)","v":55.155211502813671},"1979-05-01","1979-05-01",822.33,71.400000000000006,{"$f":"I284/J284","v":11.517226890756302},{"$f":"IF(J284=\"\",\"\",K284/$M$418)","v":51.734755240386114}]
["1979-06-01",82789,5.7,9.3558299999999992,5498.8001325732293,55.1583374696325,"1979-06-01","1979-06-01",841.98,72.2,11.661772853185596,52.384047822549924]
["1979-07-01",82926,5.7,9.6036599999999996,5418.7037610610796,54.354892611946291,"1979-07-01","1979-07-01",846.42,73,11.594794520547945,52.083184804196158]
["1979-08-01",83068,6,9.9848700000000008,5196.6640954852928,52.127617841051439,"1979-08-01","1979-08-01",887.63,73.7,12.0438263229308,54.100211177972923]
["1979-09-01",83211,5.9,9.8950499999999995,5268.1694581530292,52.844886486905963,"1979-09-01","1979-09-01",878.58,74.400000000000006,11.808870967741935,53.044804532917617]
["1979-10-01",83439,6,10.11905,5176.4216873823207,51.924566711637276,"1979-10-01","1979-10-01",815.7,75.2,10.847074468085106,48.724467096416994]
["1979-11-01",83582,5.9,10.65089,5050.0003323084129,50.656437010899879,"1979-11-01","1979-11-01",822.35,76,10.820394736842106,48.604623198330401]
["1979-12-01",83737,6,11.32353,4833.7146066650394,48.486879878929933,"1979-12-01","1979-12-01",838.74,76.900000000000006,10.906892067620285,48.993164492098558]
["1980-01-01",83886,6.3,11.970800000000001,4591.260371740701,46.054827033132099,"1980-01-01","1980-01-01",875.85,78,11.228846153846154,50.439364693546857]
["1980-02-01",84026,6.3,11.99422,4593.0353958791356,46.072632259378558,"1980-02-01","1980-02-01",863.14,79,10.925822784810126,49.078200241557262]
["1980-03-01",84163,6.3,12.60745,4451.3141645224496,44.651029852068319,"1980-03-01","1980-03-01",785.75,80.099999999999994,9.8096129837702879,44.064246674308919]
["1980-04-01",84311,6.9,13.08677,4218.3404321958978,42.314075709453533,"1980-04-01","1980-04-01",817.06,80.900000000000006,10.099629171817057,45.366983578484302]
["1980-05-01",84458,7.5,13.135590000000001,4092.8318502160587,41.055102014597779,"1980-05-01","1980-05-01",850.85,81.7,10.414320685434516,46.780560699752321]
["1980-06-01",84612,7.6,13.60449,3990.2869628083486,40.02647661104578,"1980-06-01","1980-06-01",867.92,82.5,10.520242424242424,47.256355375314484]
["1980-07-01",84798,7.8,12.378299999999999,4202.4352893950436,42.154531588379669,"1980-07-01","1980-07-01",935.32,82.6,11.323486682808719,50.864484789568287]
["1980-08-01",84932,7.7,11.82944,4348.9214232461345,43.623930622855788,"1980-08-01","1980-08-01",932.59,83.2,11.209014423076923,50.350281640215421]
["1980-09-01",85076,7.5,12.005459999999999,4361.6505327226323,43.751616026810268,"1980-09-01","1980-09-01",932.42,83.9,11.113468414779499,49.921094180391187]
["1980-10-01",85227,7.5,12.16216,4334.5695488186448,43.479967301056924,"1980-10-01","1980-10-01",924.49,84.7,10.914876033057851,49.029028029534963]
["1980-11-01",85369,7.5,12.16578,4340.9923227047193,43.544393997964974,"1980-11-01","1980-11-01",993.34,85.6,11.60443925233645,52.126508413531141]
["1980-12-01",85508,7.2,12.15324,4418.2782831195191,44.319647686669107,"1980-12-01","1980-12-01",963.99,86.4,11.157291666666666,50.117945838496489]
["1981-01-01",85659,7.5,11.342890000000001,4545.9587144010284,45.6004071518432,"1981-01-01","1981-01-01",947.27,87.2,10.863188073394495,48.796848532905884]
["1981-02-01",85809,7.4,10.838710000000001,4704.7735283909878,47.193474892811587,"1981-02-01","1981-02-01",974.58,88,11.074772727272729,49.747275261912819]
["1981-03-01",85950,7.4,9.9236599999999999,4961.4227016692776,49.767916838269507,"1981-03-01","1981-03-01",1003.87,88.6,11.330361173814898,50.895364628350691]
["1981-04-01",86100,7.2,9.4339600000000008,5176.1576918544943,51.921918578578563,"1981-04-01","1981-04-01",997.75,89.1,11.198092031425366,50.301218852437366]
["1981-05-01",86250,7.5,9.6129800000000003,5040.0339391502821,50.556464350698107,"1981-05-01","1981-05-01",991.75,89.7,11.056298773690077,49.664291269673519]
["1981-06-01",86398,7.5,9.3827200000000008,5117.5403015627817,51.333928886764397,"1981-06-01","1981-06-01",976.88,90.5,10.794254143646409,48.487201078956922]
["1981-07-01",86553,7.2,11.13861,4719.7143076819893,47.343345505731413,"1981-07-01","1981-07-01",952.34,91.5,10.408087431693989,46.752561263805099]
["1981-08-01",86698,7.4,11.56212,4572.1680909096667,45.863312803890537,"1981-08-01","1981-08-01",881.47,92.2,9.5604121475054225,42.944850104965504]
["1981-09-01",86862,7.6,11.814859999999999,4473.9956919596643,44.878547731341229,"1981-09-01","1981-09-01",849.98,93.1,9.1297529538131048,41.010352487698277]
["1981-10-01",87036,7.9,10.96386,4613.9019267530603,46.281943949932007,"1981-10-01","1981-10-01",852.55,93.4,9.1279443254817973,41.002228227845748]
["1981-11-01",87203,8.3000000000000007,10.250299999999999,4700.8943251591618,47.154562694547302,"1981-11-01","1981-11-01",888.98,93.8,9.477398720682304,42.571958317810846]
["1981-12-01",87358,8.5,9.5406399999999998,4842.2894088014618,48.572893521647075,"1981-12-01","1981-12-01",875,94.1,9.2986184909670566,41.768887273550909]
["1982-01-01",87517,8.6,9.2505900000000008,4902.7511135486275,49.179383489281669,"1982-01-01","1982-01-01",871.1,94.4,9.2277542372881349,41.450568909751539]
["1982-02-01",87670,8.9,9.1967400000000001,4844.5189575581016,48.595258073869154,"1982-02-01","1982-02-01",824.39,94.7,8.7052798310454058,39.103642363741756]
["1982-03-01",87813,9,8.6805599999999998,4966.6413281027299,49.820264759816823,"1982-03-01","1982-03-01",822.77,94.7,8.688173178458289,39.026800213025155]
["1982-04-01",87967,9.3000000000000007,8.8505699999999994,4846.5144620802539,48.615274933766109,"1982-04-01","1982-04-01",848.36,95,8.9301052631578948,40.113545946651016]
["1982-05-01",88128,9.4,8.6560400000000008,4880.804428878092,48.959236800874841,"1982-05-01","1982-05-01",819.54,95.9,8.5457768508863392,38.387163673436163]
["1982-06-01",88281,9.6,8.4650099999999995,4886.8503255741343,49.019883051370726,"1982-06-01","1982-06-01",811.93,97,8.3704123711340195,37.599435991773014]
["1982-07-01",88437,9.8000000000000007,7.6837400000000002,5058.2426872053684,50.739115883015565,"1982-07-01","1982-07-01",808.6,97.5,8.293333333333333,37.253201156546879]
["1982-08-01",88593,9.8000000000000007,7.0562300000000002,5255.8015641694492,52.72082442724065,"1982-08-01","1982-08-01",901.31,97.7,9.2252814738996918,41.439461391432943]
["1982-09-01",88756,10.1,5.8823499999999997,5553.3760679749848,55.705787420537,"1982-09-01","1982-09-01",896.25,97.7,9.1734902763561923,41.206818155875091]
["1982-10-01",88935,10.4,5.8631900000000003,5468.4843502412496,54.854240555358814,"1982-10-01","1982-10-01",991.72,98.1,10.109276248725791,45.410317721971495]
["1982-11-01",89107,10.8,5.18919,5572.9527261856292,55.902160428116211,"1982-11-01","1982-11-01",1039.28,98,10.604897959183674,47.63662342260325]
["1982-12-01",89198,10.8,4.5161300000000004,5823.7949142505313,58.418352638657637,"1982-12-01","1982-12-01",1046.54,97.7,10.71177072671443,48.116690067335583]
["1983-01-01",89349,10.4,4.6087899999999999,5953.1114766746678,59.715524097636525,"1983-01-01","1983-01-01",1075.7,97.9,10.987742594484168,49.356340650563951]
["1983-02-01",89513,10.4,4.4776100000000003,6016.6249821039801,60.352626607618085,"1983-02-01","1983-02-01",1112.6199999999999,98,11.353265306122449,50.998248741875933]
["1983-03-01",89671,10.3,4.5793400000000002,6026.5441881158704,60.452125934642837,"1983-03-01","1983-03-01",1130.03,98.1,11.519164118246687,51.743457160649619]
["1983-04-01",89823,10.199999999999999,4.1182699999999999,6273.3137453058234,62.927465678687248,"1983-04-01","1983-04-01",1226.2,98.8,12.41093117408907,55.749226153745823]
["1983-05-01",89988,10.1,3.6687599999999998,6535.6647947963356,65.559103013092084,"1983-05-01","1983-05-01",1199.98,99.2,12.09657258064516,54.337144491745612]
["1983-06-01",90149,10.1,3.2258100000000001,6764.9921468188422,67.859480398868271,"1983-06-01","1983-06-01",1221.96,99.4,12.293360160965795,55.221103573111535]
["1983-07-01",90319,9.4,3.2057899999999999,7164.8821692254114,71.870768002500171,"1983-07-01","1983-07-01",1199.22,99.8,12.01623246492986,53.976261072330544]
["1983-08-01",90480,9.5,3.0895999999999999,7186.8844125309779,72.091471998295248,"1983-08-01","1983-08-01",1216.1600000000001,100.1,12.149450549450551,54.574669444557927]
["1983-09-01",90655,9.1999999999999993,3.39506,{"$f":"B336/(C336+D336)","v":7197.6632108143986},72.199593875595738,"1983-09-01","1983-09-01",1233.1300000000001,100.4,12.282171314741037,55.170843885918536]
["1983-10-01",90821,8.8000000000000007,3.5897399999999999,7330.3394582937171,73.530466257975661,"1983-10-01","1983-10-01",1225.2,100.8,12.154761904761905,54.598527763025906]
["1983-11-01",91003,8.5,4.3165500000000003,7100.4287425243147,71.224237163891644,"1983-11-01","1983-11-01",1276.02,101.1,12.621364985163206,56.694483359624073]
["1983-12-01",91176,8.3000000000000007,4.7325100000000004,6996.0429725356043,70.177145909572801,"1983-12-01","1983-12-01",1258.6400000000001,101.4,12.412623274161737,55.756826975014]
["1984-01-01",91517,8,5.0204899999999997,7028.6909325225097,70.504636844183295,"1984-01-01","1984-01-01",1220.58,102.1,11.954750244857982,53.700086291958101]
["1984-02-01",91690,7.8,4.8979600000000003,7220.8449231215091,72.432129097777235,"1984-02-01","1984-02-01",1154.6300000000001,102.6,11.253703703703705,50.55102345220066]
["1984-03-01",91863,7.8,5.0916499999999996,7125.7752110862466,71.478487006201917,"1984-03-01","1984-03-01",1164.8900000000001,102.9,11.320602526724976,50.851529317692737]
["1984-04-01",92033,7.7,5.1724100000000002,7149.6324309123156,71.717798228746332,"1984-04-01","1984-04-01",1170.75,103.3,11.333494675701839,50.909440147979147]
["1984-05-01",92212,7.4,5.2578399999999998,7284.9712115179209,73.075378419586841,"1984-05-01","1984-05-01",1104.8499999999999,103.5,10.67487922705314,47.950975462289506]
["1984-06-01",92390,7.2,5.34274,7366.0141245054911,73.888318013010206,"1984-06-01","1984-06-01",1132.4000000000001,103.7,10.919961427193829,49.051871342723217]
["1984-07-01",92555,7.5,5.2104200000000001,7281.8207423515514,73.043776135947368,"1984-07-01","1984-07-01",1115.28,104.1,10.713544668587897,48.124658517510689]
["1984-08-01",92726,7.5,5.2947100000000002,7247.2138876144909,72.696635573219552,"1984-08-01","1984-08-01",1224.3800000000001,104.4,11.727777777777778,52.680538345036489]
["1984-09-01",92905,7.3,5.2736299999999998,7388.8765615021284,{"$f":"IF(D348=\"\",\"\",E348/$N$418)","v":74.117650591906582},"1984-09-01","1984-09-01",1206.71,104.7,{"$f":"I348/J348","v":11.525405921680994},{"$f":"IF(J348=\"\",\"\",K348/$M$418)","v":51.771495001355149}]
["1984-10-01",93096,7.4,5.1485099999999999,7418.8887764364054,74.418702428606323,"1984-10-01","1984-10-01",1207.3800000000001,105.1,11.487916270218841,51.603093531032592]
["1984-11-01",93280,7.2,4.8275899999999998,7755.5021413267332,77.795263338217083,"1984-11-01","1984-11-01",1188.94,105.3,11.290978157644824,50.718458266991931]
["1984-12-01",93432,7.3,4.9115900000000003,7651.0921182253905,76.747928801484079,"1984-12-01","1984-12-01",1211.57,105.5,11.484075829383885,51.585842480194032]
["1985-01-01",93534,7.3,4.4878,7934.8139601961348,79.593936062999987,"1985-01-01","1985-01-01",1286.77,105.7,12.173793755912961,54.68401780072427]
["1985-02-01",93663,7.2,4.76654,7827.0744927105079,78.513203946339161,"1985-02-01","1985-02-01",1284.01,106.3,12.079115710253998,54.258729181748137]
["1985-03-01",93869,7.2,4.7480599999999997,7856.4218793678638,78.807586905906874,"1985-03-01","1985-03-01",1266.78,106.8,11.861235955056181,53.28002520084096]
["1985-04-01",94031,7.3,4.5323000000000002,7946.9756513949105,79.715929707280637,"1985-04-01","1985-04-01",1258.06,107,11.757570093457943,52.814363802707618]
["1985-05-01",94193,7.2,4.5148900000000003,8040.4510840477369,80.65357961909362,"1985-05-01","1985-05-01",1315.41,107.2,12.270615671641792,55.118936567164191]
["1985-06-01",94381,7.4,4.40191,7997.0953854079553,80.218679604699815,"1985-06-01","1985-06-01",1335.46,107.5,12.422883720930233,55.802916342468521]
["1985-07-01",94562,7.4,4.19048,8158.5922239631145,81.838650672303558,"1985-07-01","1985-07-01",1347.45,107.7,12.511142061281337,56.199367995222865]
["1985-08-01",94712,7.1,4.1745700000000001,8400.4977573424076,84.265199505541915,"1985-08-01","1985-08-01",1334.01,107.9,12.363392029657089,55.535682908930546]
["1985-09-01",94872,7.1,3.9697499999999999,8570.3832516542843,85.969316985815695,"1985-09-01","1985-09-01",1328.63,108.1,12.290749306197966,55.20937575584589]
["1985-10-01",95072,7.1,4.0489600000000001,8527.4321551068442,85.538475525690501,"1985-10-01","1985-10-01",1374.31,108.5,12.666451612903225,56.897010033177445]
["1985-11-01",95252,7,4.4172900000000004,8342.7853720103449,83.686287897631971,"1985-11-01","1985-11-01",1472.13,109,13.505779816513762,60.667226561167773]
["1985-12-01",95451,7,4.3071200000000003,8441.6721499373834,84.678218889244818,"1985-12-01","1985-12-01",1546.67,109.5,14.124840182648402,63.448011972863021]
["1986-01-01",96074,6.7,4.4817900000000002,8592.0053944851406,86.186208202504247,"1986-01-01","1986-01-01",1570.99,109.9,14.294722474977251,64.211113967524824]
["1986-02-01",96220,7.2,4.1782700000000004,8456.4700960690861,84.826656746033748,"1986-02-01","1986-02-01",1709.06,109.7,15.579398359161349,69.981807994993673]
["1986-03-01",96383,7.2,4.0703100000000001,8551.9386778180906,85.784299890519989,"1986-03-01","1986-03-01",1818.61,109.1,16.669202566452796,74.877149074834435]
["1986-04-01",96532,7.1,4.1512900000000004,8579.6384236829726,86.062155403250415,"1986-04-01","1986-04-01",1783.98,108.7,16.411959521619135,73.72162734308472]
["1986-05-01",96694,7.2,3.95221,8670.3890977662722,86.972473324614981,"1986-05-01","1986-05-01",1876.71,109,17.217522935779815,77.340174277821362]
["1986-06-01",96950,7.2,3.9413399999999998,8701.8258126939854,87.287814287936726,"1986-06-01","1986-06-01",1892.72,109.4,17.300914076782448,77.714762736476303]
["1986-07-01",97128,7,4.0219399999999998,8812.2417650613224,88.395394162795426,"1986-07-01","1986-07-01",1775.31,109.5,16.212876712328768,72.827358218329351]
["1986-08-01",97297,6.9,4.0072900000000002,8920.364270134929,89.479968520678327,"1986-08-01","1986-08-01",1898.34,109.6,17.320620437956205,77.803282636420377]
["1986-09-01",97448,7,4.1818200000000001,8714.8603715674199,87.418563647756116,"1986-09-01","1986-09-01",1767.58,110,16.068909090909091,72.180663512447907]
["1986-10-01",97627,7,4.0724,8817.1489469311073,88.444617991098454,"1986-10-01","1986-10-01",1877.81,110.2,17.040018148820327,76.542832452879409]
["1986-11-01",97801,6.9,3.7803800000000001,9157.0711903509055,91.854370185021125,"1986-11-01","1986-11-01",1914.23,110.4,17.339039855072464,77.886021653826134]
["1986-12-01",98010,6.6,3.7702,9451.1195541069592,94.803962548702771,"1986-12-01","1986-12-01",1895.95,110.8,17.111462093862816,76.863754758677459]
["1987-01-01",98267,6.6,3.5746199999999999,9658.0511114911424,96.879688234330132,"1987-01-01","1987-01-01",2158.04,111.4,19.371992818671451,87.01793552377201]
["1987-02-01",98447,6.6,3.5650599999999999,9684.8419979813207,97.148426999607707,"1987-02-01","1987-02-01",2223.9899999999998,111.8,19.892576028622539,89.356366919153288]
["1987-03-01",98621,6.6,3.6444399999999999,9626.7829183440008,96.566037709107533,"1987-03-01","1987-03-01",2304.69,112.2,20.540909090909089,92.268643685929931]
["1987-04-01",98816,6.3,3.8972500000000001,9690.4557601314082,97.204738518426979,"1987-04-01","1987-04-01",2286.36,112.7,20.287133984028394,91.128699742382821]
["1987-05-01",98991,6.3,4.0671999999999997,9548.4798209738401,95.780581143033061,"1987-05-01","1987-05-01",2291.5700000000002,113,20.279380530973452,91.093871654000949]
["1987-06-01",99155,6.2,3.9682499999999998,9751.4321540088022,97.81639132087146,"1987-06-01","1987-06-01",2418.5300000000002,113.5,21.308634361233484,95.717223741600222]
["1987-07-01",99344,6.1,3.95431,9880.7377134781018,99.113452409463818,"1987-07-01","1987-07-01",2572.0700000000002,113.8,22.601669595782077,101.52546751513016]
["1987-08-01",99471,6,3.9404599999999999,10006.679771358669,100.37677429109503,"1987-08-01","1987-08-01",2662.95,114.3,23.297900262467191,104.65289770934767]
["1987-09-01",99647,5.9,4.01396,10051.180355781142,100.82315862840353,"1987-09-01","1987-09-01",2596.2800000000002,114.7,22.635396687009592,101.6769677700245]
["1987-10-01",99823,6,4.1739100000000002,9811.6653282759544,98.420588904525047,"1987-10-01","1987-10-01",1993.53,115,17.335043478260868,77.868070147082591]
["1987-11-01",100021,5.8,4.1630500000000001,10039.194824877924,100.70293204398992,"1987-11-01","1987-11-01",1833.55,115.4,15.888648180242633,71.370941330086183]
["1987-12-01",100202,5.7,4.1522500000000004,10170.468674668222,102.01973700745431,"1987-12-01","1987-12-01",1938.83,115.6,16.771885813148788,75.338396620401937]
["1988-01-01",100429,5.7,4.3140599999999996,10028.799507891903,100.59865685875047,"1988-01-01","1988-01-01",1958.22,116,16.881206896551724,75.829460966542754]
["1988-02-01",100611,5.7,4.3029299999999999,10058.152961182373,100.89310067257522,"1988-02-01","1988-02-01",2071.62,116.2,17.828055077452667,80.082651370218002]
["1988-03-01",100748,5.7,4.3739299999999997,10000.863615292144,100.31843256356196,"1988-03-01","1988-03-01",1988.06,116.5,17.064892703862661,76.65456759789609]
["1988-04-01",100950,5.4,4.2625700000000002,10447.531039878624,104.79894321098264,"1988-04-01","1988-04-01",2032.33,117.2,17.34069965870307,77.893477401237462]
["1988-05-01",101127,5.6,4.2480900000000004,10268.691695547057,103.0050098674057,"1988-05-01","1988-05-01",2031.12,117.5,17.286127659574468,77.648342956576769]
["1988-06-01",101318,5.4,4.4953399999999997,10238.960965464552,102.70678159877032,"1988-06-01","1988-06-01",2141.71,118,18.150084745762712,81.529191082267459]
["1988-07-01",101515,5.4,4.4801399999999996,10274.651978615686,103.06479732957705,"1988-07-01","1988-07-01",2128.73,118.5,17.963966244725739,80.693156923334342]
["1988-08-01",101700,5.6,4.4650400000000001,10104.281751488321,101.35581750559651,"1988-08-01","1988-08-01",2031.65,119,17.072689075630255,76.689588474795144]
["1988-09-01",101873,5.4,4.61409,10172.96629049669,102.04479053429921,"1988-09-01","1988-09-01",2112.91,119.5,17.681255230125522,79.423234459981444]
["1988-10-01",102038,5.4,4.5075099999999999,10299.055968654082,103.30959319152693,"1988-10-01","1988-10-01",2148.65,119.9,17.920350291909926,80.497236441355]
["1988-11-01",102163,5.3,4.5795199999999996,10340.887006656194,103.72919937018354,"1988-11-01","1988-11-01",2114.5100000000002,120.3,17.576974231088947,78.954809898014176]
["1988-12-01",102311,5.3,4.65116,10281.313937269626,103.13162328338214,"1988-12-01","1988-12-01",2168.5700000000002,120.7,17.966611433305719,80.705038966212186]
["1989-01-01",102558,5.4,4.6319299999999997,{"$f":"B400/(C400+D400)","v":10223.157458235853},102.54825698177966,"1989-01-01","1989-01-01",2342.3200000000002,121.2,19.326072607260727,86.81166443781926]
["1989-02-01",102803,5.2,4.7029699999999997,10381.027106009611,104.13184378220443,"1989-02-01","1989-02-01",2258.39,121.6,18.572286184210526,83.425696924117915]
["1989-03-01",103008,5,4.6836500000000001,10637.311344379443,106.70262507400157,"1989-03-01","1989-03-01",2293.62,122.2,18.769394435351881,84.311096441326612]
["1989-04-01",103163,5.2,4.4971399999999999,10638.497536387016,106.71452373870662,"1989-04-01","1989-04-01",2418.8000000000002,123.1,19.649065800162472,88.262532249800458]
["1989-05-01",103328,5.2,4.5639799999999999,10582.569812719812,106.1535140308487,"1989-05-01","1989-05-01",2480.15,123.7,20.049717057396929,90.062235852619423]
["1989-06-01",103455,5.3,4.5454499999999998,10507.899588134622,105.40449872800011,"1989-06-01","1989-06-01",2440.06,124.1,19.66204673650282,88.320841908082684]
["1989-07-01",103672,5.2,4.5307399999999998,10654.071530017243,106.87074611007766,"1989-07-01","1989-07-01",2660.66,124.5,21.370763052208833,95.996302434023576]
["1989-08-01",103836,5.2,4.4354800000000001,10776.422139841501,108.09804225898199,"1989-08-01","1989-08-01",2737.27,124.5,21.986104417670681,98.760382297467444]
["1989-09-01",103983,5.3,4.1700100000000004,10980.241837125832,110.1425529476268,"1989-09-01","1989-09-01",2692.82,124.8,21.577083333333334,96.923081887649744]
["1989-10-01",104159,5.3,4.3131000000000004,10835.110422236325,108.68674306784952,"1989-10-01","1989-10-01",2645.08,125.4,21.093141945773525,94.749243560630774]
["1989-11-01",104338,5.4,4.3789800000000003,10669.619939911932,107.02671185158681,"1989-11-01","1989-11-01",2706.27,125.9,21.495393169181888,96.556134124268084]
["1989-12-01",104480,5.4,4.4444400000000002,10613.097342256136,106.45973497645174,"1989-12-01","1989-12-01",2753.2,126.3,21.798891528107678,97.919432204944655]
["1990-01-01",104971,5.4,4.4268799999999997,10682.027255853334,{"$f":"IF(D412=\"\",\"\",E412/$N$418)","v":107.151169352003},"1990-01-01","1990-01-01",2590.54,127.5,{"$f":"I412/J412","v":20.317960784313726},{"$f":"IF(J412=\"\",\"\",K412/$M$418)","v":91.26717204849723}]
["1990-02-01",105137,5.3,4.5705299999999998,10651.606347379524,106.84601791982209,"1990-02-01","1990-02-01",2627.25,128,20.525390625,92.198935583178439]
["1990-03-01",105254,5.2,4.7880700000000003,10537.971800357827,105.70615239612312,"1990-03-01","1990-03-01",2707.21,128.6,21.051399688958011,94.561739618925401]
["1990-04-01",105374,5.4,4.8513299999999999,10279.05647364781,103.10897871779046,"1990-04-01","1990-04-01",2656.76,128.9,20.611016291698991,92.583561409428555]
["1990-05-01",105575,5.4,4.75448,10396.88886087717,104.29095267991882,"1990-05-01","1990-05-01",2876.66,129.1,22.282416731216113,100.09140105409965]
["1990-06-01",105618,5.2,4.8913000000000002,10466.243199587763,104.98664445400625,"1990-06-01","1990-06-01",2880.69,129.9,22.176212471131638,99.614337308367027]
["1990-07-01",105756,5.5,5.1083600000000002,9969.1186950669089,100,"1990-07-01","1990-07-01",2905.2,130.5,22.262068965517241,{"$f":"IF(J418=\"\",\"\",K418/$M$418)","v":100},{"$f":"$K$418/100","v":0.2226206896551724},{"$f":"$E$418/100","v":99.691186950669092}]
["1990-08-01",105980,5.7,5.4826300000000003,9477.1981188682803,95.065556031125908,"1990-08-01","1990-08-01",2614.36,131.6,19.865957446808512,89.236797700967614]
["1990-09-01",106142,5.9,5.5427299999999997,9275.9332781600187,93.046673049946691,"1990-09-01","1990-09-01",2452.48,132.5,18.509283018867926,83.142690140515782]
["1990-10-01",106332,5.9,5.3598800000000004,9443.4398945637076,94.726928060718876,"1990-10-01","1990-10-01",2442.33,133.4,18.308320839580208,82.239978988201059]
["1990-11-01",106533,6.2,5.2631600000000001,9293.5106898970262,93.222991662199803,"1990-11-01","1990-11-01",2559.65,133.69999999999999,19.144727000747945,85.997069860856641]
["1990-12-01",106647,6.3,5.3191499999999996,9178.5543692955162,92.06986745816765,"1990-12-01","1990-12-01",2633.66,134.19999999999999,19.62488822652757,88.153927907264489]
["1991-01-01",106760,6.4,5.60182,8895.317543505902,89.228725382792717,"1991-01-01","1991-01-01",2736.39,134.69999999999999,20.314699331848551,91.252521781847591]
["1991-02-01",106888,6.6,5.6518499999999996,8724.2334831066328,87.512585113704262,"1991-02-01","1991-02-01",2882.18,134.80000000000001,21.381157270029671,96.042992693751629]
["1991-03-01",106971,6.8,5.2434500000000002,8882.0894345058932,89.096034526111936,"1991-03-01","1991-03-01",2913.86,134.80000000000001,21.616172106824926,97.098666526939738]
["1991-04-01",107091,6.7,5.1492500000000003,9037.7872017216268,90.657835242686602,"1991-04-01","1991-04-01",2887.87,135.1,21.375795706883789,96.018908844428424]
["1991-05-01",107268,6.9,5.1339300000000003,8913.7962411282097,89.414084773000923,"1991-05-01","1991-05-01",3027.5,135.6,22.326696165191741,100.29030185727393]
["1991-06-01",107428,6.9,4.9592900000000002,9058.5524091239859,90.86613055983068,"1991-06-01","1991-06-01",2906.75,136,21.373161764705884,96.007077319775505]
["1991-07-01",107575,6.8,4.7864500000000003,9284.552214008605,93.133129396913958,"1991-07-01","1991-07-01",3024.82,136.19999999999999,22.208663729809107,99.7601065930087]
["1991-08-01",107694,6.9,4.6120099999999997,9354.9258556933146,93.839045775655975,"1991-08-01","1991-08-01",3043.6,136.6,22.281112737920939,100.08554358731526]
["1991-09-01",107855,6.9,4.5951899999999997,9382.6200349885457,94.116845450254445,"1991-09-01","1991-09-01",3016.77,137,22.020218978102189,98.91362304290017]
["1991-10-01",108005,7,4.4331399999999999,9446.661197186424,94.759240873127368,"1991-10-01","1991-10-01",3069.1,137.19999999999999,22.369533527696795,100.48272495402836]
["1991-11-01",108236,7,4.49275,9417.7633725609612,94.469367459946298,"1991-11-01","1991-11-01",2894.68,137.80000000000001,21.006386066763422,94.35954088230163]
["1991-12-01",108383,7.3,4.4011500000000003,9262.5938476132687,92.912865529394736,"1991-12-01","1991-12-01",3168.83,138.19999999999999,22.929305354558611,102.99718947989463]
["1992-01-01",108520,7.3,4.0143399999999998,9591.3681222236555,96.210792704974224,"1992-01-01","1992-01-01",3223.39,138.30000000000001,23.307230657989873,104.69480933731511]
["1992-02-01",108768,7.4,3.70899,9790.9890998191549,98.213186133134329,"1992-02-01","1992-02-01",3267.67,138.6,23.576262626262629,105.90328627038666]
["1992-03-01",108835,7.4,3.8434200000000001,9679.8838787486366,97.098692219790735,"1992-03-01","1992-03-01",3235.47,139.1,23.260028756290438,104.48278096846697]
["1992-04-01",108977,7.4,3.8325100000000001,9701.9277080545653,97.31981336379755,"1992-04-01","1992-04-01",3359.12,139.4,24.096987087517931,108.24235215892504]
["1992-05-01",109112,7.6,3.8924300000000001,9494.2496930588241,95.23659997906266,"1992-05-01","1992-05-01",3396.88,139.69999999999999,24.315533285612027,109.22404976498588]
["1992-06-01",109239,7.8,3.73766,9468.0377130197994,94.973668211061991,"1992-06-01","1992-06-01",3318.52,140.1,23.686795146324055,106.39979232394636]
["1992-07-01",109381,7.7,3.7245300000000001,9574.2231846736795,96.038812231329544,"1992-07-01","1992-07-01",3393.78,140.5,24.155017793594308,108.50302292661632]
["1992-08-01",109516,7.6,3.4989499999999998,9867.2396938449147,98.978054085438785,"1992-08-01","1992-08-01",3257.35,140.80000000000001,23.134588068181817,103.91930823687619]
["1992-09-01",109693,7.6,3.2775500000000002,10084.348037931337,101.15586288406263,"1992-09-01","1992-09-01",3271.66,141.1,23.18681785967399,104.15392161253807]
["1992-10-01",109828,7.3,3.5490599999999999,10123.273352714428,101.54632182004012,"1992-10-01","1992-10-01",3226.28,141.69999999999999,22.768383909668316,102.2743391233552]
["1992-11-01",109955,7.4,3.4674100000000001,10117.866170504289,101.49208249984008,"1992-11-01","1992-11-01",3305.16,142.1,23.259394792399718,104.47993323723541]
["1992-12-01",110205,7.4,3.38632,10217.108337227155,102.4875783882778,"1992-12-01","1992-12-01",3301.11,142.30000000000001,23.198243148278284,104.20524338600841]
["1993-01-01",110320,7.3,3.4459,10266.241077992538,102.98042777916423,"1993-01-01","1993-01-01",3310.03,142.80000000000001,23.179481792717088,104.12096839975149]
["1993-02-01",110505,7.1,3.5763400000000001,10350.457179145662,103.82519754998457,"1993-02-01","1993-02-01",3370.81,143.1,23.555625436757513,105.81058514032961]
["1993-03-01",110622,7,3.35846,10679.386704201203,107.12468203920332,"1993-03-01","1993-03-01",3435.11,143.30000000000001,23.971458478715981,107.67848449237353]
["1993-04-01",110751,7.1,3.4859900000000001,10462.035199353108,104.94443410058014,"1993-04-01","1993-04-01",3427.55,143.80000000000001,23.835535465924895,107.06792572983612]
["1993-05-01",110831,7.1,3.4059900000000001,10549.315200185798,105.81993777851187,"1993-05-01","1993-05-01",3527.43,144.19999999999999,24.462066574202499,109.88226930791086]
["1993-06-01",110944,7,3.3990499999999999,10668.666849375664,107.01715142237114,"1993-06-01","1993-06-01",3516.08,144.30000000000001,24.366458766458763,109.45280424834327]
["1993-07-01",111149,6.9,3.1842800000000002,11022.006528973809,110.5614936095395,"1993-07-01","1993-07-01",3539.47,144.5,24.494602076124565,110.02841700861407]
["1993-08-01",111176,6.8,3.3130500000000001,10993.320511616179,110.27374483018326,"1993-08-01","1993-08-01",3651.25,144.80000000000001,25.215814917127069,113.2680657677641]
["1993-09-01",111362,6.7,3.24105,11202.237188224582,112.36938320102324,"1993-09-01","1993-09-01",3555.12,145,24.518068965517241,110.13382899628253]
["1993-10-01",111503,6.8,3.0914000000000001,11272.721758295083,113.07641229984799,"1993-10-01","1993-10-01",3680.59,145.6,25.278777472527473,113.55089013372007]
["1993-11-01",111629,6.6,3.1501299999999999,11448.975552120844,114.84441004585715,"1993-11-01","1993-11-01",3683.95,146,25.232534246575341,113.343168084059]
["1993-12-01",111847,6.5,3.1417099999999998,11600.328157557115,116.36262454470913,"1993-12-01","1993-12-01",3754.09,146.30000000000001,25.66021872863978,115.26430345888377]
["1994-01-01",111955,6.6,2.9313799999999999,11745.938153761577,117.82323506263302,"1994-01-01","1994-01-01",3978.36,146.30000000000001,27.193164730006835,122.15021331632563]
["1994-02-01",112144,6.6,2.78884,11944.393556605502,119.8139366373081,"1994-02-01","1994-02-01",3832.02,146.69999999999999,26.12147239263804,117.33622976866531]
["1994-03-01",112261,6.5,2.9840800000000001,11836.783325319904,118.73450088599292,"1994-03-01","1994-03-01",3635.96,147.1,24.717607070020396,111.03014328230972]
["1994-04-01",112359,6.4,2.7080600000000001,12336.216493962491,123.74430349662613,"1994-04-01","1994-04-01",3681.69,147.19999999999999,25.01148097826087,112.35020885526104]
["1994-05-01",112427,6.1,2.70092,{"$f":"B464/(C464+D464)","v":12774.45994282416},128.14031343759041,"1994-05-01","1994-05-01",3758.37,147.5,25.480474576271185,114.45690252662088]
["1994-06-01",112506,6.1,2.8270900000000001,12602.76305044533,126.41802586503104,"1994-06-01","1994-06-01",3624.96,147.9,24.509533468559837,110.09548800933013]
["1994-07-01",112592,6.1,2.88903,12525.489402082316,125.64289567823477,"1994-07-01","1994-07-01",3764.5,148.4,25.367250673854446,113.94830693026316]
["1994-08-01",112719,6,2.8141400000000001,12788.42859314692,128.28043264722197,"1994-08-01","1994-08-01",3913.42,149,26.264563758389261,117.97898838186008]
["1994-09-01",112872,5.9,3.0085000000000002,12670.146489307965,127.09394758814162,"1994-09-01","1994-09-01",3843.18,149.30000000000001,25.741326188881445,115.62863374807341]
["1994-10-01",113046,5.8,2.8683200000000002,13041.281355556786,130.81679288270584,"1994-10-01","1994-10-01",3908.12,149.4,26.158768406961176,117.50376143151706]
["1994-11-01",113223,5.6,2.7940200000000002,13488.531120964688,135.30314497749248,"1994-11-01","1994-11-01",3739.22,149.80000000000001,24.961415220293723,112.12531620020415]
["1994-12-01",113308,5.5,2.5923500000000002,14001.865959826257,140.45239492187912,"1994-12-01","1994-12-01",3834.44,150.1,25.545902731512328,114.75080223262974]
["1995-01-01",113389,5.6,2.91262,13320.105913338079,133.61367559932216,"1995-01-01","1995-01-01",3843.86,150.5,25.540598006644519,114.72697369775265]
["1995-02-01",113598,5.4,2.9715799999999999,13569.481507672388,136.11515644193375,"1995-02-01","1995-02-01",4011.05,150.9,26.580848243870111,119.39972104588496]
["1995-03-01",113688,5.4,2.9620099999999998,13595.774221748121,136.37889805119701,"1995-03-01","1995-03-01",4157.6899999999996,151.19999999999999,27.497949735449733,123.51929094300532]
["1995-04-01",113758,5.8,3.1511300000000002,12708.786488409845,127.48154452909289,"1995-04-01","1995-04-01",4321.2700000000004,151.80000000000001,28.466864295125166,127.87160231701206]
["1995-05-01",113826,5.6,3.0789,13115.25654172764,{"$f":"IF(D476=\"\",\"\",E476/$N$418)","v":131.55883627122984},"1995-05-01","1995-05-01",4465.1400000000003,152.1,{"$f":"I476/J476","v":29.356607495069039},{"$f":"IF(J476=\"\",\"\",K476/$M$418)","v":131.86828025975871}]
["1995-06-01",113873,5.6,3.0051199999999998,13233.168160351048,132.74160500164686,"1995-06-01","1995-06-01",4556.09,152.4,29.895603674540681,134.28942171029738]
["1995-07-01",114002,5.7,2.9993599999999998,13104.642180574203,131.45236385899256,"1995-07-01","1995-07-01",4708.47,152.6,30.854980340760161,138.59888938693382]
["1995-08-01",114137,5.7,2.99173,13131.678043381467,131.723559976064,"1995-08-01","1995-08-01",4610.5600000000004,152.9,30.154087638979728,135.45051758525591]
["1995-09-01",114282,5.6,2.9841299999999999,13313.172097813058,133.54412265550525,"1995-09-01","1995-09-01",4789.08,153.1,31.280731548007839,140.51134059668951]
["1995-10-01",114459,5.5,3.1052,13301.143494631153,133.42346401405626,"1995-10-01","1995-10-01",4755.4799999999996,153.5,30.980325732899018,139.16193405422422]
["1995-11-01",114598,5.6,3.0341300000000002,13272.674838113397,133.13789557627808,"1995-11-01","1995-11-01",5074.49,153.69999999999999,33.01554977228367,148.30404947277361]
["1995-12-01",114700,5.6,3.0322200000000001,13287.427799569519,133.28588219282244,"1995-12-01","1995-12-01",5117.12,153.9,33.249642625081222,149.35558180411331]
["1996-01-01",114724,5.6,2.9559700000000002,13408.649165436531,134.50185092160282,"1996-01-01","1996-01-01",5395.3,154.69999999999999,34.875888817065288,156.66059103080752]
["1996-02-01",114957,5.5,2.8858199999999998,13708.498393717015,137.50963162371102,"1996-02-01","1996-02-01",5485.62,155,35.391096774193549,158.97487708358318]
["1996-03-01",115069,5.5,2.81426,13839.956893337469,138.82828880536846,"1996-03-01","1996-03-01",5587.14,155.5,35.93016077170418,161.39632316905534]
["1996-04-01",115238,5.6,2.6184500000000002,14021.865436913286,140.65300921586805,"1996-04-01","1996-04-01",5569.07,156.1,35.676297245355542,160.25598205007913]
["1996-05-01",115403,5.6,2.6757900000000001,13944.65060133232,139.87846897873382,"1996-05-01","1996-05-01",5643.17,156.4,36.081649616368288,162.0768027996717]
["1996-06-01",115488,5.3,2.6691500000000001,14491.884328943488,145.36775789533544,"1996-06-01","1996-06-01",5654.62,156.69999999999999,36.085641352903636,162.09473346254731]
["1996-07-01",115581,5.5,2.6641900000000001,14157.068858025108,142.00923161874431,"1996-07-01","1996-07-01",5528.91,157,35.215987261146495,158.18829469845855]
["1996-08-01",115667,5.0999999999999996,2.5958000000000001,15029.886431560071,150.76444459425906,"1996-08-01","1996-08-01",5616.2,157.19999999999999,35.726463104325703,160.48132435338374]
["1996-09-01",115818,5.2,2.6510500000000001,14751.912164614923,147.97609112543438,"1996-09-01","1996-09-01",5882.16,157.69999999999999,37.299682942295497,167.54814208899776]
["1996-10-01",115938,5.2,2.5199799999999999,15017.914554182784,150.64435496804956,"1996-10-01","1996-10-01",6029.38,158.19999999999999,38.112389380530978,171.19877509841984]
["1996-11-01",116059,5.4,2.5766900000000001,14549.769390561749,145.94840161509478,"1996-11-01","1996-11-01",6521.7,158.69999999999999,41.094517958412098,184.5943340758908]
["1996-12-01",116131,5.4,2.6364200000000002,14450.588694966167,144.95352234211893,"1996-12-01","1996-12-01",6448.26,159.1,40.529604022627282,182.0567714771052]
["1997-01-01",116348,5.3,2.5045799999999998,14907.656786143521,149.53836183654212,"1997-01-01","1997-01-01",6813.08,159.4,42.742032622333753,191.99488011890938]
["1997-02-01",116462,5.2,2.5,15124.935064935065,151.71787524627874,"1997-02-01","1997-02-01",6877.73,159.69999999999999,43.066562304320598,193.45264975608697]
["1997-03-01",116559,5.2,2.43309,15270.22477135734,153.17527294477509,"1997-03-01","1997-03-01",6583.47,159.80000000000001,41.198185231539426,185.06000181453584]
["1997-04-01",116662,5.0999999999999996,2.61239,15126.569066139033,151.73426587471792,"1997-04-01","1997-04-01",7008.99,159.9,43.833583489681047,196.89806710048799]
["1997-05-01",116873,4.9000000000000004,2.5454500000000002,15697.237910401653,157.45863190664215,"1997-05-01","1997-05-01",7331.04,159.9,45.847654784240149,205.94516554259053]
["1997-06-01",116902,5,2.41838,15758.427042022651,158.0724186764925,"1997-06-01","1997-06-01",7672.79,160.19999999999999,47.895068664169791,215.14203706024227]
["1997-07-01",116881,4.9000000000000004,2.4140000000000001,15980.448455017775,160.29951035617117,"1997-07-01","1997-07-01",8222.61,160.4,51.263154613466334,230.27129550658671]
["1997-08-01",116940,4.8,2.2891599999999999,16495.607378025041,165.46705764660703,"1997-08-01","1997-08-01",7622.42,160.80000000000001,47.403109452736317,212.932183105538]
["1997-09-01",117018,4.9000000000000004,2.2222200000000001,16429.989525737761,164.80884648176504,"1997-09-01","1997-09-01",7945.25,161.19999999999999,49.288151364764275,221.39968859636988]
["1997-10-01",117039,4.7,2.2781799999999999,16772.138293939108,168.2409328944853,"1997-10-01","1997-10-01",7442.08,161.5,46.080990712074303,206.9932978082644]
["1997-11-01",117124,4.5999999999999996,2.1531099999999999,17343.712748644699,173.97438308390304,"1997-11-01","1997-11-01",7823.12,161.69999999999999,48.3804576376005,217.32237786406671]
["1997-12-01",117181,4.7,2.2700100000000001,16812.171001189381,168.64250005879325,"1997-12-01","1997-12-01",7908.24,161.80000000000001,48.876637824474656,219.55119221031057]
["1998-01-01",117202,4.5999999999999996,2.2646000000000002,17073.391020598436,171.26279205650329,"1998-01-01","1998-01-01",7906.5,162,48.805555555555557,219.23189453393917]
["1998-02-01",117246,4.5999999999999996,2.2605599999999999,17089.858553820679,171.42797750293991,"1998-02-01","1998-02-01",8545.7099999999991,162,52.751296296296289,236.95594680802239]
["1998-03-01",117218,4.7,2.2565300000000001,16850.067490544854,169.02263887060442,"1998-03-01","1998-03-01",8799.7999999999993,162,54.319753086419752,244.00136919240597]
["1998-04-01",117329,4.3,2.13144,18243.037329120692,182.99548723547676,"1998-04-01","1998-04-01",9063.36,162.19999999999999,55.877681874229353,250.99950036441317]
["1998-05-01",117483,4.4000000000000004,2.18676,17836.235114077332,178.91486358672171,"1998-05-01","1998-05-01",8899.9500000000007,162.6,54.735239852398529,245.8677130916291]
["1998-06-01",117427,4.5,2.2432099999999999,17414.109897215127,174.68053525967423,"1998-06-01","1998-06-01",8952.01,162.80000000000001,54.987776412776412,247.00209355181477]
["1998-07-01",117375,4.5,2.2392500000000002,17416.626479207625,174.70577903567363,"1998-07-01","1998-07-01",8883.2900000000009,163.19999999999999,54.431924019607855,244.50523490839961]
["1998-08-01",117487,4.5,2.4735,16847.637484763749,168.99826353858728,"1998-08-01","1998-08-01",7539.06,163.4,46.138678090575276,207.25242636720617]
["1998-09-01",117511,4.5999999999999996,2.3501799999999999,16907.619658771429,169.5999433444197,"1998-09-01","1998-09-01",7842.62,163.5,47.96709480122324,215.46557454081074]
["1998-10-01",117596,4.5,2.22743,17480.077830612878,175.3422580800715,"1998-10-01","1998-10-01",8592.11,163.9,52.422879804758999,235.48071783426442]
["1998-11-01",117731,4.4000000000000004,2.34192,17462.532928305289,175.16626556915608,"1998-11-01","1998-11-01",9116.5499999999993,164.1,55.554844606946979,249.54933296181267]
["1998-12-01",117789,4.4000000000000004,2.4532699999999998,17187.269726714399,172.40510673445286,"1998-12-01","1998-12-01",9181.43,164.4,55.848114355231147,250.86668468118083]
["1999-01-01",117912,4.3,2.331,17781.933343387122,178.37016377572357,"1999-01-01","1999-01-01",9358.82,164.7,56.823436551305406,255.24777880852801]
["1999-02-01",117808,4.4000000000000004,2.1524100000000002,17979.338899733077,180.35033436435984,"1999-02-01","1999-02-01",9306.57,164.7,56.50619307832423,253.82273842493848]
["1999-03-01",117854,4.2,2.0325199999999999,18909.526162772039,189.68102137382692,"1999-03-01","1999-03-01",9786.16,164.8,59.382038834951452,266.74088076418712]
["1999-04-01",117862,4.3,2.2029000000000001,18124.529056267202,181.8067334802212,"1999-04-01","1999-04-01",10789.04,165.9,65.033393610608798,292.12645828805069]
["1999-05-01",117995,4.2,2.0821299999999998,18782.642193014151,188.40825119585045,"1999-05-01","1999-05-01",10559.75,166,63.612951807228917,285.74591115390933]
["1999-06-01",118240,4.3,1.96305,18878.980688322783,189.37462042321559,"1999-06-01","1999-06-01",10970.81,166,66.089216867469872,296.86915879129901]
["1999-07-01",118266,4.3,2.0749300000000002,18551.733117069522,186.09200757384511,"1999-07-01","1999-07-01",10655.15,166.7,63.918116376724655,287.11669376161944]
["1999-08-01",118369,4.2,1.89655,19415.735128884367,194.75879185280436,"1999-08-01","1999-08-01",10829.28,167.1,64.807181328545781,291.11032505077878]
["1999-09-01",118328,4.2,2.0665900000000001,{"$f":"B528/(C528+D528)","v":18882.358667153905},189.40850485106171,"1999-09-01","1999-09-01",10336.959999999999,167.8,61.602860548271742,276.71669081472749]
["1999-10-01",118433,4.0999999999999996,2.1215600000000001,19035.900963745426,190.94868409145431,"1999-10-01","1999-10-01",10729.87,168.1,63.830279595478892,286.72213572938165]
["1999-11-01",118577,4.0999999999999996,2.0594999999999999,19251.075574316099,193.1070956537236,"1999-11-01","1999-11-01",10877.81,168.4,64.595071258907353,290.15753818282423]
["1999-12-01",118734,4,1.88141,20188.016138987081,202.50552487630489,"1999-12-01","1999-12-01",11497.12,168.8,68.110900473933654,305.95045132343188]
["2000-01-01",120252,4,2.1070600000000002,19690.653112954515,197.51648781850881,"2000-01-01","2000-01-01",10940.54,169.3,64.622209096278795,290.27943986866251]
["2000-02-01",120264,4.0999999999999996,2.1640100000000002,19199.203066406342,192.58676372172019,"2000-02-01","2000-02-01",10128.31,170,59.578294117647054,267.62244879364385]
["2000-03-01",120237,4,2.4473500000000001,18649.057364653694,187.06826485958024,"2000-03-01","2000-03-01",10921.93,171,63.870935672514619,286.90476061073792]
["2000-04-01",120319,3.8,2.2688600000000001,19825.634468417462,198.87048268597627,"2000-04-01","2000-04-01",10733.92,170.9,62.808191925102399,282.13097364125923]
["2000-05-01",120534,4,2.3795999999999999,18893.661044579596,189.52187873867808,"2000-05-01","2000-05-01",10522.34,171.2,61.462266355140194,276.08514936478713]
["2000-06-01",120546,4,2.54813,18409.225229187567,184.66251423304988,"2000-06-01","2000-06-01",10447.9,172.2,60.673054587688739,272.54005313552875]
["2000-07-01",120716,4,2.48447,18616.170635379607,186.73837883574984,"2000-07-01","2000-07-01",10521.98,172.7,60.926346265199768,273.67782554070527]
["2000-08-01",120847,4.0999999999999996,2.5944699999999998,18051.765113593759,181.07684004731976,"2000-08-01","2000-08-01",11215.1,172.7,64.939779965257685,291.7059508972232]
["2000-09-01",120843,3.9,2.5309300000000001,18790.905825440488,{"$f":"IF(D540=\"\",\"\",E540/$N$418)","v":188.49114350237326},"2000-09-01","2000-09-01",10650.92,173.6,{"$f":"I540/J540","v":61.353225806451618},{"$f":"IF(J540=\"\",\"\",K540/$M$418)","v":275.59534516528765}]
["2000-10-01",121056,3.9,2.5266700000000002,18836.504752850233,188.94854529288767,"2000-10-01","2000-10-01",10971.14,173.9,63.088786658999418,283.39138988707919]
["2000-11-01",121072,3.9,2.6345299999999998,18528.034916053643,185.85429146532283,"2000-11-01","2000-11-01",10414.49,174.2,59.784672789896675,268.5494905370204]
["2000-12-01",121191,3.9,2.5741499999999999,18719.21410532657,187.77200550926867,"2000-12-01","2000-12-01",10786.85,174.6,61.780355097365408,277.51398665173434]
["2001-01-01",121330,4.2,2.5655299999999999,17933.554355682409,179.89107065759583,"2001-01-01","2001-01-01",10887.36,175.6,62.00091116173121,278.50471246750391]
["2001-02-01",121340,4.2,2.7870699999999999,17366.363869261364,174.20159595305938,"2001-02-01","2001-02-01",10495.28,176,59.632272727272728,267.86491776501072]
["2001-03-01",121477,4.3,2.61111,17577.06070370751,176.31509104616532,"2001-03-01","2001-03-01",9878.7800000000007,176.1,56.097558205565022,251.9871728564724]
["2001-04-01",121555,4.4000000000000004,2.6622300000000001,17211.98544935523,172.65302957895727,"2001-04-01","2001-04-01",10734.97,176.4,60.855839002267565,273.361110759876]
["2001-05-01",121556,4.3,2.5456599999999998,17756.651659591626,178.11656378791315,"2001-05-01","2001-05-01",10911.94,177.3,61.54506486181613,276.45707574235871]
["2001-06-01",121579,4.5,2.7056900000000002,16872.638151238811,169.24904464812943,"2001-06-01","2001-06-01",10502.4,177.7,59.101857062464831,265.48231951850687]
["2001-07-01",121616,4.5999999999999996,2.6997200000000001,16660.365055098006,167.11973811027221,"2001-07-01","2001-07-01",10522.81,177.4,59.316854565952646,266.44807658188148]
["2001-08-01",121740,4.9000000000000004,2.6388099999999999,16148.437220197884,161.98460179021373,"2001-08-01","2001-08-01",9949.75,177.4,56.086527621195039,251.93762407290214]
["2001-09-01",121735,5,2.6330200000000001,15948.471247291372,159.97874772203554,"2001-09-01","2001-09-01",8847.56,178.1,49.677484559236383,223.14855207835427]
["2001-10-01",121771,5.3,2.6286999999999998,15358.255451713398,154.05830667171446,"2001-10-01","2001-10-01",9075.14,177.6,51.098761261261259,229.53284953168782]
["2001-11-01",121769,5.5,2.73075,14794.399052334235,148.40227611749725,"2001-11-01","2001-11-01",9851.56,177.5,55.501746478873237,249.31081906557063]
["2001-12-01",121779,5.7,2.7823199999999999,14356.803327391563,144.01276348024467,"2001-12-01","2001-12-01",10021.5,177.4,56.490980834272825,253.7544058540756]
["2002-01-01",121880,5.7,2.6101100000000002,14666.472525634439,147.11904807485095,"2002-01-01","2002-01-01",9920,177.7,55.824423185143502,250.760265236859]
["2002-02-01",121814,5.7,2.54881,14767.463428058107,148.13208549082273,"2002-02-01","2002-02-01",10106.129999999999,178,56.776011235955053,255.03474687774113]
["2002-03-01",121912,5.7,2.4363800000000002,14983.567630813703,150.29982177088661,"2002-03-01","2002-03-01",10403.94,178.5,58.28537815126051,261.81474076619497]
["2002-04-01",121913,5.9,2.4851399999999999,14539.172870101156,145.84210816243646,"2002-04-01","2002-04-01",9946.2199999999993,179.3,55.472504182933626,249.1794642665854]
["2002-05-01",121988,5.8,2.5364300000000002,14633.122331741524,146.78451304810463,"2002-05-01","2002-05-01",9925.25,179.5,55.293871866295262,248.37705763980216]
["2002-06-01",122114,5.8,2.25806,15154.267900710594,152.01211224628602,"2002-06-01","2002-06-01",9243.26,179.6,51.465812917594654,231.18162555920773]
["2002-07-01",122103,5.8,2.19957,15263.69542362902,153.10977720811033,"2002-07-01","2002-07-01",8736.59,180,48.536611111111114,218.02381075313235]
["2002-08-01",122201,5.7,2.3567200000000001,15167.586809520499,152.14571391376836,"2002-08-01","2002-08-01",8663.5,180.5,47.99722991689751,215.6009398373649]
["2002-09-01",122234,5.7,2.2447900000000001,15385.428689745102,154.33088079649792,"2002-09-01","2002-09-01",7591.93,180.8,41.990763274336281,188.6202191691066]
["2002-10-01",122213,5.7,2.1878299999999999,15493.868402336257,155.41863705568275,"2002-10-01","2002-10-01",8397.0300000000007,181.2,46.341225165562918,208.16225678459182]
["2002-11-01",122264,5.9,2.0202,15436.983914547613,154.84803006896092,"2002-11-01","2002-11-01",8896.09,181.5,49.014269972451793,220.16942831491667]
["2002-12-01",122284,6,1.96391,15354.76920256507,154.02333618681038,"2002-12-01","2002-12-01",8341.6299999999992,181.8,45.883553355335529,206.10641996665589]
["2003-01-01",122930,5.8,1.96078,15839.902690193512,158.88969902657178,"2003-01-01","2003-01-01",8053.81,182.6,44.106297918948528,198.12308544756931]
["2003-02-01",123006,5.9,1.79799,15978.976330184891,160.28474350588164,"2003-02-01","2003-02-01",7891.08,183.6,42.979738562091505,193.06264223987822]
["2003-03-01",123046,5.9,1.7441899999999999,16096.669496702725,161.46532094825952,"2003-03-01","2003-03-01",7992.13,183.9,43.459108210984233,195.21594456606923]
["2003-04-01",123125,6,1.47601,16469.346616711318,165.20363655476351,"2003-04-01","2003-04-01",8480.09,183.2,46.288700873362451,207.92632052780533]
["2003-05-01",123172,6.1,1.5263199999999999,16150.908957400163,162.00939572915541,"2003-05-01","2003-05-01",8850.26,182.9,48.388518316019685,217.35858599203391]
["2003-06-01",123231,6.3,1.4721299999999999,15855.499071683053,159.04614597004391,"2003-06-01","2003-06-01",8985.44,183.1,49.073948661933372,220.43750173421125]
["2003-07-01",123317,6.2,1.5223100000000001,15968.926396376213,160.18393285133851,"2003-07-01","2003-07-01",9233.7999999999993,183.7,50.26565051714752,225.79056149276303]
["2003-08-01",123379,6.1,1.3082199999999999,16654.338019119303,167.05928105119753,"2003-08-01","2003-08-01",9415.82,184.5,51.034254742547425,229.24308976670932]
["2003-09-01",123469,6.1,1.25457,16788.065107817318,168.40069439763695,"2003-09-01","2003-09-01",9275.06,185.1,50.108373851971905,225.0840832879779]
["2003-10-01",123523,6,1.30548,16908.26612351276,169.6064280173492,"2003-10-01","2003-10-01",9801.1200000000008,184.9,53.007679826933483,238.10760764886479]
["2003-11-01",123595,5.8,1.09432,17927.076201858923,179.82608844581122,"2003-11-01","2003-11-01",9782.4599999999991,185,52.878162162162155,237.52582136039385]
["2003-12-01",123676,5.7,1.09318,18205.906512119505,182.6230288654148,"2003-12-01","2003-12-01",10453.92,185.5,56.355363881401615,253.14522189601098]
["2004-01-01",123095,5.7,1.1434500000000001,17987.272501442985,180.42991614036814,"2004-01-01","2004-01-01",10488.07,186.3,56.296672034353186,252.88158131912058]
["2004-02-01",123150,5.6,1.24675,17986.635995180193,180.42353136070744,"2004-02-01","2004-02-01",10583.92,186.7,56.689448312801289,254.64591094659812]
["2004-03-01",123208,5.8,1.55844,16743.766341778963,167.95633449589081,"2004-03-01","2004-03-01",10357.700000000001,187.1,55.359166221272055,248.67035632231872]
["2004-04-01",123262,5.6,1.76623,16733.390078778426,167.85225044074087,"2004-04-01","2004-04-01",10225.57,187.4,54.56547491995731,245.10513827118373]
["2004-05-01",123301,5.6,1.7107300000000001,16865.757591923106,169.18002591612145,"2004-05-01","2004-05-01",10188.450000000001,188.2,54.136291179596178,243.17726830983415]
["2004-06-01",123373,5.6,1.86528,16526.238801491705,165.77432074983221,"2004-06-01","2004-06-01",10435.48,188.9,55.243409211222868,248.15038214458849]
["2004-07-01",123426,5.5,1.7580100000000001,17005.487730107838,170.58165571368696,"2004-07-01","2004-07-01",10139.709999999999,189.1,53.620888418826013,240.86210720972034]
["2004-08-01",123496,5.4,1.70455,17382.663222864219,174.36509439360782,"2004-08-01","2004-08-01",10173.92,189.2,53.773361522198734,241.54700807679112]
["2004-09-01",123564,5.4,1.9618,16784.482056018907,168.36475288757967,"2004-09-01","2004-09-01",10080.27,189.8,53.109957850368808,238.56703495363934]
["2004-10-01",123607,5.5,2.01031,16458.30864504927,165.09291491527182,"2004-10-01","2004-10-01",10027.469999999999,190.8,52.55487421383647,236.07362952311922]
["2004-11-01",123686,5.4,2.2164899999999998,16239.238809477854,162.89543044074333,"2004-11-01","2004-11-01",10428.02,191.7,54.397600417318735,244.35105515834005]
["2004-12-01",123751,5.4,2.2657099999999999,16143.449204313754,161.93456711777475,"2004-12-01","2004-12-01",10783.01,191.7,56.249400104329688,252.66923838685889]
["2005-01-01",123764,5.3,2.26105,{"$f":"B592/(C592+D592)","v":16368.626050614665},164.19331087626099,"2005-01-01","2005-01-01",10489.94,191.6,54.749164926931108,245.93026376719365]
["2005-02-01",123813,5.4,2.3088799999999998,16061.087992029969,161.10840369447695,"2005-02-01","2005-02-01",10766.23,192.4,55.957536382536375,251.35820246182698]
["2005-03-01",123877,5.2,2.3529399999999998,16401.162990835357,164.51968817415388,"2005-03-01","2005-03-01",10503.76,193.1,54.395442775763854,244.34136315011645]
["2005-04-01",123941,5.2,2.1949999999999998,16760.108181203515,168.12025911073806,"2005-04-01","2005-04-01",10192.51,193.7,52.620082601961798,236.36654204722618]
["2005-05-01",124017,5.0999999999999996,2.19164,17008.107915366094,170.60793873165878,"2005-05-01","2005-05-01",10467.48,193.6,54.067561983471073,242.86854050815694]
["2005-06-01",124121,5,2.0345900000000001,17644.382970436091,176.99039915300827,"2005-06-01","2005-06-01",10274.969999999999,193.7,53.045792462570986,238.27880753013611]
["2005-07-01",124194,5,2.0833300000000001,17533.278839190043,175.87591617166882,"2005-07-01","2005-07-01",10640.91,194.9,54.596767573114413,245.24570316299847]
["2005-08-01",124270,4.9000000000000004,2.13306,17669.407057525455,177.241415194193,"2005-08-01","2005-08-01",10481.6,196.1,53.450280469148396,240.09574560181284]
["2005-09-01",124382,5,1.92405,17963.763982062519,180.19410272396152,"2005-09-01","2005-09-01",10568.7,198.8,53.162474849094565,238.80293844853509]
["2005-10-01",124472,5,2.0717500000000002,17601.300950966877,176.55824440807046,"2005-10-01","2005-10-01",10440.07,199.1,52.436313410346557,235.54106085812427]
["2005-11-01",124582,5,2.1179999999999999,17502.388311323404,175.56605399817576,"2005-11-01","2005-11-01",10805.87,198.1,54.54755174154468,245.02462833097829]
["2005-12-01",124671,4.9000000000000004,2.1147999999999998,17772.56657353025,178.2762059230449,"2005-12-01","2005-12-01",10717.5,198.1,54.101463907117619,243.02082610074521]
["2006-01-01",124579,4.7,2.1105499999999999,18292.061580929589,{"$f":"IF(D604=\"\",\"\",E604/$N$418)","v":183.48724837613963},"2006-01-01","2006-01-01",10864.86,199.3,{"$f":"I604/J604","v":54.515102860010032},{"$f":"IF(J604=\"\",\"\",K604/$M$418)","v":244.87886972433256}]
["2006-02-01",124637,4.8,2.1063200000000002,18046.803507511959,181.02707029099963,"2006-02-01","2006-02-01",10993.41,199.4,55.132447342026076,247.65194747812211]
["2006-03-01",124661,4.7,2.0989499999999999,18335.331190845645,183.92128483652871,"2006-03-01","2006-03-01",11109.32,199.7,55.630045067601401,249.88712933092327]
["2006-04-01",124711,4.7,2.2976999999999999,17821.712848507366,178.7691910752975,"2006-04-01","2006-04-01",11367.14,200.7,56.637468858993522,254.41242207416548]
["2006-05-01",124756,4.5999999999999996,2.4438900000000001,17711.236262917224,177.66100298997748,"2006-05-01","2006-05-01",11168.31,201.3,55.48092399403874,249.21728559899682]
["2006-06-01",124805,4.5999999999999996,2.6420699999999999,17233.332458813573,172.86716093912361,"2006-06-01","2006-06-01",11150.22,201.8,55.25381565906838,248.19712734092056]
["2006-07-01",124881,4.7,2.6879,16903.450236197026,169.55811996261497,"2006-07-01","2006-07-01",11185.68,202.9,55.129029078363729,247.63659282412456]
["2006-08-01",124974,4.7,2.8344100000000001,16587.098392574866,166.38480190613819,"2006-08-01","2006-08-01",11381.15,203.8,55.844700686947981,250.85135066937602]
["2006-09-01",125045,4.5,2.9309500000000002,16827.592703490132,168.79719479934622,"2006-09-01","2006-09-01",11679.07,202.8,57.589102564102561,258.68710879166269]
["2006-10-01",125113,4.4000000000000004,2.7722799999999999,17443.964820112989,174.98000930357978,"2006-10-01","2006-10-01",12080.73,201.9,59.83521545319465,268.7765254248211]
["2006-11-01",125201,4.5,2.6172800000000001,17591.130319447879,176.45622303757528,"2006-11-01","2006-11-01",12221.93,202,60.504603960396039,271.78338210215077]
["2006-12-01",125244,4.4000000000000004,2.61341,17857.789577395302,179.13107591177544,"2006-12-01","2006-12-01",12463.15,203.1,61.364598719842441,275.64643167215473]
["2007-01-01",125387,4.5999999999999996,2.6574800000000001,17276.933591274108,173.30452289452003,"2007-01-01","2007-01-01",12621.69,203.43700000000001,62.042253867290611,278.69042164675153]
["2007-02-01",125456,4.5,2.7185700000000002,17379.619509127155,174.33456297122069,"2007-02-01","2007-02-01",12268.63,204.226,60.073790800387805,269.84819287658712]
["2007-03-01",125488,4.4000000000000004,2.5051399999999999,18173.129002453243,182.29423842095474,"2007-03-01","2007-03-01",12354.35,205.28800000000001,60.180575581621916,270.3278642916722]
["2007-04-01",125550,4.5,2.41553,18154.790739104596,182.11028772371083,"2007-04-01","2007-04-01",13062.91,205.904,63.441749553189837,284.97687996321338]
["2007-05-01",125581,4.4000000000000004,2.2677700000000001,18834.03296754387,188.92375087141505,"2007-05-01","2007-05-01",13627.64,206.755,65.912021474692267,296.07320674815304]
["2007-06-01",125620,4.5999999999999996,2.1816399999999998,18523.54297780478,185.80923293621649,"2007-06-01","2007-06-01",13408.62,207.23400000000001,64.70279973363445,290.64144861762691]
["2007-07-01",125715,4.7,2.1682000000000001,18303.922425089542,183.60622423070359,"2007-07-01","2007-07-01",13211.99,207.60300000000001,63.640650664971119,285.87033291266459]
["2007-08-01",125791,4.5999999999999996,2.0884900000000002,18807.085007228838,188.65343650221843,"2007-08-01","2007-08-01",13357.74,207.667,64.322882306769969,288.93488025036078]
["2007-09-01",125867,4.7,2.1013500000000001,18506.178920361399,185.63505447596833,"2007-09-01","2007-09-01",13895.63,208.547,66.630687566831455,299.30141565026526]
["2007-10-01",125916,4.7,2.1565500000000002,18364.337750034636,184.21224896361193,"2007-10-01","2007-10-01",13930.01,209.19,66.590228978440649,299.11967787713428]
["2007-11-01",125978,4.7,2.3387899999999999,17897.678436208495,179.53120013572445,"2007-11-01","2007-11-01",13371.72,210.834,63.42297731864879,284.89255610917212]
["2007-12-01",126009,5,2.4353699999999998,16947.240016300468,169.99737423817206,"2007-12-01","2007-12-01",13264.82,211.44499999999999,62.73413890136915,281.79833149623693]
["2008-01-01",125396,5,2.4789099999999999,16766.614386321002,168.18552270440662,"2008-01-01","2008-01-01",12650.36,212.17400000000001,59.622573925174621,267.82135127479307]
["2008-02-01",125440,4.9000000000000004,2.2970799999999998,17429.290767922546,174.83281422406182,"2008-02-01","2008-02-01",12266.39,212.68700000000001,57.67343561195559,259.06592824453412]
["2008-03-01",125474,5.0999999999999996,2.3885200000000002,16755.513773081999,168.07417270869942,"2008-03-01","2008-03-01",12262.89,213.44800000000001,57.451416738503049,258.06863157010355]
["2008-04-01",125506,5,2.29467,17205.164866950799,172.58461247396477,"2008-04-01","2008-04-01",12820.13,213.94200000000001,59.92339045161772,269.17260271017875]
["2008-05-01",125563,5.4,2.3222200000000002,16259.961513657989,163.10329940904427,"2008-05-01","2008-05-01",12638.32,215.208,58.726069662837808,263.79430300841022]
["2008-06-01",125627,5.6,2.3917299999999999,15719.625162511747,157.68319791688711,"2008-06-01","2008-06-01",11350.01,217.46299999999999,52.192832803741325,234.44735924852827]
["2008-07-01",125699,5.8,2.4633099999999999,15211.700880155771,152.58822114018048,"2008-07-01","2008-07-01",11378.02,219.01599999999999,51.950633743653434,233.35941427601452]
["2008-08-01",125742,6.1,2.4981200000000001,14624.359743757937,146.69661572988005,"2008-08-01","2008-08-01",11543.55,218.69,52.784992455073386,237.10730811603599]
["2008-09-01",125801,6.1,2.4386199999999998,14733.177023921899,147.78815936069077,"2008-09-01","2008-09-01",10850.66,218.87700000000001,49.574235757982791,222.68476409254973]
["2008-10-01",125812,6.5,2.2213599999999998,14425.731766605208,144.70418306628846,"2008-10-01","2008-10-01",9325.01,216.995,42.97338648355953,193.03410904944647]
["2008-11-01",125857,6.8,2.0158900000000002,14276.153627143714,143.20376819475612,"2008-11-01","2008-11-01",8829.0400000000009,213.15299999999999,41.421138806397288,186.06149711671645]
["2008-12-01",125904,7.3,1.7624599999999999,13892.916492872797,139.35952532842776,"2008-12-01","2008-12-01",8776.39,211.398,41.515955685484251,186.48740936788155]
["2009-01-01",125461,7.8,1.67235,13244.97088895575,132.85999790041475,"2009-01-01","2009-01-01",8000.86,211.93299999999999,37.751836665361225,169.57919196026575]
["2009-02-01",125498,8.3000000000000007,1.80098,12424.339024530293,124.6282585709238,"2009-02-01","2009-02-01",7062.93,212.70500000000001,33.20528431395595,149.15632668908341]
["2009-03-01",125493,8.6999999999999993,1.7876099999999999,11965.833969798648,120.02900492818677,"2009-03-01","2009-03-01",7608.92,212.495,35.807524882938424,160.84544944318685]
["2009-04-01",125491,9,1.9323300000000001,11478.888763877416,115.14446878396178,"2009-04-01","2009-04-01",8168.12,212.709,38.400443798804936,172.49269983973718]
["2009-05-01",125513,9.4,1.84613,11160.550340428217,111.95122339099917,"2009-05-01","2009-05-01",8500.33,213.02199999999999,39.903531090685469,179.24448600214973]
["2009-06-01",125533,9.5,1.71197,11196.337485740685,112.31020342130192,"2009-06-01","2009-06-01",8447,214.79,39.326784300945114,176.65377086855767]
["2009-07-01",125604,9.5,1.5270999999999999,11390.483445330141,114.2576770699558,"2009-07-01","2009-07-01",9171.61,214.726,42.713085513631327,191.86485128489909]
["2009-08-01",125617,9.6,1.43397,11384.569651721004,114.19835594248178,"2009-08-01","2009-08-01",9496.2800000000007,215.44499999999999,44.077513982687002,197.9937895752669]
["2009-09-01",125637,9.8000000000000007,1.47984,11138.189903402885,111.72692636225182,"2009-09-01","2009-09-01",9712.2800000000007,215.86099999999999,44.993213225177321,202.10706064593285]
["2009-10-01",125644,10,1.7127300000000001,10727.131932521283,107.60361332471111,"2009-10-01","2009-10-01",9712.73,216.50899999999999,44.860629350281052,201.51150110875938]
["2009-11-01",125647,9.9,1.71424,10818.357464629627,108.51869453598695,"2009-11-01","2009-11-01",10344.84,217.23400000000001,47.620722354695857,213.90968839624844]
["2009-12-01",125640,9.9,1.8236699999999999,10716.780666804849,107.49978001674221,"2009-12-01","2009-12-01",10428.049999999999,217.34700000000001,47.978808081086918,215.5181899553161]
["2010-01-01",125156,9.6999999999999993,1.4709300000000001,11203.722519074063,112.38428252056103,"2010-01-01","2010-01-01",10067.33,217.488,46.28912859560068,207.92824183277878]
["2010-02-01",125178,9.8000000000000007,1.3177700000000001,11259.272318099762,112.9415012750452,"2010-02-01","2010-02-01",10325.26,217.28100000000001,47.520307804179843,213.45863171022546]
["2010-03-01",125191,9.9,1.1454599999999999,11334.159011937936,113.69268797598427,"2010-03-01","2010-03-01",10856.63,217.35300000000001,49.949299066495513,224.36952802484046]
["2010-04-01",125192,9.9,0.96521999999999997,11522.27014271225,115.57962639580064,"2010-04-01","2010-04-01",11008.61,217.40299999999999,50.636881735762621,227.4581118861704]
["2010-05-01",125249,9.6,0.96936999999999995,{"$f":"B656/(C656+D656)","v":11850.185961887984},118.86894242468892,"2010-05-01","2010-05-01",10136.629999999999,217.29,46.650237010446865,209.55032114358104]
["2010-06-01",125268,9.4,0.97985999999999995,12068.370864346916,121.05755015554981,"2010-06-01","2010-06-01",9774.02,217.19900000000001,45.000299264729577,202.13889074924998]
["2010-07-01",125326,9.5,1.00017,11935.616280498314,119.72589198285402,"2010-07-01","2010-07-01",10465.94,217.60499999999999,48.096045587187803,216.04481444058959]
["2010-08-01",125337,9.5,0.95901999999999998,11983.627529156651,120.2074917122473,"2010-08-01","2010-08-01",10014.719999999999,217.923,45.955314491815912,206.42876707909875]
["2010-09-01",125354,9.5,0.81438999999999995,12153.312023299488,121.90959296445531,"2010-09-01","2010-09-01",10788.05,218.27500000000001,49.424120948344971,222.01045655235507]
["2010-10-01",125407,9.5,0.59728000000000003,12419.879413069659,124.58352431108557,"2010-10-01","2010-10-01",11118.49,219.035,50.761248202342088,228.01675927322191]
["2010-11-01",125415,9.8000000000000007,0.65347999999999995,11997.440086937555,120.34604516118696,"2010-11-01","2010-11-01",11006.02,219.59,50.120770526891029,225.13976847581165]
["2010-12-01",125410,9.4,0.63698999999999995,12494.781802113981,125.33486845027599,"2010-12-01","2010-12-01",11577.51,220.47200000000001,52.512382524765052,235.88275917258156]
["2011-01-01",124628,9.1,0.95582,12393.618819748168,124.32010490436824,"2011-01-01","2011-01-01",11891.93,221.18700000000001,53.764145270743761,241.50560917775235]
["2011-02-01",124647,9,1.0967,12345.320748363327,123.83562806281212,"2011-02-01","2011-02-01",12226.34,221.898,55.098919323292684,247.50134144601734]
["2011-03-01",124644,9,1.20225,12217.305006248622,122.55150510239385,"2011-03-01","2011-03-01",12319.73,223.04599999999999,55.234032441738478,248.10826220731349]
["2011-04-01",124658,9.1,1.34365,11936.248342294122,119.73223218016877,"2011-04-01","2011-04-01",12810.54,224.09299999999999,57.166176542774657,256.78734816302125]
["2011-05-01",124727,9,1.50118,11877.42710819165,{"$f":"IF(D668=\"\",\"\",E668/$N$418)","v":119.14219773578424},"2011-05-01","2011-05-01",12569.79,224.80600000000001,{"$f":"I668/J668","v":55.913943578018383},{"$f":"IF(J668=\"\",\"\",K668/$M$418)","v":251.16238596073936}]
["2011-06-01",124738,9.1,1.6211800000000001,11634.726774478182,116.70767627870133,"2011-06-01","2011-06-01",12414.34,224.80600000000001,55.222458475307597,248.05627258115248]
["2011-07-01",124771,9,1.7484299999999999,11608.300002884143,116.44258994155985,"2011-07-01","2011-07-01",12143.24,225.39500000000001,53.875374342820379,242.00524410498622]
["2011-08-01",124756,9,1.9395199999999999,11404.156672322004,114.39483289495996,"2011-08-01","2011-08-01",11613.53,226.10599999999999,51.363210175758276,230.72073963708024]
["2011-09-01",124728,9,1.9755400000000001,11364.17889233696,113.99381670478434,"2011-09-01","2011-09-01",10913.38,226.59700000000001,48.162067458968998,216.3413810889252]
["2011-10-01",124743,8.8000000000000007,2.09992,11444.395922171903,114.79847188332722,"2011-10-01","2011-10-01",11955.01,226.75,52.723307607497247,236.83022314396226]
["2011-11-01",124722,8.6,2.1624599999999998,11588.614498915676,116.24512510469108,"2011-11-01","2011-11-01",12045.68,227.16900000000001,53.02519269794734,238.1862745106061]
["2011-12-01",124690,8.5,2.2389899999999998,11610.961552250259,116.46928788194482,"2011-12-01","2011-12-01",12217.56,227.22300000000001,53.769028663471559,241.52754511162877]
["2012-01-01",124356,8.1999999999999993,2.2802500000000001,11865.747477397963,119.02503962832317,"2012-01-01","2012-01-01",12632.91,227.84200000000001,55.445923051939495,249.06006327544074]
["2012-02-01",124341,8.3000000000000007,2.1714000000000002,11874.343449777489,119.11126562926125,"2012-02-01","2012-02-01",12952.07,228.32900000000001,56.725470702363694,254.80772155646642]
["2012-03-01",124323,8.1999999999999993,2.2546300000000001,11891.669049980726,119.28505832581938,"2012-03-01","2012-03-01",13212.04,228.80699999999999,57.743163452167117,259.37914190099855]
["2012-04-01",124357,8.1999999999999993,2.3156300000000001,11825.920082772027,118.62553195022076,"2012-04-01","2012-04-01",13213.63,229.18700000000001,57.654360849437353,258.98024545131403]
["2012-05-01",124363,8.1999999999999993,2.2469999999999999,11904.183019048533,119.41058566128984,"2012-05-01","2012-05-01",12393.45,228.71299999999999,54.187781193023575,243.40855864276389]
["2012-06-01",124355,8.1999999999999993,2.21529,11939.657945194038,119.7664338283205,"2012-06-01","2012-06-01",12880.09,228.524,56.362088883443313,253.17543023851553]
["2012-07-01",124372,8.1999999999999993,2.1044900000000002,12069.690008918444,121.07078246436143,"2012-07-01","2012-07-01",13008.68,228.59,56.90835119646529,255.62921076479142]
["2012-08-01",124308,8.1,1.9163399999999999,12410.521208345564,124.48965237505651,"2012-08-01","2012-08-01",13090.84,229.91800000000001,56.936994928626724,255.75787684792056]
["2012-09-01",124259,7.8,1.9925600000000001,12689.123171060479,127.28430224568928,"2012-09-01","2012-09-01",13437.13,231.01499999999999,58.165616951280221,261.27677998561438]
["2012-10-01",124270,7.8,2.0006499999999998,12679.771239662676,127.19049323725174,"2012-10-01","2012-10-01",13096.46,231.63800000000001,56.538478142619084,253.96776117347483]
["2012-11-01",124248,7.8,1.94526,12749.582874135735,127.89077213459905,"2012-11-01","2012-11-01",13025.58,231.249,56.327076008977336,253.01815431541866]
["2012-12-01",124219,7.9,1.8907400000000001,12687.396458286095,127.2669816296228,"2012-12-01","2012-12-01",13104.14,231.221,56.67365853447567,254.57498412326433]
["2013-01-01",124357,7.9,1.9128099999999999,12672.924473214094,127.12181348071549,"2013-01-01","2013-01-01",13860.58,231.679,59.82665671036218,268.7380800186653]
["2013-02-01",124354,7.7,2.0050400000000002,12813.34234583268,128.53034192654562,"2013-02-01","2013-02-01",14054.49,232.93700000000001,60.336013600243838,271.02608339638653]
["2013-03-01",124343,7.5,1.8919299999999999,13239.344841795029,132.80356315093681,"2013-03-01","2013-03-01",14578.54,232.28200000000001,62.7622458907707,281.92458656015339]
["2013-04-01",124380,7.5,1.7220899999999999,13487.181322238235,135.28960517755891,"2013-04-01","2013-04-01",14839.8,231.797,64.020673261517615,287.57737369640813]
["2013-05-01",124388,7.5,1.67622,13555.472732781036,135.97463474367888,"2013-05-01","2013-05-01",15115.57,231.893,65.183381990831975,292.80019791420807]
["2013-06-01",124406,7.5,1.6334,13620.995467186371,136.63189178323802,"2013-06-01","2013-06-01",14909.6,232.44499999999999,64.142485319107749,288.12454681755344]
["2013-07-01",124401,7.3,1.69557,13829.140343524645,138.7197882433461,"2013-07-01","2013-07-01",15499.54,232.9,66.550193215972527,298.93983941499431]
["2013-08-01",124409,7.2,1.7660800000000001,13875.517505978087,139.18499649165787,"2013-08-01","2013-08-01",14810.31,233.45599999999999,63.439406140771709,284.96635348240079]
["2013-09-01",124465,7.2,1.73767,13925.888962112049,139.69027140787375,"2013-09-01","2013-09-01",15129.67,233.54400000000001,64.782953105196455,291.0014931924872]
["2013-10-01",124461,7.2,1.6821999999999999,14012.406836144197,140.55813020942421,"2013-10-01","2013-10-01",15545.75,233.66900000000001,66.528936230308688,298.8443541943854]
["2013-11-01",124474,7,1.7200899999999999,14274.393956943106,143.18611698350634,"2013-11-01","2013-11-01",16086.41,234.1,68.715976078598885,308.66841794909664]
["2013-12-01",124438,6.7,1.7187600000000001,14781.036637224483,148.26823803932328,"2013-12-01","2013-12-01",16576.66,234.71899999999999,70.623426309757633,317.23658038769696]
["2014-01-01",124453,6.6,1.6196699999999999,15140.875485268876,151.87777323547311,"2014-01-01","2014-01-01",15698.85,235.28800000000001,66.721847268028966,299.71090005775096]
["2014-02-01",124439,6.7,1.5596000000000001,15065.98382488256,151.12653671520403,"2014-02-01","2014-02-01",16321.71,235.547,69.292795068500126,311.25945740187484]
["2014-03-01",124410,6.7,1.6488700000000001,14901.417796659907,149.47577867674184,"2014-03-01","2014-03-01",16457.66,236.02799999999999,69.727574694527775,313.21246377653432]
["2014-04-01",124453,6.3,1.82646,15314.540402586121,153.61980202085792,"2014-04-01","2014-04-01",16580.84,236.46799999999999,70.118747568381352,314.96959099799557]
["2014-05-01",124442,6.3,1.9491499999999999,15085.433044616717,151.32163139036101,"2014-05-01","2014-05-01",16717.169999999998,236.91800000000001,70.560995787572068,316.95614588593401]
["2014-06-01",124478,6.1,1.9273800000000001,15506.678393199278,{"$f":"VLOOKUP($A705,'Tocalino Index'!$A$12:$B$1041,2,FALSE)","v":155.63477},"2014-06-01","2014-06-01",16826.599999999999,237.23099999999999,70.929178732964914,318.61000360222778]
["2014-07-01",124500,6.2,null,null,{"$f":"VLOOKUP($A706,'Tocalino Index'!$A$12:$B$1041,2,FALSE)","v":155.23465999999999},"2014-07-01","2014-07-01",16563.3,237.49799999999999,{"$f":"IF(J706=\"\",\"\",I706/J706)","v":69.740797817244783},313.27186132281582,{"$f":"VLOOKUP($H706,CPIAUCSL!$A$12:$B$1041,1,FALSE)","v":"2014-07-01"}]
["2014-08-01",null,null,null,null,{"$f":"VLOOKUP($A707,'Tocalino Index'!$A$12:$B$1041,2,FALSE)","v":159.42884000000001},"2014-08-01","2014-08-01",17098.45,237.46,72.005600943316765,323.44523348144151]
["2014-09-01",null,null,null,null,{"$f":"VLOOKUP($A708,'Tocalino Index'!$A$12:$B$1041,2,FALSE)","v":163.55680000000001},"2014-09-01","2014-09-01",17042.900000000001,237.477,71.766528969121225,322.3713352082583]
["2014-10-01",null,null,null,null,{"$f":"VLOOKUP($A709,'Tocalino Index'!$A$12:$B$1041,2,FALSE)","v":166.26649},"2014-10-01","2014-10-01",17390.52,237.43,73.244830055174162,329.01178308550976]
["2014-11-01",null,null,null,null,{"$f":"VLOOKUP($A710,'Tocalino Index'!$A$12:$B$1041,2,FALSE)","v":165.7449},"2014-11-01","2014-11-01",17828.240000000002,236.983,75.230037597633597,337.92922712691671]
["2014-12-01",null,null,null,null,{"$f":"VLOOKUP($A711,'Tocalino Index'!$A$12:$B$1041,2,FALSE)","v":173.04859999999999},"2014-12-01","2014-12-01",17823.07,236.25200000000001,75.44092748421177,338.87653299909255]
["2015-01-01",null,null,null,null,{"$f":"VLOOKUP($A712,'Tocalino Index'!$A$12:$B$1041,2,FALSE)","v":170.98670999999999},"2015-01-01","2015-01-01",17164.95,234.74700000000001,73.121062249996797,328.45582485283569]
["2015-02-01",null,null,null,null,{"$f":"VLOOKUP($A713,'Tocalino Index'!$A$12:$B$1041,2,FALSE)","v":174.38048000000001},"2015-02-01","2015-02-01",18132.7,235.34200000000001,77.048295671830786,346.09674325946298]
["2015-03-01",null,null,null,null,{"$f":"VLOOKUP($A714,'Tocalino Index'!$A$12:$B$1041,2,FALSE)","v":175.40852000000001},"2015-03-01","2015-03-01",17776.12,235.976,75.330203071498786,338.37916497420463]
["2015-04-01",null,null,null,null,{"$f":"VLOOKUP($A715,'Tocalino Index'!$A$12:$B$1041,2,FALSE)","v":174.03870000000001},"2015-04-01","2015-04-01",17840.52,236.22200000000001,75.524379609011859,339.25139539364068]
["2015-05-01",null,null,null,null,{"$f":"VLOOKUP($A716,'Tocalino Index'!$A$12:$B$1041,2,FALSE)","v":170.59350000000001},"2015-05-01","2015-05-01",18010.68,237.001,75.994109729494809,341.3613974837902]
["2015-06-01",null,null,null,null,{"$f":"VLOOKUP($A717,'Tocalino Index'!$A$12:$B$1041,2,FALSE)","v":177.28936999999999},"2015-06-01","2015-06-01",17619.509999999998,237.65700000000001,74.138401141140378,333.02565568356118]
["2015-07-01",null,null,null,null,{"$f":"VLOOKUP($A718,'Tocalino Index'!$A$12:$B$1041,2,FALSE)","v":178.45240999999999},"2015-07-01","2015-07-01",17689.86,238.03399999999999,74.316526210541355,333.82578378341071]
["2015-08-01",null,null,null,null,{"$f":"VLOOKUP($A719,'Tocalino Index'!$A$12:$B$1041,2,FALSE)","v":180.69997000000001},"2015-08-01","2015-08-01",16528.03,238.03299999999999,69.435876538127062,311.90217156221883]
["2015-09-01",null,null,null,null,{"$f":"VLOOKUP($A720,'Tocalino Index'!$A$12:$B$1041,2,FALSE)","v":182.14314999999999},"2015-09-01","2015-09-01",16284.7,237.49799999999999,68.567735307244703,308.00252848669402]
["2015-10-01",null,null,null,null,{"$f":"VLOOKUP($A721,'Tocalino Index'!$A$12:$B$1041,2,FALSE)","v":181.71464},"2015-10-01","2015-10-01",17663.54,237.733,74.299907879848405,333.75113514801797]
["2015-11-01",null,null,null,null,{"$f":"VLOOKUP($A722,'Tocalino Index'!$A$12:$B$1041,2,FALSE)","v":177.03029000000001},"2015-11-01","2015-11-01",17719.919999999998,238.017,74.448127654747339,334.41693029548838]
["2015-12-01",null,null,null,null,{"$f":"VLOOKUP($A723,'Tocalino Index'!$A$12:$B$1041,2,FALSE)","v":177.67918},"2015-12-01","2015-12-01",17425.03,237.761,73.288007705216586,329.20573473532858]
["2016-01-01",null,null,null,null,{"$f":"VLOOKUP($A724,'Tocalino Index'!$A$12:$B$1041,2,FALSE)","v":181.31679},"2016-01-01","2016-01-01",16466.3,237.827,69.236461797861466,311.00641142162061]
["2016-02-01",null,null,null,null,{"$f":"VLOOKUP($A725,'Tocalino Index'!$A$12:$B$1041,2,FALSE)","v":176.84484},"2016-02-01","2016-02-01",16516.5,237.51400000000001,69.539058750221031,312.365660433149]
["2016-03-01",null,null,null,null,{"$f":"VLOOKUP($A726,'Tocalino Index'!$A$12:$B$1041,2,FALSE)","v":176.41490999999999},"2016-03-01","2016-03-01",17685.09,237.99,74.310223118618424,333.79747063815591]
["2016-04-01",null,null,null,null,{"$f":"VLOOKUP($A727,'Tocalino Index'!$A$12:$B$1041,2,FALSE)","v":173.66716},"2016-04-01","2016-04-01",17773.64,238.83500000000001,74.418071053237583,334.28191768028034]
["2016-05-01",null,null,null,null,{"$f":"VLOOKUP($A728,'Tocalino Index'!$A$12:$B$1041,2,FALSE)","v":178.69761},"2016-05-01","2016-05-01",17787.2,239.44,74.286668894086205,333.69166634580239]
["2016-06-01",null,null,null,null,{"$f":"VLOOKUP($A729,'Tocalino Index'!$A$12:$B$1041,2,FALSE)","v":176.07056},"2016-06-01","2016-06-01",17929.990000000002,240.14400000000001,74.663493570524352,335.38434224677917]
["2016-07-01",null,null,null,null,{"$f":"VLOOKUP($A730,'Tocalino Index'!$A$12:$B$1041,2,FALSE)","v":181.00153},"2016-07-01","2016-07-01",18432.240000000002,240.11099999999999,76.765495958119374,344.8264223645387]
["2016-08-01",null,null,null,null,{"$f":"VLOOKUP($A731,'Tocalino Index'!$A$12:$B$1041,2,FALSE)","v":175.12357},"2016-08-01","2016-08-01",18400.88,240.595,76.480724869594141,343.54724616143591]
["2016-09-01",null,null,null,null,{"$f":"VLOOKUP($A732,'Tocalino Index'!$A$12:$B$1041,2,FALSE)","v":173.68162000000001},"2016-09-01","2016-09-01",18308.150000000001,241.06800000000001,75.945998639388065,{"$f":"IF(J732=\"\",\"\",K732/$M$418)","v":341.14528509018805}]
["2016-10-01",null,null,null,null,{"$f":"VLOOKUP($A733,'Tocalino Index'!$A$12:$B$1041,2,FALSE)","v":177.79861},"2016-10-01","2016-10-01",18142.419999999998,241.64099999999999,75.080056778444046,337.25552146451014]
["2016-11-01",null,null,null,null,{"$f":"VLOOKUP($A734,'Tocalino Index'!$A$12:$B$1041,2,FALSE)","v":184.58356000000001},"2016-11-01","2016-11-01",19123.580000000002,241.99299999999999,79.025343708289085,354.97753524479299]
["2016-12-01",null,null,null,null,{"$f":"VLOOKUP($A735,'Tocalino Index'!$A$12:$B$1041,2,FALSE)","v":183.20722000000001},"2016-12-01","2016-12-01",19762.599999999999,242.71199999999999,81.424074623422001,365.75250372974568]
["2017-01-01",null,null,null,null,{"$f":"VLOOKUP($A736,'Tocalino Index'!$A$12:$B$1041,2,FALSE)","v":181.19727},"2017-01-01","2017-01-01",19864.09,243.71700000000001,81.504737051580307,366.11483495908135]
["2017-02-01",null,null,null,null,{"$f":"VLOOKUP($A737,'Tocalino Index'!$A$12:$B$1041,2,FALSE)","v":184.27142000000001},"2017-02-01","2017-02-01",20812.240000000002,244.02799999999999,85.286278623764503,383.10131352062746]
["2017-03-01",null,null,null,null,{"$f":"VLOOKUP($A738,'Tocalino Index'!$A$12:$B$1041,2,FALSE)","v":195.41408000000001},"2017-03-01","2017-03-01",20663.22,243.721,84.782271531792503,380.8373411434298]
["2017-04-01",null,null,null,null,{"$f":"VLOOKUP($A739,'Tocalino Index'!$A$12:$B$1041,2,FALSE)","v":200.03104999999999},"2017-04-01","2017-04-01",20940.509999999998,244.05799999999999,85.8013668881987,385.41506192034734]
["2017-05-01",null,null,null,null,{"$f":"VLOOKUP($A740,'Tocalino Index'!$A$12:$B$1041,2,FALSE)","v":205.29449},"2017-05-01","2017-05-01",21008.65,243.92599999999999,86.127145117781637,386.87843996525214]
["2017-06-01",null,null,null,null,{"$f":"VLOOKUP($A741,'Tocalino Index'!$A$12:$B$1041,2,FALSE)","v":210.12461999999999},"2017-06-01","2017-06-01",21349.63,244.179,87.434341200512748,392.75029349672707]
["2017-07-01",null,null,null,null,{"$f":"VLOOKUP($A742,'Tocalino Index'!$A$12:$B$1041,2,FALSE)","v":211.01275000000001},"2017-07-01","2017-07-01",21891.119999999999,244.328,89.597262696047935,402.46601892586591]
["2017-08-01",null,null,null,null,{"$f":"VLOOKUP($A743,'Tocalino Index'!$A$12:$B$1041,2,FALSE)","v":208.35112000000001},"2017-08-01","2017-08-01",21948.1,245.304,89.473061996543052,401.90811615547534]
["2017-09-01",null,null,null,null,{"$f":"VLOOKUP($A744,'Tocalino Index'!$A$12:$B$1041,2,FALSE)","v":214.05488},"2017-09-01","2017-09-01",22405.09,246.44499999999999,90.913144920773405,408.37689013358562]
["2017-10-01",null,null,null,null,{"$f":"VLOOKUP($A745,'Tocalino Index'!$A$12:$B$1041,2,FALSE)","v":211.77749},"2017-10-01","2017-10-01",23377.24,246.57,94.809749766800508,425.88022664764793]
["2017-11-01",null,null,null,null,{"$f":"VLOOKUP($A746,'Tocalino Index'!$A$12:$B$1041,2,FALSE)","v":212.60884999999999},"2017-11-01","2017-11-01",24272.35,247.333,98.13631824301649,440.82299086856852]
["2017-12-01",null,null,null,null,{"$f":"VLOOKUP($A747,'Tocalino Index'!$A$12:$B$1041,2,FALSE)","v":215.08217999999999},"2017-12-01","2017-12-01",24719.22,247.84700000000001,99.735804750511406,448.00779705155372]
["2018-01-01",null,null,null,null,{"$f":"VLOOKUP($A748,'Tocalino Index'!$A$12:$B$1041,2,FALSE)","v":214.94354999999999},"2018-01-01","2018-01-01",26149.39,248.816,105.09529129959488,472.08231841515669]
["2018-02-01",null,null,null,null,{"$f":"VLOOKUP($A749,'Tocalino Index'!$A$12:$B$1041,2,FALSE)","v":211.84076999999999},"2018-02-01","2018-02-01",25029.200000000001,249.47499999999999,100.32748772422087,450.66560470917062]
["2018-03-01",null,null,null,null,{"$f":"VLOOKUP($A750,'Tocalino Index'!$A$12:$B$1041,2,FALSE)","v":206.88835},"2018-03-01","2018-03-01",24103.11,249.41300000000001,96.639349191902582,434.09868751009526]
["2018-04-01",null,null,null,null,{"$f":"VLOOKUP($A751,'Tocalino Index'!$A$12:$B$1041,2,FALSE)","v":205.97242},"2018-04-01","2018-04-01",24163.15,249.95699999999999,96.669227107062426,434.23289747596198]
["2018-05-01",null,null,null,null,{"$f":"VLOOKUP($A752,'Tocalino Index'!$A$12:$B$1041,2,FALSE)","v":208.64861999999999},"2018-05-01","2018-05-01",24415.84,250.64,97.413980210660711,437.57828781120833]
["2018-06-01",null,null,null,null,{"$f":"VLOOKUP($A753,'Tocalino Index'!$A$12:$B$1041,2,FALSE)","v":202.91081},"2018-06-01","2018-06-01",24271.41,251.17599999999999,96.631087365034887,434.06157583426454]
["2018-07-01",null,null,null,null,{"$f":"VLOOKUP($A754,'Tocalino Index'!$A$12:$B$1041,2,FALSE)","v":208.94506999999999},"2018-07-01","2018-07-01",25415.19,251.482,101.06166644133576,453.96349547687998]
["2018-08-01",null,null,null,null,{"$f":"VLOOKUP($A755,'Tocalino Index'!$A$12:$B$1041,2,FALSE)","v":214.18169},"2018-08-01","2018-08-01",25964.82,251.905,103.07385720807447,463.0021466905452]
["2018-09-01",null,null,null,null,{"$f":"VLOOKUP($A756,'Tocalino Index'!$A$12:$B$1041,2,FALSE)","v":215.12494000000001},"2018-09-01","2018-09-01",26458.31,252.261,104.88466310686155,471.13618805746364]
["2018-10-01",null,null,null,null,{"$f":"VLOOKUP($A757,'Tocalino Index'!$A$12:$B$1041,2,FALSE)","v":214.18191999999999},"2018-10-01","2018-10-01",25115.759999999998,252.77699999999999,99.359356270546769,446.31681100462464]
["2018-11-01",null,null,null,null,{"$f":"VLOOKUP($A758,'Tocalino Index'!$A$12:$B$1041,2,FALSE)","v":211.0591},"2018-11-01","2018-11-01",25538.46,252.66200000000001,101.07756607641829,454.03491577077614]
["2018-12-01",null,null,null,null,{"$f":"VLOOKUP($A759,'Tocalino Index'!$A$12:$B$1041,2,FALSE)","v":206.48196999999999},"2018-12-01","2018-12-01",23327.46,252.65299999999999,92.330033682560668,414.74147719861514]
["2019-01-01",null,null,null,null,{"$f":"VLOOKUP($A760,'Tocalino Index'!$A$12:$B$1041,2,FALSE)","v":205.84412},"2019-01-01","2019-01-01",24999.67,252.55,98.988992278756669,444.65315614683141]
["2019-02-01",null,null,null,null,{"$f":"VLOOKUP($A761,'Tocalino Index'!$A$12:$B$1041,2,FALSE)","v":214.76778999999999},"2019-02-01","2019-02-01",25916,253.18100000000001,102.36155161722246,459.80250881342187]
["2019-03-01",null,null,null,null,{"$f":"VLOOKUP($A762,'Tocalino Index'!$A$12:$B$1041,2,FALSE)","v":216.28022999999999},"2019-03-01","2019-03-01",25928.68,254.095,102.04325153977842,458.37272222019431]
["2019-04-01",null,null,null,null,{"$f":"VLOOKUP($A763,'Tocalino Index'!$A$12:$B$1041,2,FALSE)","v":219.00890000000001},"2019-04-01","2019-04-01",26592.91,254.94300000000001,104.30923775118359,468.55140873363138]
["2019-05-01",null,null,null,null,{"$f":"VLOOKUP($A764,'Tocalino Index'!$A$12:$B$1041,2,FALSE)","v":225.96743000000001},"2019-05-01","2019-05-01",24815.040000000001,255.167,97.250193010851717,436.84256463982342]
["2019-06-01",null,null,null,null,{"$f":"VLOOKUP($A765,'Tocalino Index'!$A$12:$B$1041,2,FALSE)","v":221.43394000000001},"2019-06-01","2019-06-01",26599.96,255.40199999999999,104.14938019279411,467.83333729724745]
["2019-07-01",null,null,null,null,{"$f":"VLOOKUP($A766,'Tocalino Index'!$A$12:$B$1041,2,FALSE)","v":215.49543},"2019-07-01","2019-07-01",26864.27,256.08699999999999,104.90290409118776,471.21812556450516]
["2019-08-01",null,null,null,null,{"$f":"VLOOKUP($A767,'Tocalino Index'!$A$12:$B$1041,2,FALSE)","v":212.52749},"2019-08-01","2019-08-01",26403.279999999999,256.29399999999998,103.01950104177234,462.7579817551732]
["2019-09-01",null,null,null,null,{"$f":"VLOOKUP($A768,'Tocalino Index'!$A$12:$B$1041,2,FALSE)","v":216.73685},"2019-09-01","2019-09-01",26916.83,256.59300000000002,104.90087414699543,471.2090071658717]
["2019-10-01",null,null,null,null,{"$f":"VLOOKUP($A769,'Tocalino Index'!$A$12:$B$1041,2,FALSE)","v":213.81773000000001},"2019-10-01",{"$f":"IF((TODAY()-G769)<40,\"\",G769)","v":"2019-10-01"},{"$f":"IF(DJIA!B117=\"\",\"\",DJIA!B117)","v":27046.23},{"$f":"IF(CPIAUCSL!B885=\"\",\"\",CPIAUCSL!B885)","v":257.22899999999998},{"$f":"IF(J769=\"\",\"\",I769/J769)","v":105.14455990576491},{"$f":"IF(J769=\"\",\"\",K769/$M$418)","v":472.30363030780399}]
["2019-11-01",null,null,null,null,{"$f":"VLOOKUP($A770,'Tocalino Index'!$A$12:$B$1041,2,FALSE)","v":213.77206000000001},"2019-11-01","2019-11-01",{"$f":"IF(DJIA!B118=\"\",\"\",DJIA!B118)","v":28051.41},{"$f":"IF(CPIAUCSL!B886=\"\",\"\",CPIAUCSL!B886)","v":257.82400000000001},108.8006159240412,488.72643460303516]
["2019-12-01",null,null,null,null,{"$f":"IF(H771=\"\",\"\",VLOOKUP($A771,'Tocalino Index'!$A$12:$B$1041,2,FALSE))","v":216.59287},"2019-12-01","2019-12-01",{"$f":"IF(DJIA!B119=\"\",\"\",DJIA!B119)","v":28538.44},{"$f":"IF(CPIAUCSL!B887=\"\",\"\",CPIAUCSL!B887)","v":258.44400000000002},110.42407639566017,496.01893052573496]
["2020-01-01",null,null,null,null,{"$f":"IF(H772=\"\",\"\",VLOOKUP($A772,'Tocalino Index'!$A$12:$B$1041,2,FALSE))","v":214.89149},"2020-01-01","2020-01-01",{"$f":"IF(DJIA!B120=\"\",\"\",DJIA!B120)","v":28256.03},{"$f":"IF(CPIAUCSL!B888=\"\",\"\",CPIAUCSL!B888)","v":258.82},109.17251371609613,490.39697920799074]
["2020-02-01",null,null,null,null,{"$f":"IF(H773=\"\",\"\",VLOOKUP($A773,'Tocalino Index'!$A$12:$B$1041,2,FALSE))","v":214.82767000000001},"2020-02-01","2020-02-01",{"$f":"IF(DJIA!B121=\"\",\"\",DJIA!B121)","v":25409.360000000001},{"$f":"IF(CPIAUCSL!B889=\"\",\"\",CPIAUCSL!B889)","v":259.05},{"$f":"IF(J773=\"\",\"\",I773/J773)","v":98.086701408994401},440.60011475539619]
["2020-03-01",null,null,null,null,{"$f":"IF(H774=\"\",\"\",VLOOKUP($A774,'Tocalino Index'!$A$12:$B$1041,2,FALSE))","v":193.69297},"2020-03-01",{"$f":"IF((TODAY()-G774)<40,\"\",G774)","v":"2020-03-01"},{"$f":"IF(DJIA!B122=\"\",\"\",DJIA!B122)","v":21917.16},{"$f":"IF(CPIAUCSL!B890=\"\",\"\",CPIAUCSL!B890)","v":257.95299999999997},{"$f":"IF(H774=\"\",\"\",VLOOKUP($G774,DJIA_def!$A$12:$B$1041,2,FALSE))","v":84.909423377911395},381.40850030350538]
[null,null,null,null,null,{"$f":"IF(H775=\"\",\"\",VLOOKUP($A775,'Tocalino Index'!$A$12:$B$1041,2,FALSE))","v":{"$error":"#N/A"}},"2020-04-01",{"$f":"IF((TODAY()-G775)<40,\"\",G775)","v":"2020-04-01"},{"$f":"IF(DJIA!B123=\"\",\"\",DJIA!B123)","v":24345.72},{"$f":"IF(CPIAUCSL!B891=\"\",\"\",CPIAUCSL!B891)","v":""},{"$f":"IF(H775=\"\",\"\",VLOOKUP($G775,DJIA_def!$A$12:$B$1041,2,FALSE))","v":95.066304296893307},{"$f":"IF(J775=\"\",\"\",K775/$M$418)","v":""}]
[null,null,null,null,null,{"$f":"IF(H776=\"\",\"\",VLOOKUP($A776,'Tocalino Index'!$A$12:$B$1041,2,FALSE))","v":{"$error":"#N/A"}},"2020-05-01","2020-05-01",{"$f":"IF(DJIA!B124=\"\",\"\",DJIA!B124)","v":{"$error":"#N/A"}},{"$f":"IF(CPIAUCSL!B892=\"\",\"\",CPIAUCSL!B892)","v":""},{"$f":"IF(H776=\"\",\"\",VLOOKUP($G776,DJIA_def!$A$12:$B$1041,2,FALSE))","v":99.203925461566115},""]
[null,null,null,null,null,{"$f":"IF(H777=\"\",\"\",VLOOKUP($A777,'Tocalino Index'!$A$12:$B$1041,2,FALSE))","v":{"$error":"#N/A"}},"2020-06-01","2020-06-01",{"$f":"IF(DJIA!B125=\"\",\"\",DJIA!B125)","v":""},{"$f":"IF(CPIAUCSL!B893=\"\",\"\",CPIAUCSL!B893)","v":""},{"$f":"IF(H777=\"\",\"\",VLOOKUP($G777,DJIA_def!$A$12:$B$1041,2,FALSE))","v":100.44469348524822},""]
[null,null,null,null,null,{"$f":"IF(H778=\"\",\"\",VLOOKUP($A778,'Tocalino Index'!$A$12:$B$1041,2,FALSE))","v":{"$error":"#N/A"}},"2020-07-01","2020-07-01",{"$f":"IF(DJIA!B126=\"\",\"\",DJIA!B126)","v":""},{"$f":"IF(CPIAUCSL!B894=\"\",\"\",CPIAUCSL!B894)","v":""},{"$f":"IF(H778=\"\",\"\",VLOOKUP($G778,DJIA_def!$A$12:$B$1041,2,FALSE))","v":102.32509156800037},""]
[null,null,null,null,null,{"$f":"IF(H779=\"\",\"\",VLOOKUP($A779,'Tocalino Index'!$A$12:$B$1041,2,FALSE))","v":{"$error":"#N/A"}},"2020-08-01","2020-08-01",{"$f":"IF(DJIA!B127=\"\",\"\",DJIA!B127)","v":""},{"$f":"IF(CPIAUCSL!B895=\"\",\"\",CPIAUCSL!B895)","v":""},{"$f":"IF(H779=\"\",\"\",VLOOKUP($G779,DJIA_def!$A$12:$B$1041,2,FALSE))","v":109.59462012019537},""]
[null,null,null,null,null,{"$f":"IF(H780=\"\",\"\",VLOOKUP($A780,'Tocalino Index'!$A$12:$B$1041,2,FALSE))","v":{"$error":"#N/A"}},"2020-09-01","2020-09-01",{"$f":"IF(DJIA!B128=\"\",\"\",DJIA!B128)","v":""},{"$f":"IF(CPIAUCSL!B896=\"\",\"\",CPIAUCSL!B896)","v":""},{"$f":"IF(H780=\"\",\"\",VLOOKUP($G780,DJIA_def!$A$12:$B$1041,2,FALSE))","v":106.84077545196882},""]
[null,null,null,null,null,{"$f":"IF(H781=\"\",\"\",VLOOKUP($A781,'Tocalino Index'!$A$12:$B$1041,2,FALSE))","v":{"$error":"#N/A"}},"2020-10-01","2020-10-01",{"$f":"IF(DJIA!B129=\"\",\"\",DJIA!B129)","v":""},{"$f":"IF(CPIAUCSL!B897=\"\",\"\",CPIAUCSL!B897)","v":""},{"$f":"IF(H781=\"\",\"\",VLOOKUP($G781,DJIA_def!$A$12:$B$1041,2,FALSE))","v":101.81723181423511},{"$f":"IF(J781=\"\",\"\",K781/$M$418)","v":""}]
[null,null,null,null,null,{"$f":"IF(H782=\"\",\"\",VLOOKUP($A782,'Tocalino Index'!$A$12:$B$1041,2,FALSE))","v":{"$error":"#N/A"}},"2020-11-01","2020-11-01",{"$f":"IF(DJIA!B130=\"\",\"\",DJIA!B130)","v":""},{"$f":"IF(CPIAUCSL!B898=\"\",\"\",CPIAUCSL!B898)","v":""},{"$f":"IF(H782=\"\",\"\",VLOOKUP($G782,DJIA_def!$A$12:$B$1041,2,FALSE))","v":113.63942748252579},""]
[null,null,null,null,null,{"$f":"IF(H783=\"\",\"\",VLOOKUP($A783,'Tocalino Index'!$A$12:$B$1041,2,FALSE))","v":{"$error":"#N/A"}},"2020-12-01","2020-12-01",{"$f":"IF(DJIA!B131=\"\",\"\",DJIA!B131)","v":""},{"$f":"IF(CPIAUCSL!B899=\"\",\"\",CPIAUCSL!B899)","v":""},{"$f":"IF(H783=\"\",\"\",VLOOKUP($G783,DJIA_def!$A$12:$B$1041,2,FALSE))","v":116.80302249699467},""]
[null,null,null,null,null,{"$f":"IF(H784=\"\",\"\",VLOOKUP($A784,'Tocalino Index'!$A$12:$B$1041,2,FALSE))","v":{"$error":"#N/A"}},"2021-01-01","2021-01-01",{"$f":"IF(DJIA!B132=\"\",\"\",DJIA!B132)","v":""},{"$f":"IF(CPIAUCSL!B900=\"\",\"\",CPIAUCSL!B900)","v":""},{"$f":"IF(H784=\"\",\"\",VLOOKUP($G784,DJIA_def!$A$12:$B$1041,2,FALSE))","v":114.15427374833429},""]
[null,null,null,null,null,{"$f":"IF(H785=\"\",\"\",VLOOKUP($A785,'Tocalino Index'!$A$12:$B$1041,2,FALSE))","v":{"$error":"#N/A"}},"2021-02-01","2021-02-01",{"$f":"IF(DJIA!B133=\"\",\"\",DJIA!B133)","v":""},{"$f":"IF(CPIAUCSL!B901=\"\",\"\",CPIAUCSL!B901)","v":""},{"$f":"IF(H785=\"\",\"\",VLOOKUP($G785,DJIA_def!$A$12:$B$1041,2,FALSE))","v":117.32895106168307},""]
[null,null,null,null,null,{"$f":"IF(H786=\"\",\"\",VLOOKUP($A786,'Tocalino Index'!$A$12:$B$1041,2,FALSE))","v":{"$error":"#N/A"}},"2021-03-01","2021-03-01",{"$f":"IF(DJIA!B134=\"\",\"\",DJIA!B134)","v":""},{"$f":"IF(CPIAUCSL!B902=\"\",\"\",CPIAUCSL!B902)","v":""},{"$f":"IF(H786=\"\",\"\",VLOOKUP($G786,DJIA_def!$A$12:$B$1041,2,FALSE))","v":124.49908272118499},""]
[null,null,null,null,null,{"$f":"IF(H787=\"\",\"\",VLOOKUP($A787,'Tocalino Index'!$A$12:$B$1041,2,FALSE))","v":{"$error":"#N/A"}},"2021-04-01","2021-04-01",{"$f":"IF(DJIA!B135=\"\",\"\",DJIA!B135)","v":""},{"$f":"IF(CPIAUCSL!B903=\"\",\"\",CPIAUCSL!B903)","v":""},{"$f":"IF(H787=\"\",\"\",VLOOKUP($G787,DJIA_def!$A$12:$B$1041,2,FALSE))","v":127.02909963625454},""]
[null,null,null,null,null,{"$f":"IF(H788=\"\",\"\",VLOOKUP($A788,'Tocalino Index'!$A$12:$B$1041,2,FALSE))","v":{"$error":"#N/A"}},"2021-05-01","2021-05-01",{"$f":"IF(DJIA!B136=\"\",\"\",DJIA!B136)","v":""},{"$f":"IF(CPIAUCSL!B904=\"\",\"\",CPIAUCSL!B904)","v":""},{"$f":"IF(H788=\"\",\"\",VLOOKUP($G788,DJIA_def!$A$12:$B$1041,2,FALSE))","v":128.62813100683942},""]
[null,null,null,null,null,{"$f":"IF(H789=\"\",\"\",VLOOKUP($A789,'Tocalino Index'!$A$12:$B$1041,2,FALSE))","v":{"$error":"#N/A"}},"2021-06-01","2021-06-01",{"$f":"IF(DJIA!B137=\"\",\"\",DJIA!B137)","v":""},{"$f":"IF(CPIAUCSL!B905=\"\",\"\",CPIAUCSL!B905)","v":""},{"$f":"IF(H789=\"\",\"\",VLOOKUP($G789,DJIA_def!$A$12:$B$1041,2,FALSE))","v":127.52305412128223},""]
[null,null,null,null,null,{"$f":"IF(H790=\"\",\"\",VLOOKUP($A790,'Tocalino Index'!$A$12:$B$1041,2,FALSE))","v":{"$error":"#N/A"}},"2021-07-01","2021-07-01",{"$f":"IF(DJIA!B138=\"\",\"\",DJIA!B138)","v":""},{"$f":"IF(CPIAUCSL!B906=\"\",\"\",CPIAUCSL!B906)","v":""},{"$f":"IF(H790=\"\",\"\",VLOOKUP($G790,DJIA_def!$A$12:$B$1041,2,FALSE))","v":128.55076463402068},""]
[null,null,null,null,null,{"$f":"IF(H791=\"\",\"\",VLOOKUP($A791,'Tocalino Index'!$A$12:$B$1041,2,FALSE))","v":{"$error":"#N/A"}},"2021-08-01","2021-08-01",{"$f":"IF(DJIA!B139=\"\",\"\",DJIA!B139)","v":""},{"$f":"IF(CPIAUCSL!B907=\"\",\"\",CPIAUCSL!B907)","v":""},{"$f":"IF(H791=\"\",\"\",VLOOKUP($G791,DJIA_def!$A$12:$B$1041,2,FALSE))","v":129.5881921794261},""]
[null,null,null,null,null,{"$f":"IF(H792=\"\",\"\",VLOOKUP($A792,'Tocalino Index'!$A$12:$B$1041,2,FALSE))","v":{"$error":"#N/A"}},"2021-09-01","2021-09-01",{"$f":"IF(DJIA!B140=\"\",\"\",DJIA!B140)","v":""},{"$f":"IF(CPIAUCSL!B908=\"\",\"\",CPIAUCSL!B908)","v":""},{"$f":"IF(H792=\"\",\"\",VLOOKUP($G792,DJIA_def!$A$12:$B$1041,2,FALSE))","v":123.50533522121827},""]
[null,null,null,null,null,{"$f":"IF(H793=\"\",\"\",VLOOKUP($A793,'Tocalino Index'!$A$12:$B$1041,2,FALSE))","v":{"$error":"#N/A"}},"2021-10-01","2021-10-01",{"$f":"IF(DJIA!B141=\"\",\"\",DJIA!B141)","v":""},{"$f":"IF(CPIAUCSL!B909=\"\",\"\",CPIAUCSL!B909)","v":""},{"$f":"IF(H793=\"\",\"\",VLOOKUP($G793,DJIA_def!$A$12:$B$1041,2,FALSE))","v":129.53602245029327},""]
[null,null,null,null,null,{"$f":"IF(H794=\"\",\"\",VLOOKUP($A794,'Tocalino Index'!$A$12:$B$1041,2,FALSE))","v":{"$error":"#N/A"}},"2021-11-01","2021-11-01",{"$f":"IF(DJIA!B142=\"\",\"\",DJIA!B142)","v":""},{"$f":"IF(CPIAUCSL!B910=\"\",\"\",CPIAUCSL!B910)","v":""},{"$f":"IF(H794=\"\",\"\",VLOOKUP($G794,DJIA_def!$A$12:$B$1041,2,FALSE))","v":123.72572306080492},""]
[null,null,null,null,null,{"$f":"IF(H795=\"\",\"\",VLOOKUP($A795,'Tocalino Index'!$A$12:$B$1041,2,FALSE))","v":{"$error":"#N/A"}},"2021-12-01","2021-12-01",{"$f":"IF(DJIA!B143=\"\",\"\",DJIA!B143)","v":""},{"$f":"IF(CPIAUCSL!B911=\"\",\"\",CPIAUCSL!B911)","v":""},{"$f":"IF(H795=\"\",\"\",VLOOKUP($G795,DJIA_def!$A$12:$B$1041,2,FALSE))","v":129.36981775589473},""]
[null,null,null,null,null,{"$f":"IF(H796=\"\",\"\",VLOOKUP($A796,'Tocalino Index'!$A$12:$B$1041,2,FALSE))","v":{"$error":"#N/A"}},"2022-01-01","2022-01-01",{"$f":"IF(DJIA!B144=\"\",\"\",DJIA!B144)","v":""},{"$f":"IF(CPIAUCSL!B912=\"\",\"\",CPIAUCSL!B912)","v":""},{"$f":"IF(H796=\"\",\"\",VLOOKUP($G796,DJIA_def!$A$12:$B$1041,2,FALSE))","v":124.3170004140142},""]
[null,null,null,null,null,{"$f":"IF(H797=\"\",\"\",VLOOKUP($A797,'Tocalino Index'!$A$12:$B$1041,2,FALSE))","v":{"$error":"#N/A"}},"2022-02-01","2022-02-01",{"$f":"IF(DJIA!B145=\"\",\"\",DJIA!B145)","v":""},{"$f":"IF(CPIAUCSL!B913=\"\",\"\",CPIAUCSL!B913)","v":""},{"$f":"IF(H797=\"\",\"\",VLOOKUP($G797,DJIA_def!$A$12:$B$1041,2,FALSE))","v":119.08436105547943},""]
[null,null,null,null,null,{"$f":"IF(H798=\"\",\"\",VLOOKUP($A798,'Tocalino Index'!$A$12:$B$1041,2,FALSE))","v":{"$error":"#N/A"}},"2022-03-01","2022-03-01",{"$f":"IF(DJIA!B146=\"\",\"\",DJIA!B146)","v":""},{"$f":"IF(CPIAUCSL!B914=\"\",\"\",CPIAUCSL!B914)","v":""},{"$f":"IF(H798=\"\",\"\",VLOOKUP($G798,DJIA_def!$A$12:$B$1041,2,FALSE))","v":120.63209634329604},""]
[null,null,null,null,null,{"$f":"IF(H799=\"\",\"\",VLOOKUP($A799,'Tocalino Index'!$A$12:$B$1041,2,FALSE))","v":{"$error":"#N/A"}},"2022-04-01","2022-04-01",{"$f":"IF(DJIA!B147=\"\",\"\",DJIA!B147)","v":""},{"$f":"IF(CPIAUCSL!B915=\"\",\"\",CPIAUCSL!B915)","v":""},{"$f":"IF(H799=\"\",\"\",VLOOKUP($G799,DJIA_def!$A$12:$B$1041,2,FALSE))","v":114.26179182359647},""]
[null,null,null,null,null,{"$f":"IF(H800=\"\",\"\",VLOOKUP($A800,'Tocalino Index'!$A$12:$B$1041,2,FALSE))","v":{"$error":"#N/A"}},"2022-05-01","2022-05-01",{"$f":"IF(DJIA!B148=\"\",\"\",DJIA!B148)","v":""},{"$f":"IF(CPIAUCSL!B916=\"\",\"\",CPIAUCSL!B916)","v":""},{"$f":"IF(H800=\"\",\"\",VLOOKUP($G800,DJIA_def!$A$12:$B$1041,2,FALSE))","v":113.26379828886111},""]
[null,null,null,null,null,{"$f":"IF(H801=\"\",\"\",VLOOKUP($A801,'Tocalino Index'!$A$12:$B$1041,2,FALSE))","v":{"$error":"#N/A"}},"2022-06-01","2022-06-01",{"$f":"IF(DJIA!B149=\"\",\"\",DJIA!B149)","v":""},{"$f":"IF(CPIAUCSL!B917=\"\",\"\",CPIAUCSL!B917)","v":""},{"$f":"IF(H801=\"\",\"\",VLOOKUP($G801,DJIA_def!$A$12:$B$1041,2,FALSE))","v":104.4197700931028},""]
[null,null,null,null,null,{"$f":"IF(H802=\"\",\"\",VLOOKUP($A802,'Tocalino Index'!$A$12:$B$1041,2,FALSE))","v":{"$error":"#N/A"}},"2022-07-01","2022-07-01",{"$f":"IF(DJIA!B150=\"\",\"\",DJIA!B150)","v":""},{"$f":"IF(CPIAUCSL!B918=\"\",\"\",CPIAUCSL!B918)","v":""},{"$f":"IF(H802=\"\",\"\",VLOOKUP($G802,DJIA_def!$A$12:$B$1041,2,FALSE))","v":111.48000190070191},""]
[null,null,null,null,null,{"$f":"IF(H803=\"\",\"\",VLOOKUP($A803,'Tocalino Index'!$A$12:$B$1041,2,FALSE))","v":{"$error":"#N/A"}},"2022-08-01","2022-08-01",{"$f":"IF(DJIA!B151=\"\",\"\",DJIA!B151)","v":""},{"$f":"IF(CPIAUCSL!B919=\"\",\"\",CPIAUCSL!B919)","v":""},{"$f":"IF(H803=\"\",\"\",VLOOKUP($G803,DJIA_def!$A$12:$B$1041,2,FALSE))","v":106.69927536231884},""]
[null,null,null,null,null,{"$f":"IF(H804=\"\",\"\",VLOOKUP($A804,'Tocalino Index'!$A$12:$B$1041,2,FALSE))","v":{"$error":"#N/A"}},"2022-09-01","2022-09-01",{"$f":"IF(DJIA!B152=\"\",\"\",DJIA!B152)","v":""},{"$f":"IF(CPIAUCSL!B920=\"\",\"\",CPIAUCSL!B920)","v":""},{"$f":"IF(H804=\"\",\"\",VLOOKUP($G804,DJIA_def!$A$12:$B$1041,2,FALSE))","v":96.869248227046015},""]
[null,null,null,null,null,{"$f":"IF(H805=\"\",\"\",VLOOKUP($A805,'Tocalino Index'!$A$12:$B$1041,2,FALSE))","v":{"$error":"#N/A"}},"2022-10-01","2022-10-01",{"$f":"IF(DJIA!B153=\"\",\"\",DJIA!B153)","v":""},{"$f":"IF(CPIAUCSL!B921=\"\",\"\",CPIAUCSL!B921)","v":""},{"$f":"IF(H805=\"\",\"\",VLOOKUP($G805,DJIA_def!$A$12:$B$1041,2,FALSE))","v":109.84690607308373},""]
[null,null,null,null,null,{"$f":"IF(H806=\"\",\"\",VLOOKUP($A806,'Tocalino Index'!$A$12:$B$1041,2,FALSE))","v":{"$error":"#N/A"}},"2022-11-01","2022-11-01",{"$f":"IF(DJIA!B154=\"\",\"\",DJIA!B154)","v":""},{"$f":"IF(CPIAUCSL!B922=\"\",\"\",CPIAUCSL!B922)","v":""},{"$f":"IF(H806=\"\",\"\",VLOOKUP($G806,DJIA_def!$A$12:$B$1041,2,FALSE))","v":115.84059504752209},""]
[null,null,null,null,null,{"$f":"IF(H807=\"\",\"\",VLOOKUP($A807,'Tocalino Index'!$A$12:$B$1041,2,FALSE))","v":{"$error":"#N/A"}},"2022-12-01","2022-12-01",{"$f":"IF(DJIA!B155=\"\",\"\",DJIA!B155)","v":""},{"$f":"IF(CPIAUCSL!B923=\"\",\"\",CPIAUCSL!B923)","v":""},{"$f":"IF(H807=\"\",\"\",VLOOKUP($G807,DJIA_def!$A$12:$B$1041,2,FALSE))","v":110.86407572159604},""]
[null,null,null,null,null,{"$f":"IF(H808=\"\",\"\",VLOOKUP($A808,'Tocalino Index'!$A$12:$B$1041,2,FALSE))","v":{"$error":"#N/A"}},"2023-01-01","2023-01-01",{"$f":"IF(DJIA!B156=\"\",\"\",DJIA!B156)","v":""},{"$f":"IF(CPIAUCSL!B924=\"\",\"\",CPIAUCSL!B924)","v":""},{"$f":"IF(H808=\"\",\"\",VLOOKUP($G808,DJIA_def!$A$12:$B$1041,2,FALSE))","v":113.41749407724865},""]
[null,null,null,null,null,{"$f":"IF(H809=\"\",\"\",VLOOKUP($A809,'Tocalino Index'!$A$12:$B$1041,2,FALSE))","v":{"$error":"#N/A"}},"2023-02-01","2023-02-01",{"$f":"IF(DJIA!B157=\"\",\"\",DJIA!B157)","v":""},{"$f":"IF(CPIAUCSL!B925=\"\",\"\",CPIAUCSL!B925)","v":""},{"$f":"IF(H809=\"\",\"\",VLOOKUP($G809,DJIA_def!$A$12:$B$1041,2,FALSE))","v":108.26095316395269},""]
[null,null,null,null,null,{"$f":"IF(H810=\"\",\"\",VLOOKUP($A810,'Tocalino Index'!$A$12:$B$1041,2,FALSE))","v":{"$error":"#N/A"}},"2023-03-01","2023-03-01",{"$f":"IF(DJIA!B158=\"\",\"\",DJIA!B158)","v":""},{"$f":"IF(CPIAUCSL!B926=\"\",\"\",CPIAUCSL!B926)","v":""},{"$f":"IF(H810=\"\",\"\",VLOOKUP($G810,DJIA_def!$A$12:$B$1041,2,FALSE))","v":110.24939696760855},""]
[null,null,null,null,null,{"$f":"IF(H811=\"\",\"\",VLOOKUP($A811,'Tocalino Index'!$A$12:$B$1041,2,FALSE))","v":{"$error":"#N/A"}},"2023-04-01","2023-04-01",{"$f":"IF(DJIA!B159=\"\",\"\",DJIA!B159)","v":""},{"$f":"IF(CPIAUCSL!B927=\"\",\"\",CPIAUCSL!B927)","v":""},{"$f":"IF(H811=\"\",\"\",VLOOKUP($G811,DJIA_def!$A$12:$B$1041,2,FALSE))","v":112.56564482797324},""]
[null,null,null,null,null,{"$f":"IF(H812=\"\",\"\",VLOOKUP($A812,'Tocalino Index'!$A$12:$B$1041,2,FALSE))","v":{"$error":"#N/A"}},"2023-05-01","2023-05-01",{"$f":"IF(DJIA!B160=\"\",\"\",DJIA!B160)","v":""},{"$f":"IF(CPIAUCSL!B928=\"\",\"\",CPIAUCSL!B928)","v":""},{"$f":"IF(H812=\"\",\"\",VLOOKUP($G812,DJIA_def!$A$12:$B$1041,2,FALSE))","v":108.5028718009588},""]
[null,null,null,null,null,{"$f":"IF(H813=\"\",\"\",VLOOKUP($A813,'Tocalino Index'!$A$12:$B$1041,2,FALSE))","v":{"$error":"#N/A"}},"2023-06-01","2023-06-01",{"$f":"IF(DJIA!B161=\"\",\"\",DJIA!B161)","v":""},{"$f":"IF(CPIAUCSL!B929=\"\",\"\",CPIAUCSL!B929)","v":""},{"$f":"IF(H813=\"\",\"\",VLOOKUP($G813,DJIA_def!$A$12:$B$1041,2,FALSE))","v":113.24212334740868},""]
[null,null,null,null,null,{"$f":"IF(H814=\"\",\"\",VLOOKUP($A814,'Tocalino Index'!$A$12:$B$1041,2,FALSE))","v":{"$error":"#N/A"}},"2023-07-01","2023-07-01",{"$f":"IF(DJIA!B162=\"\",\"\",DJIA!B162)","v":""},{"$f":"IF(CPIAUCSL!B930=\"\",\"\",CPIAUCSL!B930)","v":""},{"$f":"IF(H814=\"\",\"\",VLOOKUP($G814,DJIA_def!$A$12:$B$1041,2,FALSE))","v":116.83838894949203},""]
[null,null,null,null,null,{"$f":"IF(H815=\"\",\"\",VLOOKUP($A815,'Tocalino Index'!$A$12:$B$1041,2,FALSE))","v":{"$error":"#N/A"}},"2023-08-01","2023-08-01",{"$f":"IF(DJIA!B163=\"\",\"\",DJIA!B163)","v":""},{"$f":"IF(CPIAUCSL!B931=\"\",\"\",CPIAUCSL!B931)","v":""},{"$f":"IF(H815=\"\",\"\",VLOOKUP($G815,DJIA_def!$A$12:$B$1041,2,FALSE))","v":113.37063169958435},""]
[null,null,null,null,null,{"$f":"IF(H816=\"\",\"\",VLOOKUP($A816,'Tocalino Index'!$A$12:$B$1041,2,FALSE))","v":{"$error":"#N/A"}},"2023-09-01","2023-09-01",{"$f":"IF(DJIA!B164=\"\",\"\",DJIA!B164)","v":""},{"$f":"IF(CPIAUCSL!B932=\"\",\"\",CPIAUCSL!B932)","v":""},{"$f":"IF(H816=\"\",\"\",VLOOKUP($G816,DJIA_def!$A$12:$B$1041,2,FALSE))","v":108.97421304080578},""]
[null,null,null,null,null,{"$f":"IF(H817=\"\",\"\",VLOOKUP($A817,'Tocalino Index'!$A$12:$B$1041,2,FALSE))","v":{"$error":"#N/A"}},"2023-10-01","2023-10-01",{"$f":"IF(DJIA!B165=\"\",\"\",DJIA!B165)","v":""},{"$f":"IF(CPIAUCSL!B933=\"\",\"\",CPIAUCSL!B933)","v":""},{"$f":"IF(H817=\"\",\"\",VLOOKUP($G817,DJIA_def!$A$12:$B$1041,2,FALSE))","v":107.44742684944688},""]
[null,null,null,null,null,{"$f":"IF(H818=\"\",\"\",VLOOKUP($A818,'Tocalino Index'!$A$12:$B$1041,2,FALSE))","v":{"$error":"#N/A"}},"2023-11-01","2023-11-01",{"$f":"IF(DJIA!B166=\"\",\"\",DJIA!B166)","v":""},{"$f":"IF(CPIAUCSL!B934=\"\",\"\",CPIAUCSL!B934)","v":""},{"$f":"IF(H818=\"\",\"\",VLOOKUP($G818,DJIA_def!$A$12:$B$1041,2,FALSE))","v":116.75513206480967},""]
[null,null,null,null,null,{"$f":"IF(H819=\"\",\"\",VLOOKUP($A819,'Tocalino Index'!$A$12:$B$1041,2,FALSE))","v":{"$error":"#N/A"}},"2023-12-01","2023-12-01",{"$f":"IF(DJIA!B167=\"\",\"\",DJIA!B167)","v":""},{"$f":"IF(CPIAUCSL!B935=\"\",\"\",CPIAUCSL!B935)","v":""},{"$f":"IF(H819=\"\",\"\",VLOOKUP($G819,DJIA_def!$A$12:$B$1041,2,FALSE))","v":122.03186012627489},""]
[null,null,null,null,null,{"$f":"IF(H820=\"\",\"\",VLOOKUP($A820,'Tocalino Index'!$A$12:$B$1041,2,FALSE))","v":""},"2024-01-01","",{"$f":"IF(DJIA!B168=\"\",\"\",DJIA!B168)","v":""},{"$f":"IF(CPIAUCSL!B936=\"\",\"\",CPIAUCSL!B936)","v":""},{"$f":"IF(H820=\"\",\"\",VLOOKUP($G820,DJIA_def!$A$12:$B$1041,2,FALSE))","v":""},""]
[null,null,null,null,null,{"$f":"IF(H821=\"\",\"\",VLOOKUP($A821,'Tocalino Index'!$A$12:$B$1041,2,FALSE))","v":""},"2024-02-01","",{"$f":"IF(DJIA!B169=\"\",\"\",DJIA!B169)","v":""},{"$f":"IF(CPIAUCSL!B937=\"\",\"\",CPIAUCSL!B937)","v":""},{"$f":"IF(H821=\"\",\"\",VLOOKUP($G821,DJIA_def!$A$12:$B$1041,2,FALSE))","v":""},""]
[null,null,null,null,null,{"$f":"IF(H822=\"\",\"\",VLOOKUP($A822,'Tocalino Index'!$A$12:$B$1041,2,FALSE))","v":""},"2024-03-01","",{"$f":"IF(DJIA!B170=\"\",\"\",DJIA!B170)","v":""},{"$f":"IF(CPIAUCSL!B938=\"\",\"\",CPIAUCSL!B938)","v":""},{"$f":"IF(H822=\"\",\"\",VLOOKUP($G822,DJIA_def!$A$12:$B$1041,2,FALSE))","v":""},""]
[null,null,null,null,null,{"$f":"IF(H823=\"\",\"\",VLOOKUP($A823,'Tocalino Index'!$A$12:$B$1041,2,FALSE))","v":""},"2024-04-01","",{"$f":"IF(DJIA!B171=\"\",\"\",DJIA!B171)","v":""},{"$f":"IF(CPIAUCSL!B939=\"\",\"\",CPIAUCSL!B939)","v":""},{"$f":"IF(H823=\"\",\"\",VLOOKUP($G823,DJIA_def!$A$12:$B$1041,2,FALSE))","v":""},""]
[null,null,null,null,null,{"$f":"IF(H824=\"\",\"\",VLOOKUP($A824,'Tocalino Index'!$A$12:$B$1041,2,FALSE))","v":""},"2024-05-01","",{"$f":"IF(DJIA!B172=\"\",\"\",DJIA!B172)","v":""},{"$f":"IF(CPIAUCSL!B940=\"\",\"\",CPIAUCSL!B940)","v":""},{"$f":"IF(H824=\"\",\"\",VLOOKUP($G824,DJIA_def!$A$12:$B$1041,2,FALSE))","v":""},""]
[null,null,null,null,null,{"$f":"IF(H825=\"\",\"\",VLOOKUP($A825,'Tocalino Index'!$A$12:$B$1041,2,FALSE))","v":""},"2024-06-01","",{"$f":"IF(DJIA!B173=\"\",\"\",DJIA!B173)","v":""},{"$f":"IF(CPIAUCSL!B941=\"\",\"\",CPIAUCSL!B941)","v":""},{"$f":"IF(H825=\"\",\"\",VLOOKUP($G825,DJIA_def!$A$12:$B$1041,2,FALSE))","v":""},""]
[null,null,null,null,null,{"$f":"IF(H826=\"\",\"\",VLOOKUP($A826,'Tocalino Index'!$A$12:$B$1041,2,FALSE))","v":""},"2024-07-01","",{"$f":"IF(DJIA!B174=\"\",\"\",DJIA!B174)","v":""},{"$f":"IF(CPIAUCSL!B942=\"\",\"\",CPIAUCSL!B942)","v":""},{"$f":"IF(H826=\"\",\"\",VLOOKUP($G826,DJIA_def!$A$12:$B$1041,2,FALSE))","v":""},""]
[null,null,null,null,null,{"$f":"IF(H827=\"\",\"\",VLOOKUP($A827,'Tocalino Index'!$A$12:$B$1041,2,FALSE))","v":""},"2024-08-01","",{"$f":"IF(DJIA!B175=\"\",\"\",DJIA!B175)","v":""},{"$f":"IF(CPIAUCSL!B943=\"\",\"\",CPIAUCSL!B943)","v":""},{"$f":"IF(H827=\"\",\"\",VLOOKUP($G827,DJIA_def!$A$12:$B$1041,2,FALSE))","v":""},""]
[null,null,null,null,null,{"$f":"IF(H828=\"\",\"\",VLOOKUP($A828,'Tocalino Index'!$A$12:$B$1041,2,FALSE))","v":""},"2024-09-01","",{"$f":"IF(DJIA!B176=\"\",\"\",DJIA!B176)","v":""},{"$f":"IF(CPIAUCSL!B944=\"\",\"\",CPIAUCSL!B944)","v":""},{"$f":"IF(H828=\"\",\"\",VLOOKUP($G828,DJIA_def!$A$12:$B$1041,2,FALSE))","v":""},""]
[null,null,null,null,null,{"$f":"IF(H829=\"\",\"\",VLOOKUP($A829,'Tocalino Index'!$A$12:$B$1041,2,FALSE))","v":""},"2024-10-01","",{"$f":"IF(DJIA!B177=\"\",\"\",DJIA!B177)","v":""},{"$f":"IF(CPIAUCSL!B945=\"\",\"\",CPIAUCSL!B945)","v":""},{"$f":"IF(H829=\"\",\"\",VLOOKUP($G829,DJIA_def!$A$12:$B$1041,2,FALSE))","v":""},""]
[null,null,null,null,null,{"$f":"IF(H830=\"\",\"\",VLOOKUP($A830,'Tocalino Index'!$A$12:$B$1041,2,FALSE))","v":""},"2024-11-01","",{"$f":"IF(DJIA!B178=\"\",\"\",DJIA!B178)","v":""},{"$f":"IF(CPIAUCSL!B946=\"\",\"\",CPIAUCSL!B946)","v":""},{"$f":"IF(H830=\"\",\"\",VLOOKUP($G830,DJIA_def!$A$12:$B$1041,2,FALSE))","v":""},""]
[null,null,null,null,null,{"$f":"IF(H831=\"\",\"\",VLOOKUP($A831,'Tocalino Index'!$A$12:$B$1041,2,FALSE))","v":""},"2024-12-01","",{"$f":"IF(DJIA!B179=\"\",\"\",DJIA!B179)","v":""},{"$f":"IF(CPIAUCSL!B947=\"\",\"\",CPIAUCSL!B947)","v":""},{"$f":"IF(H831=\"\",\"\",VLOOKUP($G831,DJIA_def!$A$12:$B$1041,2,FALSE))","v":""},""]
[null,null,null,null,null,{"$f":"IF(H832=\"\",\"\",VLOOKUP($A832,'Tocalino Index'!$A$12:$B$1041,2,FALSE))","v":""},"2025-01-01","",{"$f":"IF(DJIA!B180=\"\",\"\",DJIA!B180)","v":""},{"$f":"IF(CPIAUCSL!B948=\"\",\"\",CPIAUCSL!B948)","v":""},{"$f":"IF(H832=\"\",\"\",VLOOKUP($G832,DJIA_def!$A$12:$B$1041,2,FALSE))","v":""},""]
[null,null,null,null,null,{"$f":"IF(H833=\"\",\"\",VLOOKUP($A833,'Tocalino Index'!$A$12:$B$1041,2,FALSE))","v":""},"2025-02-01","",{"$f":"IF(DJIA!B181=\"\",\"\",DJIA!B181)","v":""},{"$f":"IF(CPIAUCSL!B949=\"\",\"\",CPIAUCSL!B949)","v":""},{"$f":"IF(H833=\"\",\"\",VLOOKUP($G833,DJIA_def!$A$12:$B$1041,2,FALSE))","v":""},""]
[null,null,null,null,null,{"$f":"IF(H834=\"\",\"\",VLOOKUP($A834,'Tocalino Index'!$A$12:$B$1041,2,FALSE))","v":""},"2025-03-01","",{"$f":"IF(DJIA!B182=\"\",\"\",DJIA!B182)","v":""},{"$f":"IF(CPIAUCSL!B950=\"\",\"\",CPIAUCSL!B950)","v":""},{"$f":"IF(H834=\"\",\"\",VLOOKUP($G834,DJIA_def!$A$12:$B$1041,2,FALSE))","v":""},""]
[null,null,null,null,null,{"$f":"IF(H835=\"\",\"\",VLOOKUP($A835,'Tocalino Index'!$A$12:$B$1041,2,FALSE))","v":""},"2025-04-01","",{"$f":"IF(DJIA!B183=\"\",\"\",DJIA!B183)","v":""},{"$f":"IF(CPIAUCSL!B951=\"\",\"\",CPIAUCSL!B951)","v":""},{"$f":"IF(H835=\"\",\"\",VLOOKUP($G835,DJIA_def!$A$12:$B$1041,2,FALSE))","v":""},""]
[null,null,null,null,null,{"$f":"IF(H836=\"\",\"\",VLOOKUP($A836,'Tocalino Index'!$A$12:$B$1041,2,FALSE))","v":""},"2025-05-01","",{"$f":"IF(DJIA!B184=\"\",\"\",DJIA!B184)","v":""},{"$f":"IF(CPIAUCSL!B952=\"\",\"\",CPIAUCSL!B952)","v":""},{"$f":"IF(H836=\"\",\"\",VLOOKUP($G836,DJIA_def!$A$12:$B$1041,2,FALSE))","v":""},""]
[null,null,null,null,null,{"$f":"IF(H837=\"\",\"\",VLOOKUP($A837,'Tocalino Index'!$A$12:$B$1041,2,FALSE))","v":""},"2025-06-01","",{"$f":"IF(DJIA!B185=\"\",\"\",DJIA!B185)","v":""},{"$f":"IF(CPIAUCSL!B953=\"\",\"\",CPIAUCSL!B953)","v":""},{"$f":"IF(H837=\"\",\"\",VLOOKUP($G837,DJIA_def!$A$12:$B$1041,2,FALSE))","v":""},""]
[null,null,null,null,null,{"$f":"IF(H838=\"\",\"\",VLOOKUP($A838,'Tocalino Index'!$A$12:$B$1041,2,FALSE))","v":""},"2025-07-01","",{"$f":"IF(DJIA!B186=\"\",\"\",DJIA!B186)","v":""},{"$f":"IF(CPIAUCSL!B954=\"\",\"\",CPIAUCSL!B954)","v":""},{"$f":"IF(H838=\"\",\"\",VLOOKUP($G838,DJIA_def!$A$12:$B$1041,2,FALSE))","v":""},""]
[null,null,null,null,null,{"$f":"IF(H839=\"\",\"\",VLOOKUP($A839,'Tocalino Index'!$A$12:$B$1041,2,FALSE))","v":""},"2025-08-01",{"$f":"IF((TODAY()-G839)<40,\"\",G839)","v":""},{"$f":"IF(DJIA!B187=\"\",\"\",DJIA!B187)","v":""},{"$f":"IF(CPIAUCSL!B955=\"\",\"\",CPIAUCSL!B955)","v":""},{"$f":"IF(H839=\"\",\"\",VLOOKUP($G839,DJIA_def!$A$12:$B$1041,2,FALSE))","v":""},""]
[null,null,null,null,null,{"$f":"IF(H840=\"\",\"\",VLOOKUP($A840,'Tocalino Index'!$A$12:$B$1041,2,FALSE))","v":""},"2025-09-01","",{"$f":"IF(DJIA!B188=\"\",\"\",DJIA!B188)","v":""},{"$f":"IF(CPIAUCSL!B956=\"\",\"\",CPIAUCSL!B956)","v":""},{"$f":"IF(H840=\"\",\"\",VLOOKUP($G840,DJIA_def!$A$12:$B$1041,2,FALSE))","v":""},""]
[null,null,null,null,null,{"$f":"IF(H841=\"\",\"\",VLOOKUP($A841,'Tocalino Index'!$A$12:$B$1041,2,FALSE))","v":""},"2025-10-01","",{"$f":"IF(DJIA!B189=\"\",\"\",DJIA!B189)","v":""},{"$f":"IF(CPIAUCSL!B957=\"\",\"\",CPIAUCSL!B957)","v":""},{"$f":"IF(H841=\"\",\"\",VLOOKUP($G841,DJIA_def!$A$12:$B$1041,2,FALSE))","v":""},""]
[null,null,null,null,null,{"$f":"IF(H842=\"\",\"\",VLOOKUP($A842,'Tocalino Index'!$A$12:$B$1041,2,FALSE))","v":""},"2025-11-01","",{"$f":"IF(DJIA!B190=\"\",\"\",DJIA!B190)","v":""},{"$f":"IF(CPIAUCSL!B958=\"\",\"\",CPIAUCSL!B958)","v":""},{"$f":"IF(H842=\"\",\"\",VLOOKUP($G842,DJIA_def!$A$12:$B$1041,2,FALSE))","v":""},""]
[null,null,null,null,null,{"$f":"IF(H843=\"\",\"\",VLOOKUP($A843,'Tocalino Index'!$A$12:$B$1041,2,FALSE))","v":""},"2025-12-01","",{"$f":"IF(DJIA!B191=\"\",\"\",DJIA!B191)","v":""},{"$f":"IF(CPIAUCSL!B959=\"\",\"\",CPIAUCSL!B959)","v":""},{"$f":"IF(H843=\"\",\"\",VLOOKUP($G843,DJIA_def!$A$12:$B$1041,2,FALSE))","v":""},""]
[null,null,null,null,null,{"$f":"IF(H844=\"\",\"\",VLOOKUP($A844,'Tocalino Index'!$A$12:$B$1041,2,FALSE))","v":""},"2026-01-01","",{"$f":"IF(DJIA!B192=\"\",\"\",DJIA!B192)","v":""},{"$f":"IF(CPIAUCSL!B960=\"\",\"\",CPIAUCSL!B960)","v":""},{"$f":"IF(H844=\"\",\"\",VLOOKUP($G844,DJIA_def!$A$12:$B$1041,2,FALSE))","v":""},""]
[null,null,null,null,null,{"$f":"IF(H845=\"\",\"\",VLOOKUP($A845,'Tocalino Index'!$A$12:$B$1041,2,FALSE))","v":""},"2026-02-01","",{"$f":"IF(DJIA!B193=\"\",\"\",DJIA!B193)","v":""},{"$f":"IF(CPIAUCSL!B961=\"\",\"\",CPIAUCSL!B961)","v":""},{"$f":"IF(H845=\"\",\"\",VLOOKUP($G845,DJIA_def!$A$12:$B$1041,2,FALSE))","v":""},{"$f":"IF(J845=\"\",\"\",K845/$M$418)","v":""}]
[null,null,null,null,null,{"$f":"IF(H846=\"\",\"\",VLOOKUP($A846,'Tocalino Index'!$A$12:$B$1041,2,FALSE))","v":""},"2026-03-01","",{"$f":"IF(DJIA!B194=\"\",\"\",DJIA!B194)","v":""},{"$f":"IF(CPIAUCSL!B962=\"\",\"\",CPIAUCSL!B962)","v":""},{"$f":"IF(H846=\"\",\"\",VLOOKUP($G846,DJIA_def!$A$12:$B$1041,2,FALSE))","v":""},""]
[null,null,null,null,null,{"$f":"IF(H847=\"\",\"\",VLOOKUP($A847,'Tocalino Index'!$A$12:$B$1041,2,FALSE))","v":""},"2026-04-01","",{"$f":"IF(DJIA!B195=\"\",\"\",DJIA!B195)","v":""},{"$f":"IF(CPIAUCSL!B963=\"\",\"\",CPIAUCSL!B963)","v":""},{"$f":"IF(H847=\"\",\"\",VLOOKUP($G847,DJIA_def!$A$12:$B$1041,2,FALSE))","v":""},""]
[null,null,null,null,null,{"$f":"IF(H848=\"\",\"\",VLOOKUP($A848,'Tocalino Index'!$A$12:$B$1041,2,FALSE))","v":""},"2026-05-01","",{"$f":"IF(DJIA!B196=\"\",\"\",DJIA!B196)","v":""},{"$f":"IF(CPIAUCSL!B964=\"\",\"\",CPIAUCSL!B964)","v":""},{"$f":"IF(H848=\"\",\"\",VLOOKUP($G848,DJIA_def!$A$12:$B$1041,2,FALSE))","v":""},""]
[null,null,null,null,null,{"$f":"IF(H849=\"\",\"\",VLOOKUP($A849,'Tocalino Index'!$A$12:$B$1041,2,FALSE))","v":""},"2026-06-01","",{"$f":"IF(DJIA!B197=\"\",\"\",DJIA!B197)","v":""},{"$f":"IF(CPIAUCSL!B965=\"\",\"\",CPIAUCSL!B965)","v":""},{"$f":"IF(H849=\"\",\"\",VLOOKUP($G849,DJIA_def!$A$12:$B$1041,2,FALSE))","v":""},""]
[null,null,null,null,null,{"$f":"IF(H850=\"\",\"\",VLOOKUP($A850,'Tocalino Index'!$A$12:$B$1041,2,FALSE))","v":""},"2026-07-01","",{"$f":"IF(DJIA!B198=\"\",\"\",DJIA!B198)","v":""},{"$f":"IF(CPIAUCSL!B966=\"\",\"\",CPIAUCSL!B966)","v":""},{"$f":"IF(H850=\"\",\"\",VLOOKUP($G850,DJIA_def!$A$12:$B$1041,2,FALSE))","v":""},""]
[null,null,null,null,null,{"$f":"IF(H851=\"\",\"\",VLOOKUP($A851,'Tocalino Index'!$A$12:$B$1041,2,FALSE))","v":""},"2026-08-01","",{"$f":"IF(DJIA!B199=\"\",\"\",DJIA!B199)","v":""},{"$f":"IF(CPIAUCSL!B967=\"\",\"\",CPIAUCSL!B967)","v":""},{"$f":"IF(H851=\"\",\"\",VLOOKUP($G851,DJIA_def!$A$12:$B$1041,2,FALSE))","v":""},""]
[null,null,null,null,null,{"$f":"IF(H852=\"\",\"\",VLOOKUP($A852,'Tocalino Index'!$A$12:$B$1041,2,FALSE))","v":""},"2026-09-01","",{"$f":"IF(DJIA!B200=\"\",\"\",DJIA!B200)","v":""},{"$f":"IF(CPIAUCSL!B968=\"\",\"\",CPIAUCSL!B968)","v":""},{"$f":"IF(H852=\"\",\"\",VLOOKUP($G852,DJIA_def!$A$12:$B$1041,2,FALSE))","v":""},""]
[null,null,null,null,null,{"$f":"IF(H853=\"\",\"\",VLOOKUP($A853,'Tocalino Index'!$A$12:$B$1041,2,FALSE))","v":""},"2026-10-01","",{"$f":"IF(DJIA!B201=\"\",\"\",DJIA!B201)","v":""},{"$f":"IF(CPIAUCSL!B969=\"\",\"\",CPIAUCSL!B969)","v":""},{"$f":"IF(H853=\"\",\"\",VLOOKUP($G853,DJIA_def!$A$12:$B$1041,2,FALSE))","v":""},""]
[null,null,null,null,null,{"$f":"IF(H854=\"\",\"\",VLOOKUP($A854,'Tocalino Index'!$A$12:$B$1041,2,FALSE))","v":""},"2026-11-01","",{"$f":"IF(DJIA!B202=\"\",\"\",DJIA!B202)","v":""},{"$f":"IF(CPIAUCSL!B970=\"\",\"\",CPIAUCSL!B970)","v":""},{"$f":"IF(H854=\"\",\"\",VLOOKUP($G854,DJIA_def!$A$12:$B$1041,2,FALSE))","v":""},""]
[null,null,null,null,null,{"$f":"IF(H855=\"\",\"\",VLOOKUP($A855,'Tocalino Index'!$A$12:$B$1041,2,FALSE))","v":""},"2026-12-01","",{"$f":"IF(DJIA!B203=\"\",\"\",DJIA!B203)","v":""},{"$f":"IF(CPIAUCSL!B971=\"\",\"\",CPIAUCSL!B971)","v":""},{"$f":"IF(H855=\"\",\"\",VLOOKUP($G855,DJIA_def!$A$12:$B$1041,2,FALSE))","v":""},""]
[null,null,null,null,null,{"$f":"IF(H856=\"\",\"\",VLOOKUP($A856,'Tocalino Index'!$A$12:$B$1041,2,FALSE))","v":""},"2027-01-01","",{"$f":"IF(DJIA!B204=\"\",\"\",DJIA!B204)","v":""},{"$f":"IF(CPIAUCSL!B972=\"\",\"\",CPIAUCSL!B972)","v":""},{"$f":"IF(H856=\"\",\"\",VLOOKUP($G856,DJIA_def!$A$12:$B$1041,2,FALSE))","v":""},""]
[null,null,null,null,null,{"$f":"IF(H857=\"\",\"\",VLOOKUP($A857,'Tocalino Index'!$A$12:$B$1041,2,FALSE))","v":""},"2027-02-01","",{"$f":"IF(DJIA!B205=\"\",\"\",DJIA!B205)","v":""},{"$f":"IF(CPIAUCSL!B973=\"\",\"\",CPIAUCSL!B973)","v":""},{"$f":"IF(H857=\"\",\"\",VLOOKUP($G857,DJIA_def!$A$12:$B$1041,2,FALSE))","v":""},""]
[null,null,null,null,null,{"$f":"IF(H858=\"\",\"\",VLOOKUP($A858,'Tocalino Index'!$A$12:$B$1041,2,FALSE))","v":""},"2027-03-01","",{"$f":"IF(DJIA!B206=\"\",\"\",DJIA!B206)","v":""},{"$f":"IF(CPIAUCSL!B974=\"\",\"\",CPIAUCSL!B974)","v":""},{"$f":"IF(H858=\"\",\"\",VLOOKUP($G858,DJIA_def!$A$12:$B$1041,2,FALSE))","v":""},""]
[null,null,null,null,null,{"$f":"IF(H859=\"\",\"\",VLOOKUP($A859,'Tocalino Index'!$A$12:$B$1041,2,FALSE))","v":""},"2027-04-01","",{"$f":"IF(DJIA!B207=\"\",\"\",DJIA!B207)","v":""},{"$f":"IF(CPIAUCSL!B975=\"\",\"\",CPIAUCSL!B975)","v":""},{"$f":"IF(H859=\"\",\"\",VLOOKUP($G859,DJIA_def!$A$12:$B$1041,2,FALSE))","v":""},""]
[null,null,null,null,null,{"$f":"IF(H860=\"\",\"\",VLOOKUP($A860,'Tocalino Index'!$A$12:$B$1041,2,FALSE))","v":""},"2027-05-01","",{"$f":"IF(DJIA!B208=\"\",\"\",DJIA!B208)","v":""},{"$f":"IF(CPIAUCSL!B976=\"\",\"\",CPIAUCSL!B976)","v":""},{"$f":"IF(H860=\"\",\"\",VLOOKUP($G860,DJIA_def!$A$12:$B$1041,2,FALSE))","v":""},""]
[null,null,null,null,null,{"$f":"IF(H861=\"\",\"\",VLOOKUP($A861,'Tocalino Index'!$A$12:$B$1041,2,FALSE))","v":""},"2027-06-01","",{"$f":"IF(DJIA!B209=\"\",\"\",DJIA!B209)","v":""},{"$f":"IF(CPIAUCSL!B977=\"\",\"\",CPIAUCSL!B977)","v":""},{"$f":"IF(H861=\"\",\"\",VLOOKUP($G861,DJIA_def!$A$12:$B$1041,2,FALSE))","v":""},""]
[null,null,null,null,null,{"$f":"IF(H862=\"\",\"\",VLOOKUP($A862,'Tocalino Index'!$A$12:$B$1041,2,FALSE))","v":""},"2027-07-01","",{"$f":"IF(DJIA!B210=\"\",\"\",DJIA!B210)","v":""},{"$f":"IF(CPIAUCSL!B978=\"\",\"\",CPIAUCSL!B978)","v":""},{"$f":"IF(H862=\"\",\"\",VLOOKUP($G862,DJIA_def!$A$12:$B$1041,2,FALSE))","v":""},""]
[null,null,null,null,null,{"$f":"IF(H863=\"\",\"\",VLOOKUP($A863,'Tocalino Index'!$A$12:$B$1041,2,FALSE))","v":""},"2027-08-01","",{"$f":"IF(DJIA!B211=\"\",\"\",DJIA!B211)","v":""},{"$f":"IF(CPIAUCSL!B979=\"\",\"\",CPIAUCSL!B979)","v":""},{"$f":"IF(H863=\"\",\"\",VLOOKUP($G863,DJIA_def!$A$12:$B$1041,2,FALSE))","v":""},""]
[null,null,null,null,null,{"$f":"IF(H864=\"\",\"\",VLOOKUP($A864,'Tocalino Index'!$A$12:$B$1041,2,FALSE))","v":""},"2027-09-01","",{"$f":"IF(DJIA!B212=\"\",\"\",DJIA!B212)","v":""},{"$f":"IF(CPIAUCSL!B980=\"\",\"\",CPIAUCSL!B980)","v":""},{"$f":"IF(H864=\"\",\"\",VLOOKUP($G864,DJIA_def!$A$12:$B$1041,2,FALSE))","v":""},""]
[null,null,null,null,null,{"$f":"IF(H865=\"\",\"\",VLOOKUP($A865,'Tocalino Index'!$A$12:$B$1041,2,FALSE))","v":""},"2027-10-01","",{"$f":"IF(DJIA!B213=\"\",\"\",DJIA!B213)","v":""},{"$f":"IF(CPIAUCSL!B981=\"\",\"\",CPIAUCSL!B981)","v":""},{"$f":"IF(H865=\"\",\"\",VLOOKUP($G865,DJIA_def!$A$12:$B$1041,2,FALSE))","v":""},""]
[null,null,null,null,null,{"$f":"IF(H866=\"\",\"\",VLOOKUP($A866,'Tocalino Index'!$A$12:$B$1041,2,FALSE))","v":""},"2027-11-01","",{"$f":"IF(DJIA!B214=\"\",\"\",DJIA!B214)","v":""},{"$f":"IF(CPIAUCSL!B982=\"\",\"\",CPIAUCSL!B982)","v":""},{"$f":"IF(H866=\"\",\"\",VLOOKUP($G866,DJIA_def!$A$12:$B$1041,2,FALSE))","v":""},""]
[null,null,null,null,null,{"$f":"IF(H867=\"\",\"\",VLOOKUP($A867,'Tocalino Index'!$A$12:$B$1041,2,FALSE))","v":""},"2027-12-01","",{"$f":"IF(DJIA!B215=\"\",\"\",DJIA!B215)","v":""},{"$f":"IF(CPIAUCSL!B983=\"\",\"\",CPIAUCSL!B983)","v":""},{"$f":"IF(H867=\"\",\"\",VLOOKUP($G867,DJIA_def!$A$12:$B$1041,2,FALSE))","v":""},""]
[null,null,null,null,null,{"$f":"IF(H868=\"\",\"\",VLOOKUP($A868,'Tocalino Index'!$A$12:$B$1041,2,FALSE))","v":""},"2028-01-01","",{"$f":"IF(DJIA!B216=\"\",\"\",DJIA!B216)","v":""},{"$f":"IF(CPIAUCSL!B984=\"\",\"\",CPIAUCSL!B984)","v":""},{"$f":"IF(H868=\"\",\"\",VLOOKUP($G868,DJIA_def!$A$12:$B$1041,2,FALSE))","v":""},""]
[null,null,null,null,null,{"$f":"IF(H869=\"\",\"\",VLOOKUP($A869,'Tocalino Index'!$A$12:$B$1041,2,FALSE))","v":""},"2028-02-01","",{"$f":"IF(DJIA!B217=\"\",\"\",DJIA!B217)","v":""},{"$f":"IF(CPIAUCSL!B985=\"\",\"\",CPIAUCSL!B985)","v":""},{"$f":"IF(H869=\"\",\"\",VLOOKUP($G869,DJIA_def!$A$12:$B$1041,2,FALSE))","v":""},""]
[null,null,null,null,null,{"$f":"IF(H870=\"\",\"\",VLOOKUP($A870,'Tocalino Index'!$A$12:$B$1041,2,FALSE))","v":""},"2028-03-01","",{"$f":"IF(DJIA!B218=\"\",\"\",DJIA!B218)","v":""},{"$f":"IF(CPIAUCSL!B986=\"\",\"\",CPIAUCSL!B986)","v":""},{"$f":"IF(H870=\"\",\"\",VLOOKUP($G870,DJIA_def!$A$12:$B$1041,2,FALSE))","v":""},""]
[null,null,null,null,null,{"$f":"IF(H871=\"\",\"\",VLOOKUP($A871,'Tocalino Index'!$A$12:$B$1041,2,FALSE))","v":""},"2028-04-01","",{"$f":"IF(DJIA!B219=\"\",\"\",DJIA!B219)","v":""},{"$f":"IF(CPIAUCSL!B987=\"\",\"\",CPIAUCSL!B987)","v":""},{"$f":"IF(H871=\"\",\"\",VLOOKUP($G871,DJIA_def!$A$12:$B$1041,2,FALSE))","v":""},""]
[null,null,null,null,null,{"$f":"IF(H872=\"\",\"\",VLOOKUP($A872,'Tocalino Index'!$A$12:$B$1041,2,FALSE))","v":""},"2028-05-01","",{"$f":"IF(DJIA!B220=\"\",\"\",DJIA!B220)","v":""},{"$f":"IF(CPIAUCSL!B988=\"\",\"\",CPIAUCSL!B988)","v":""},{"$f":"IF(H872=\"\",\"\",VLOOKUP($G872,DJIA_def!$A$12:$B$1041,2,FALSE))","v":""},""]
[null,null,null,null,null,{"$f":"IF(H873=\"\",\"\",VLOOKUP($A873,'Tocalino Index'!$A$12:$B$1041,2,FALSE))","v":""},"2028-06-01","",{"$f":"IF(DJIA!B221=\"\",\"\",DJIA!B221)","v":""},{"$f":"IF(CPIAUCSL!B989=\"\",\"\",CPIAUCSL!B989)","v":""},{"$f":"IF(H873=\"\",\"\",VLOOKUP($G873,DJIA_def!$A$12:$B$1041,2,FALSE))","v":""},""]
[null,null,null,null,null,{"$f":"IF(H874=\"\",\"\",VLOOKUP($A874,'Tocalino Index'!$A$12:$B$1041,2,FALSE))","v":""},"2028-07-01","",{"$f":"IF(DJIA!B222=\"\",\"\",DJIA!B222)","v":""},{"$f":"IF(CPIAUCSL!B990=\"\",\"\",CPIAUCSL!B990)","v":""},{"$f":"IF(H874=\"\",\"\",VLOOKUP($G874,DJIA_def!$A$12:$B$1041,2,FALSE))","v":""},""]
[null,null,null,null,null,{"$f":"IF(H875=\"\",\"\",VLOOKUP($A875,'Tocalino Index'!$A$12:$B$1041,2,FALSE))","v":""},"2028-08-01","",{"$f":"IF(DJIA!B223=\"\",\"\",DJIA!B223)","v":""},{"$f":"IF(CPIAUCSL!B991=\"\",\"\",CPIAUCSL!B991)","v":""},{"$f":"IF(H875=\"\",\"\",VLOOKUP($G875,DJIA_def!$A$12:$B$1041,2,FALSE))","v":""},""]
[null,null,null,null,null,{"$f":"IF(H876=\"\",\"\",VLOOKUP($A876,'Tocalino Index'!$A$12:$B$1041,2,FALSE))","v":""},"2028-09-01","",{"$f":"IF(DJIA!B224=\"\",\"\",DJIA!B224)","v":""},{"$f":"IF(CPIAUCSL!B992=\"\",\"\",CPIAUCSL!B992)","v":""},{"$f":"IF(H876=\"\",\"\",VLOOKUP($G876,DJIA_def!$A$12:$B$1041,2,FALSE))","v":""},""]
[null,null,null,null,null,{"$f":"IF(H877=\"\",\"\",VLOOKUP($A877,'Tocalino Index'!$A$12:$B$1041,2,FALSE))","v":""},"2028-10-01","",{"$f":"IF(DJIA!B225=\"\",\"\",DJIA!B225)","v":""},{"$f":"IF(CPIAUCSL!B993=\"\",\"\",CPIAUCSL!B993)","v":""},{"$f":"IF(H877=\"\",\"\",VLOOKUP($G877,DJIA_def!$A$12:$B$1041,2,FALSE))","v":""},""]
[null,null,null,null,null,{"$f":"IF(H878=\"\",\"\",VLOOKUP($A878,'Tocalino Index'!$A$12:$B$1041,2,FALSE))","v":""},"2028-11-01","",{"$f":"IF(DJIA!B226=\"\",\"\",DJIA!B226)","v":""},{"$f":"IF(CPIAUCSL!B994=\"\",\"\",CPIAUCSL!B994)","v":""},{"$f":"IF(H878=\"\",\"\",VLOOKUP($G878,DJIA_def!$A$12:$B$1041,2,FALSE))","v":""},""]
[null,null,null,null,null,{"$f":"IF(H879=\"\",\"\",VLOOKUP($A879,'Tocalino Index'!$A$12:$B$1041,2,FALSE))","v":""},"2028-12-01","",{"$f":"IF(DJIA!B227=\"\",\"\",DJIA!B227)","v":""},{"$f":"IF(CPIAUCSL!B995=\"\",\"\",CPIAUCSL!B995)","v":""},{"$f":"IF(H879=\"\",\"\",VLOOKUP($G879,DJIA_def!$A$12:$B$1041,2,FALSE))","v":""},""]
[null,null,null,null,null,{"$f":"IF(H880=\"\",\"\",VLOOKUP($A880,'Tocalino Index'!$A$12:$B$1041,2,FALSE))","v":""},"2029-01-01","",{"$f":"IF(DJIA!B228=\"\",\"\",DJIA!B228)","v":""},{"$f":"IF(CPIAUCSL!B996=\"\",\"\",CPIAUCSL!B996)","v":""},{"$f":"IF(H880=\"\",\"\",VLOOKUP($G880,DJIA_def!$A$12:$B$1041,2,FALSE))","v":""},""]
[null,null,null,null,null,{"$f":"IF(H881=\"\",\"\",VLOOKUP($A881,'Tocalino Index'!$A$12:$B$1041,2,FALSE))","v":""},"2029-02-01","",{"$f":"IF(DJIA!B229=\"\",\"\",DJIA!B229)","v":""},{"$f":"IF(CPIAUCSL!B997=\"\",\"\",CPIAUCSL!B997)","v":""},{"$f":"IF(H881=\"\",\"\",VLOOKUP($G881,DJIA_def!$A$12:$B$1041,2,FALSE))","v":""},""]
[null,null,null,null,null,{"$f":"IF(H882=\"\",\"\",VLOOKUP($A882,'Tocalino Index'!$A$12:$B$1041,2,FALSE))","v":""},"2029-03-01","",{"$f":"IF(DJIA!B230=\"\",\"\",DJIA!B230)","v":""},{"$f":"IF(CPIAUCSL!B998=\"\",\"\",CPIAUCSL!B998)","v":""},{"$f":"IF(H882=\"\",\"\",VLOOKUP($G882,DJIA_def!$A$12:$B$1041,2,FALSE))","v":""},""]
[null,null,null,null,null,{"$f":"IF(H883=\"\",\"\",VLOOKUP($A883,'Tocalino Index'!$A$12:$B$1041,2,FALSE))","v":""},"2029-04-01","",{"$f":"IF(DJIA!B231=\"\",\"\",DJIA!B231)","v":""},{"$f":"IF(CPIAUCSL!B999=\"\",\"\",CPIAUCSL!B999)","v":""},{"$f":"IF(H883=\"\",\"\",VLOOKUP($G883,DJIA_def!$A$12:$B$1041,2,FALSE))","v":""},""]
[null,null,null,null,null,{"$f":"IF(H884=\"\",\"\",VLOOKUP($A884,'Tocalino Index'!$A$12:$B$1041,2,FALSE))","v":""},"2029-05-01","",{"$f":"IF(DJIA!B232=\"\",\"\",DJIA!B232)","v":""},{"$f":"IF(CPIAUCSL!B1000=\"\",\"\",CPIAUCSL!B1000)","v":""},{"$f":"IF(H884=\"\",\"\",VLOOKUP($G884,DJIA_def!$A$12:$B$1041,2,FALSE))","v":""},""]
[null,null,null,null,null,{"$f":"IF(H885=\"\",\"\",VLOOKUP($A885,'Tocalino Index'!$A$12:$B$1041,2,FALSE))","v":""},"2029-06-01","",{"$f":"IF(DJIA!B233=\"\",\"\",DJIA!B233)","v":""},{"$f":"IF(CPIAUCSL!B1001=\"\",\"\",CPIAUCSL!B1001)","v":""},{"$f":"IF(H885=\"\",\"\",VLOOKUP($G885,DJIA_def!$A$12:$B$1041,2,FALSE))","v":""},""]
[null,null,null,null,null,{"$f":"IF(H886=\"\",\"\",VLOOKUP($A886,'Tocalino Index'!$A$12:$B$1041,2,FALSE))","v":""},"2029-07-01","",{"$f":"IF(DJIA!B234=\"\",\"\",DJIA!B234)","v":""},{"$f":"IF(CPIAUCSL!B1002=\"\",\"\",CPIAUCSL!B1002)","v":""},{"$f":"IF(H886=\"\",\"\",VLOOKUP($G886,DJIA_def!$A$12:$B$1041,2,FALSE))","v":""},""]
[null,null,null,null,null,{"$f":"IF(H887=\"\",\"\",VLOOKUP($A887,'Tocalino Index'!$A$12:$B$1041,2,FALSE))","v":""},"2029-08-01","",{"$f":"IF(DJIA!B235=\"\",\"\",DJIA!B235)","v":""},{"$f":"IF(CPIAUCSL!B1003=\"\",\"\",CPIAUCSL!B1003)","v":""},{"$f":"IF(H887=\"\",\"\",VLOOKUP($G887,DJIA_def!$A$12:$B$1041,2,FALSE))","v":""},""]
[null,null,null,null,null,{"$f":"IF(H888=\"\",\"\",VLOOKUP($A888,'Tocalino Index'!$A$12:$B$1041,2,FALSE))","v":""},"2029-09-01","",{"$f":"IF(DJIA!B236=\"\",\"\",DJIA!B236)","v":""},{"$f":"IF(CPIAUCSL!B1004=\"\",\"\",CPIAUCSL!B1004)","v":""},{"$f":"IF(H888=\"\",\"\",VLOOKUP($G888,DJIA_def!$A$12:$B$1041,2,FALSE))","v":""},""]
[null,null,null,null,null,{"$f":"IF(H889=\"\",\"\",VLOOKUP($A889,'Tocalino Index'!$A$12:$B$1041,2,FALSE))","v":""},"2029-10-01","",{"$f":"IF(DJIA!B237=\"\",\"\",DJIA!B237)","v":""},{"$f":"IF(CPIAUCSL!B1005=\"\",\"\",CPIAUCSL!B1005)","v":""},{"$f":"IF(H889=\"\",\"\",VLOOKUP($G889,DJIA_def!$A$12:$B$1041,2,FALSE))","v":""},""]
[null,null,null,null,null,{"$f":"IF(H890=\"\",\"\",VLOOKUP($A890,'Tocalino Index'!$A$12:$B$1041,2,FALSE))","v":""},"2029-11-01","",{"$f":"IF(DJIA!B238=\"\",\"\",DJIA!B238)","v":""},{"$f":"IF(CPIAUCSL!B1006=\"\",\"\",CPIAUCSL!B1006)","v":""},{"$f":"IF(H890=\"\",\"\",VLOOKUP($G890,DJIA_def!$A$12:$B$1041,2,FALSE))","v":""},""]
[null,null,null,null,null,{"$f":"IF(H891=\"\",\"\",VLOOKUP($A891,'Tocalino Index'!$A$12:$B$1041,2,FALSE))","v":""},"2029-12-01","",{"$f":"IF(DJIA!B239=\"\",\"\",DJIA!B239)","v":""},{"$f":"IF(CPIAUCSL!B1007=\"\",\"\",CPIAUCSL!B1007)","v":""},{"$f":"IF(H891=\"\",\"\",VLOOKUP($G891,DJIA_def!$A$12:$B$1041,2,FALSE))","v":""},""]
[null,null,null,null,null,{"$f":"IF(H892=\"\",\"\",VLOOKUP($A892,'Tocalino Index'!$A$12:$B$1041,2,FALSE))","v":""},"2030-01-01","",{"$f":"IF(DJIA!B240=\"\",\"\",DJIA!B240)","v":""},{"$f":"IF(CPIAUCSL!B1008=\"\",\"\",CPIAUCSL!B1008)","v":""},{"$f":"IF(H892=\"\",\"\",VLOOKUP($G892,DJIA_def!$A$12:$B$1041,2,FALSE))","v":""},""]
[null,null,null,null,null,{"$f":"IF(H893=\"\",\"\",VLOOKUP($A893,'Tocalino Index'!$A$12:$B$1041,2,FALSE))","v":""},"2030-02-01","",{"$f":"IF(DJIA!B241=\"\",\"\",DJIA!B241)","v":""},{"$f":"IF(CPIAUCSL!B1009=\"\",\"\",CPIAUCSL!B1009)","v":""},{"$f":"IF(H893=\"\",\"\",VLOOKUP($G893,DJIA_def!$A$12:$B$1041,2,FALSE))","v":""},""]
[null,null,null,null,null,{"$f":"IF(H894=\"\",\"\",VLOOKUP($A894,'Tocalino Index'!$A$12:$B$1041,2,FALSE))","v":""},"2030-03-01","",{"$f":"IF(DJIA!B242=\"\",\"\",DJIA!B242)","v":""},{"$f":"IF(CPIAUCSL!B1010=\"\",\"\",CPIAUCSL!B1010)","v":""},{"$f":"IF(H894=\"\",\"\",VLOOKUP($G894,DJIA_def!$A$12:$B$1041,2,FALSE))","v":""},""]
[null,null,null,null,null,{"$f":"IF(H895=\"\",\"\",VLOOKUP($A895,'Tocalino Index'!$A$12:$B$1041,2,FALSE))","v":""},"2030-04-01","",{"$f":"IF(DJIA!B243=\"\",\"\",DJIA!B243)","v":""},{"$f":"IF(CPIAUCSL!B1011=\"\",\"\",CPIAUCSL!B1011)","v":""},{"$f":"IF(H895=\"\",\"\",VLOOKUP($G895,DJIA_def!$A$12:$B$1041,2,FALSE))","v":""},""]
[null,null,null,null,null,{"$f":"IF(H896=\"\",\"\",VLOOKUP($A896,'Tocalino Index'!$A$12:$B$1041,2,FALSE))","v":""},"2030-05-01","",{"$f":"IF(DJIA!B244=\"\",\"\",DJIA!B244)","v":""},{"$f":"IF(CPIAUCSL!B1012=\"\",\"\",CPIAUCSL!B1012)","v":""},{"$f":"IF(H896=\"\",\"\",VLOOKUP($G896,DJIA_def!$A$12:$B$1041,2,FALSE))","v":""},""]
[null,null,null,null,null,{"$f":"IF(H897=\"\",\"\",VLOOKUP($A897,'Tocalino Index'!$A$12:$B$1041,2,FALSE))","v":""},"2030-06-01","",{"$f":"IF(DJIA!B245=\"\",\"\",DJIA!B245)","v":""},{"$f":"IF(CPIAUCSL!B1013=\"\",\"\",CPIAUCSL!B1013)","v":""},{"$f":"IF(H897=\"\",\"\",VLOOKUP($G897,DJIA_def!$A$12:$B$1041,2,FALSE))","v":""},""]
[null,null,null,null,null,{"$f":"IF(H898=\"\",\"\",VLOOKUP($A898,'Tocalino Index'!$A$12:$B$1041,2,FALSE))","v":""},"2030-07-01","",{"$f":"IF(DJIA!B246=\"\",\"\",DJIA!B246)","v":""},{"$f":"IF(CPIAUCSL!B1014=\"\",\"\",CPIAUCSL!B1014)","v":""},{"$f":"IF(H898=\"\",\"\",VLOOKUP($G898,DJIA_def!$A$12:$B$1041,2,FALSE))","v":""},""]
[null,null,null,null,null,{"$f":"IF(H899=\"\",\"\",VLOOKUP($A899,'Tocalino Index'!$A$12:$B$1041,2,FALSE))","v":""},"2030-08-01","",{"$f":"IF(DJIA!B247=\"\",\"\",DJIA!B247)","v":""},{"$f":"IF(CPIAUCSL!B1015=\"\",\"\",CPIAUCSL!B1015)","v":""},{"$f":"IF(H899=\"\",\"\",VLOOKUP($G899,DJIA_def!$A$12:$B$1041,2,FALSE))","v":""},""]
[null,null,null,null,null,{"$f":"IF(H900=\"\",\"\",VLOOKUP($A900,'Tocalino Index'!$A$12:$B$1041,2,FALSE))","v":""},"2030-09-01","",{"$f":"IF(DJIA!B248=\"\",\"\",DJIA!B248)","v":""},{"$f":"IF(CPIAUCSL!B1016=\"\",\"\",CPIAUCSL!B1016)","v":""},{"$f":"IF(H900=\"\",\"\",VLOOKUP($G900,DJIA_def!$A$12:$B$1041,2,FALSE))","v":""},""]
[null,null,null,null,null,{"$f":"IF(H901=\"\",\"\",VLOOKUP($A901,'Tocalino Index'!$A$12:$B$1041,2,FALSE))","v":""},"2030-10-01","",{"$f":"IF(DJIA!B249=\"\",\"\",DJIA!B249)","v":""},{"$f":"IF(CPIAUCSL!B1017=\"\",\"\",CPIAUCSL!B1017)","v":""},{"$f":"IF(H901=\"\",\"\",VLOOKUP($G901,DJIA_def!$A$12:$B$1041,2,FALSE))","v":""},""]
[null,null,null,null,null,{"$f":"IF(H902=\"\",\"\",VLOOKUP($A902,'Tocalino Index'!$A$12:$B$1041,2,FALSE))","v":""},"2030-11-01","",{"$f":"IF(DJIA!B250=\"\",\"\",DJIA!B250)","v":""},{"$f":"IF(CPIAUCSL!B1018=\"\",\"\",CPIAUCSL!B1018)","v":""},{"$f":"IF(H902=\"\",\"\",VLOOKUP($G902,DJIA_def!$A$12:$B$1041,2,FALSE))","v":""},""]
[null,null,null,null,null,{"$f":"IF(H903=\"\",\"\",VLOOKUP($A903,'Tocalino Index'!$A$12:$B$1041,2,FALSE))","v":""},"2030-12-01",{"$f":"IF((TODAY()-G903)<40,\"\",G903)","v":""},{"$f":"IF(DJIA!B251=\"\",\"\",DJIA!B251)","v":""},{"$f":"IF(CPIAUCSL!B1019=\"\",\"\",CPIAUCSL!B1019)","v":""},{"$f":"IF(H903=\"\",\"\",VLOOKUP($G903,DJIA_def!$A$12:$B$1041,2,FALSE))","v":""},""]
[null,null,null,null,null,{"$f":"IF(H904=\"\",\"\",VLOOKUP($A904,'Tocalino Index'!$A$12:$B$1041,2,FALSE))","v":""},"2031-01-01","",{"$f":"IF(DJIA!B252=\"\",\"\",DJIA!B252)","v":""},{"$f":"IF(CPIAUCSL!B1020=\"\",\"\",CPIAUCSL!B1020)","v":""},{"$f":"IF(H904=\"\",\"\",VLOOKUP($G904,DJIA_def!$A$12:$B$1041,2,FALSE))","v":""},""]
[null,null,null,null,null,{"$f":"IF(H905=\"\",\"\",VLOOKUP($A905,'Tocalino Index'!$A$12:$B$1041,2,FALSE))","v":""},"2031-02-01","",{"$f":"IF(DJIA!B253=\"\",\"\",DJIA!B253)","v":""},{"$f":"IF(CPIAUCSL!B1021=\"\",\"\",CPIAUCSL!B1021)","v":""},{"$f":"IF(H905=\"\",\"\",VLOOKUP($G905,DJIA_def!$A$12:$B$1041,2,FALSE))","v":""},""]
[null,null,null,null,null,{"$f":"IF(H906=\"\",\"\",VLOOKUP($A906,'Tocalino Index'!$A$12:$B$1041,2,FALSE))","v":""},"2031-03-01","",{"$f":"IF(DJIA!B254=\"\",\"\",DJIA!B254)","v":""},{"$f":"IF(CPIAUCSL!B1022=\"\",\"\",CPIAUCSL!B1022)","v":""},{"$f":"IF(H906=\"\",\"\",VLOOKUP($G906,DJIA_def!$A$12:$B$1041,2,FALSE))","v":""},""]
[null,null,null,null,null,{"$f":"IF(H907=\"\",\"\",VLOOKUP($A907,'Tocalino Index'!$A$12:$B$1041,2,FALSE))","v":""},"2031-04-01","",{"$f":"IF(DJIA!B255=\"\",\"\",DJIA!B255)","v":""},{"$f":"IF(CPIAUCSL!B1023=\"\",\"\",CPIAUCSL!B1023)","v":""},{"$f":"IF(H907=\"\",\"\",VLOOKUP($G907,DJIA_def!$A$12:$B$1041,2,FALSE))","v":""},""]
[null,null,null,null,null,{"$f":"IF(H908=\"\",\"\",VLOOKUP($A908,'Tocalino Index'!$A$12:$B$1041,2,FALSE))","v":""},"2031-05-01","",{"$f":"IF(DJIA!B256=\"\",\"\",DJIA!B256)","v":""},{"$f":"IF(CPIAUCSL!B1024=\"\",\"\",CPIAUCSL!B1024)","v":""},{"$f":"IF(H908=\"\",\"\",VLOOKUP($G908,DJIA_def!$A$12:$B$1041,2,FALSE))","v":""},""]
[null,null,null,null,null,{"$f":"IF(H909=\"\",\"\",VLOOKUP($A909,'Tocalino Index'!$A$12:$B$1041,2,FALSE))","v":""},"2031-06-01","",{"$f":"IF(DJIA!B257=\"\",\"\",DJIA!B257)","v":""},{"$f":"IF(CPIAUCSL!B1025=\"\",\"\",CPIAUCSL!B1025)","v":""},{"$f":"IF(H909=\"\",\"\",VLOOKUP($G909,DJIA_def!$A$12:$B$1041,2,FALSE))","v":""},{"$f":"IF(J909=\"\",\"\",K909/$M$418)","v":""}]
[null,null,null,null,null,{"$f":"IF(H910=\"\",\"\",VLOOKUP($A910,'Tocalino Index'!$A$12:$B$1041,2,FALSE))","v":""},"2031-07-01","",{"$f":"IF(DJIA!B258=\"\",\"\",DJIA!B258)","v":""},{"$f":"IF(CPIAUCSL!B1026=\"\",\"\",CPIAUCSL!B1026)","v":""},{"$f":"IF(H910=\"\",\"\",VLOOKUP($G910,DJIA_def!$A$12:$B$1041,2,FALSE))","v":""},""]
[null,null,null,null,null,{"$f":"IF(H911=\"\",\"\",VLOOKUP($A911,'Tocalino Index'!$A$12:$B$1041,2,FALSE))","v":""},"2031-08-01","",{"$f":"IF(DJIA!B259=\"\",\"\",DJIA!B259)","v":""},{"$f":"IF(CPIAUCSL!B1027=\"\",\"\",CPIAUCSL!B1027)","v":""},{"$f":"IF(H911=\"\",\"\",VLOOKUP($G911,DJIA_def!$A$12:$B$1041,2,FALSE))","v":""},""]
[null,null,null,null,null,{"$f":"IF(H912=\"\",\"\",VLOOKUP($A912,'Tocalino Index'!$A$12:$B$1041,2,FALSE))","v":""},"2031-09-01","",{"$f":"IF(DJIA!B260=\"\",\"\",DJIA!B260)","v":""},{"$f":"IF(CPIAUCSL!B1028=\"\",\"\",CPIAUCSL!B1028)","v":""},{"$f":"IF(H912=\"\",\"\",VLOOKUP($G912,DJIA_def!$A$12:$B$1041,2,FALSE))","v":""},""]
[null,null,null,null,null,{"$f":"IF(H913=\"\",\"\",VLOOKUP($A913,'Tocalino Index'!$A$12:$B$1041,2,FALSE))","v":""},"2031-10-01","",{"$f":"IF(DJIA!B261=\"\",\"\",DJIA!B261)","v":""},{"$f":"IF(CPIAUCSL!B1029=\"\",\"\",CPIAUCSL!B1029)","v":""},{"$f":"IF(H913=\"\",\"\",VLOOKUP($G913,DJIA_def!$A$12:$B$1041,2,FALSE))","v":""},""]
[null,null,null,null,null,{"$f":"IF(H914=\"\",\"\",VLOOKUP($A914,'Tocalino Index'!$A$12:$B$1041,2,FALSE))","v":""},"2031-11-01","",{"$f":"IF(DJIA!B262=\"\",\"\",DJIA!B262)","v":""},{"$f":"IF(CPIAUCSL!B1030=\"\",\"\",CPIAUCSL!B1030)","v":""},{"$f":"IF(H914=\"\",\"\",VLOOKUP($G914,DJIA_def!$A$12:$B$1041,2,FALSE))","v":""},""]
[null,null,null,null,null,{"$f":"IF(H915=\"\",\"\",VLOOKUP($A915,'Tocalino Index'!$A$12:$B$1041,2,FALSE))","v":""},"2031-12-01","",{"$f":"IF(DJIA!B263=\"\",\"\",DJIA!B263)","v":""},{"$f":"IF(CPIAUCSL!B1031=\"\",\"\",CPIAUCSL!B1031)","v":""},{"$f":"IF(H915=\"\",\"\",VLOOKUP($G915,DJIA_def!$A$12:$B$1041,2,FALSE))","v":""},""]
[null,null,null,null,null,{"$f":"IF(H916=\"\",\"\",VLOOKUP($A916,'Tocalino Index'!$A$12:$B$1041,2,FALSE))","v":""},"2032-01-01","",{"$f":"IF(DJIA!B264=\"\",\"\",DJIA!B264)","v":""},{"$f":"IF(CPIAUCSL!B1032=\"\",\"\",CPIAUCSL!B1032)","v":""},{"$f":"IF(H916=\"\",\"\",VLOOKUP($G916,DJIA_def!$A$12:$B$1041,2,FALSE))","v":""},""]
[null,null,null,null,null,{"$f":"IF(H917=\"\",\"\",VLOOKUP($A917,'Tocalino Index'!$A$12:$B$1041,2,FALSE))","v":""},"2032-02-01","",{"$f":"IF(DJIA!B265=\"\",\"\",DJIA!B265)","v":""},{"$f":"IF(CPIAUCSL!B1033=\"\",\"\",CPIAUCSL!B1033)","v":""},{"$f":"IF(H917=\"\",\"\",VLOOKUP($G917,DJIA_def!$A$12:$B$1041,2,FALSE))","v":""},""]
[null,null,null,null,null,{"$f":"IF(H918=\"\",\"\",VLOOKUP($A918,'Tocalino Index'!$A$12:$B$1041,2,FALSE))","v":""},"2032-03-01","",{"$f":"IF(DJIA!B266=\"\",\"\",DJIA!B266)","v":""},{"$f":"IF(CPIAUCSL!B1034=\"\",\"\",CPIAUCSL!B1034)","v":""},{"$f":"IF(H918=\"\",\"\",VLOOKUP($G918,DJIA_def!$A$12:$B$1041,2,FALSE))","v":""},""]
[null,null,null,null,null,{"$f":"IF(H919=\"\",\"\",VLOOKUP($A919,'Tocalino Index'!$A$12:$B$1041,2,FALSE))","v":""},"2032-04-01","",{"$f":"IF(DJIA!B267=\"\",\"\",DJIA!B267)","v":""},{"$f":"IF(CPIAUCSL!B1035=\"\",\"\",CPIAUCSL!B1035)","v":""},{"$f":"IF(H919=\"\",\"\",VLOOKUP($G919,DJIA_def!$A$12:$B$1041,2,FALSE))","v":""},""]
[null,null,null,null,null,{"$f":"IF(H920=\"\",\"\",VLOOKUP($A920,'Tocalino Index'!$A$12:$B$1041,2,FALSE))","v":""},"2032-05-01","",{"$f":"IF(DJIA!B268=\"\",\"\",DJIA!B268)","v":""},{"$f":"IF(CPIAUCSL!B1036=\"\",\"\",CPIAUCSL!B1036)","v":""},{"$f":"IF(H920=\"\",\"\",VLOOKUP($G920,DJIA_def!$A$12:$B$1041,2,FALSE))","v":""},""]
[null,null,null,null,null,{"$f":"IF(H921=\"\",\"\",VLOOKUP($A921,'Tocalino Index'!$A$12:$B$1041,2,FALSE))","v":""},"2032-06-01","",{"$f":"IF(DJIA!B269=\"\",\"\",DJIA!B269)","v":""},{"$f":"IF(CPIAUCSL!B1037=\"\",\"\",CPIAUCSL!B1037)","v":""},{"$f":"IF(H921=\"\",\"\",VLOOKUP($G921,DJIA_def!$A$12:$B$1041,2,FALSE))","v":""},""]
[null,null,null,null,null,{"$f":"IF(H922=\"\",\"\",VLOOKUP($A922,'Tocalino Index'!$A$12:$B$1041,2,FALSE))","v":""},"2032-07-01","",{"$f":"IF(DJIA!B270=\"\",\"\",DJIA!B270)","v":""},{"$f":"IF(CPIAUCSL!B1038=\"\",\"\",CPIAUCSL!B1038)","v":""},{"$f":"IF(H922=\"\",\"\",VLOOKUP($G922,DJIA_def!$A$12:$B$1041,2,FALSE))","v":""},""]
[null,null,null,null,null,{"$f":"IF(H923=\"\",\"\",VLOOKUP($A923,'Tocalino Index'!$A$12:$B$1041,2,FALSE))","v":""},"2032-08-01","",{"$f":"IF(DJIA!B271=\"\",\"\",DJIA!B271)","v":""},{"$f":"IF(CPIAUCSL!B1039=\"\",\"\",CPIAUCSL!B1039)","v":""},{"$f":"IF(H923=\"\",\"\",VLOOKUP($G923,DJIA_def!$A$12:$B$1041,2,FALSE))","v":""},""]
[null,null,null,null,null,{"$f":"IF(H924=\"\",\"\",VLOOKUP($A924,'Tocalino Index'!$A$12:$B$1041,2,FALSE))","v":""},"2032-09-01","",{"$f":"IF(DJIA!B272=\"\",\"\",DJIA!B272)","v":""},{"$f":"IF(CPIAUCSL!B1040=\"\",\"\",CPIAUCSL!B1040)","v":""},{"$f":"IF(H924=\"\",\"\",VLOOKUP($G924,DJIA_def!$A$12:$B$1041,2,FALSE))","v":""},""]
[null,null,null,null,null,{"$f":"IF(H925=\"\",\"\",VLOOKUP($A925,'Tocalino Index'!$A$12:$B$1041,2,FALSE))","v":""},"2032-10-01","",{"$f":"IF(DJIA!B273=\"\",\"\",DJIA!B273)","v":""},{"$f":"IF(CPIAUCSL!B1041=\"\",\"\",CPIAUCSL!B1041)","v":""},{"$f":"IF(H925=\"\",\"\",VLOOKUP($G925,DJIA_def!$A$12:$B$1041,2,FALSE))","v":""},""]
[null,null,null,null,null,{"$f":"IF(H926=\"\",\"\",VLOOKUP($A926,'Tocalino Index'!$A$12:$B$1041,2,FALSE))","v":""},"2032-11-01","",{"$f":"IF(DJIA!B274=\"\",\"\",DJIA!B274)","v":""},{"$f":"IF(CPIAUCSL!B1042=\"\",\"\",CPIAUCSL!B1042)","v":""},{"$f":"IF(H926=\"\",\"\",VLOOKUP($G926,DJIA_def!$A$12:$B$1041,2,FALSE))","v":""},""]
[null,null,null,null,null,{"$f":"IF(H927=\"\",\"\",VLOOKUP($A927,'Tocalino Index'!$A$12:$B$1041,2,FALSE))","v":""},"2032-12-01","",{"$f":"IF(DJIA!B275=\"\",\"\",DJIA!B275)","v":""},{"$f":"IF(CPIAUCSL!B1043=\"\",\"\",CPIAUCSL!B1043)","v":""},{"$f":"IF(H927=\"\",\"\",VLOOKUP($G927,DJIA_def!$A$12:$B$1041,2,FALSE))","v":""},""]
[null,null,null,null,null,{"$f":"IF(H928=\"\",\"\",VLOOKUP($A928,'Tocalino Index'!$A$12:$B$1041,2,FALSE))","v":""},"2033-01-01","",{"$f":"IF(DJIA!B276=\"\",\"\",DJIA!B276)","v":""},{"$f":"IF(CPIAUCSL!B1044=\"\",\"\",CPIAUCSL!B1044)","v":""},{"$f":"IF(H928=\"\",\"\",VLOOKUP($G928,DJIA_def!$A$12:$B$1041,2,FALSE))","v":""},""]
[null,null,null,null,null,{"$f":"IF(H929=\"\",\"\",VLOOKUP($A929,'Tocalino Index'!$A$12:$B$1041,2,FALSE))","v":""},"2033-02-01","",{"$f":"IF(DJIA!B277=\"\",\"\",DJIA!B277)","v":""},{"$f":"IF(CPIAUCSL!B1045=\"\",\"\",CPIAUCSL!B1045)","v":""},{"$f":"IF(H929=\"\",\"\",VLOOKUP($G929,DJIA_def!$A$12:$B$1041,2,FALSE))","v":""},""]
[null,null,null,null,null,{"$f":"IF(H930=\"\",\"\",VLOOKUP($A930,'Tocalino Index'!$A$12:$B$1041,2,FALSE))","v":""},"2033-03-01","",{"$f":"IF(DJIA!B278=\"\",\"\",DJIA!B278)","v":""},{"$f":"IF(CPIAUCSL!B1046=\"\",\"\",CPIAUCSL!B1046)","v":""},{"$f":"IF(H930=\"\",\"\",VLOOKUP($G930,DJIA_def!$A$12:$B$1041,2,FALSE))","v":""},""]
[null,null,null,null,null,{"$f":"IF(H931=\"\",\"\",VLOOKUP($A931,'Tocalino Index'!$A$12:$B$1041,2,FALSE))","v":""},"2033-04-01","",{"$f":"IF(DJIA!B279=\"\",\"\",DJIA!B279)","v":""},{"$f":"IF(CPIAUCSL!B1047=\"\",\"\",CPIAUCSL!B1047)","v":""},{"$f":"IF(H931=\"\",\"\",VLOOKUP($G931,DJIA_def!$A$12:$B$1041,2,FALSE))","v":""},""]
[null,null,null,null,null,{"$f":"IF(H932=\"\",\"\",VLOOKUP($A932,'Tocalino Index'!$A$12:$B$1041,2,FALSE))","v":""},"2033-05-01","",{"$f":"IF(DJIA!B280=\"\",\"\",DJIA!B280)","v":""},{"$f":"IF(CPIAUCSL!B1048=\"\",\"\",CPIAUCSL!B1048)","v":""},{"$f":"IF(H932=\"\",\"\",VLOOKUP($G932,DJIA_def!$A$12:$B$1041,2,FALSE))","v":""},""]
[null,null,null,null,null,{"$f":"IF(H933=\"\",\"\",VLOOKUP($A933,'Tocalino Index'!$A$12:$B$1041,2,FALSE))","v":""},"2033-06-01","",{"$f":"IF(DJIA!B281=\"\",\"\",DJIA!B281)","v":""},{"$f":"IF(CPIAUCSL!B1049=\"\",\"\",CPIAUCSL!B1049)","v":""},{"$f":"IF(H933=\"\",\"\",VLOOKUP($G933,DJIA_def!$A$12:$B$1041,2,FALSE))","v":""},""]
[null,null,null,null,null,{"$f":"IF(H934=\"\",\"\",VLOOKUP($A934,'Tocalino Index'!$A$12:$B$1041,2,FALSE))","v":""},"2033-07-01","",{"$f":"IF(DJIA!B282=\"\",\"\",DJIA!B282)","v":""},{"$f":"IF(CPIAUCSL!B1050=\"\",\"\",CPIAUCSL!B1050)","v":""},{"$f":"IF(H934=\"\",\"\",VLOOKUP($G934,DJIA_def!$A$12:$B$1041,2,FALSE))","v":""},""]
[null,null,null,null,null,{"$f":"IF(H935=\"\",\"\",VLOOKUP($A935,'Tocalino Index'!$A$12:$B$1041,2,FALSE))","v":""},"2033-08-01","",{"$f":"IF(DJIA!B283=\"\",\"\",DJIA!B283)","v":""},{"$f":"IF(CPIAUCSL!B1051=\"\",\"\",CPIAUCSL!B1051)","v":""},{"$f":"IF(H935=\"\",\"\",VLOOKUP($G935,DJIA_def!$A$12:$B$1041,2,FALSE))","v":""},""]
[null,null,null,null,null,{"$f":"IF(H936=\"\",\"\",VLOOKUP($A936,'Tocalino Index'!$A$12:$B$1041,2,FALSE))","v":""},"2033-09-01","",{"$f":"IF(DJIA!B284=\"\",\"\",DJIA!B284)","v":""},{"$f":"IF(CPIAUCSL!B1052=\"\",\"\",CPIAUCSL!B1052)","v":""},{"$f":"IF(H936=\"\",\"\",VLOOKUP($G936,DJIA_def!$A$12:$B$1041,2,FALSE))","v":""},""]
[null,null,null,null,null,{"$f":"IF(H937=\"\",\"\",VLOOKUP($A937,'Tocalino Index'!$A$12:$B$1041,2,FALSE))","v":""},"2033-10-01","",{"$f":"IF(DJIA!B285=\"\",\"\",DJIA!B285)","v":""},{"$f":"IF(CPIAUCSL!B1053=\"\",\"\",CPIAUCSL!B1053)","v":""},{"$f":"IF(H937=\"\",\"\",VLOOKUP($G937,DJIA_def!$A$12:$B$1041,2,FALSE))","v":""},""]
[null,null,null,null,null,{"$f":"IF(H938=\"\",\"\",VLOOKUP($A938,'Tocalino Index'!$A$12:$B$1041,2,FALSE))","v":""},"2033-11-01","",{"$f":"IF(DJIA!B286=\"\",\"\",DJIA!B286)","v":""},{"$f":"IF(CPIAUCSL!B1054=\"\",\"\",CPIAUCSL!B1054)","v":""},{"$f":"IF(H938=\"\",\"\",VLOOKUP($G938,DJIA_def!$A$12:$B$1041,2,FALSE))","v":""},""]
[null,null,null,null,null,{"$f":"IF(H939=\"\",\"\",VLOOKUP($A939,'Tocalino Index'!$A$12:$B$1041,2,FALSE))","v":""},"2033-12-01","",{"$f":"IF(DJIA!B287=\"\",\"\",DJIA!B287)","v":""},{"$f":"IF(CPIAUCSL!B1055=\"\",\"\",CPIAUCSL!B1055)","v":""},{"$f":"IF(H939=\"\",\"\",VLOOKUP($G939,DJIA_def!$A$12:$B$1041,2,FALSE))","v":""},""]
[null,null,null,null,null,{"$f":"IF(H940=\"\",\"\",VLOOKUP($A940,'Tocalino Index'!$A$12:$B$1041,2,FALSE))","v":""},"2034-01-01","",{"$f":"IF(DJIA!B288=\"\",\"\",DJIA!B288)","v":""},{"$f":"IF(CPIAUCSL!B1056=\"\",\"\",CPIAUCSL!B1056)","v":""},{"$f":"IF(H940=\"\",\"\",VLOOKUP($G940,DJIA_def!$A$12:$B$1041,2,FALSE))","v":""},""]
[null,null,null,null,null,{"$f":"IF(H941=\"\",\"\",VLOOKUP($A941,'Tocalino Index'!$A$12:$B$1041,2,FALSE))","v":""},"2034-02-01","",{"$f":"IF(DJIA!B289=\"\",\"\",DJIA!B289)","v":""},{"$f":"IF(CPIAUCSL!B1057=\"\",\"\",CPIAUCSL!B1057)","v":""},{"$f":"IF(H941=\"\",\"\",VLOOKUP($G941,DJIA_def!$A$12:$B$1041,2,FALSE))","v":""},""]
[null,null,null,null,null,{"$f":"IF(H942=\"\",\"\",VLOOKUP($A942,'Tocalino Index'!$A$12:$B$1041,2,FALSE))","v":""},"2034-03-01","",{"$f":"IF(DJIA!B290=\"\",\"\",DJIA!B290)","v":""},{"$f":"IF(CPIAUCSL!B1058=\"\",\"\",CPIAUCSL!B1058)","v":""},{"$f":"IF(H942=\"\",\"\",VLOOKUP($G942,DJIA_def!$A$12:$B$1041,2,FALSE))","v":""},""]
[null,null,null,null,null,{"$f":"IF(H943=\"\",\"\",VLOOKUP($A943,'Tocalino Index'!$A$12:$B$1041,2,FALSE))","v":""},"2034-04-01","",{"$f":"IF(DJIA!B291=\"\",\"\",DJIA!B291)","v":""},{"$f":"IF(CPIAUCSL!B1059=\"\",\"\",CPIAUCSL!B1059)","v":""},{"$f":"IF(H943=\"\",\"\",VLOOKUP($G943,DJIA_def!$A$12:$B$1041,2,FALSE))","v":""},""]
[null,null,null,null,null,{"$f":"IF(H944=\"\",\"\",VLOOKUP($A944,'Tocalino Index'!$A$12:$B$1041,2,FALSE))","v":""},"2034-05-01","",{"$f":"IF(DJIA!B292=\"\",\"\",DJIA!B292)","v":""},{"$f":"IF(CPIAUCSL!B1060=\"\",\"\",CPIAUCSL!B1060)","v":""},{"$f":"IF(H944=\"\",\"\",VLOOKUP($G944,DJIA_def!$A$12:$B$1041,2,FALSE))","v":""},""]
[null,null,null,null,null,{"$f":"IF(H945=\"\",\"\",VLOOKUP($A945,'Tocalino Index'!$A$12:$B$1041,2,FALSE))","v":""},"2034-06-01","",{"$f":"IF(DJIA!B293=\"\",\"\",DJIA!B293)","v":""},{"$f":"IF(CPIAUCSL!B1061=\"\",\"\",CPIAUCSL!B1061)","v":""},{"$f":"IF(H945=\"\",\"\",VLOOKUP($G945,DJIA_def!$A$12:$B$1041,2,FALSE))","v":""},""]
[null,null,null,null,null,{"$f":"IF(H946=\"\",\"\",VLOOKUP($A946,'Tocalino Index'!$A$12:$B$1041,2,FALSE))","v":""},"2034-07-01","",{"$f":"IF(DJIA!B294=\"\",\"\",DJIA!B294)","v":""},{"$f":"IF(CPIAUCSL!B1062=\"\",\"\",CPIAUCSL!B1062)","v":""},{"$f":"IF(H946=\"\",\"\",VLOOKUP($G946,DJIA_def!$A$12:$B$1041,2,FALSE))","v":""},""]
[null,null,null,null,null,{"$f":"IF(H947=\"\",\"\",VLOOKUP($A947,'Tocalino Index'!$A$12:$B$1041,2,FALSE))","v":""},"2034-08-01","",{"$f":"IF(DJIA!B295=\"\",\"\",DJIA!B295)","v":""},{"$f":"IF(CPIAUCSL!B1063=\"\",\"\",CPIAUCSL!B1063)","v":""},{"$f":"IF(H947=\"\",\"\",VLOOKUP($G947,DJIA_def!$A$12:$B$1041,2,FALSE))","v":""},""]
[null,null,null,null,null,{"$f":"IF(H948=\"\",\"\",VLOOKUP($A948,'Tocalino Index'!$A$12:$B$1041,2,FALSE))","v":""},"2034-09-01","",{"$f":"IF(DJIA!B296=\"\",\"\",DJIA!B296)","v":""},{"$f":"IF(CPIAUCSL!B1064=\"\",\"\",CPIAUCSL!B1064)","v":""},{"$f":"IF(H948=\"\",\"\",VLOOKUP($G948,DJIA_def!$A$12:$B$1041,2,FALSE))","v":""},""]
[null,null,null,null,null,{"$f":"IF(H949=\"\",\"\",VLOOKUP($A949,'Tocalino Index'!$A$12:$B$1041,2,FALSE))","v":""},"2034-10-01","",{"$f":"IF(DJIA!B297=\"\",\"\",DJIA!B297)","v":""},{"$f":"IF(CPIAUCSL!B1065=\"\",\"\",CPIAUCSL!B1065)","v":""},{"$f":"IF(H949=\"\",\"\",VLOOKUP($G949,DJIA_def!$A$12:$B$1041,2,FALSE))","v":""},""]
[null,null,null,null,null,{"$f":"IF(H950=\"\",\"\",VLOOKUP($A950,'Tocalino Index'!$A$12:$B$1041,2,FALSE))","v":""},"2034-11-01","",{"$f":"IF(DJIA!B298=\"\",\"\",DJIA!B298)","v":""},{"$f":"IF(CPIAUCSL!B1066=\"\",\"\",CPIAUCSL!B1066)","v":""},{"$f":"IF(H950=\"\",\"\",VLOOKUP($G950,DJIA_def!$A$12:$B$1041,2,FALSE))","v":""},""]
[null,null,null,null,null,{"$f":"IF(H951=\"\",\"\",VLOOKUP($A951,'Tocalino Index'!$A$12:$B$1041,2,FALSE))","v":""},"2034-12-01","",{"$f":"IF(DJIA!B299=\"\",\"\",DJIA!B299)","v":""},{"$f":"IF(CPIAUCSL!B1067=\"\",\"\",CPIAUCSL!B1067)","v":""},{"$f":"IF(H951=\"\",\"\",VLOOKUP($G951,DJIA_def!$A$12:$B$1041,2,FALSE))","v":""},""]
[null,null,null,null,null,{"$f":"IF(H952=\"\",\"\",VLOOKUP($A952,'Tocalino Index'!$A$12:$B$1041,2,FALSE))","v":""},"2035-01-01","",{"$f":"IF(DJIA!B300=\"\",\"\",DJIA!B300)","v":""},{"$f":"IF(CPIAUCSL!B1068=\"\",\"\",CPIAUCSL!B1068)","v":""},{"$f":"IF(H952=\"\",\"\",VLOOKUP($G952,DJIA_def!$A$12:$B$1041,2,FALSE))","v":""},""]
[null,null,null,null,null,{"$f":"IF(H953=\"\",\"\",VLOOKUP($A953,'Tocalino Index'!$A$12:$B$1041,2,FALSE))","v":""},"2035-02-01","",{"$f":"IF(DJIA!B301=\"\",\"\",DJIA!B301)","v":""},{"$f":"IF(CPIAUCSL!B1069=\"\",\"\",CPIAUCSL!B1069)","v":""},{"$f":"IF(H953=\"\",\"\",VLOOKUP($G953,DJIA_def!$A$12:$B$1041,2,FALSE))","v":""},""]
[null,null,null,null,null,{"$f":"IF(H954=\"\",\"\",VLOOKUP($A954,'Tocalino Index'!$A$12:$B$1041,2,FALSE))","v":""},"2035-03-01","",{"$f":"IF(DJIA!B302=\"\",\"\",DJIA!B302)","v":""},{"$f":"IF(CPIAUCSL!B1070=\"\",\"\",CPIAUCSL!B1070)","v":""},{"$f":"IF(H954=\"\",\"\",VLOOKUP($G954,DJIA_def!$A$12:$B$1041,2,FALSE))","v":""},""]
[null,null,null,null,null,{"$f":"IF(H955=\"\",\"\",VLOOKUP($A955,'Tocalino Index'!$A$12:$B$1041,2,FALSE))","v":""},"2035-04-01","",{"$f":"IF(DJIA!B303=\"\",\"\",DJIA!B303)","v":""},{"$f":"IF(CPIAUCSL!B1071=\"\",\"\",CPIAUCSL!B1071)","v":""},{"$f":"IF(H955=\"\",\"\",VLOOKUP($G955,DJIA_def!$A$12:$B$1041,2,FALSE))","v":""},""]
[null,null,null,null,null,{"$f":"IF(H956=\"\",\"\",VLOOKUP($A956,'Tocalino Index'!$A$12:$B$1041,2,FALSE))","v":""},"2035-05-01","",{"$f":"IF(DJIA!B304=\"\",\"\",DJIA!B304)","v":""},{"$f":"IF(CPIAUCSL!B1072=\"\",\"\",CPIAUCSL!B1072)","v":""},{"$f":"IF(H956=\"\",\"\",VLOOKUP($G956,DJIA_def!$A$12:$B$1041,2,FALSE))","v":""},""]
[null,null,null,null,null,{"$f":"IF(H957=\"\",\"\",VLOOKUP($A957,'Tocalino Index'!$A$12:$B$1041,2,FALSE))","v":""},"2035-06-01","",{"$f":"IF(DJIA!B305=\"\",\"\",DJIA!B305)","v":""},{"$f":"IF(CPIAUCSL!B1073=\"\",\"\",CPIAUCSL!B1073)","v":""},{"$f":"IF(H957=\"\",\"\",VLOOKUP($G957,DJIA_def!$A$12:$B$1041,2,FALSE))","v":""},""]
[null,null,null,null,null,{"$f":"IF(H958=\"\",\"\",VLOOKUP($A958,'Tocalino Index'!$A$12:$B$1041,2,FALSE))","v":""},"2035-07-01","",{"$f":"IF(DJIA!B306=\"\",\"\",DJIA!B306)","v":""},{"$f":"IF(CPIAUCSL!B1074=\"\",\"\",CPIAUCSL!B1074)","v":""},{"$f":"IF(H958=\"\",\"\",VLOOKUP($G958,DJIA_def!$A$12:$B$1041,2,FALSE))","v":""},""]
[null,null,null,null,null,{"$f":"IF(H959=\"\",\"\",VLOOKUP($A959,'Tocalino Index'!$A$12:$B$1041,2,FALSE))","v":""},"2035-08-01","",{"$f":"IF(DJIA!B307=\"\",\"\",DJIA!B307)","v":""},{"$f":"IF(CPIAUCSL!B1075=\"\",\"\",CPIAUCSL!B1075)","v":""},{"$f":"IF(H959=\"\",\"\",VLOOKUP($G959,DJIA_def!$A$12:$B$1041,2,FALSE))","v":""},""]
[null,null,null,null,null,{"$f":"IF(H960=\"\",\"\",VLOOKUP($A960,'Tocalino Index'!$A$12:$B$1041,2,FALSE))","v":""},"2035-09-01","",{"$f":"IF(DJIA!B308=\"\",\"\",DJIA!B308)","v":""},{"$f":"IF(CPIAUCSL!B1076=\"\",\"\",CPIAUCSL!B1076)","v":""},{"$f":"IF(H960=\"\",\"\",VLOOKUP($G960,DJIA_def!$A$12:$B$1041,2,FALSE))","v":""},""]
[null,null,null,null,null,{"$f":"IF(H961=\"\",\"\",VLOOKUP($A961,'Tocalino Index'!$A$12:$B$1041,2,FALSE))","v":""},"2035-10-01","",{"$f":"IF(DJIA!B309=\"\",\"\",DJIA!B309)","v":""},{"$f":"IF(CPIAUCSL!B1077=\"\",\"\",CPIAUCSL!B1077)","v":""},{"$f":"IF(H961=\"\",\"\",VLOOKUP($G961,DJIA_def!$A$12:$B$1041,2,FALSE))","v":""},""]
[null,null,null,null,null,{"$f":"IF(H962=\"\",\"\",VLOOKUP($A962,'Tocalino Index'!$A$12:$B$1041,2,FALSE))","v":""},"2035-11-01","",{"$f":"IF(DJIA!B310=\"\",\"\",DJIA!B310)","v":""},{"$f":"IF(CPIAUCSL!B1078=\"\",\"\",CPIAUCSL!B1078)","v":""},{"$f":"IF(H962=\"\",\"\",VLOOKUP($G962,DJIA_def!$A$12:$B$1041,2,FALSE))","v":""},""]
[null,null,null,null,null,{"$f":"IF(H963=\"\",\"\",VLOOKUP($A963,'Tocalino Index'!$A$12:$B$1041,2,FALSE))","v":""},"2035-12-01","",{"$f":"IF(DJIA!B311=\"\",\"\",DJIA!B311)","v":""},{"$f":"IF(CPIAUCSL!B1079=\"\",\"\",CPIAUCSL!B1079)","v":""},{"$f":"IF(H963=\"\",\"\",VLOOKUP($G963,DJIA_def!$A$12:$B$1041,2,FALSE))","v":""},""]
[null,null,null,null,null,{"$f":"IF(H964=\"\",\"\",VLOOKUP($A964,'Tocalino Index'!$A$12:$B$1041,2,FALSE))","v":""},"2036-01-01","",{"$f":"IF(DJIA!B312=\"\",\"\",DJIA!B312)","v":""},{"$f":"IF(CPIAUCSL!B1080=\"\",\"\",CPIAUCSL!B1080)","v":""},{"$f":"IF(H964=\"\",\"\",VLOOKUP($G964,DJIA_def!$A$12:$B$1041,2,FALSE))","v":""},""]
[null,null,null,null,null,{"$f":"IF(H965=\"\",\"\",VLOOKUP($A965,'Tocalino Index'!$A$12:$B$1041,2,FALSE))","v":""},"2036-02-01","",{"$f":"IF(DJIA!B313=\"\",\"\",DJIA!B313)","v":""},{"$f":"IF(CPIAUCSL!B1081=\"\",\"\",CPIAUCSL!B1081)","v":""},{"$f":"IF(H965=\"\",\"\",VLOOKUP($G965,DJIA_def!$A$12:$B$1041,2,FALSE))","v":""},""]
[null,null,null,null,null,{"$f":"IF(H966=\"\",\"\",VLOOKUP($A966,'Tocalino Index'!$A$12:$B$1041,2,FALSE))","v":""},"2036-03-01","",{"$f":"IF(DJIA!B314=\"\",\"\",DJIA!B314)","v":""},{"$f":"IF(CPIAUCSL!B1082=\"\",\"\",CPIAUCSL!B1082)","v":""},{"$f":"IF(H966=\"\",\"\",VLOOKUP($G966,DJIA_def!$A$12:$B$1041,2,FALSE))","v":""},""]
[null,null,null,null,null,{"$f":"IF(H967=\"\",\"\",VLOOKUP($A967,'Tocalino Index'!$A$12:$B$1041,2,FALSE))","v":""},"2036-04-01",{"$f":"IF((TODAY()-G967)<40,\"\",G967)","v":""},{"$f":"IF(DJIA!B315=\"\",\"\",DJIA!B315)","v":""},{"$f":"IF(CPIAUCSL!B1083=\"\",\"\",CPIAUCSL!B1083)","v":""},{"$f":"IF(H967=\"\",\"\",VLOOKUP($G967,DJIA_def!$A$12:$B$1041,2,FALSE))","v":""},""]
[null,null,null,null,null,{"$f":"IF(H968=\"\",\"\",VLOOKUP($A968,'Tocalino Index'!$A$12:$B$1041,2,FALSE))","v":""},"2036-05-01","",{"$f":"IF(DJIA!B316=\"\",\"\",DJIA!B316)","v":""},{"$f":"IF(CPIAUCSL!B1084=\"\",\"\",CPIAUCSL!B1084)","v":""},{"$f":"IF(H968=\"\",\"\",VLOOKUP($G968,DJIA_def!$A$12:$B$1041,2,FALSE))","v":""},""]
[null,null,null,null,null,{"$f":"IF(H969=\"\",\"\",VLOOKUP($A969,'Tocalino Index'!$A$12:$B$1041,2,FALSE))","v":""},"2036-06-01","",{"$f":"IF(DJIA!B317=\"\",\"\",DJIA!B317)","v":""},{"$f":"IF(CPIAUCSL!B1085=\"\",\"\",CPIAUCSL!B1085)","v":""},{"$f":"IF(H969=\"\",\"\",VLOOKUP($G969,DJIA_def!$A$12:$B$1041,2,FALSE))","v":""},""]
[null,null,null,null,null,{"$f":"IF(H970=\"\",\"\",VLOOKUP($A970,'Tocalino Index'!$A$12:$B$1041,2,FALSE))","v":""},"2036-07-01","",{"$f":"IF(DJIA!B318=\"\",\"\",DJIA!B318)","v":""},{"$f":"IF(CPIAUCSL!B1086=\"\",\"\",CPIAUCSL!B1086)","v":""},{"$f":"IF(H970=\"\",\"\",VLOOKUP($G970,DJIA_def!$A$12:$B$1041,2,FALSE))","v":""},""]
[null,null,null,null,null,{"$f":"IF(H971=\"\",\"\",VLOOKUP($A971,'Tocalino Index'!$A$12:$B$1041,2,FALSE))","v":""},"2036-08-01","",{"$f":"IF(DJIA!B319=\"\",\"\",DJIA!B319)","v":""},{"$f":"IF(CPIAUCSL!B1087=\"\",\"\",CPIAUCSL!B1087)","v":""},{"$f":"IF(H971=\"\",\"\",VLOOKUP($G971,DJIA_def!$A$12:$B$1041,2,FALSE))","v":""},""]
[null,null,null,null,null,{"$f":"IF(H972=\"\",\"\",VLOOKUP($A972,'Tocalino Index'!$A$12:$B$1041,2,FALSE))","v":""},"2036-09-01","",{"$f":"IF(DJIA!B320=\"\",\"\",DJIA!B320)","v":""},{"$f":"IF(CPIAUCSL!B1088=\"\",\"\",CPIAUCSL!B1088)","v":""},{"$f":"IF(H972=\"\",\"\",VLOOKUP($G972,DJIA_def!$A$12:$B$1041,2,FALSE))","v":""},""]
[null,null,null,null,null,{"$f":"IF(H973=\"\",\"\",VLOOKUP($A973,'Tocalino Index'!$A$12:$B$1041,2,FALSE))","v":""},"2036-10-01","",{"$f":"IF(DJIA!B321=\"\",\"\",DJIA!B321)","v":""},{"$f":"IF(CPIAUCSL!B1089=\"\",\"\",CPIAUCSL!B1089)","v":""},{"$f":"IF(H973=\"\",\"\",VLOOKUP($G973,DJIA_def!$A$12:$B$1041,2,FALSE))","v":""},{"$f":"IF(J973=\"\",\"\",K973/$M$418)","v":""}]
[null,null,null,null,null,{"$f":"IF(H974=\"\",\"\",VLOOKUP($A974,'Tocalino Index'!$A$12:$B$1041,2,FALSE))","v":""},"2036-11-01","",{"$f":"IF(DJIA!B322=\"\",\"\",DJIA!B322)","v":""},{"$f":"IF(CPIAUCSL!B1090=\"\",\"\",CPIAUCSL!B1090)","v":""},{"$f":"IF(H974=\"\",\"\",VLOOKUP($G974,DJIA_def!$A$12:$B$1041,2,FALSE))","v":""},""]
[null,null,null,null,null,{"$f":"IF(H975=\"\",\"\",VLOOKUP($A975,'Tocalino Index'!$A$12:$B$1041,2,FALSE))","v":""},"2036-12-01","",{"$f":"IF(DJIA!B323=\"\",\"\",DJIA!B323)","v":""},{"$f":"IF(CPIAUCSL!B1091=\"\",\"\",CPIAUCSL!B1091)","v":""},{"$f":"IF(H975=\"\",\"\",VLOOKUP($G975,DJIA_def!$A$12:$B$1041,2,FALSE))","v":""},""]
[null,null,null,null,null,{"$f":"IF(H976=\"\",\"\",VLOOKUP($A976,'Tocalino Index'!$A$12:$B$1041,2,FALSE))","v":""},"2037-01-01","",{"$f":"IF(DJIA!B324=\"\",\"\",DJIA!B324)","v":""},{"$f":"IF(CPIAUCSL!B1092=\"\",\"\",CPIAUCSL!B1092)","v":""},{"$f":"IF(H976=\"\",\"\",VLOOKUP($G976,DJIA_def!$A$12:$B$1041,2,FALSE))","v":""},""]
[null,null,null,null,null,{"$f":"IF(H977=\"\",\"\",VLOOKUP($A977,'Tocalino Index'!$A$12:$B$1041,2,FALSE))","v":""},"2037-02-01","",{"$f":"IF(DJIA!B325=\"\",\"\",DJIA!B325)","v":""},{"$f":"IF(CPIAUCSL!B1093=\"\",\"\",CPIAUCSL!B1093)","v":""},{"$f":"IF(H977=\"\",\"\",VLOOKUP($G977,DJIA_def!$A$12:$B$1041,2,FALSE))","v":""},""]
[null,null,null,null,null,{"$f":"IF(H978=\"\",\"\",VLOOKUP($A978,'Tocalino Index'!$A$12:$B$1041,2,FALSE))","v":""},"2037-03-01","",{"$f":"IF(DJIA!B326=\"\",\"\",DJIA!B326)","v":""},{"$f":"IF(CPIAUCSL!B1094=\"\",\"\",CPIAUCSL!B1094)","v":""},{"$f":"IF(H978=\"\",\"\",VLOOKUP($G978,DJIA_def!$A$12:$B$1041,2,FALSE))","v":""},""]
[null,null,null,null,null,{"$f":"IF(H979=\"\",\"\",VLOOKUP($A979,'Tocalino Index'!$A$12:$B$1041,2,FALSE))","v":""},"2037-04-01","",{"$f":"IF(DJIA!B327=\"\",\"\",DJIA!B327)","v":""},{"$f":"IF(CPIAUCSL!B1095=\"\",\"\",CPIAUCSL!B1095)","v":""},{"$f":"IF(H979=\"\",\"\",VLOOKUP($G979,DJIA_def!$A$12:$B$1041,2,FALSE))","v":""},""]
[null,null,null,null,null,{"$f":"IF(H980=\"\",\"\",VLOOKUP($A980,'Tocalino Index'!$A$12:$B$1041,2,FALSE))","v":""},"2037-05-01","",{"$f":"IF(DJIA!B328=\"\",\"\",DJIA!B328)","v":""},{"$f":"IF(CPIAUCSL!B1096=\"\",\"\",CPIAUCSL!B1096)","v":""},{"$f":"IF(H980=\"\",\"\",VLOOKUP($G980,DJIA_def!$A$12:$B$1041,2,FALSE))","v":""},""]
[null,null,null,null,null,{"$f":"IF(H981=\"\",\"\",VLOOKUP($A981,'Tocalino Index'!$A$12:$B$1041,2,FALSE))","v":""},"2037-06-01","",{"$f":"IF(DJIA!B329=\"\",\"\",DJIA!B329)","v":""},{"$f":"IF(CPIAUCSL!B1097=\"\",\"\",CPIAUCSL!B1097)","v":""},{"$f":"IF(H981=\"\",\"\",VLOOKUP($G981,DJIA_def!$A$12:$B$1041,2,FALSE))","v":""},""]
[null,null,null,null,null,{"$f":"IF(H982=\"\",\"\",VLOOKUP($A982,'Tocalino Index'!$A$12:$B$1041,2,FALSE))","v":""},"2037-07-01","",{"$f":"IF(DJIA!B330=\"\",\"\",DJIA!B330)","v":""},{"$f":"IF(CPIAUCSL!B1098=\"\",\"\",CPIAUCSL!B1098)","v":""},{"$f":"IF(H982=\"\",\"\",VLOOKUP($G982,DJIA_def!$A$12:$B$1041,2,FALSE))","v":""},""]
[null,null,null,null,null,{"$f":"IF(H983=\"\",\"\",VLOOKUP($A983,'Tocalino Index'!$A$12:$B$1041,2,FALSE))","v":""},"2037-08-01","",{"$f":"IF(DJIA!B331=\"\",\"\",DJIA!B331)","v":""},{"$f":"IF(CPIAUCSL!B1099=\"\",\"\",CPIAUCSL!B1099)","v":""},{"$f":"IF(H983=\"\",\"\",VLOOKUP($G983,DJIA_def!$A$12:$B$1041,2,FALSE))","v":""},""]
[null,null,null,null,null,{"$f":"IF(H984=\"\",\"\",VLOOKUP($A984,'Tocalino Index'!$A$12:$B$1041,2,FALSE))","v":""},"2037-09-01","",{"$f":"IF(DJIA!B332=\"\",\"\",DJIA!B332)","v":""},{"$f":"IF(CPIAUCSL!B1100=\"\",\"\",CPIAUCSL!B1100)","v":""},{"$f":"IF(H984=\"\",\"\",VLOOKUP($G984,DJIA_def!$A$12:$B$1041,2,FALSE))","v":""},""]
[null,null,null,null,null,{"$f":"IF(H985=\"\",\"\",VLOOKUP($A985,'Tocalino Index'!$A$12:$B$1041,2,FALSE))","v":""},"2037-10-01","",{"$f":"IF(DJIA!B333=\"\",\"\",DJIA!B333)","v":""},{"$f":"IF(CPIAUCSL!B1101=\"\",\"\",CPIAUCSL!B1101)","v":""},{"$f":"IF(H985=\"\",\"\",VLOOKUP($G985,DJIA_def!$A$12:$B$1041,2,FALSE))","v":""},""]
[null,null,null,null,null,{"$f":"IF(H986=\"\",\"\",VLOOKUP($A986,'Tocalino Index'!$A$12:$B$1041,2,FALSE))","v":""},"2037-11-01","",{"$f":"IF(DJIA!B334=\"\",\"\",DJIA!B334)","v":""},{"$f":"IF(CPIAUCSL!B1102=\"\",\"\",CPIAUCSL!B1102)","v":""},{"$f":"IF(H986=\"\",\"\",VLOOKUP($G986,DJIA_def!$A$12:$B$1041,2,FALSE))","v":""},""]
[null,null,null,null,null,{"$f":"IF(H987=\"\",\"\",VLOOKUP($A987,'Tocalino Index'!$A$12:$B$1041,2,FALSE))","v":""},"2037-12-01","",{"$f":"IF(DJIA!B335=\"\",\"\",DJIA!B335)","v":""},{"$f":"IF(CPIAUCSL!B1103=\"\",\"\",CPIAUCSL!B1103)","v":""},{"$f":"IF(H987=\"\",\"\",VLOOKUP($G987,DJIA_def!$A$12:$B$1041,2,FALSE))","v":""},""]
[null,null,null,null,null,{"$f":"IF(H988=\"\",\"\",VLOOKUP($A988,'Tocalino Index'!$A$12:$B$1041,2,FALSE))","v":""},"2038-01-01","",{"$f":"IF(DJIA!B336=\"\",\"\",DJIA!B336)","v":""},{"$f":"IF(CPIAUCSL!B1104=\"\",\"\",CPIAUCSL!B1104)","v":""},{"$f":"IF(H988=\"\",\"\",VLOOKUP($G988,DJIA_def!$A$12:$B$1041,2,FALSE))","v":""},""]
[null,null,null,null,null,{"$f":"IF(H989=\"\",\"\",VLOOKUP($A989,'Tocalino Index'!$A$12:$B$1041,2,FALSE))","v":""},"2038-02-01","",{"$f":"IF(DJIA!B337=\"\",\"\",DJIA!B337)","v":""},{"$f":"IF(CPIAUCSL!B1105=\"\",\"\",CPIAUCSL!B1105)","v":""},{"$f":"IF(H989=\"\",\"\",VLOOKUP($G989,DJIA_def!$A$12:$B$1041,2,FALSE))","v":""},""]
[null,null,null,null,null,{"$f":"IF(H990=\"\",\"\",VLOOKUP($A990,'Tocalino Index'!$A$12:$B$1041,2,FALSE))","v":""},"2038-03-01","",{"$f":"IF(DJIA!B338=\"\",\"\",DJIA!B338)","v":""},{"$f":"IF(CPIAUCSL!B1106=\"\",\"\",CPIAUCSL!B1106)","v":""},{"$f":"IF(H990=\"\",\"\",VLOOKUP($G990,DJIA_def!$A$12:$B$1041,2,FALSE))","v":""},""]
[null,null,null,null,null,{"$f":"IF(H991=\"\",\"\",VLOOKUP($A991,'Tocalino Index'!$A$12:$B$1041,2,FALSE))","v":""},"2038-04-01","",{"$f":"IF(DJIA!B339=\"\",\"\",DJIA!B339)","v":""},{"$f":"IF(CPIAUCSL!B1107=\"\",\"\",CPIAUCSL!B1107)","v":""},{"$f":"IF(H991=\"\",\"\",VLOOKUP($G991,DJIA_def!$A$12:$B$1041,2,FALSE))","v":""},""]
[null,null,null,null,null,{"$f":"IF(H992=\"\",\"\",VLOOKUP($A992,'Tocalino Index'!$A$12:$B$1041,2,FALSE))","v":""},"2038-05-01","",{"$f":"IF(DJIA!B340=\"\",\"\",DJIA!B340)","v":""},{"$f":"IF(CPIAUCSL!B1108=\"\",\"\",CPIAUCSL!B1108)","v":""},{"$f":"IF(H992=\"\",\"\",VLOOKUP($G992,DJIA_def!$A$12:$B$1041,2,FALSE))","v":""},""]
[null,null,null,null,null,{"$f":"IF(H993=\"\",\"\",VLOOKUP($A993,'Tocalino Index'!$A$12:$B$1041,2,FALSE))","v":""},"2038-06-01","",{"$f":"IF(DJIA!B341=\"\",\"\",DJIA!B341)","v":""},{"$f":"IF(CPIAUCSL!B1109=\"\",\"\",CPIAUCSL!B1109)","v":""},{"$f":"IF(H993=\"\",\"\",VLOOKUP($G993,DJIA_def!$A$12:$B$1041,2,FALSE))","v":""},""]
[null,null,null,null,null,{"$f":"IF(H994=\"\",\"\",VLOOKUP($A994,'Tocalino Index'!$A$12:$B$1041,2,FALSE))","v":""},"2038-07-01","",{"$f":"IF(DJIA!B342=\"\",\"\",DJIA!B342)","v":""},{"$f":"IF(CPIAUCSL!B1110=\"\",\"\",CPIAUCSL!B1110)","v":""},{"$f":"IF(H994=\"\",\"\",VLOOKUP($G994,DJIA_def!$A$12:$B$1041,2,FALSE))","v":""},""]
[null,null,null,null,null,{"$f":"IF(H995=\"\",\"\",VLOOKUP($A995,'Tocalino Index'!$A$12:$B$1041,2,FALSE))","v":""},"2038-08-01","",{"$f":"IF(DJIA!B343=\"\",\"\",DJIA!B343)","v":""},{"$f":"IF(CPIAUCSL!B1111=\"\",\"\",CPIAUCSL!B1111)","v":""},{"$f":"IF(H995=\"\",\"\",VLOOKUP($G995,DJIA_def!$A$12:$B$1041,2,FALSE))","v":""},""]
[null,null,null,null,null,{"$f":"IF(H996=\"\",\"\",VLOOKUP($A996,'Tocalino Index'!$A$12:$B$1041,2,FALSE))","v":""},"2038-09-01","",{"$f":"IF(DJIA!B344=\"\",\"\",DJIA!B344)","v":""},{"$f":"IF(CPIAUCSL!B1112=\"\",\"\",CPIAUCSL!B1112)","v":""},{"$f":"IF(H996=\"\",\"\",VLOOKUP($G996,DJIA_def!$A$12:$B$1041,2,FALSE))","v":""},""]
[null,null,null,null,null,{"$f":"IF(H997=\"\",\"\",VLOOKUP($A997,'Tocalino Index'!$A$12:$B$1041,2,FALSE))","v":""},"2038-10-01","",{"$f":"IF(DJIA!B345=\"\",\"\",DJIA!B345)","v":""},{"$f":"IF(CPIAUCSL!B1113=\"\",\"\",CPIAUCSL!B1113)","v":""},{"$f":"IF(H997=\"\",\"\",VLOOKUP($G997,DJIA_def!$A$12:$B$1041,2,FALSE))","v":""},""]
[null,null,null,null,null,{"$f":"IF(H998=\"\",\"\",VLOOKUP($A998,'Tocalino Index'!$A$12:$B$1041,2,FALSE))","v":""},"2038-11-01","",{"$f":"IF(DJIA!B346=\"\",\"\",DJIA!B346)","v":""},{"$f":"IF(CPIAUCSL!B1114=\"\",\"\",CPIAUCSL!B1114)","v":""},{"$f":"IF(H998=\"\",\"\",VLOOKUP($G998,DJIA_def!$A$12:$B$1041,2,FALSE))","v":""},""]
[null,null,null,null,null,{"$f":"IF(H999=\"\",\"\",VLOOKUP($A999,'Tocalino Index'!$A$12:$B$1041,2,FALSE))","v":""},"2038-12-01","",{"$f":"IF(DJIA!B347=\"\",\"\",DJIA!B347)","v":""},{"$f":"IF(CPIAUCSL!B1115=\"\",\"\",CPIAUCSL!B1115)","v":""},{"$f":"IF(H999=\"\",\"\",VLOOKUP($G999,DJIA_def!$A$12:$B$1041,2,FALSE))","v":""},""]
[null,null,null,null,null,{"$f":"IF(H1000=\"\",\"\",VLOOKUP($A1000,'Tocalino Index'!$A$12:$B$1041,2,FALSE))","v":""},"2039-01-01","",{"$f":"IF(DJIA!B348=\"\",\"\",DJIA!B348)","v":""},{"$f":"IF(CPIAUCSL!B1116=\"\",\"\",CPIAUCSL!B1116)","v":""},{"$f":"IF(H1000=\"\",\"\",VLOOKUP($G1000,DJIA_def!$A$12:$B$1041,2,FALSE))","v":""},""]
[null,null,null,null,null,{"$f":"IF(H1001=\"\",\"\",VLOOKUP($A1001,'Tocalino Index'!$A$12:$B$1041,2,FALSE))","v":""},"2039-02-01","",{"$f":"IF(DJIA!B349=\"\",\"\",DJIA!B349)","v":""},{"$f":"IF(CPIAUCSL!B1117=\"\",\"\",CPIAUCSL!B1117)","v":""},{"$f":"IF(H1001=\"\",\"\",VLOOKUP($G1001,DJIA_def!$A$12:$B$1041,2,FALSE))","v":""},""]
[null,null,null,null,null,{"$f":"IF(H1002=\"\",\"\",VLOOKUP($A1002,'Tocalino Index'!$A$12:$B$1041,2,FALSE))","v":""},"2039-03-01","",{"$f":"IF(DJIA!B350=\"\",\"\",DJIA!B350)","v":""},{"$f":"IF(CPIAUCSL!B1118=\"\",\"\",CPIAUCSL!B1118)","v":""},{"$f":"IF(H1002=\"\",\"\",VLOOKUP($G1002,DJIA_def!$A$12:$B$1041,2,FALSE))","v":""},""]
[null,null,null,null,null,{"$f":"IF(H1003=\"\",\"\",VLOOKUP($A1003,'Tocalino Index'!$A$12:$B$1041,2,FALSE))","v":""},"2039-04-01","",{"$f":"IF(DJIA!B351=\"\",\"\",DJIA!B351)","v":""},{"$f":"IF(CPIAUCSL!B1119=\"\",\"\",CPIAUCSL!B1119)","v":""},{"$f":"IF(H1003=\"\",\"\",VLOOKUP($G1003,DJIA_def!$A$12:$B$1041,2,FALSE))","v":""},""]
[null,null,null,null,null,{"$f":"IF(H1004=\"\",\"\",VLOOKUP($A1004,'Tocalino Index'!$A$12:$B$1041,2,FALSE))","v":""},"2039-05-01","",{"$f":"IF(DJIA!B352=\"\",\"\",DJIA!B352)","v":""},{"$f":"IF(CPIAUCSL!B1120=\"\",\"\",CPIAUCSL!B1120)","v":""},{"$f":"IF(H1004=\"\",\"\",VLOOKUP($G1004,DJIA_def!$A$12:$B$1041,2,FALSE))","v":""},""]
[null,null,null,null,null,{"$f":"IF(H1005=\"\",\"\",VLOOKUP($A1005,'Tocalino Index'!$A$12:$B$1041,2,FALSE))","v":""},"2039-06-01","",{"$f":"IF(DJIA!B353=\"\",\"\",DJIA!B353)","v":""},{"$f":"IF(CPIAUCSL!B1121=\"\",\"\",CPIAUCSL!B1121)","v":""},{"$f":"IF(H1005=\"\",\"\",VLOOKUP($G1005,DJIA_def!$A$12:$B$1041,2,FALSE))","v":""},""]
[null,null,null,null,null,{"$f":"IF(H1006=\"\",\"\",VLOOKUP($A1006,'Tocalino Index'!$A$12:$B$1041,2,FALSE))","v":""},"2039-07-01","",{"$f":"IF(DJIA!B354=\"\",\"\",DJIA!B354)","v":""},{"$f":"IF(CPIAUCSL!B1122=\"\",\"\",CPIAUCSL!B1122)","v":""},{"$f":"IF(H1006=\"\",\"\",VLOOKUP($G1006,DJIA_def!$A$12:$B$1041,2,FALSE))","v":""},""]
[null,null,null,null,null,{"$f":"IF(H1007=\"\",\"\",VLOOKUP($A1007,'Tocalino Index'!$A$12:$B$1041,2,FALSE))","v":""},"2039-08-01","",{"$f":"IF(DJIA!B355=\"\",\"\",DJIA!B355)","v":""},{"$f":"IF(CPIAUCSL!B1123=\"\",\"\",CPIAUCSL!B1123)","v":""},{"$f":"IF(H1007=\"\",\"\",VLOOKUP($G1007,DJIA_def!$A$12:$B$1041,2,FALSE))","v":""},""]
[null,null,null,null,null,{"$f":"IF(H1008=\"\",\"\",VLOOKUP($A1008,'Tocalino Index'!$A$12:$B$1041,2,FALSE))","v":""},"2039-09-01","",{"$f":"IF(DJIA!B356=\"\",\"\",DJIA!B356)","v":""},{"$f":"IF(CPIAUCSL!B1124=\"\",\"\",CPIAUCSL!B1124)","v":""},{"$f":"IF(H1008=\"\",\"\",VLOOKUP($G1008,DJIA_def!$A$12:$B$1041,2,FALSE))","v":""},""]
[null,null,null,null,null,{"$f":"IF(H1009=\"\",\"\",VLOOKUP($A1009,'Tocalino Index'!$A$12:$B$1041,2,FALSE))","v":""},"2039-10-01","",{"$f":"IF(DJIA!B357=\"\",\"\",DJIA!B357)","v":""},{"$f":"IF(CPIAUCSL!B1125=\"\",\"\",CPIAUCSL!B1125)","v":""},{"$f":"IF(H1009=\"\",\"\",VLOOKUP($G1009,DJIA_def!$A$12:$B$1041,2,FALSE))","v":""},""]
[null,null,null,null,null,{"$f":"IF(H1010=\"\",\"\",VLOOKUP($A1010,'Tocalino Index'!$A$12:$B$1041,2,FALSE))","v":""},"2039-11-01","",{"$f":"IF(DJIA!B358=\"\",\"\",DJIA!B358)","v":""},{"$f":"IF(CPIAUCSL!B1126=\"\",\"\",CPIAUCSL!B1126)","v":""},{"$f":"IF(H1010=\"\",\"\",VLOOKUP($G1010,DJIA_def!$A$12:$B$1041,2,FALSE))","v":""},""]
[null,null,null,null,null,{"$f":"IF(H1011=\"\",\"\",VLOOKUP($A1011,'Tocalino Index'!$A$12:$B$1041,2,FALSE))","v":""},"2039-12-01","",{"$f":"IF(DJIA!B359=\"\",\"\",DJIA!B359)","v":""},{"$f":"IF(CPIAUCSL!B1127=\"\",\"\",CPIAUCSL!B1127)","v":""},{"$f":"IF(H1011=\"\",\"\",VLOOKUP($G1011,DJIA_def!$A$12:$B$1041,2,FALSE))","v":""},""]
[null,null,null,null,null,{"$f":"IF(H1012=\"\",\"\",VLOOKUP($A1012,'Tocalino Index'!$A$12:$B$1041,2,FALSE))","v":""},"2040-01-01","",{"$f":"IF(DJIA!B360=\"\",\"\",DJIA!B360)","v":""},{"$f":"IF(CPIAUCSL!B1128=\"\",\"\",CPIAUCSL!B1128)","v":""},{"$f":"IF(H1012=\"\",\"\",VLOOKUP($G1012,DJIA_def!$A$12:$B$1041,2,FALSE))","v":""},""]
[null,null,null,null,null,{"$f":"IF(H1013=\"\",\"\",VLOOKUP($A1013,'Tocalino Index'!$A$12:$B$1041,2,FALSE))","v":""},"2040-02-01","",{"$f":"IF(DJIA!B361=\"\",\"\",DJIA!B361)","v":""},{"$f":"IF(CPIAUCSL!B1129=\"\",\"\",CPIAUCSL!B1129)","v":""},{"$f":"IF(H1013=\"\",\"\",VLOOKUP($G1013,DJIA_def!$A$12:$B$1041,2,FALSE))","v":""},""]
[null,null,null,null,null,{"$f":"IF(H1014=\"\",\"\",VLOOKUP($A1014,'Tocalino Index'!$A$12:$B$1041,2,FALSE))","v":""},"2040-03-01","",{"$f":"IF(DJIA!B362=\"\",\"\",DJIA!B362)","v":""},{"$f":"IF(CPIAUCSL!B1130=\"\",\"\",CPIAUCSL!B1130)","v":""},{"$f":"IF(H1014=\"\",\"\",VLOOKUP($G1014,DJIA_def!$A$12:$B$1041,2,FALSE))","v":""},""]
[null,null,null,null,null,{"$f":"IF(H1015=\"\",\"\",VLOOKUP($A1015,'Tocalino Index'!$A$12:$B$1041,2,FALSE))","v":""},"2040-04-01","",{"$f":"IF(DJIA!B363=\"\",\"\",DJIA!B363)","v":""},{"$f":"IF(CPIAUCSL!B1131=\"\",\"\",CPIAUCSL!B1131)","v":""},{"$f":"IF(H1015=\"\",\"\",VLOOKUP($G1015,DJIA_def!$A$12:$B$1041,2,FALSE))","v":""},""]
[null,null,null,null,null,{"$f":"IF(H1016=\"\",\"\",VLOOKUP($A1016,'Tocalino Index'!$A$12:$B$1041,2,FALSE))","v":""},"2040-05-01","",{"$f":"IF(DJIA!B364=\"\",\"\",DJIA!B364)","v":""},{"$f":"IF(CPIAUCSL!B1132=\"\",\"\",CPIAUCSL!B1132)","v":""},{"$f":"IF(H1016=\"\",\"\",VLOOKUP($G1016,DJIA_def!$A$12:$B$1041,2,FALSE))","v":""},""]
[null,null,null,null,null,{"$f":"IF(H1017=\"\",\"\",VLOOKUP($A1017,'Tocalino Index'!$A$12:$B$1041,2,FALSE))","v":""},"2040-06-01","",{"$f":"IF(DJIA!B365=\"\",\"\",DJIA!B365)","v":""},{"$f":"IF(CPIAUCSL!B1133=\"\",\"\",CPIAUCSL!B1133)","v":""},{"$f":"IF(H1017=\"\",\"\",VLOOKUP($G1017,DJIA_def!$A$12:$B$1041,2,FALSE))","v":""},""]
[null,null,null,null,null,{"$f":"IF(H1018=\"\",\"\",VLOOKUP($A1018,'Tocalino Index'!$A$12:$B$1041,2,FALSE))","v":""},"2040-07-01","",{"$f":"IF(DJIA!B366=\"\",\"\",DJIA!B366)","v":""},{"$f":"IF(CPIAUCSL!B1134=\"\",\"\",CPIAUCSL!B1134)","v":""},{"$f":"IF(H1018=\"\",\"\",VLOOKUP($G1018,DJIA_def!$A$12:$B$1041,2,FALSE))","v":""},""]
[null,null,null,null,null,{"$f":"IF(H1019=\"\",\"\",VLOOKUP($A1019,'Tocalino Index'!$A$12:$B$1041,2,FALSE))","v":""},"2040-08-01","",{"$f":"IF(DJIA!B367=\"\",\"\",DJIA!B367)","v":""},{"$f":"IF(CPIAUCSL!B1135=\"\",\"\",CPIAUCSL!B1135)","v":""},{"$f":"IF(H1019=\"\",\"\",VLOOKUP($G1019,DJIA_def!$A$12:$B$1041,2,FALSE))","v":""},""]
[null,null,null,null,null,{"$f":"IF(H1020=\"\",\"\",VLOOKUP($A1020,'Tocalino Index'!$A$12:$B$1041,2,FALSE))","v":""},"2040-09-01","",{"$f":"IF(DJIA!B368=\"\",\"\",DJIA!B368)","v":""},{"$f":"IF(CPIAUCSL!B1136=\"\",\"\",CPIAUCSL!B1136)","v":""},{"$f":"IF(H1020=\"\",\"\",VLOOKUP($G1020,DJIA_def!$A$12:$B$1041,2,FALSE))","v":""},""]
[null,null,null,null,null,{"$f":"IF(H1021=\"\",\"\",VLOOKUP($A1021,'Tocalino Index'!$A$12:$B$1041,2,FALSE))","v":""},"2040-10-01","",{"$f":"IF(DJIA!B369=\"\",\"\",DJIA!B369)","v":""},{"$f":"IF(CPIAUCSL!B1137=\"\",\"\",CPIAUCSL!B1137)","v":""},{"$f":"IF(H1021=\"\",\"\",VLOOKUP($G1021,DJIA_def!$A$12:$B$1041,2,FALSE))","v":""},""]
[null,null,null,null,null,{"$f":"IF(H1022=\"\",\"\",VLOOKUP($A1022,'Tocalino Index'!$A$12:$B$1041,2,FALSE))","v":""},"2040-11-01","",{"$f":"IF(DJIA!B370=\"\",\"\",DJIA!B370)","v":""},{"$f":"IF(CPIAUCSL!B1138=\"\",\"\",CPIAUCSL!B1138)","v":""},{"$f":"IF(H1022=\"\",\"\",VLOOKUP($G1022,DJIA_def!$A$12:$B$1041,2,FALSE))","v":""},""]
[null,null,null,null,null,{"$f":"IF(H1023=\"\",\"\",VLOOKUP($A1023,'Tocalino Index'!$A$12:$B$1041,2,FALSE))","v":""},"2040-12-01","",{"$f":"IF(DJIA!B371=\"\",\"\",DJIA!B371)","v":""},{"$f":"IF(CPIAUCSL!B1139=\"\",\"\",CPIAUCSL!B1139)","v":""},{"$f":"IF(H1023=\"\",\"\",VLOOKUP($G1023,DJIA_def!$A$12:$B$1041,2,FALSE))","v":""},""]
[null,null,null,null,null,{"$f":"IF(H1024=\"\",\"\",VLOOKUP($A1024,'Tocalino Index'!$A$12:$B$1041,2,FALSE))","v":""},"2041-01-01","",{"$f":"IF(DJIA!B372=\"\",\"\",DJIA!B372)","v":""},{"$f":"IF(CPIAUCSL!B1140=\"\",\"\",CPIAUCSL!B1140)","v":""},{"$f":"IF(H1024=\"\",\"\",VLOOKUP($G1024,DJIA_def!$A$12:$B$1041,2,FALSE))","v":""},""]
[null,null,null,null,null,{"$f":"IF(H1025=\"\",\"\",VLOOKUP($A1025,'Tocalino Index'!$A$12:$B$1041,2,FALSE))","v":""},"2041-02-01","",{"$f":"IF(DJIA!B373=\"\",\"\",DJIA!B373)","v":""},{"$f":"IF(CPIAUCSL!B1141=\"\",\"\",CPIAUCSL!B1141)","v":""},{"$f":"IF(H1025=\"\",\"\",VLOOKUP($G1025,DJIA_def!$A$12:$B$1041,2,FALSE))","v":""},""]
[null,null,null,null,null,{"$f":"IF(H1026=\"\",\"\",VLOOKUP($A1026,'Tocalino Index'!$A$12:$B$1041,2,FALSE))","v":""},"2041-03-01","",{"$f":"IF(DJIA!B374=\"\",\"\",DJIA!B374)","v":""},{"$f":"IF(CPIAUCSL!B1142=\"\",\"\",CPIAUCSL!B1142)","v":""},{"$f":"IF(H1026=\"\",\"\",VLOOKUP($G1026,DJIA_def!$A$12:$B$1041,2,FALSE))","v":""},""]
[null,null,null,null,null,{"$f":"IF(H1027=\"\",\"\",VLOOKUP($A1027,'Tocalino Index'!$A$12:$B$1041,2,FALSE))","v":""},"2041-04-01","",{"$f":"IF(DJIA!B375=\"\",\"\",DJIA!B375)","v":""},{"$f":"IF(CPIAUCSL!B1143=\"\",\"\",CPIAUCSL!B1143)","v":""},{"$f":"IF(H1027=\"\",\"\",VLOOKUP($G1027,DJIA_def!$A$12:$B$1041,2,FALSE))","v":""},""]
[null,null,null,null,null,{"$f":"IF(H1028=\"\",\"\",VLOOKUP($A1028,'Tocalino Index'!$A$12:$B$1041,2,FALSE))","v":""},"2041-05-01","",{"$f":"IF(DJIA!B376=\"\",\"\",DJIA!B376)","v":""},{"$f":"IF(CPIAUCSL!B1144=\"\",\"\",CPIAUCSL!B1144)","v":""},{"$f":"IF(H1028=\"\",\"\",VLOOKUP($G1028,DJIA_def!$A$12:$B$1041,2,FALSE))","v":""},""]
[null,null,null,null,null,{"$f":"IF(H1029=\"\",\"\",VLOOKUP($A1029,'Tocalino Index'!$A$12:$B$1041,2,FALSE))","v":""},"2041-06-01","",{"$f":"IF(DJIA!B377=\"\",\"\",DJIA!B377)","v":""},{"$f":"IF(CPIAUCSL!B1145=\"\",\"\",CPIAUCSL!B1145)","v":""},{"$f":"IF(H1029=\"\",\"\",VLOOKUP($G1029,DJIA_def!$A$12:$B$1041,2,FALSE))","v":""},""]
[null,null,null,null,null,{"$f":"IF(H1030=\"\",\"\",VLOOKUP($A1030,'Tocalino Index'!$A$12:$B$1041,2,FALSE))","v":""},"2041-07-01","",{"$f":"IF(DJIA!B378=\"\",\"\",DJIA!B378)","v":""},{"$f":"IF(CPIAUCSL!B1146=\"\",\"\",CPIAUCSL!B1146)","v":""},{"$f":"IF(H1030=\"\",\"\",VLOOKUP($G1030,DJIA_def!$A$12:$B$1041,2,FALSE))","v":""},""]
[null,null,null,null,null,{"$f":"IF(H1031=\"\",\"\",VLOOKUP($A1031,'Tocalino Index'!$A$12:$B$1041,2,FALSE))","v":""},"2041-08-01",{"$f":"IF((TODAY()-G1031)<40,\"\",G1031)","v":""},{"$f":"IF(DJIA!B379=\"\",\"\",DJIA!B379)","v":""},{"$f":"IF(CPIAUCSL!B1147=\"\",\"\",CPIAUCSL!B1147)","v":""},{"$f":"IF(H1031=\"\",\"\",VLOOKUP($G1031,DJIA_def!$A$12:$B$1041,2,FALSE))","v":""},""]
[null,null,null,null,null,{"$f":"IF(H1032=\"\",\"\",VLOOKUP($A1032,'Tocalino Index'!$A$12:$B$1041,2,FALSE))","v":""},"2041-09-01","",{"$f":"IF(DJIA!B380=\"\",\"\",DJIA!B380)","v":""},{"$f":"IF(CPIAUCSL!B1148=\"\",\"\",CPIAUCSL!B1148)","v":""},{"$f":"IF(H1032=\"\",\"\",VLOOKUP($G1032,DJIA_def!$A$12:$B$1041,2,FALSE))","v":""},""]
[null,null,null,null,null,{"$f":"IF(H1033=\"\",\"\",VLOOKUP($A1033,'Tocalino Index'!$A$12:$B$1041,2,FALSE))","v":""},"2041-10-01","",{"$f":"IF(DJIA!B381=\"\",\"\",DJIA!B381)","v":""},{"$f":"IF(CPIAUCSL!B1149=\"\",\"\",CPIAUCSL!B1149)","v":""},{"$f":"IF(H1033=\"\",\"\",VLOOKUP($G1033,DJIA_def!$A$12:$B$1041,2,FALSE))","v":""},""]
[null,null,null,null,null,{"$f":"IF(H1034=\"\",\"\",VLOOKUP($A1034,'Tocalino Index'!$A$12:$B$1041,2,FALSE))","v":""},"2041-11-01","",{"$f":"IF(DJIA!B382=\"\",\"\",DJIA!B382)","v":""},{"$f":"IF(CPIAUCSL!B1150=\"\",\"\",CPIAUCSL!B1150)","v":""},{"$f":"IF(H1034=\"\",\"\",VLOOKUP($G1034,DJIA_def!$A$12:$B$1041,2,FALSE))","v":""},""]
[null,null,null,null,null,{"$f":"IF(H1035=\"\",\"\",VLOOKUP($A1035,'Tocalino Index'!$A$12:$B$1041,2,FALSE))","v":""},"2041-12-01","",{"$f":"IF(DJIA!B383=\"\",\"\",DJIA!B383)","v":""},{"$f":"IF(CPIAUCSL!B1151=\"\",\"\",CPIAUCSL!B1151)","v":""},{"$f":"IF(H1035=\"\",\"\",VLOOKUP($G1035,DJIA_def!$A$12:$B$1041,2,FALSE))","v":""},""]
[null,null,null,null,null,{"$f":"IF(H1036=\"\",\"\",VLOOKUP($A1036,'Tocalino Index'!$A$12:$B$1041,2,FALSE))","v":""},"2042-01-01","",{"$f":"IF(DJIA!B384=\"\",\"\",DJIA!B384)","v":""},{"$f":"IF(CPIAUCSL!B1152=\"\",\"\",CPIAUCSL!B1152)","v":""},{"$f":"IF(H1036=\"\",\"\",VLOOKUP($G1036,DJIA_def!$A$12:$B$1041,2,FALSE))","v":""},""]
[null,null,null,null,null,{"$f":"IF(H1037=\"\",\"\",VLOOKUP($A1037,'Tocalino Index'!$A$12:$B$1041,2,FALSE))","v":""},"2042-02-01","",{"$f":"IF(DJIA!B385=\"\",\"\",DJIA!B385)","v":""},{"$f":"IF(CPIAUCSL!B1153=\"\",\"\",CPIAUCSL!B1153)","v":""},{"$f":"IF(H1037=\"\",\"\",VLOOKUP($G1037,DJIA_def!$A$12:$B$1041,2,FALSE))","v":""},{"$f":"IF(J1037=\"\",\"\",K1037/$M$418)","v":""}]
[null,null,null,null,null,{"$f":"IF(H1038=\"\",\"\",VLOOKUP($A1038,'Tocalino Index'!$A$12:$B$1041,2,FALSE))","v":""},"2042-03-01","",{"$f":"IF(DJIA!B386=\"\",\"\",DJIA!B386)","v":""},{"$f":"IF(CPIAUCSL!B1154=\"\",\"\",CPIAUCSL!B1154)","v":""},{"$f":"IF(H1038=\"\",\"\",VLOOKUP($G1038,DJIA_def!$A$12:$B$1041,2,FALSE))","v":""},""]
[null,null,null,null,null,{"$f":"IF(H1039=\"\",\"\",VLOOKUP($A1039,'Tocalino Index'!$A$12:$B$1041,2,FALSE))","v":""},"2042-04-01","",{"$f":"IF(DJIA!B387=\"\",\"\",DJIA!B387)","v":""},{"$f":"IF(CPIAUCSL!B1155=\"\",\"\",CPIAUCSL!B1155)","v":""},{"$f":"IF(H1039=\"\",\"\",VLOOKUP($G1039,DJIA_def!$A$12:$B$1041,2,FALSE))","v":""},""]
[null,null,null,null,null,{"$f":"IF(H1040=\"\",\"\",VLOOKUP($A1040,'Tocalino Index'!$A$12:$B$1041,2,FALSE))","v":""},"2042-05-01","",{"$f":"IF(DJIA!B388=\"\",\"\",DJIA!B388)","v":""},{"$f":"IF(CPIAUCSL!B1156=\"\",\"\",CPIAUCSL!B1156)","v":""},{"$f":"IF(H1040=\"\",\"\",VLOOKUP($G1040,DJIA_def!$A$12:$B$1041,2,FALSE))","v":""},""]
[null,null,null,null,null,{"$f":"IF(H1041=\"\",\"\",VLOOKUP($A1041,'Tocalino Index'!$A$12:$B$1041,2,FALSE))","v":""},"2042-06-01","",{"$f":"IF(DJIA!B389=\"\",\"\",DJIA!B389)","v":""},{"$f":"IF(CPIAUCSL!B1157=\"\",\"\",CPIAUCSL!B1157)","v":""},{"$f":"IF(H1041=\"\",\"\",VLOOKUP($G1041,DJIA_def!$A$12:$B$1041,2,FALSE))","v":""},""]
[null,null,null,null,null,{"$f":"IF(H1042=\"\",\"\",VLOOKUP($A1042,'Tocalino Index'!$A$12:$B$1041,2,FALSE))","v":""},"2042-07-01","",{"$f":"IF(DJIA!B390=\"\",\"\",DJIA!B390)","v":""},{"$f":"IF(CPIAUCSL!B1158=\"\",\"\",CPIAUCSL!B1158)","v":""},{"$f":"IF(H1042=\"\",\"\",VLOOKUP($G1042,DJIA_def!$A$12:$B$1041,2,FALSE))","v":""},""]
[null,null,null,null,null,{"$f":"IF(H1043=\"\",\"\",VLOOKUP($A1043,'Tocalino Index'!$A$12:$B$1041,2,FALSE))","v":""},"2042-08-01","",{"$f":"IF(DJIA!B391=\"\",\"\",DJIA!B391)","v":""},{"$f":"IF(CPIAUCSL!B1159=\"\",\"\",CPIAUCSL!B1159)","v":""},{"$f":"IF(H1043=\"\",\"\",VLOOKUP($G1043,DJIA_def!$A$12:$B$1041,2,FALSE))","v":""},""]
[null,null,null,null,null,{"$f":"IF(H1044=\"\",\"\",VLOOKUP($A1044,'Tocalino Index'!$A$12:$B$1041,2,FALSE))","v":""},"2042-09-01","",{"$f":"IF(DJIA!B392=\"\",\"\",DJIA!B392)","v":""},{"$f":"IF(CPIAUCSL!B1160=\"\",\"\",CPIAUCSL!B1160)","v":""},{"$f":"IF(H1044=\"\",\"\",VLOOKUP($G1044,DJIA_def!$A$12:$B$1041,2,FALSE))","v":""},""]
[null,null,null,null,null,{"$f":"IF(H1045=\"\",\"\",VLOOKUP($A1045,'Tocalino Index'!$A$12:$B$1041,2,FALSE))","v":""},"2042-10-01","",{"$f":"IF(DJIA!B393=\"\",\"\",DJIA!B393)","v":""},{"$f":"IF(CPIAUCSL!B1161=\"\",\"\",CPIAUCSL!B1161)","v":""},{"$f":"IF(H1045=\"\",\"\",VLOOKUP($G1045,DJIA_def!$A$12:$B$1041,2,FALSE))","v":""},""]
[null,null,null,null,null,{"$f":"IF(H1046=\"\",\"\",VLOOKUP($A1046,'Tocalino Index'!$A$12:$B$1041,2,FALSE))","v":""},"2042-11-01","",{"$f":"IF(DJIA!B394=\"\",\"\",DJIA!B394)","v":""},{"$f":"IF(CPIAUCSL!B1162=\"\",\"\",CPIAUCSL!B1162)","v":""},{"$f":"IF(H1046=\"\",\"\",VLOOKUP($G1046,DJIA_def!$A$12:$B$1041,2,FALSE))","v":""},""]
[null,null,null,null,null,{"$f":"IF(H1047=\"\",\"\",VLOOKUP($A1047,'Tocalino Index'!$A$12:$B$1041,2,FALSE))","v":""},"2042-12-01","",{"$f":"IF(DJIA!B395=\"\",\"\",DJIA!B395)","v":""},{"$f":"IF(CPIAUCSL!B1163=\"\",\"\",CPIAUCSL!B1163)","v":""},{"$f":"IF(H1047=\"\",\"\",VLOOKUP($G1047,DJIA_def!$A$12:$B$1041,2,FALSE))","v":""},""]
[null,null,null,null,null,{"$f":"IF(H1048=\"\",\"\",VLOOKUP($A1048,'Tocalino Index'!$A$12:$B$1041,2,FALSE))","v":""},"2043-01-01","",{"$f":"IF(DJIA!B396=\"\",\"\",DJIA!B396)","v":""},{"$f":"IF(CPIAUCSL!B1164=\"\",\"\",CPIAUCSL!B1164)","v":""},{"$f":"IF(H1048=\"\",\"\",VLOOKUP($G1048,DJIA_def!$A$12:$B$1041,2,FALSE))","v":""},""]
[null,null,null,null,null,{"$f":"IF(H1049=\"\",\"\",VLOOKUP($A1049,'Tocalino Index'!$A$12:$B$1041,2,FALSE))","v":""},"2043-02-01","",{"$f":"IF(DJIA!B397=\"\",\"\",DJIA!B397)","v":""},{"$f":"IF(CPIAUCSL!B1165=\"\",\"\",CPIAUCSL!B1165)","v":""},{"$f":"IF(H1049=\"\",\"\",VLOOKUP($G1049,DJIA_def!$A$12:$B$1041,2,FALSE))","v":""},""]
[null,null,null,null,null,{"$f":"IF(H1050=\"\",\"\",VLOOKUP($A1050,'Tocalino Index'!$A$12:$B$1041,2,FALSE))","v":""},"2043-03-01","",{"$f":"IF(DJIA!B398=\"\",\"\",DJIA!B398)","v":""},{"$f":"IF(CPIAUCSL!B1166=\"\",\"\",CPIAUCSL!B1166)","v":""},{"$f":"IF(H1050=\"\",\"\",VLOOKUP($G1050,DJIA_def!$A$12:$B$1041,2,FALSE))","v":""},""]
[null,null,null,null,null,{"$f":"IF(H1051=\"\",\"\",VLOOKUP($A1051,'Tocalino Index'!$A$12:$B$1041,2,FALSE))","v":""},"2043-04-01","",{"$f":"IF(DJIA!B399=\"\",\"\",DJIA!B399)","v":""},{"$f":"IF(CPIAUCSL!B1167=\"\",\"\",CPIAUCSL!B1167)","v":""},{"$f":"IF(H1051=\"\",\"\",VLOOKUP($G1051,DJIA_def!$A$12:$B$1041,2,FALSE))","v":""},""]
[null,null,null,null,null,{"$f":"IF(H1052=\"\",\"\",VLOOKUP($A1052,'Tocalino Index'!$A$12:$B$1041,2,FALSE))","v":""},"2043-05-01","",{"$f":"IF(DJIA!B400=\"\",\"\",DJIA!B400)","v":""},{"$f":"IF(CPIAUCSL!B1168=\"\",\"\",CPIAUCSL!B1168)","v":""},{"$f":"IF(H1052=\"\",\"\",VLOOKUP($G1052,DJIA_def!$A$12:$B$1041,2,FALSE))","v":""},""]
[null,null,null,null,null,{"$f":"IF(H1053=\"\",\"\",VLOOKUP($A1053,'Tocalino Index'!$A$12:$B$1041,2,FALSE))","v":""},"2043-06-01","",{"$f":"IF(DJIA!B401=\"\",\"\",DJIA!B401)","v":""},{"$f":"IF(CPIAUCSL!B1169=\"\",\"\",CPIAUCSL!B1169)","v":""},{"$f":"IF(H1053=\"\",\"\",VLOOKUP($G1053,DJIA_def!$A$12:$B$1041,2,FALSE))","v":""},""]
[null,null,null,null,null,{"$f":"IF(H1054=\"\",\"\",VLOOKUP($A1054,'Tocalino Index'!$A$12:$B$1041,2,FALSE))","v":""},"2043-07-01","",{"$f":"IF(DJIA!B402=\"\",\"\",DJIA!B402)","v":""},{"$f":"IF(CPIAUCSL!B1170=\"\",\"\",CPIAUCSL!B1170)","v":""},{"$f":"IF(H1054=\"\",\"\",VLOOKUP($G1054,DJIA_def!$A$12:$B$1041,2,FALSE))","v":""},""]
[null,null,null,null,null,{"$f":"IF(H1055=\"\",\"\",VLOOKUP($A1055,'Tocalino Index'!$A$12:$B$1041,2,FALSE))","v":""},"2043-08-01","",{"$f":"IF(DJIA!B403=\"\",\"\",DJIA!B403)","v":""},{"$f":"IF(CPIAUCSL!B1171=\"\",\"\",CPIAUCSL!B1171)","v":""},{"$f":"IF(H1055=\"\",\"\",VLOOKUP($G1055,DJIA_def!$A$12:$B$1041,2,FALSE))","v":""},""]
[null,null,null,null,null,{"$f":"IF(H1056=\"\",\"\",VLOOKUP($A1056,'Tocalino Index'!$A$12:$B$1041,2,FALSE))","v":""},"2043-09-01","",{"$f":"IF(DJIA!B404=\"\",\"\",DJIA!B404)","v":""},{"$f":"IF(CPIAUCSL!B1172=\"\",\"\",CPIAUCSL!B1172)","v":""},{"$f":"IF(H1056=\"\",\"\",VLOOKUP($G1056,DJIA_def!$A$12:$B$1041,2,FALSE))","v":""},""]
[null,null,null,null,null,{"$f":"IF(H1057=\"\",\"\",VLOOKUP($A1057,'Tocalino Index'!$A$12:$B$1041,2,FALSE))","v":""},"2043-10-01","",{"$f":"IF(DJIA!B405=\"\",\"\",DJIA!B405)","v":""},{"$f":"IF(CPIAUCSL!B1173=\"\",\"\",CPIAUCSL!B1173)","v":""},{"$f":"IF(H1057=\"\",\"\",VLOOKUP($G1057,DJIA_def!$A$12:$B$1041,2,FALSE))","v":""},""]
[null,null,null,null,null,{"$f":"IF(H1058=\"\",\"\",VLOOKUP($A1058,'Tocalino Index'!$A$12:$B$1041,2,FALSE))","v":""},"2043-11-01","",{"$f":"IF(DJIA!B406=\"\",\"\",DJIA!B406)","v":""},{"$f":"IF(CPIAUCSL!B1174=\"\",\"\",CPIAUCSL!B1174)","v":""},{"$f":"IF(H1058=\"\",\"\",VLOOKUP($G1058,DJIA_def!$A$12:$B$1041,2,FALSE))","v":""},""]
[null,null,null,null,null,{"$f":"IF(H1059=\"\",\"\",VLOOKUP($A1059,'Tocalino Index'!$A$12:$B$1041,2,FALSE))","v":""},"2043-12-01","",{"$f":"IF(DJIA!B407=\"\",\"\",DJIA!B407)","v":""},{"$f":"IF(CPIAUCSL!B1175=\"\",\"\",CPIAUCSL!B1175)","v":""},{"$f":"IF(H1059=\"\",\"\",VLOOKUP($G1059,DJIA_def!$A$12:$B$1041,2,FALSE))","v":""},""]
[null,null,null,null,null,{"$f":"IF(H1060=\"\",\"\",VLOOKUP($A1060,'Tocalino Index'!$A$12:$B$1041,2,FALSE))","v":""},"2044-01-01","",{"$f":"IF(DJIA!B408=\"\",\"\",DJIA!B408)","v":""},{"$f":"IF(CPIAUCSL!B1176=\"\",\"\",CPIAUCSL!B1176)","v":""},{"$f":"IF(H1060=\"\",\"\",VLOOKUP($G1060,DJIA_def!$A$12:$B$1041,2,FALSE))","v":""},""]
[null,null,null,null,null,{"$f":"IF(H1061=\"\",\"\",VLOOKUP($A1061,'Tocalino Index'!$A$12:$B$1041,2,FALSE))","v":""},"2044-02-01","",{"$f":"IF(DJIA!B409=\"\",\"\",DJIA!B409)","v":""},{"$f":"IF(CPIAUCSL!B1177=\"\",\"\",CPIAUCSL!B1177)","v":""},{"$f":"IF(H1061=\"\",\"\",VLOOKUP($G1061,DJIA_def!$A$12:$B$1041,2,FALSE))","v":""},""]
[null,null,null,null,null,{"$f":"IF(H1062=\"\",\"\",VLOOKUP($A1062,'Tocalino Index'!$A$12:$B$1041,2,FALSE))","v":""},"2044-03-01","",{"$f":"IF(DJIA!B410=\"\",\"\",DJIA!B410)","v":""},{"$f":"IF(CPIAUCSL!B1178=\"\",\"\",CPIAUCSL!B1178)","v":""},{"$f":"IF(H1062=\"\",\"\",VLOOKUP($G1062,DJIA_def!$A$12:$B$1041,2,FALSE))","v":""},""]
[null,null,null,null,null,{"$f":"IF(H1063=\"\",\"\",VLOOKUP($A1063,'Tocalino Index'!$A$12:$B$1041,2,FALSE))","v":""},"2044-04-01","",{"$f":"IF(DJIA!B411=\"\",\"\",DJIA!B411)","v":""},{"$f":"IF(CPIAUCSL!B1179=\"\",\"\",CPIAUCSL!B1179)","v":""},{"$f":"IF(H1063=\"\",\"\",VLOOKUP($G1063,DJIA_def!$A$12:$B$1041,2,FALSE))","v":""},""]
[null,null,null,null,null,{"$f":"IF(H1064=\"\",\"\",VLOOKUP($A1064,'Tocalino Index'!$A$12:$B$1041,2,FALSE))","v":""},"2044-05-01","",{"$f":"IF(DJIA!B412=\"\",\"\",DJIA!B412)","v":""},{"$f":"IF(CPIAUCSL!B1180=\"\",\"\",CPIAUCSL!B1180)","v":""},{"$f":"IF(H1064=\"\",\"\",VLOOKUP($G1064,DJIA_def!$A$12:$B$1041,2,FALSE))","v":""},""]
[null,null,null,null,null,{"$f":"IF(H1065=\"\",\"\",VLOOKUP($A1065,'Tocalino Index'!$A$12:$B$1041,2,FALSE))","v":""},"2044-06-01","",{"$f":"IF(DJIA!B413=\"\",\"\",DJIA!B413)","v":""},{"$f":"IF(CPIAUCSL!B1181=\"\",\"\",CPIAUCSL!B1181)","v":""},{"$f":"IF(H1065=\"\",\"\",VLOOKUP($G1065,DJIA_def!$A$12:$B$1041,2,FALSE))","v":""},""]
[null,null,null,null,null,{"$f":"IF(H1066=\"\",\"\",VLOOKUP($A1066,'Tocalino Index'!$A$12:$B$1041,2,FALSE))","v":""},"2044-07-01","",{"$f":"IF(DJIA!B414=\"\",\"\",DJIA!B414)","v":""},{"$f":"IF(CPIAUCSL!B1182=\"\",\"\",CPIAUCSL!B1182)","v":""},{"$f":"IF(H1066=\"\",\"\",VLOOKUP($G1066,DJIA_def!$A$12:$B$1041,2,FALSE))","v":""},""]
[null,null,null,null,null,{"$f":"IF(H1067=\"\",\"\",VLOOKUP($A1067,'Tocalino Index'!$A$12:$B$1041,2,FALSE))","v":""},"2044-08-01","",{"$f":"IF(DJIA!B415=\"\",\"\",DJIA!B415)","v":""},{"$f":"IF(CPIAUCSL!B1183=\"\",\"\",CPIAUCSL!B1183)","v":""},{"$f":"IF(H1067=\"\",\"\",VLOOKUP($G1067,DJIA_def!$A$12:$B$1041,2,FALSE))","v":""},""]
[null,null,null,null,null,{"$f":"IF(H1068=\"\",\"\",VLOOKUP($A1068,'Tocalino Index'!$A$12:$B$1041,2,FALSE))","v":""},"2044-09-01","",{"$f":"IF(DJIA!B416=\"\",\"\",DJIA!B416)","v":""},{"$f":"IF(CPIAUCSL!B1184=\"\",\"\",CPIAUCSL!B1184)","v":""},{"$f":"IF(H1068=\"\",\"\",VLOOKUP($G1068,DJIA_def!$A$12:$B$1041,2,FALSE))","v":""},""]
[null,null,null,null,null,{"$f":"IF(H1069=\"\",\"\",VLOOKUP($A1069,'Tocalino Index'!$A$12:$B$1041,2,FALSE))","v":""},"2044-10-01","",{"$f":"IF(DJIA!B417=\"\",\"\",DJIA!B417)","v":""},{"$f":"IF(CPIAUCSL!B1185=\"\",\"\",CPIAUCSL!B1185)","v":""},{"$f":"IF(H1069=\"\",\"\",VLOOKUP($G1069,DJIA_def!$A$12:$B$1041,2,FALSE))","v":""},""]
[null,null,null,null,null,{"$f":"IF(H1070=\"\",\"\",VLOOKUP($A1070,'Tocalino Index'!$A$12:$B$1041,2,FALSE))","v":""},"2044-11-01","",{"$f":"IF(DJIA!B418=\"\",\"\",DJIA!B418)","v":""},{"$f":"IF(CPIAUCSL!B1186=\"\",\"\",CPIAUCSL!B1186)","v":""},{"$f":"IF(H1070=\"\",\"\",VLOOKUP($G1070,DJIA_def!$A$12:$B$1041,2,FALSE))","v":""},""]
[null,null,null,null,null,{"$f":"IF(H1071=\"\",\"\",VLOOKUP($A1071,'Tocalino Index'!$A$12:$B$1041,2,FALSE))","v":""},"2044-12-01","",{"$f":"IF(DJIA!B419=\"\",\"\",DJIA!B419)","v":""},{"$f":"IF(CPIAUCSL!B1187=\"\",\"\",CPIAUCSL!B1187)","v":""},{"$f":"IF(H1071=\"\",\"\",VLOOKUP($G1071,DJIA_def!$A$12:$B$1041,2,FALSE))","v":""},""]
[null,null,null,null,null,{"$f":"IF(H1072=\"\",\"\",VLOOKUP($A1072,'Tocalino Index'!$A$12:$B$1041,2,FALSE))","v":""},"2045-01-01","",{"$f":"IF(DJIA!B420=\"\",\"\",DJIA!B420)","v":""},{"$f":"IF(CPIAUCSL!B1188=\"\",\"\",CPIAUCSL!B1188)","v":""},{"$f":"IF(H1072=\"\",\"\",VLOOKUP($G1072,DJIA_def!$A$12:$B$1041,2,FALSE))","v":""},""]
[null,null,null,null,null,{"$f":"IF(H1073=\"\",\"\",VLOOKUP($A1073,'Tocalino Index'!$A$12:$B$1041,2,FALSE))","v":""},"2045-02-01","",{"$f":"IF(DJIA!B421=\"\",\"\",DJIA!B421)","v":""},{"$f":"IF(CPIAUCSL!B1189=\"\",\"\",CPIAUCSL!B1189)","v":""},{"$f":"IF(H1073=\"\",\"\",VLOOKUP($G1073,DJIA_def!$A$12:$B$1041,2,FALSE))","v":""},""]
[null,null,null,null,null,{"$f":"IF(H1074=\"\",\"\",VLOOKUP($A1074,'Tocalino Index'!$A$12:$B$1041,2,FALSE))","v":""},"2045-03-01","",{"$f":"IF(DJIA!B422=\"\",\"\",DJIA!B422)","v":""},{"$f":"IF(CPIAUCSL!B1190=\"\",\"\",CPIAUCSL!B1190)","v":""},{"$f":"IF(H1074=\"\",\"\",VLOOKUP($G1074,DJIA_def!$A$12:$B$1041,2,FALSE))","v":""},""]
[null,null,null,null,null,{"$f":"IF(H1075=\"\",\"\",VLOOKUP($A1075,'Tocalino Index'!$A$12:$B$1041,2,FALSE))","v":""},"2045-04-01","",{"$f":"IF(DJIA!B423=\"\",\"\",DJIA!B423)","v":""},{"$f":"IF(CPIAUCSL!B1191=\"\",\"\",CPIAUCSL!B1191)","v":""},{"$f":"IF(H1075=\"\",\"\",VLOOKUP($G1075,DJIA_def!$A$12:$B$1041,2,FALSE))","v":""},""]
[null,null,null,null,null,{"$f":"IF(H1076=\"\",\"\",VLOOKUP($A1076,'Tocalino Index'!$A$12:$B$1041,2,FALSE))","v":""},"2045-05-01","",{"$f":"IF(DJIA!B424=\"\",\"\",DJIA!B424)","v":""},{"$f":"IF(CPIAUCSL!B1192=\"\",\"\",CPIAUCSL!B1192)","v":""},{"$f":"IF(H1076=\"\",\"\",VLOOKUP($G1076,DJIA_def!$A$12:$B$1041,2,FALSE))","v":""},""]
[null,null,null,null,null,{"$f":"IF(H1077=\"\",\"\",VLOOKUP($A1077,'Tocalino Index'!$A$12:$B$1041,2,FALSE))","v":""},"2045-06-01","",{"$f":"IF(DJIA!B425=\"\",\"\",DJIA!B425)","v":""},{"$f":"IF(CPIAUCSL!B1193=\"\",\"\",CPIAUCSL!B1193)","v":""},{"$f":"IF(H1077=\"\",\"\",VLOOKUP($G1077,DJIA_def!$A$12:$B$1041,2,FALSE))","v":""},""]
[null,null,null,null,null,{"$f":"IF(H1078=\"\",\"\",VLOOKUP($A1078,'Tocalino Index'!$A$12:$B$1041,2,FALSE))","v":""},"2045-07-01","",{"$f":"IF(DJIA!B426=\"\",\"\",DJIA!B426)","v":""},{"$f":"IF(CPIAUCSL!B1194=\"\",\"\",CPIAUCSL!B1194)","v":""},{"$f":"IF(H1078=\"\",\"\",VLOOKUP($G1078,DJIA_def!$A$12:$B$1041,2,FALSE))","v":""},""]
[null,null,null,null,null,{"$f":"IF(H1079=\"\",\"\",VLOOKUP($A1079,'Tocalino Index'!$A$12:$B$1041,2,FALSE))","v":""},"2045-08-01","",{"$f":"IF(DJIA!B427=\"\",\"\",DJIA!B427)","v":""},{"$f":"IF(CPIAUCSL!B1195=\"\",\"\",CPIAUCSL!B1195)","v":""},{"$f":"IF(H1079=\"\",\"\",VLOOKUP($G1079,DJIA_def!$A$12:$B$1041,2,FALSE))","v":""},""]
[null,null,null,null,null,{"$f":"IF(H1080=\"\",\"\",VLOOKUP($A1080,'Tocalino Index'!$A$12:$B$1041,2,FALSE))","v":""},"2045-09-01","",{"$f":"IF(DJIA!B428=\"\",\"\",DJIA!B428)","v":""},{"$f":"IF(CPIAUCSL!B1196=\"\",\"\",CPIAUCSL!B1196)","v":""},{"$f":"IF(H1080=\"\",\"\",VLOOKUP($G1080,DJIA_def!$A$12:$B$1041,2,FALSE))","v":""},""]
[null,null,null,null,null,{"$f":"IF(H1081=\"\",\"\",VLOOKUP($A1081,'Tocalino Index'!$A$12:$B$1041,2,FALSE))","v":""},"2045-10-01","",{"$f":"IF(DJIA!B429=\"\",\"\",DJIA!B429)","v":""},{"$f":"IF(CPIAUCSL!B1197=\"\",\"\",CPIAUCSL!B1197)","v":""},{"$f":"IF(H1081=\"\",\"\",VLOOKUP($G1081,DJIA_def!$A$12:$B$1041,2,FALSE))","v":""},""]
[null,null,null,null,null,{"$f":"IF(H1082=\"\",\"\",VLOOKUP($A1082,'Tocalino Index'!$A$12:$B$1041,2,FALSE))","v":""},"2045-11-01","",{"$f":"IF(DJIA!B430=\"\",\"\",DJIA!B430)","v":""},{"$f":"IF(CPIAUCSL!B1198=\"\",\"\",CPIAUCSL!B1198)","v":""},{"$f":"IF(H1082=\"\",\"\",VLOOKUP($G1082,DJIA_def!$A$12:$B$1041,2,FALSE))","v":""},""]
[null,null,null,null,null,{"$f":"IF(H1083=\"\",\"\",VLOOKUP($A1083,'Tocalino Index'!$A$12:$B$1041,2,FALSE))","v":""},"2045-12-01","",{"$f":"IF(DJIA!B431=\"\",\"\",DJIA!B431)","v":""},{"$f":"IF(CPIAUCSL!B1199=\"\",\"\",CPIAUCSL!B1199)","v":""},{"$f":"IF(H1083=\"\",\"\",VLOOKUP($G1083,DJIA_def!$A$12:$B$1041,2,FALSE))","v":""},""]
[null,null,null,null,null,{"$f":"IF(H1084=\"\",\"\",VLOOKUP($A1084,'Tocalino Index'!$A$12:$B$1041,2,FALSE))","v":""},"2046-01-01","",{"$f":"IF(DJIA!B432=\"\",\"\",DJIA!B432)","v":""},{"$f":"IF(CPIAUCSL!B1200=\"\",\"\",CPIAUCSL!B1200)","v":""},{"$f":"IF(H1084=\"\",\"\",VLOOKUP($G1084,DJIA_def!$A$12:$B$1041,2,FALSE))","v":""},""]
[null,null,null,null,null,{"$f":"IF(H1085=\"\",\"\",VLOOKUP($A1085,'Tocalino Index'!$A$12:$B$1041,2,FALSE))","v":""},"2046-02-01","",{"$f":"IF(DJIA!B433=\"\",\"\",DJIA!B433)","v":""},{"$f":"IF(CPIAUCSL!B1201=\"\",\"\",CPIAUCSL!B1201)","v":""},{"$f":"IF(H1085=\"\",\"\",VLOOKUP($G1085,DJIA_def!$A$12:$B$1041,2,FALSE))","v":""},""]
[null,null,null,null,null,{"$f":"IF(H1086=\"\",\"\",VLOOKUP($A1086,'Tocalino Index'!$A$12:$B$1041,2,FALSE))","v":""},"2046-03-01","",{"$f":"IF(DJIA!B434=\"\",\"\",DJIA!B434)","v":""},{"$f":"IF(CPIAUCSL!B1202=\"\",\"\",CPIAUCSL!B1202)","v":""},{"$f":"IF(H1086=\"\",\"\",VLOOKUP($G1086,DJIA_def!$A$12:$B$1041,2,FALSE))","v":""},""]
[null,null,null,null,null,{"$f":"IF(H1087=\"\",\"\",VLOOKUP($A1087,'Tocalino Index'!$A$12:$B$1041,2,FALSE))","v":""},"2046-04-01","",{"$f":"IF(DJIA!B435=\"\",\"\",DJIA!B435)","v":""},{"$f":"IF(CPIAUCSL!B1203=\"\",\"\",CPIAUCSL!B1203)","v":""},{"$f":"IF(H1087=\"\",\"\",VLOOKUP($G1087,DJIA_def!$A$12:$B$1041,2,FALSE))","v":""},""]
[null,null,null,null,null,{"$f":"IF(H1088=\"\",\"\",VLOOKUP($A1088,'Tocalino Index'!$A$12:$B$1041,2,FALSE))","v":""},"2046-05-01","",{"$f":"IF(DJIA!B436=\"\",\"\",DJIA!B436)","v":""},{"$f":"IF(CPIAUCSL!B1204=\"\",\"\",CPIAUCSL!B1204)","v":""},{"$f":"IF(H1088=\"\",\"\",VLOOKUP($G1088,DJIA_def!$A$12:$B$1041,2,FALSE))","v":""},""]
[null,null,null,null,null,{"$f":"IF(H1089=\"\",\"\",VLOOKUP($A1089,'Tocalino Index'!$A$12:$B$1041,2,FALSE))","v":""},"2046-06-01","",{"$f":"IF(DJIA!B437=\"\",\"\",DJIA!B437)","v":""},{"$f":"IF(CPIAUCSL!B1205=\"\",\"\",CPIAUCSL!B1205)","v":""},{"$f":"IF(H1089=\"\",\"\",VLOOKUP($G1089,DJIA_def!$A$12:$B$1041,2,FALSE))","v":""},""]
[null,null,null,null,null,{"$f":"IF(H1090=\"\",\"\",VLOOKUP($A1090,'Tocalino Index'!$A$12:$B$1041,2,FALSE))","v":""},"2046-07-01","",{"$f":"IF(DJIA!B438=\"\",\"\",DJIA!B438)","v":""},{"$f":"IF(CPIAUCSL!B1206=\"\",\"\",CPIAUCSL!B1206)","v":""},{"$f":"IF(H1090=\"\",\"\",VLOOKUP($G1090,DJIA_def!$A$12:$B$1041,2,FALSE))","v":""},""]
[null,null,null,null,null,{"$f":"IF(H1091=\"\",\"\",VLOOKUP($A1091,'Tocalino Index'!$A$12:$B$1041,2,FALSE))","v":""},"2046-08-01","",{"$f":"IF(DJIA!B439=\"\",\"\",DJIA!B439)","v":""},{"$f":"IF(CPIAUCSL!B1207=\"\",\"\",CPIAUCSL!B1207)","v":""},{"$f":"IF(H1091=\"\",\"\",VLOOKUP($G1091,DJIA_def!$A$12:$B$1041,2,FALSE))","v":""},""]
[null,null,null,null,null,{"$f":"IF(H1092=\"\",\"\",VLOOKUP($A1092,'Tocalino Index'!$A$12:$B$1041,2,FALSE))","v":""},"2046-09-01","",{"$f":"IF(DJIA!B440=\"\",\"\",DJIA!B440)","v":""},{"$f":"IF(CPIAUCSL!B1208=\"\",\"\",CPIAUCSL!B1208)","v":""},{"$f":"IF(H1092=\"\",\"\",VLOOKUP($G1092,DJIA_def!$A$12:$B$1041,2,FALSE))","v":""},""]
[null,null,null,null,null,{"$f":"IF(H1093=\"\",\"\",VLOOKUP($A1093,'Tocalino Index'!$A$12:$B$1041,2,FALSE))","v":""},"2046-10-01","",{"$f":"IF(DJIA!B441=\"\",\"\",DJIA!B441)","v":""},{"$f":"IF(CPIAUCSL!B1209=\"\",\"\",CPIAUCSL!B1209)","v":""},{"$f":"IF(H1093=\"\",\"\",VLOOKUP($G1093,DJIA_def!$A$12:$B$1041,2,FALSE))","v":""},""]
[null,null,null,null,null,{"$f":"IF(H1094=\"\",\"\",VLOOKUP($A1094,'Tocalino Index'!$A$12:$B$1041,2,FALSE))","v":""},"2046-11-01","",{"$f":"IF(DJIA!B442=\"\",\"\",DJIA!B442)","v":""},{"$f":"IF(CPIAUCSL!B1210=\"\",\"\",CPIAUCSL!B1210)","v":""},{"$f":"IF(H1094=\"\",\"\",VLOOKUP($G1094,DJIA_def!$A$12:$B$1041,2,FALSE))","v":""},""]
[null,null,null,null,null,{"$f":"IF(H1095=\"\",\"\",VLOOKUP($A1095,'Tocalino Index'!$A$12:$B$1041,2,FALSE))","v":""},"2046-12-01",{"$f":"IF((TODAY()-G1095)<40,\"\",G1095)","v":""},{"$f":"IF(DJIA!B443=\"\",\"\",DJIA!B443)","v":""},{"$f":"IF(CPIAUCSL!B1211=\"\",\"\",CPIAUCSL!B1211)","v":""},{"$f":"IF(H1095=\"\",\"\",VLOOKUP($G1095,DJIA_def!$A$12:$B$1041,2,FALSE))","v":""},""]
[null,null,null,null,null,{"$f":"IF(H1096=\"\",\"\",VLOOKUP($A1096,'Tocalino Index'!$A$12:$B$1041,2,FALSE))","v":""},"2047-01-01","",{"$f":"IF(DJIA!B444=\"\",\"\",DJIA!B444)","v":""},{"$f":"IF(CPIAUCSL!B1212=\"\",\"\",CPIAUCSL!B1212)","v":""},{"$f":"IF(H1096=\"\",\"\",VLOOKUP($G1096,DJIA_def!$A$12:$B$1041,2,FALSE))","v":""},""]
[null,null,null,null,null,{"$f":"IF(H1097=\"\",\"\",VLOOKUP($A1097,'Tocalino Index'!$A$12:$B$1041,2,FALSE))","v":""},"2047-02-01","",{"$f":"IF(DJIA!B445=\"\",\"\",DJIA!B445)","v":""},{"$f":"IF(CPIAUCSL!B1213=\"\",\"\",CPIAUCSL!B1213)","v":""},{"$f":"IF(H1097=\"\",\"\",VLOOKUP($G1097,DJIA_def!$A$12:$B$1041,2,FALSE))","v":""},""]
[null,null,null,null,null,{"$f":"IF(H1098=\"\",\"\",VLOOKUP($A1098,'Tocalino Index'!$A$12:$B$1041,2,FALSE))","v":""},"2047-03-01","",{"$f":"IF(DJIA!B446=\"\",\"\",DJIA!B446)","v":""},{"$f":"IF(CPIAUCSL!B1214=\"\",\"\",CPIAUCSL!B1214)","v":""},{"$f":"IF(H1098=\"\",\"\",VLOOKUP($G1098,DJIA_def!$A$12:$B$1041,2,FALSE))","v":""},""]
[null,null,null,null,null,{"$f":"IF(H1099=\"\",\"\",VLOOKUP($A1099,'Tocalino Index'!$A$12:$B$1041,2,FALSE))","v":""},"2047-04-01","",{"$f":"IF(DJIA!B447=\"\",\"\",DJIA!B447)","v":""},{"$f":"IF(CPIAUCSL!B1215=\"\",\"\",CPIAUCSL!B1215)","v":""},{"$f":"IF(H1099=\"\",\"\",VLOOKUP($G1099,DJIA_def!$A$12:$B$1041,2,FALSE))","v":""},""]
[null,null,null,null,null,{"$f":"IF(H1100=\"\",\"\",VLOOKUP($A1100,'Tocalino Index'!$A$12:$B$1041,2,FALSE))","v":""},"2047-05-01","",{"$f":"IF(DJIA!B448=\"\",\"\",DJIA!B448)","v":""},{"$f":"IF(CPIAUCSL!B1216=\"\",\"\",CPIAUCSL!B1216)","v":""},{"$f":"IF(H1100=\"\",\"\",VLOOKUP($G1100,DJIA_def!$A$12:$B$1041,2,FALSE))","v":""},""]
[null,null,null,null,null,{"$f":"IF(H1101=\"\",\"\",VLOOKUP($A1101,'Tocalino Index'!$A$12:$B$1041,2,FALSE))","v":""},"2047-06-01","",{"$f":"IF(DJIA!B449=\"\",\"\",DJIA!B449)","v":""},{"$f":"IF(CPIAUCSL!B1217=\"\",\"\",CPIAUCSL!B1217)","v":""},{"$f":"IF(H1101=\"\",\"\",VLOOKUP($G1101,DJIA_def!$A$12:$B$1041,2,FALSE))","v":""},{"$f":"IF(J1101=\"\",\"\",K1101/$M$418)","v":""}]
[null,null,null,null,null,{"$f":"IF(H1102=\"\",\"\",VLOOKUP($A1102,'Tocalino Index'!$A$12:$B$1041,2,FALSE))","v":""},"2047-07-01","",{"$f":"IF(DJIA!B450=\"\",\"\",DJIA!B450)","v":""},{"$f":"IF(CPIAUCSL!B1218=\"\",\"\",CPIAUCSL!B1218)","v":""},{"$f":"IF(H1102=\"\",\"\",VLOOKUP($G1102,DJIA_def!$A$12:$B$1041,2,FALSE))","v":""},""]
[null,null,null,null,null,{"$f":"IF(H1103=\"\",\"\",VLOOKUP($A1103,'Tocalino Index'!$A$12:$B$1041,2,FALSE))","v":""},"2047-08-01","",{"$f":"IF(DJIA!B451=\"\",\"\",DJIA!B451)","v":""},{"$f":"IF(CPIAUCSL!B1219=\"\",\"\",CPIAUCSL!B1219)","v":""},{"$f":"IF(H1103=\"\",\"\",VLOOKUP($G1103,DJIA_def!$A$12:$B$1041,2,FALSE))","v":""},""]
[null,null,null,null,null,{"$f":"IF(H1104=\"\",\"\",VLOOKUP($A1104,'Tocalino Index'!$A$12:$B$1041,2,FALSE))","v":""},"2047-09-01","",{"$f":"IF(DJIA!B452=\"\",\"\",DJIA!B452)","v":""},{"$f":"IF(CPIAUCSL!B1220=\"\",\"\",CPIAUCSL!B1220)","v":""},{"$f":"IF(H1104=\"\",\"\",VLOOKUP($G1104,DJIA_def!$A$12:$B$1041,2,FALSE))","v":""},""]
[null,null,null,null,null,{"$f":"IF(H1105=\"\",\"\",VLOOKUP($A1105,'Tocalino Index'!$A$12:$B$1041,2,FALSE))","v":""},"2047-10-01","",{"$f":"IF(DJIA!B453=\"\",\"\",DJIA!B453)","v":""},{"$f":"IF(CPIAUCSL!B1221=\"\",\"\",CPIAUCSL!B1221)","v":""},{"$f":"IF(H1105=\"\",\"\",VLOOKUP($G1105,DJIA_def!$A$12:$B$1041,2,FALSE))","v":""},""]
[null,null,null,null,null,{"$f":"IF(H1106=\"\",\"\",VLOOKUP($A1106,'Tocalino Index'!$A$12:$B$1041,2,FALSE))","v":""},"2047-11-01","",{"$f":"IF(DJIA!B454=\"\",\"\",DJIA!B454)","v":""},{"$f":"IF(CPIAUCSL!B1222=\"\",\"\",CPIAUCSL!B1222)","v":""},{"$f":"IF(H1106=\"\",\"\",VLOOKUP($G1106,DJIA_def!$A$12:$B$1041,2,FALSE))","v":""},""]
[null,null,null,null,null,{"$f":"IF(H1107=\"\",\"\",VLOOKUP($A1107,'Tocalino Index'!$A$12:$B$1041,2,FALSE))","v":""},"2047-12-01","",{"$f":"IF(DJIA!B455=\"\",\"\",DJIA!B455)","v":""},{"$f":"IF(CPIAUCSL!B1223=\"\",\"\",CPIAUCSL!B1223)","v":""},{"$f":"IF(H1107=\"\",\"\",VLOOKUP($G1107,DJIA_def!$A$12:$B$1041,2,FALSE))","v":""},""]
[null,null,null,null,null,{"$f":"IF(H1108=\"\",\"\",VLOOKUP($A1108,'Tocalino Index'!$A$12:$B$1041,2,FALSE))","v":""},"2048-01-01","",{"$f":"IF(DJIA!B456=\"\",\"\",DJIA!B456)","v":""},{"$f":"IF(CPIAUCSL!B1224=\"\",\"\",CPIAUCSL!B1224)","v":""},{"$f":"IF(H1108=\"\",\"\",VLOOKUP($G1108,DJIA_def!$A$12:$B$1041,2,FALSE))","v":""},""]
[null,null,null,null,null,{"$f":"IF(H1109=\"\",\"\",VLOOKUP($A1109,'Tocalino Index'!$A$12:$B$1041,2,FALSE))","v":""},"2048-02-01","",{"$f":"IF(DJIA!B457=\"\",\"\",DJIA!B457)","v":""},{"$f":"IF(CPIAUCSL!B1225=\"\",\"\",CPIAUCSL!B1225)","v":""},{"$f":"IF(H1109=\"\",\"\",VLOOKUP($G1109,DJIA_def!$A$12:$B$1041,2,FALSE))","v":""},""]
[null,null,null,null,null,{"$f":"IF(H1110=\"\",\"\",VLOOKUP($A1110,'Tocalino Index'!$A$12:$B$1041,2,FALSE))","v":""},"2048-03-01","",{"$f":"IF(DJIA!B458=\"\",\"\",DJIA!B458)","v":""},{"$f":"IF(CPIAUCSL!B1226=\"\",\"\",CPIAUCSL!B1226)","v":""},{"$f":"IF(H1110=\"\",\"\",VLOOKUP($G1110,DJIA_def!$A$12:$B$1041,2,FALSE))","v":""},""]
[null,null,null,null,null,{"$f":"IF(H1111=\"\",\"\",VLOOKUP($A1111,'Tocalino Index'!$A$12:$B$1041,2,FALSE))","v":""},"2048-04-01","",{"$f":"IF(DJIA!B459=\"\",\"\",DJIA!B459)","v":""},{"$f":"IF(CPIAUCSL!B1227=\"\",\"\",CPIAUCSL!B1227)","v":""},{"$f":"IF(H1111=\"\",\"\",VLOOKUP($G1111,DJIA_def!$A$12:$B$1041,2,FALSE))","v":""},""]
[null,null,null,null,null,{"$f":"IF(H1112=\"\",\"\",VLOOKUP($A1112,'Tocalino Index'!$A$12:$B$1041,2,FALSE))","v":""},"2048-05-01","",{"$f":"IF(DJIA!B460=\"\",\"\",DJIA!B460)","v":""},{"$f":"IF(CPIAUCSL!B1228=\"\",\"\",CPIAUCSL!B1228)","v":""},{"$f":"IF(H1112=\"\",\"\",VLOOKUP($G1112,DJIA_def!$A$12:$B$1041,2,FALSE))","v":""},""]
[null,null,null,null,null,{"$f":"IF(H1113=\"\",\"\",VLOOKUP($A1113,'Tocalino Index'!$A$12:$B$1041,2,FALSE))","v":""},"2048-06-01","",{"$f":"IF(DJIA!B461=\"\",\"\",DJIA!B461)","v":""},{"$f":"IF(CPIAUCSL!B1229=\"\",\"\",CPIAUCSL!B1229)","v":""},{"$f":"IF(H1113=\"\",\"\",VLOOKUP($G1113,DJIA_def!$A$12:$B$1041,2,FALSE))","v":""},""]
[null,null,null,null,null,{"$f":"IF(H1114=\"\",\"\",VLOOKUP($A1114,'Tocalino Index'!$A$12:$B$1041,2,FALSE))","v":""},"2048-07-01","",{"$f":"IF(DJIA!B462=\"\",\"\",DJIA!B462)","v":""},{"$f":"IF(CPIAUCSL!B1230=\"\",\"\",CPIAUCSL!B1230)","v":""},{"$f":"IF(H1114=\"\",\"\",VLOOKUP($G1114,DJIA_def!$A$12:$B$1041,2,FALSE))","v":""},""]
[null,null,null,null,null,{"$f":"IF(H1115=\"\",\"\",VLOOKUP($A1115,'Tocalino Index'!$A$12:$B$1041,2,FALSE))","v":""},"2048-08-01","",{"$f":"IF(DJIA!B463=\"\",\"\",DJIA!B463)","v":""},{"$f":"IF(CPIAUCSL!B1231=\"\",\"\",CPIAUCSL!B1231)","v":""},{"$f":"IF(H1115=\"\",\"\",VLOOKUP($G1115,DJIA_def!$A$12:$B$1041,2,FALSE))","v":""},""]
[null,null,null,null,null,{"$f":"IF(H1116=\"\",\"\",VLOOKUP($A1116,'Tocalino Index'!$A$12:$B$1041,2,FALSE))","v":""},"2048-09-01","",{"$f":"IF(DJIA!B464=\"\",\"\",DJIA!B464)","v":""},{"$f":"IF(CPIAUCSL!B1232=\"\",\"\",CPIAUCSL!B1232)","v":""},{"$f":"IF(H1116=\"\",\"\",VLOOKUP($G1116,DJIA_def!$A$12:$B$1041,2,FALSE))","v":""},""]
[null,null,null,null,null,{"$f":"IF(H1117=\"\",\"\",VLOOKUP($A1117,'Tocalino Index'!$A$12:$B$1041,2,FALSE))","v":""},"2048-10-01","",{"$f":"IF(DJIA!B465=\"\",\"\",DJIA!B465)","v":""},{"$f":"IF(CPIAUCSL!B1233=\"\",\"\",CPIAUCSL!B1233)","v":""},{"$f":"IF(H1117=\"\",\"\",VLOOKUP($G1117,DJIA_def!$A$12:$B$1041,2,FALSE))","v":""},""]
[null,null,null,null,null,{"$f":"IF(H1118=\"\",\"\",VLOOKUP($A1118,'Tocalino Index'!$A$12:$B$1041,2,FALSE))","v":""},"2048-11-01","",{"$f":"IF(DJIA!B466=\"\",\"\",DJIA!B466)","v":""},{"$f":"IF(CPIAUCSL!B1234=\"\",\"\",CPIAUCSL!B1234)","v":""},{"$f":"IF(H1118=\"\",\"\",VLOOKUP($G1118,DJIA_def!$A$12:$B$1041,2,FALSE))","v":""},""]
[null,null,null,null,null,{"$f":"IF(H1119=\"\",\"\",VLOOKUP($A1119,'Tocalino Index'!$A$12:$B$1041,2,FALSE))","v":""},"2048-12-01","",{"$f":"IF(DJIA!B467=\"\",\"\",DJIA!B467)","v":""},{"$f":"IF(CPIAUCSL!B1235=\"\",\"\",CPIAUCSL!B1235)","v":""},{"$f":"IF(H1119=\"\",\"\",VLOOKUP($G1119,DJIA_def!$A$12:$B$1041,2,FALSE))","v":""},""]
[null,null,null,null,null,{"$f":"IF(H1120=\"\",\"\",VLOOKUP($A1120,'Tocalino Index'!$A$12:$B$1041,2,FALSE))","v":""},"2049-01-01","",{"$f":"IF(DJIA!B468=\"\",\"\",DJIA!B468)","v":""},{"$f":"IF(CPIAUCSL!B1236=\"\",\"\",CPIAUCSL!B1236)","v":""},{"$f":"IF(H1120=\"\",\"\",VLOOKUP($G1120,DJIA_def!$A$12:$B$1041,2,FALSE))","v":""},""]
[null,null,null,null,null,{"$f":"IF(H1121=\"\",\"\",VLOOKUP($A1121,'Tocalino Index'!$A$12:$B$1041,2,FALSE))","v":""},"2049-02-01","",{"$f":"IF(DJIA!B469=\"\",\"\",DJIA!B469)","v":""},{"$f":"IF(CPIAUCSL!B1237=\"\",\"\",CPIAUCSL!B1237)","v":""},{"$f":"IF(H1121=\"\",\"\",VLOOKUP($G1121,DJIA_def!$A$12:$B$1041,2,FALSE))","v":""},""]
[null,null,null,null,null,{"$f":"IF(H1122=\"\",\"\",VLOOKUP($A1122,'Tocalino Index'!$A$12:$B$1041,2,FALSE))","v":""},"2049-03-01","",{"$f":"IF(DJIA!B470=\"\",\"\",DJIA!B470)","v":""},{"$f":"IF(CPIAUCSL!B1238=\"\",\"\",CPIAUCSL!B1238)","v":""},{"$f":"IF(H1122=\"\",\"\",VLOOKUP($G1122,DJIA_def!$A$12:$B$1041,2,FALSE))","v":""},""]
[null,null,null,null,null,{"$f":"IF(H1123=\"\",\"\",VLOOKUP($A1123,'Tocalino Index'!$A$12:$B$1041,2,FALSE))","v":""},"2049-04-01","",{"$f":"IF(DJIA!B471=\"\",\"\",DJIA!B471)","v":""},{"$f":"IF(CPIAUCSL!B1239=\"\",\"\",CPIAUCSL!B1239)","v":""},{"$f":"IF(H1123=\"\",\"\",VLOOKUP($G1123,DJIA_def!$A$12:$B$1041,2,FALSE))","v":""},""]
[null,null,null,null,null,{"$f":"IF(H1124=\"\",\"\",VLOOKUP($A1124,'Tocalino Index'!$A$12:$B$1041,2,FALSE))","v":""},"2049-05-01","",{"$f":"IF(DJIA!B472=\"\",\"\",DJIA!B472)","v":""},{"$f":"IF(CPIAUCSL!B1240=\"\",\"\",CPIAUCSL!B1240)","v":""},{"$f":"IF(H1124=\"\",\"\",VLOOKUP($G1124,DJIA_def!$A$12:$B$1041,2,FALSE))","v":""},""]
[null,null,null,null,null,{"$f":"IF(H1125=\"\",\"\",VLOOKUP($A1125,'Tocalino Index'!$A$12:$B$1041,2,FALSE))","v":""},"2049-06-01","",{"$f":"IF(DJIA!B473=\"\",\"\",DJIA!B473)","v":""},{"$f":"IF(CPIAUCSL!B1241=\"\",\"\",CPIAUCSL!B1241)","v":""},{"$f":"IF(H1125=\"\",\"\",VLOOKUP($G1125,DJIA_def!$A$12:$B$1041,2,FALSE))","v":""},""]
[null,null,null,null,null,{"$f":"IF(H1126=\"\",\"\",VLOOKUP($A1126,'Tocalino Index'!$A$12:$B$1041,2,FALSE))","v":""},"2049-07-01","",{"$f":"IF(DJIA!B474=\"\",\"\",DJIA!B474)","v":""},{"$f":"IF(CPIAUCSL!B1242=\"\",\"\",CPIAUCSL!B1242)","v":""},{"$f":"IF(H1126=\"\",\"\",VLOOKUP($G1126,DJIA_def!$A$12:$B$1041,2,FALSE))","v":""},""]
[null,null,null,null,null,{"$f":"IF(H1127=\"\",\"\",VLOOKUP($A1127,'Tocalino Index'!$A$12:$B$1041,2,FALSE))","v":""},"2049-08-01","",{"$f":"IF(DJIA!B475=\"\",\"\",DJIA!B475)","v":""},{"$f":"IF(CPIAUCSL!B1243=\"\",\"\",CPIAUCSL!B1243)","v":""},{"$f":"IF(H1127=\"\",\"\",VLOOKUP($G1127,DJIA_def!$A$12:$B$1041,2,FALSE))","v":""},""]
[null,null,null,null,null,{"$f":"IF(H1128=\"\",\"\",VLOOKUP($A1128,'Tocalino Index'!$A$12:$B$1041,2,FALSE))","v":""},"2049-09-01","",{"$f":"IF(DJIA!B476=\"\",\"\",DJIA!B476)","v":""},{"$f":"IF(CPIAUCSL!B1244=\"\",\"\",CPIAUCSL!B1244)","v":""},{"$f":"IF(H1128=\"\",\"\",VLOOKUP($G1128,DJIA_def!$A$12:$B$1041,2,FALSE))","v":""},""]
[null,null,null,null,null,{"$f":"IF(H1129=\"\",\"\",VLOOKUP($A1129,'Tocalino Index'!$A$12:$B$1041,2,FALSE))","v":""},"2049-10-01","",{"$f":"IF(DJIA!B477=\"\",\"\",DJIA!B477)","v":""},{"$f":"IF(CPIAUCSL!B1245=\"\",\"\",CPIAUCSL!B1245)","v":""},{"$f":"IF(H1129=\"\",\"\",VLOOKUP($G1129,DJIA_def!$A$12:$B$1041,2,FALSE))","v":""},""]
[null,null,null,null,null,{"$f":"IF(H1130=\"\",\"\",VLOOKUP($A1130,'Tocalino Index'!$A$12:$B$1041,2,FALSE))","v":""},"2049-11-01","",{"$f":"IF(DJIA!B478=\"\",\"\",DJIA!B478)","v":""},{"$f":"IF(CPIAUCSL!B1246=\"\",\"\",CPIAUCSL!B1246)","v":""},{"$f":"IF(H1130=\"\",\"\",VLOOKUP($G1130,DJIA_def!$A$12:$B$1041,2,FALSE))","v":""},""]
[null,null,null,null,null,{"$f":"IF(H1131=\"\",\"\",VLOOKUP($A1131,'Tocalino Index'!$A$12:$B$1041,2,FALSE))","v":""},"2049-12-01","",{"$f":"IF(DJIA!B479=\"\",\"\",DJIA!B479)","v":""},{"$f":"IF(CPIAUCSL!B1247=\"\",\"\",CPIAUCSL!B1247)","v":""},{"$f":"IF(H1131=\"\",\"\",VLOOKUP($G1131,DJIA_def!$A$12:$B$1041,2,FALSE))","v":""},""]
[null,null,null,null,null,{"$f":"IF(H1132=\"\",\"\",VLOOKUP($A1132,'Tocalino Index'!$A$12:$B$1041,2,FALSE))","v":""},"2050-01-01","",{"$f":"IF(DJIA!B480=\"\",\"\",DJIA!B480)","v":""},{"$f":"IF(CPIAUCSL!B1248=\"\",\"\",CPIAUCSL!B1248)","v":""},{"$f":"IF(H1132=\"\",\"\",VLOOKUP($G1132,DJIA_def!$A$12:$B$1041,2,FALSE))","v":""},""]
[null,null,null,null,null,{"$f":"IF(H1133=\"\",\"\",VLOOKUP($A1133,'Tocalino Index'!$A$12:$B$1041,2,FALSE))","v":""},"2050-02-01","",{"$f":"IF(DJIA!B481=\"\",\"\",DJIA!B481)","v":""},{"$f":"IF(CPIAUCSL!B1249=\"\",\"\",CPIAUCSL!B1249)","v":""},{"$f":"IF(H1133=\"\",\"\",VLOOKUP($G1133,DJIA_def!$A$12:$B$1041,2,FALSE))","v":""},""]
[null,null,null,null,null,{"$f":"IF(H1134=\"\",\"\",VLOOKUP($A1134,'Tocalino Index'!$A$12:$B$1041,2,FALSE))","v":""},"2050-03-01","",{"$f":"IF(DJIA!B482=\"\",\"\",DJIA!B482)","v":""},{"$f":"IF(CPIAUCSL!B1250=\"\",\"\",CPIAUCSL!B1250)","v":""},{"$f":"IF(H1134=\"\",\"\",VLOOKUP($G1134,DJIA_def!$A$12:$B$1041,2,FALSE))","v":""},""]
[null,null,null,null,null,{"$f":"IF(H1135=\"\",\"\",VLOOKUP($A1135,'Tocalino Index'!$A$12:$B$1041,2,FALSE))","v":""},"2050-04-01","",{"$f":"IF(DJIA!B483=\"\",\"\",DJIA!B483)","v":""},{"$f":"IF(CPIAUCSL!B1251=\"\",\"\",CPIAUCSL!B1251)","v":""},{"$f":"IF(H1135=\"\",\"\",VLOOKUP($G1135,DJIA_def!$A$12:$B$1041,2,FALSE))","v":""},""]
[null,null,null,null,null,{"$f":"IF(H1136=\"\",\"\",VLOOKUP($A1136,'Tocalino Index'!$A$12:$B$1041,2,FALSE))","v":""},"2050-05-01","",{"$f":"IF(DJIA!B484=\"\",\"\",DJIA!B484)","v":""},{"$f":"IF(CPIAUCSL!B1252=\"\",\"\",CPIAUCSL!B1252)","v":""},{"$f":"IF(H1136=\"\",\"\",VLOOKUP($G1136,DJIA_def!$A$12:$B$1041,2,FALSE))","v":""},""]
[null,null,null,null,null,{"$f":"IF(H1137=\"\",\"\",VLOOKUP($A1137,'Tocalino Index'!$A$12:$B$1041,2,FALSE))","v":""},"2050-06-01","",{"$f":"IF(DJIA!B485=\"\",\"\",DJIA!B485)","v":""},{"$f":"IF(CPIAUCSL!B1253=\"\",\"\",CPIAUCSL!B1253)","v":""},{"$f":"IF(H1137=\"\",\"\",VLOOKUP($G1137,DJIA_def!$A$12:$B$1041,2,FALSE))","v":""},""]
[null,null,null,null,null,{"$f":"IF(H1138=\"\",\"\",VLOOKUP($A1138,'Tocalino Index'!$A$12:$B$1041,2,FALSE))","v":""},"2050-07-01","",{"$f":"IF(DJIA!B486=\"\",\"\",DJIA!B486)","v":""},{"$f":"IF(CPIAUCSL!B1254=\"\",\"\",CPIAUCSL!B1254)","v":""},{"$f":"IF(H1138=\"\",\"\",VLOOKUP($G1138,DJIA_def!$A$12:$B$1041,2,FALSE))","v":""},""]
[null,null,null,null,null,{"$f":"IF(H1139=\"\",\"\",VLOOKUP($A1139,'Tocalino Index'!$A$12:$B$1041,2,FALSE))","v":""},"2050-08-01","",{"$f":"IF(DJIA!B487=\"\",\"\",DJIA!B487)","v":""},{"$f":"IF(CPIAUCSL!B1255=\"\",\"\",CPIAUCSL!B1255)","v":""},{"$f":"IF(H1139=\"\",\"\",VLOOKUP($G1139,DJIA_def!$A$12:$B$1041,2,FALSE))","v":""},""]
[null,null,null,null,null,{"$f":"IF(H1140=\"\",\"\",VLOOKUP($A1140,'Tocalino Index'!$A$12:$B$1041,2,FALSE))","v":""},"2050-09-01","",{"$f":"IF(DJIA!B488=\"\",\"\",DJIA!B488)","v":""},{"$f":"IF(CPIAUCSL!B1256=\"\",\"\",CPIAUCSL!B1256)","v":""},{"$f":"IF(H1140=\"\",\"\",VLOOKUP($G1140,DJIA_def!$A$12:$B$1041,2,FALSE))","v":""},""]
[null,null,null,null,null,{"$f":"IF(H1141=\"\",\"\",VLOOKUP($A1141,'Tocalino Index'!$A$12:$B$1041,2,FALSE))","v":""},"2050-10-01","",{"$f":"IF(DJIA!B489=\"\",\"\",DJIA!B489)","v":""},{"$f":"IF(CPIAUCSL!B1257=\"\",\"\",CPIAUCSL!B1257)","v":""},{"$f":"IF(H1141=\"\",\"\",VLOOKUP($G1141,DJIA_def!$A$12:$B$1041,2,FALSE))","v":""},""]
[null,null,null,null,null,{"$f":"IF(H1142=\"\",\"\",VLOOKUP($A1142,'Tocalino Index'!$A$12:$B$1041,2,FALSE))","v":""},"2050-11-01","",{"$f":"IF(DJIA!B490=\"\",\"\",DJIA!B490)","v":""},{"$f":"IF(CPIAUCSL!B1258=\"\",\"\",CPIAUCSL!B1258)","v":""},{"$f":"IF(H1142=\"\",\"\",VLOOKUP($G1142,DJIA_def!$A$12:$B$1041,2,FALSE))","v":""},""]
[null,null,null,null,null,{"$f":"IF(H1143=\"\",\"\",VLOOKUP($A1143,'Tocalino Index'!$A$12:$B$1041,2,FALSE))","v":""},"2050-12-01","",{"$f":"IF(DJIA!B491=\"\",\"\",DJIA!B491)","v":""},{"$f":"IF(CPIAUCSL!B1259=\"\",\"\",CPIAUCSL!B1259)","v":""},{"$f":"IF(H1143=\"\",\"\",VLOOKUP($G1143,DJIA_def!$A$12:$B$1041,2,FALSE))","v":""},""]
[null,null,null,null,null,{"$f":"IF(H1144=\"\",\"\",VLOOKUP($A1144,'Tocalino Index'!$A$12:$B$1041,2,FALSE))","v":""},"2051-01-01","",{"$f":"IF(DJIA!B492=\"\",\"\",DJIA!B492)","v":""},{"$f":"IF(CPIAUCSL!B1260=\"\",\"\",CPIAUCSL!B1260)","v":""},{"$f":"IF(H1144=\"\",\"\",VLOOKUP($G1144,DJIA_def!$A$12:$B$1041,2,FALSE))","v":""},""]
[null,null,null,null,null,{"$f":"IF(H1145=\"\",\"\",VLOOKUP($A1145,'Tocalino Index'!$A$12:$B$1041,2,FALSE))","v":""},"2051-02-01","",{"$f":"IF(DJIA!B493=\"\",\"\",DJIA!B493)","v":""},{"$f":"IF(CPIAUCSL!B1261=\"\",\"\",CPIAUCSL!B1261)","v":""},{"$f":"IF(H1145=\"\",\"\",VLOOKUP($G1145,DJIA_def!$A$12:$B$1041,2,FALSE))","v":""},""]
[null,null,null,null,null,{"$f":"IF(H1146=\"\",\"\",VLOOKUP($A1146,'Tocalino Index'!$A$12:$B$1041,2,FALSE))","v":""},"2051-03-01","",{"$f":"IF(DJIA!B494=\"\",\"\",DJIA!B494)","v":""},{"$f":"IF(CPIAUCSL!B1262=\"\",\"\",CPIAUCSL!B1262)","v":""},{"$f":"IF(H1146=\"\",\"\",VLOOKUP($G1146,DJIA_def!$A$12:$B$1041,2,FALSE))","v":""},""]
[null,null,null,null,null,{"$f":"IF(H1147=\"\",\"\",VLOOKUP($A1147,'Tocalino Index'!$A$12:$B$1041,2,FALSE))","v":""},"2051-04-01","",{"$f":"IF(DJIA!B495=\"\",\"\",DJIA!B495)","v":""},{"$f":"IF(CPIAUCSL!B1263=\"\",\"\",CPIAUCSL!B1263)","v":""},{"$f":"IF(H1147=\"\",\"\",VLOOKUP($G1147,DJIA_def!$A$12:$B$1041,2,FALSE))","v":""},""]
[null,null,null,null,null,{"$f":"IF(H1148=\"\",\"\",VLOOKUP($A1148,'Tocalino Index'!$A$12:$B$1041,2,FALSE))","v":""},"2051-05-01","",{"$f":"IF(DJIA!B496=\"\",\"\",DJIA!B496)","v":""},{"$f":"IF(CPIAUCSL!B1264=\"\",\"\",CPIAUCSL!B1264)","v":""},{"$f":"IF(H1148=\"\",\"\",VLOOKUP($G1148,DJIA_def!$A$12:$B$1041,2,FALSE))","v":""},""]
[null,null,null,null,null,{"$f":"IF(H1149=\"\",\"\",VLOOKUP($A1149,'Tocalino Index'!$A$12:$B$1041,2,FALSE))","v":""},"2051-06-01","",{"$f":"IF(DJIA!B497=\"\",\"\",DJIA!B497)","v":""},{"$f":"IF(CPIAUCSL!B1265=\"\",\"\",CPIAUCSL!B1265)","v":""},{"$f":"IF(H1149=\"\",\"\",VLOOKUP($G1149,DJIA_def!$A$12:$B$1041,2,FALSE))","v":""},""]
[null,null,null,null,null,{"$f":"IF(H1150=\"\",\"\",VLOOKUP($A1150,'Tocalino Index'!$A$12:$B$1041,2,FALSE))","v":""},"2051-07-01","",{"$f":"IF(DJIA!B498=\"\",\"\",DJIA!B498)","v":""},{"$f":"IF(CPIAUCSL!B1266=\"\",\"\",CPIAUCSL!B1266)","v":""},{"$f":"IF(H1150=\"\",\"\",VLOOKUP($G1150,DJIA_def!$A$12:$B$1041,2,FALSE))","v":""},""]
[null,null,null,null,null,{"$f":"IF(H1151=\"\",\"\",VLOOKUP($A1151,'Tocalino Index'!$A$12:$B$1041,2,FALSE))","v":""},"2051-08-01","",{"$f":"IF(DJIA!B499=\"\",\"\",DJIA!B499)","v":""},{"$f":"IF(CPIAUCSL!B1267=\"\",\"\",CPIAUCSL!B1267)","v":""},{"$f":"IF(H1151=\"\",\"\",VLOOKUP($G1151,DJIA_def!$A$12:$B$1041,2,FALSE))","v":""},""]
[null,null,null,null,null,{"$f":"IF(H1152=\"\",\"\",VLOOKUP($A1152,'Tocalino Index'!$A$12:$B$1041,2,FALSE))","v":""},"2051-09-01","",{"$f":"IF(DJIA!B500=\"\",\"\",DJIA!B500)","v":""},{"$f":"IF(CPIAUCSL!B1268=\"\",\"\",CPIAUCSL!B1268)","v":""},{"$f":"IF(H1152=\"\",\"\",VLOOKUP($G1152,DJIA_def!$A$12:$B$1041,2,FALSE))","v":""},""]
[null,null,null,null,null,{"$f":"IF(H1153=\"\",\"\",VLOOKUP($A1153,'Tocalino Index'!$A$12:$B$1041,2,FALSE))","v":""},"2051-10-01","",{"$f":"IF(DJIA!B501=\"\",\"\",DJIA!B501)","v":""},{"$f":"IF(CPIAUCSL!B1269=\"\",\"\",CPIAUCSL!B1269)","v":""},{"$f":"IF(H1153=\"\",\"\",VLOOKUP($G1153,DJIA_def!$A$12:$B$1041,2,FALSE))","v":""},""]
[null,null,null,null,null,{"$f":"IF(H1154=\"\",\"\",VLOOKUP($A1154,'Tocalino Index'!$A$12:$B$1041,2,FALSE))","v":""},"2051-11-01","",{"$f":"IF(DJIA!B502=\"\",\"\",DJIA!B502)","v":""},{"$f":"IF(CPIAUCSL!B1270=\"\",\"\",CPIAUCSL!B1270)","v":""},{"$f":"IF(H1154=\"\",\"\",VLOOKUP($G1154,DJIA_def!$A$12:$B$1041,2,FALSE))","v":""},""]
[null,null,null,null,null,{"$f":"IF(H1155=\"\",\"\",VLOOKUP($A1155,'Tocalino Index'!$A$12:$B$1041,2,FALSE))","v":""},"2051-12-01","",{"$f":"IF(DJIA!B503=\"\",\"\",DJIA!B503)","v":""},{"$f":"IF(CPIAUCSL!B1271=\"\",\"\",CPIAUCSL!B1271)","v":""},{"$f":"IF(H1155=\"\",\"\",VLOOKUP($G1155,DJIA_def!$A$12:$B$1041,2,FALSE))","v":""},""]
[null,null,null,null,null,{"$f":"IF(H1156=\"\",\"\",VLOOKUP($A1156,'Tocalino Index'!$A$12:$B$1041,2,FALSE))","v":""},"2052-01-01","",{"$f":"IF(DJIA!B504=\"\",\"\",DJIA!B504)","v":""},{"$f":"IF(CPIAUCSL!B1272=\"\",\"\",CPIAUCSL!B1272)","v":""},{"$f":"IF(H1156=\"\",\"\",VLOOKUP($G1156,DJIA_def!$A$12:$B$1041,2,FALSE))","v":""},""]
[null,null,null,null,null,{"$f":"IF(H1157=\"\",\"\",VLOOKUP($A1157,'Tocalino Index'!$A$12:$B$1041,2,FALSE))","v":""},"2052-02-01","",{"$f":"IF(DJIA!B505=\"\",\"\",DJIA!B505)","v":""},{"$f":"IF(CPIAUCSL!B1273=\"\",\"\",CPIAUCSL!B1273)","v":""},{"$f":"IF(H1157=\"\",\"\",VLOOKUP($G1157,DJIA_def!$A$12:$B$1041,2,FALSE))","v":""},""]
[null,null,null,null,null,{"$f":"IF(H1158=\"\",\"\",VLOOKUP($A1158,'Tocalino Index'!$A$12:$B$1041,2,FALSE))","v":""},"2052-03-01","",{"$f":"IF(DJIA!B506=\"\",\"\",DJIA!B506)","v":""},{"$f":"IF(CPIAUCSL!B1274=\"\",\"\",CPIAUCSL!B1274)","v":""},{"$f":"IF(H1158=\"\",\"\",VLOOKUP($G1158,DJIA_def!$A$12:$B$1041,2,FALSE))","v":""},""]
[null,null,null,null,null,{"$f":"IF(H1159=\"\",\"\",VLOOKUP($A1159,'Tocalino Index'!$A$12:$B$1041,2,FALSE))","v":""},"2052-04-01",{"$f":"IF((TODAY()-G1159)<40,\"\",G1159)","v":""},{"$f":"IF(DJIA!B507=\"\",\"\",DJIA!B507)","v":""},{"$f":"IF(CPIAUCSL!B1275=\"\",\"\",CPIAUCSL!B1275)","v":""},{"$f":"IF(H1159=\"\",\"\",VLOOKUP($G1159,DJIA_def!$A$12:$B$1041,2,FALSE))","v":""},""]
[null,null,null,null,null,{"$f":"IF(H1160=\"\",\"\",VLOOKUP($A1160,'Tocalino Index'!$A$12:$B$1041,2,FALSE))","v":""},"2052-05-01","",{"$f":"IF(DJIA!B508=\"\",\"\",DJIA!B508)","v":""},{"$f":"IF(CPIAUCSL!B1276=\"\",\"\",CPIAUCSL!B1276)","v":""},{"$f":"IF(H1160=\"\",\"\",VLOOKUP($G1160,DJIA_def!$A$12:$B$1041,2,FALSE))","v":""},""]
[null,null,null,null,null,{"$f":"IF(H1161=\"\",\"\",VLOOKUP($A1161,'Tocalino Index'!$A$12:$B$1041,2,FALSE))","v":""},"2052-06-01","",{"$f":"IF(DJIA!B509=\"\",\"\",DJIA!B509)","v":""},{"$f":"IF(CPIAUCSL!B1277=\"\",\"\",CPIAUCSL!B1277)","v":""},{"$f":"IF(H1161=\"\",\"\",VLOOKUP($G1161,DJIA_def!$A$12:$B$1041,2,FALSE))","v":""},""]
[null,null,null,null,null,{"$f":"IF(H1162=\"\",\"\",VLOOKUP($A1162,'Tocalino Index'!$A$12:$B$1041,2,FALSE))","v":""},"2052-07-01","",{"$f":"IF(DJIA!B510=\"\",\"\",DJIA!B510)","v":""},{"$f":"IF(CPIAUCSL!B1278=\"\",\"\",CPIAUCSL!B1278)","v":""},{"$f":"IF(H1162=\"\",\"\",VLOOKUP($G1162,DJIA_def!$A$12:$B$1041,2,FALSE))","v":""},""]
[null,null,null,null,null,{"$f":"IF(H1163=\"\",\"\",VLOOKUP($A1163,'Tocalino Index'!$A$12:$B$1041,2,FALSE))","v":""},"2052-08-01","",{"$f":"IF(DJIA!B511=\"\",\"\",DJIA!B511)","v":""},{"$f":"IF(CPIAUCSL!B1279=\"\",\"\",CPIAUCSL!B1279)","v":""},{"$f":"IF(H1163=\"\",\"\",VLOOKUP($G1163,DJIA_def!$A$12:$B$1041,2,FALSE))","v":""},""]
[null,null,null,null,null,{"$f":"IF(H1164=\"\",\"\",VLOOKUP($A1164,'Tocalino Index'!$A$12:$B$1041,2,FALSE))","v":""},"2052-09-01","",{"$f":"IF(DJIA!B512=\"\",\"\",DJIA!B512)","v":""},{"$f":"IF(CPIAUCSL!B1280=\"\",\"\",CPIAUCSL!B1280)","v":""},{"$f":"IF(H1164=\"\",\"\",VLOOKUP($G1164,DJIA_def!$A$12:$B$1041,2,FALSE))","v":""},""]
[null,null,null,null,null,{"$f":"IF(H1165=\"\",\"\",VLOOKUP($A1165,'Tocalino Index'!$A$12:$B$1041,2,FALSE))","v":""},"2052-10-01","",{"$f":"IF(DJIA!B513=\"\",\"\",DJIA!B513)","v":""},{"$f":"IF(CPIAUCSL!B1281=\"\",\"\",CPIAUCSL!B1281)","v":""},{"$f":"IF(H1165=\"\",\"\",VLOOKUP($G1165,DJIA_def!$A$12:$B$1041,2,FALSE))","v":""},{"$f":"IF(J1165=\"\",\"\",K1165/$M$418)","v":""}]
[null,null,null,null,null,{"$f":"IF(H1166=\"\",\"\",VLOOKUP($A1166,'Tocalino Index'!$A$12:$B$1041,2,FALSE))","v":""},"2052-11-01","",{"$f":"IF(DJIA!B514=\"\",\"\",DJIA!B514)","v":""},{"$f":"IF(CPIAUCSL!B1282=\"\",\"\",CPIAUCSL!B1282)","v":""},{"$f":"IF(H1166=\"\",\"\",VLOOKUP($G1166,DJIA_def!$A$12:$B$1041,2,FALSE))","v":""},""]
[null,null,null,null,null,{"$f":"IF(H1167=\"\",\"\",VLOOKUP($A1167,'Tocalino Index'!$A$12:$B$1041,2,FALSE))","v":""},"2052-12-01","",{"$f":"IF(DJIA!B515=\"\",\"\",DJIA!B515)","v":""},{"$f":"IF(CPIAUCSL!B1283=\"\",\"\",CPIAUCSL!B1283)","v":""},{"$f":"IF(H1167=\"\",\"\",VLOOKUP($G1167,DJIA_def!$A$12:$B$1041,2,FALSE))","v":""},""]
[null,null,null,null,null,{"$f":"IF(H1168=\"\",\"\",VLOOKUP($A1168,'Tocalino Index'!$A$12:$B$1041,2,FALSE))","v":""},"2053-01-01","",{"$f":"IF(DJIA!B516=\"\",\"\",DJIA!B516)","v":""},{"$f":"IF(CPIAUCSL!B1284=\"\",\"\",CPIAUCSL!B1284)","v":""},{"$f":"IF(H1168=\"\",\"\",VLOOKUP($G1168,DJIA_def!$A$12:$B$1041,2,FALSE))","v":""},""]
[null,null,null,null,null,{"$f":"IF(H1169=\"\",\"\",VLOOKUP($A1169,'Tocalino Index'!$A$12:$B$1041,2,FALSE))","v":""},"2053-02-01","",{"$f":"IF(DJIA!B517=\"\",\"\",DJIA!B517)","v":""},{"$f":"IF(CPIAUCSL!B1285=\"\",\"\",CPIAUCSL!B1285)","v":""},{"$f":"IF(H1169=\"\",\"\",VLOOKUP($G1169,DJIA_def!$A$12:$B$1041,2,FALSE))","v":""},""]
[null,null,null,null,null,{"$f":"IF(H1170=\"\",\"\",VLOOKUP($A1170,'Tocalino Index'!$A$12:$B$1041,2,FALSE))","v":""},"2053-03-01","",{"$f":"IF(DJIA!B518=\"\",\"\",DJIA!B518)","v":""},{"$f":"IF(CPIAUCSL!B1286=\"\",\"\",CPIAUCSL!B1286)","v":""},{"$f":"IF(H1170=\"\",\"\",VLOOKUP($G1170,DJIA_def!$A$12:$B$1041,2,FALSE))","v":""},""]
[null,null,null,null,null,{"$f":"IF(H1171=\"\",\"\",VLOOKUP($A1171,'Tocalino Index'!$A$12:$B$1041,2,FALSE))","v":""},"2053-04-01","",{"$f":"IF(DJIA!B519=\"\",\"\",DJIA!B519)","v":""},{"$f":"IF(CPIAUCSL!B1287=\"\",\"\",CPIAUCSL!B1287)","v":""},{"$f":"IF(H1171=\"\",\"\",VLOOKUP($G1171,DJIA_def!$A$12:$B$1041,2,FALSE))","v":""},""]
[null,null,null,null,null,{"$f":"IF(H1172=\"\",\"\",VLOOKUP($A1172,'Tocalino Index'!$A$12:$B$1041,2,FALSE))","v":""},"2053-05-01","",{"$f":"IF(DJIA!B520=\"\",\"\",DJIA!B520)","v":""},{"$f":"IF(CPIAUCSL!B1288=\"\",\"\",CPIAUCSL!B1288)","v":""},{"$f":"IF(H1172=\"\",\"\",VLOOKUP($G1172,DJIA_def!$A$12:$B$1041,2,FALSE))","v":""},""]
[null,null,null,null,null,{"$f":"IF(H1173=\"\",\"\",VLOOKUP($A1173,'Tocalino Index'!$A$12:$B$1041,2,FALSE))","v":""},"2053-06-01","",{"$f":"IF(DJIA!B521=\"\",\"\",DJIA!B521)","v":""},{"$f":"IF(CPIAUCSL!B1289=\"\",\"\",CPIAUCSL!B1289)","v":""},{"$f":"IF(H1173=\"\",\"\",VLOOKUP($G1173,DJIA_def!$A$12:$B$1041,2,FALSE))","v":""},""]
[null,null,null,null,null,{"$f":"IF(H1174=\"\",\"\",VLOOKUP($A1174,'Tocalino Index'!$A$12:$B$1041,2,FALSE))","v":""},"2053-07-01","",{"$f":"IF(DJIA!B522=\"\",\"\",DJIA!B522)","v":""},{"$f":"IF(CPIAUCSL!B1290=\"\",\"\",CPIAUCSL!B1290)","v":""},{"$f":"IF(H1174=\"\",\"\",VLOOKUP($G1174,DJIA_def!$A$12:$B$1041,2,FALSE))","v":""},""]
[null,null,null,null,null,{"$f":"IF(H1175=\"\",\"\",VLOOKUP($A1175,'Tocalino Index'!$A$12:$B$1041,2,FALSE))","v":""},"2053-08-01","",{"$f":"IF(DJIA!B523=\"\",\"\",DJIA!B523)","v":""},{"$f":"IF(CPIAUCSL!B1291=\"\",\"\",CPIAUCSL!B1291)","v":""},{"$f":"IF(H1175=\"\",\"\",VLOOKUP($G1175,DJIA_def!$A$12:$B$1041,2,FALSE))","v":""},""]
[null,null,null,null,null,{"$f":"IF(H1176=\"\",\"\",VLOOKUP($A1176,'Tocalino Index'!$A$12:$B$1041,2,FALSE))","v":""},"2053-09-01","",{"$f":"IF(DJIA!B524=\"\",\"\",DJIA!B524)","v":""},{"$f":"IF(CPIAUCSL!B1292=\"\",\"\",CPIAUCSL!B1292)","v":""},{"$f":"IF(H1176=\"\",\"\",VLOOKUP($G1176,DJIA_def!$A$12:$B$1041,2,FALSE))","v":""},""]

{"sheet":"URLs","index":10,"n_rows":16,"n_cols":10,"rows_kept":16,"cut":false,"hidden":false,"merged":[[1,1,3,1],[13,1,15,1]]}
[null,null,"DATA","SOURCE","VALUES"]
[null,"Tocalino Index"," - Population Level - 25-54 Yrs.","LNU00000060","Fed Spreadsheet (population 25-54yrs) lin",null,1]
[null,null," - Unemployment Rate","UNRATE","Fed Spreadsheet (unemployment rate)  lin",null,null,2]
[null,null," - Core Inflation Rate","CPILFESL","Fed Spreadsheet (core inflation rate)     pc1",null,null,null,3]
[]
[]
[]
[null,"Tocalino Index 1990-07-01 = 100"," - Tocalino Index   &   Wilshire 5000 Price Index","qQN7","Fed Spreadsheet (Tocalino Index vs. USA Stocks)"]
[]
[null,"Tocalino Index =","https://fred.stlouisfed.org/graph/fredgraph.xls?id=LNU00000060_UNRATE_CPILFESL&fml=a%2F%28b%2Bc%29&fq=Monthly&fam=eop&fgst=nbd&fgsnd=1990-07-01&line_index=1&transformation=lin_lin_pc1"]
[null,"Stocks / Inflation =","https://fred.stlouisfed.org/graph/fredgraph.xls?id=WILL5000PR_CPIAUCNS&fml=a%2Fb&fq=Monthly&fam=eop&fgst=nbd&fgsnd=1990-07-01&line_index=1&transformation=lin_lin"]
[]
[null,null,"DATA","SOURCE","VALUES"]
[null,"USA Stocks adjusted to inflation"," - Wilshire 5000 Price Index","WILL5000PR","Fed Spreadsheet (Wilshire 5000)   eop   lin",null,4]
[null,null," - Dow Jones Industrial Average","DJIA","Fed Spreadsheet (Dow Jones Ind Avg)   eop   lin",null,null,null,6]
[null,null," - Inflation Rate","CPIAUCSL","Fed Spreadsheet (inflation rate)     pc1",null,null,null,null,7]

{"sheet":"DJIA","index":11,"n_rows":124,"n_cols":2,"rows_kept":124,"cut":false,"hidden":false,"merged":[]}
["FRED Graph Observations"]
["Federal Reserve Economic Data"]
["Link: https://fred.stlouisfed.org"]
["Help: https://fred.stlouisfed.org/help-faq"]
["Economic Research Division"]
["Federal Reserve Bank of St. Louis"]
[]
["DJIA","Dow Jones Industrial Average, Index, Monthly, Not Seasonally Adjusted"]
[]
["Frequency: Monthly"]
["observation_date","DJIA"]
["2011-01-01",11891.93]
["2011-02-01",12226.34]
["2011-03-01",12319.73]
["2011-04-01",12810.54]
["2011-05-01",12569.79]
["2011-06-01",12414.34]
["2011-07-01",12143.24]
["2011-08-01",11613.53]
["2011-09-01",10913.38]
["2011-10-01",11955.01]
["2011-11-01",12045.68]
["2011-12-01",12217.56]
["2012-01-01",12632.91]
["2012-02-01",12952.07]
["2012-03-01",13212.04]
["2012-04-01",13213.63]
["2012-05-01",12393.45]
["2012-06-01",12880.09]
["2012-07-01",13008.68]
["2012-08-01",13090.84]
["2012-09-01",13437.13]
["2012-10-01",13096.46]
["2012-11-01",13025.58]
["2012-12-01",13104.14]
["2013-01-01",13860.58]
["2013-02-01",14054.49]
["2013-03-01",14578.54]
["2013-04-01",14839.8]
["2013-05-01",15115.57]
["2013-06-01",14909.6]
["2013-07-01",15499.54]
["2013-08-01",14810.31]
["2013-09-01",15129.67]
["2013-10-01",15545.75]
["2013-11-01",16086.41]
["2013-12-01",16576.66]
["2014-01-01",15698.85]
["2014-02-01",16321.71]
["2014-03-01",16457.66]
["2014-04-01",16580.84]
["2014-05-01",16717.169999999998]
["2014-06-01",16826.599999999999]
["2014-07-01",16563.3]
["2014-08-01",17098.45]
["2014-09-01",17042.900000000001]
["2014-10-01",17390.52]
["2014-11-01",17828.240000000002]
["2014-12-01",17823.07]
["2015-01-01",17164.95]
["2015-02-01",18132.7]
["2015-03-01",17776.12]
["2015-04-01",17840.52]
["2015-05-01",18010.68]
["2015-06-01",17619.509999999998]
["2015-07-01",17689.86]
["2015-08-01",16528.03]
["2015-09-01",16284.7]
["2015-10-01",17663.54]
["2015-11-01",17719.919999999998]
["2015-12-01",17425.03]
["2016-01-01",16466.3]
["2016-02-01",16516.5]
["2016-03-01",17685.09]
["2016-04-01",17773.64]
["2016-05-01",17787.2]
["2016-06-01",17929.990000000002]
["2016-07-01",18432.240000000002]
["2016-08-01",18400.88]
["2016-09-01",18308.150000000001]
["2016-10-01",18142.419999999998]
["2016-11-01",19123.580000000002]
["2016-12-01",19762.599999999999]
["2017-01-01",19864.09]
["2017-02-01",20812.240000000002]
["2017-03-01",20663.22]
["2017-04-01",20940.509999999998]
["2017-05-01",21008.65]
["2017-06-01",21349.63]
["2017-07-01",21891.119999999999]
["2017-08-01",21948.1]
["2017-09-01",22405.09]
["2017-10-01",23377.24]
["2017-11-01",24272.35]
["2017-12-01",24719.22]
["2018-01-01",26149.39]
["2018-02-01",25029.200000000001]
["2018-03-01",24103.11]
["2018-04-01",24163.15]
["2018-05-01",24415.84]
["2018-06-01",24271.41]
["2018-07-01",25415.19]
["2018-08-01",25964.82]
["2018-09-01",26458.31]
["2018-10-01",25115.759999999998]
["2018-11-01",25538.46]
["2018-12-01",23327.46]
["2019-01-01",24999.67]
["2019-02-01",25916]
["2019-03-01",25928.68]
["2019-04-01",26592.91]
["2019-05-01",24815.040000000001]
["2019-06-01",26599.96]
["2019-07-01",26864.27]
["2019-08-01",26403.279999999999]
["2019-09-01",26916.83]
["2019-10-01",27046.23]
["2019-11-01",28051.41]
["2019-12-01",28538.44]
["2020-01-01",28256.03]
["2020-02-01",25409.360000000001]
["2020-03-01",21917.16]
["2020-04-01",24345.72]
["2020-05-01",{"$f":"NA()","v":{"$error":"#N/A"}}]

{"sheet":"CPIAUCSL","index":12,"n_rows":890,"n_cols":2,"rows_kept":890,"cut":false,"hidden":false,"merged":[]}
["FRED Graph Observations"]
["Federal Reserve Economic Data"]
["Link: https://fred.stlouisfed.org"]
["Help: https://fred.stlouisfed.org/help-faq"]
["Economic Research Division"]
["Federal Reserve Bank of St. Louis"]
[]
["CPIAUCSL","Consumer Price Index for All Urban Consumers: All Items in U.S. City Average, Index 1982-1984=100, Monthly, Seasonally Adjusted"]
[]
["Frequency: Monthly"]
["observation_date","CPIAUCSL"]
["1947-01-01",21.48]
["1947-02-01",21.62]
["1947-03-01",22]
["1947-04-01",22]
["1947-05-01",21.95]
["1947-06-01",22.08]
["1947-07-01",22.23]
["1947-08-01",22.4]
["1947-09-01",22.84]
["1947-10-01",22.91]
["1947-11-01",23.06]
["1947-12-01",23.41]
["1948-01-01",23.68]
["1948-02-01",23.67]
["1948-03-01",23.5]
["1948-04-01",23.82]
["1948-05-01",24.01]
["1948-06-01",24.15]
["1948-07-01",24.4]
["1948-08-01",24.43]
["1948-09-01",24.36]
["1948-10-01",24.31]
["1948-11-01",24.16]
["1948-12-01",24.05]
["1949-01-01",24.01]
["1949-02-01",23.91]
["1949-03-01",23.91]
["1949-04-01",23.92]
["1949-05-01",23.91]
["1949-06-01",23.92]
["1949-07-01",23.7]
["1949-08-01",23.7]
["1949-09-01",23.75]
["1949-10-01",23.67]
["1949-11-01",23.7]
["1949-12-01",23.61]
["1950-01-01",23.51]
["1950-02-01",23.61]
["1950-03-01",23.64]
["1950-04-01",23.65]
["1950-05-01",23.77]
["1950-06-01",23.88]
["1950-07-01",24.07]
["1950-08-01",24.2]
["1950-09-01",24.34]
["1950-10-01",24.5]
["1950-11-01",24.6]
["1950-12-01",24.98]
["1951-01-01",25.38]
["1951-02-01",25.83]
["1951-03-01",25.88]
["1951-04-01",25.92]
["1951-05-01",25.99]
["1951-06-01",25.93]
["1951-07-01",25.91]
["1951-08-01",25.86]
["1951-09-01",26.03]
["1951-10-01",26.16]
["1951-11-01",26.32]
["1951-12-01",26.47]
["1952-01-01",26.45]
["1952-02-01",26.41]
["1952-03-01",26.39]
["1952-04-01",26.46]
["1952-05-01",26.47]
["1952-06-01",26.53]
["1952-07-01",26.68]
["1952-08-01",26.69]
["1952-09-01",26.63]
["1952-10-01",26.69]
["1952-11-01",26.69]
["1952-12-01",26.71]
["1953-01-01",26.64]
["1953-02-01",26.59]
["1953-03-01",26.63]
["1953-04-01",26.69]
["1953-05-01",26.7]
["1953-06-01",26.77]
["1953-07-01",26.79]
["1953-08-01",26.85]
["1953-09-01",26.89]
["1953-10-01",26.95]
["1953-11-01",26.85]
["1953-12-01",26.87]
["1954-01-01",26.94]
["1954-02-01",26.99]
["1954-03-01",26.93]
["1954-04-01",26.86]
["1954-05-01",26.93]
["1954-06-01",26.94]
["1954-07-01",26.86]
["1954-08-01",26.85]
["1954-09-01",26.81]
["1954-10-01",26.72]
["1954-11-01",26.78]
["1954-12-01",26.77]
["1955-01-01",26.77]
["1955-02-01",26.82]
["1955-03-01",26.79]
["1955-04-01",26.79]
["1955-05-01",26.77]
["1955-06-01",26.71]
["1955-07-01",26.76]
["1955-08-01",26.72]
["1955-09-01",26.85]
["1955-10-01",26.82]
["1955-11-01",26.88]
["1955-12-01",26.87]
["1956-01-01",26.83]
["1956-02-01",26.86]
["1956-03-01",26.89]
["1956-04-01",26.93]
["1956-05-01",27.03]
["1956-06-01",27.15]
["1956-07-01",27.29]
["1956-08-01",27.31]
["1956-09-01",27.35]
["1956-10-01",27.51]
["1956-11-01",27.51]
["1956-12-01",27.63]
["1957-01-01",27.67]
["1957-02-01",27.8]
["1957-03-01",27.86]
["1957-04-01",27.93]
["1957-05-01",28]
["1957-06-01",28.11]
["1957-07-01",28.19]
["1957-08-01",28.28]
["1957-09-01",28.32]
["1957-10-01",28.32]
["1957-11-01",28.41]
["1957-12-01",28.47]
["1958-01-01",28.64]
["1958-02-01",28.7]
["1958-03-01",28.87]
["1958-04-01",28.94]
["1958-05-01",28.94]
["1958-06-01",28.91]
["1958-07-01",28.89]
["1958-08-01",28.94]
["1958-09-01",28.91]
["1958-10-01",28.91]
["1958-11-01",28.95]
["1958-12-01",28.97]
["1959-01-01",29.01]
["1959-02-01",29]
["1959-03-01",28.97]
["1959-04-01",28.98]
["1959-05-01",29.04]
["1959-06-01",29.11]
["1959-07-01",29.15]
["1959-08-01",29.18]
["1959-09-01",29.25]
["1959-10-01",29.35]
["1959-11-01",29.35]
["1959-12-01",29.41]
["1960-01-01",29.37]
["1960-02-01",29.41]
["1960-03-01",29.41]
["1960-04-01",29.54]
["1960-05-01",29.57]
["1960-06-01",29.61]
["1960-07-01",29.55]
["1960-08-01",29.61]
["1960-09-01",29.61]
["1960-10-01",29.75]
["1960-11-01",29.78]
["1960-12-01",29.81]
["1961-01-01",29.84]
["1961-02-01",29.84]
["1961-03-01",29.84]
["1961-04-01",29.81]
["1961-05-01",29.84]
["1961-06-01",29.84]
["1961-07-01",29.92]
["1961-08-01",29.94]
["1961-09-01",29.98]
["1961-10-01",29.98]
["1961-11-01",29.98]
["1961-12-01",30.01]
["1962-01-01",30.04]
["1962-02-01",30.11]
["1962-03-01",30.17]
["1962-04-01",30.21]
["1962-05-01",30.24]
["1962-06-01",30.21]
["1962-07-01",30.22]
["1962-08-01",30.28]
["1962-09-01",30.42]
["1962-10-01",30.38]
["1962-11-01",30.38]
["1962-12-01",30.38]
["1963-01-01",30.44]
["1963-02-01",30.48]
["1963-03-01",30.51]
["1963-04-01",30.48]
["1963-05-01",30.51]
["1963-06-01",30.61]
["1963-07-01",30.69]
["1963-08-01",30.75]
["1963-09-01",30.72]
["1963-10-01",30.75]
["1963-11-01",30.78]
["1963-12-01",30.88]
["1964-01-01",30.94]
["1964-02-01",30.91]
["1964-03-01",30.94]
["1964-04-01",30.95]
["1964-05-01",30.98]
["1964-06-01",31.01]
["1964-07-01",31.02]
["1964-08-01",31.05]
["1964-09-01",31.08]
["1964-10-01",31.12]
["1964-11-01",31.21]
["1964-12-01",31.25]
["1965-01-01",31.28]
["1965-02-01",31.28]
["1965-03-01",31.31]
["1965-04-01",31.38]
["1965-05-01",31.48]
["1965-06-01",31.61]
["1965-07-01",31.58]
["1965-08-01",31.55]
["1965-09-01",31.62]
["1965-10-01",31.65]
["1965-11-01",31.75]
["1965-12-01",31.85]
["1966-01-01",31.88]
["1966-02-01",32.08]
["1966-03-01",32.18]
["1966-04-01",32.28]
["1966-05-01",32.35]
["1966-06-01",32.380000000000003]
["1966-07-01",32.450000000000003]
["1966-08-01",32.65]
["1966-09-01",32.75]
["1966-10-01",32.85]
["1966-11-01",32.880000000000003]
["1966-12-01",32.92]
["1967-01-01",32.9]
["1967-02-01",33]
["1967-03-01",33]
["1967-04-01",33.1]
["1967-05-01",33.1]
["1967-06-01",33.299999999999997]
["1967-07-01",33.4]
["1967-08-01",33.5]
["1967-09-01",33.6]
["1967-10-01",33.700000000000003]
["1967-11-01",33.9]
["1967-12-01",34]
["1968-01-01",34.1]
["1968-02-01",34.200000000000003]
["1968-03-01",34.299999999999997]
["1968-04-01",34.4]
["1968-05-01",34.5]
["1968-06-01",34.700000000000003]
["1968-07-01",34.9]
["1968-08-01",35]
["1968-09-01",35.1]
["1968-10-01",35.299999999999997]
["1968-11-01",35.4]
["1968-12-01",35.6]
["1969-01-01",35.700000000000003]
["1969-02-01",35.799999999999997]
["1969-03-01",36.1]
["1969-04-01",36.299999999999997]
["1969-05-01",36.4]
["1969-06-01",36.6]
["1969-07-01",36.799999999999997]
["1969-08-01",36.9]
["1969-09-01",37.1]
["1969-10-01",37.299999999999997]
["1969-11-01",37.5]
["1969-12-01",37.700000000000003]
["1970-01-01",37.9]
["1970-02-01",38.1]
["1970-03-01",38.299999999999997]
["1970-04-01",38.5]
["1970-05-01",38.6]
["1970-06-01",38.799999999999997]
["1970-07-01",38.9]
["1970-08-01",39]
["1970-09-01",39.200000000000003]
["1970-10-01",39.4]
["1970-11-01",39.6]
["1970-12-01",39.799999999999997]
["1971-01-01",39.9]
["1971-02-01",39.9]
["1971-03-01",40]
["1971-04-01",40.1]
["1971-05-01",40.299999999999997]
["1971-06-01",40.5]
["1971-07-01",40.6]
["1971-08-01",40.700000000000003]
["1971-09-01",40.799999999999997]
["1971-10-01",40.9]
["1971-11-01",41]
["1971-12-01",41.1]
["1972-01-01",41.2]
["1972-02-01",41.4]
["1972-03-01",41.4]
["1972-04-01",41.5]
["1972-05-01",41.6]
["1972-06-01",41.7]
["1972-07-01",41.8]
["1972-08-01",41.9]
["1972-09-01",42.1]
["1972-10-01",42.2]
["1972-11-01",42.4]
["1972-12-01",42.5]
["1973-01-01",42.7]
["1973-02-01",43]
["1973-03-01",43.4]
["1973-04-01",43.7]
["1973-05-01",43.9]
["1973-06-01",44.2]
["1973-07-01",44.2]
["1973-08-01",45]
["1973-09-01",45.2]
["1973-10-01",45.6]
["1973-11-01",45.9]
["1973-12-01",46.3]
["1974-01-01",46.8]
["1974-02-01",47.3]
["1974-03-01",47.8]
["1974-04-01",48.1]
["1974-05-01",48.6]
["1974-06-01",49]
["1974-07-01",49.3]
["1974-08-01",49.9]
["1974-09-01",50.6]
["1974-10-01",51]
["1974-11-01",51.5]
["1974-12-01",51.9]
["1975-01-01",52.3]
["1975-02-01",52.6]
["1975-03-01",52.8]
["1975-04-01",53]
["1975-05-01",53.1]
["1975-06-01",53.5]
["1975-07-01",54]
["1975-08-01",54.2]
["1975-09-01",54.6]
["1975-10-01",54.9]
["1975-11-01",55.3]
["1975-12-01",55.6]
["1976-01-01",55.8]
["1976-02-01",55.9]
["1976-03-01",56]
["1976-04-01",56.1]
["1976-05-01",56.4]
["1976-06-01",56.7]
["1976-07-01",57]
["1976-08-01",57.3]
["1976-09-01",57.6]
["1976-10-01",57.9]
["1976-11-01",58.1]
["1976-12-01",58.4]
["1977-01-01",58.7]
["1977-02-01",59.3]
["1977-03-01",59.6]
["1977-04-01",60]
["1977-05-01",60.2]
["1977-06-01",60.5]
["1977-07-01",60.8]
["1977-08-01",61.1]
["1977-09-01",61.3]
["1977-10-01",61.6]
["1977-11-01",62]
["1977-12-01",62.3]
["1978-01-01",62.7]
["1978-02-01",63]
["1978-03-01",63.4]
["1978-04-01",63.9]
["1978-05-01",64.5]
["1978-06-01",65]
["1978-07-01",65.5]
["1978-08-01",65.900000000000006]
["1978-09-01",66.5]
["1978-10-01",67.099999999999994]
["1978-11-01",67.5]
["1978-12-01",67.900000000000006]
["1979-01-01",68.5]
["1979-02-01",69.2]
["1979-03-01",69.900000000000006]
["1979-04-01",70.599999999999994]
["1979-05-01",71.400000000000006]
["1979-06-01",72.2]
["1979-07-01",73]
["1979-08-01",73.7]
["1979-09-01",74.400000000000006]
["1979-10-01",75.2]
["1979-11-01",76]
["1979-12-01",76.900000000000006]
["1980-01-01",78]
["1980-02-01",79]
["1980-03-01",80.099999999999994]
["1980-04-01",80.900000000000006]
["1980-05-01",81.7]
["1980-06-01",82.5]
["1980-07-01",82.6]
["1980-08-01",83.2]
["1980-09-01",83.9]
["1980-10-01",84.7]
["1980-11-01",85.6]
["1980-12-01",86.4]
["1981-01-01",87.2]
["1981-02-01",88]
["1981-03-01",88.6]
["1981-04-01",89.1]
["1981-05-01",89.7]
["1981-06-01",90.5]
["1981-07-01",91.5]
["1981-08-01",92.2]
["1981-09-01",93.1]
["1981-10-01",93.4]
["1981-11-01",93.8]
["1981-12-01",94.1]
["1982-01-01",94.4]
["1982-02-01",94.7]
["1982-03-01",94.7]
["1982-04-01",95]
["1982-05-01",95.9]
["1982-06-01",97]
["1982-07-01",97.5]
["1982-08-01",97.7]
["1982-09-01",97.7]
["1982-10-01",98.1]
["1982-11-01",98]
["1982-12-01",97.7]
["1983-01-01",97.9]
["1983-02-01",98]
["1983-03-01",98.1]
["1983-04-01",98.8]
["1983-05-01",99.2]
["1983-06-01",99.4]
["1983-07-01",99.8]
["1983-08-01",100.1]
["1983-09-01",100.4]
["1983-10-01",100.8]
["1983-11-01",101.1]
["1983-12-01",101.4]
["1984-01-01",102.1]
["1984-02-01",102.6]
["1984-03-01",102.9]
["1984-04-01",103.3]
["1984-05-01",103.5]
["1984-06-01",103.7]
["1984-07-01",104.1]
["1984-08-01",104.4]
["1984-09-01",104.7]
["1984-10-01",105.1]
["1984-11-01",105.3]
["1984-12-01",105.5]
["1985-01-01",105.7]
["1985-02-01",106.3]
["1985-03-01",106.8]
["1985-04-01",107]
["1985-05-01",107.2]
["1985-06-01",107.5]
["1985-07-01",107.7]
["1985-08-01",107.9]
["1985-09-01",108.1]
["1985-10-01",108.5]
["1985-11-01",109]
["1985-12-01",109.5]
["1986-01-01",109.9]
["1986-02-01",109.7]
["1986-03-01",109.1]
["1986-04-01",108.7]
["1986-05-01",109]
["1986-06-01",109.4]
["1986-07-01",109.5]
["1986-08-01",109.6]
["1986-09-01",110]
["1986-10-01",110.2]
["1986-11-01",110.4]
["1986-12-01",110.8]
["1987-01-01",111.4]
["1987-02-01",111.8]
["1987-03-01",112.2]
["1987-04-01",112.7]
["1987-05-01",113]
["1987-06-01",113.5]
["1987-07-01",113.8]
["1987-08-01",114.3]
["1987-09-01",114.7]
["1987-10-01",115]
["1987-11-01",115.4]
["1987-12-01",115.6]
["1988-01-01",116]
["1988-02-01",116.2]
["1988-03-01",116.5]
["1988-04-01",117.2]
["1988-05-01",117.5]
["1988-06-01",118]
["1988-07-01",118.5]
["1988-08-01",119]
["1988-09-01",119.5]
["1988-10-01",119.9]
["1988-11-01",120.3]
["1988-12-01",120.7]
["1989-01-01",121.2]
["1989-02-01",121.6]
["1989-03-01",122.2]
["1989-04-01",123.1]
["1989-05-01",123.7]
["1989-06-01",124.1]
["1989-07-01",124.5]
["1989-08-01",124.5]
["1989-09-01",124.8]
["1989-10-01",125.4]
["1989-11-01",125.9]
["1989-12-01",126.3]
["1990-01-01",127.5]
["1990-02-01",128]
["1990-03-01",128.6]
["1990-04-01",128.9]
["1990-05-01",129.1]
["1990-06-01",129.9]
["1990-07-01",130.5]
["1990-08-01",131.6]
["1990-09-01",132.5]
["1990-10-01",133.4]
["1990-11-01",133.69999999999999]
["1990-12-01",134.19999999999999]
["1991-01-01",134.69999999999999]
["1991-02-01",134.80000000000001]
["1991-03-01",134.80000000000001]
["1991-04-01",135.1]
["1991-05-01",135.6]
["1991-06-01",136]
["1991-07-01",136.19999999999999]
["1991-08-01",136.6]
["1991-09-01",137]
["1991-10-01",137.19999999999999]
["1991-11-01",137.80000000000001]
["1991-12-01",138.19999999999999]
["1992-01-01",138.30000000000001]
["1992-02-01",138.6]
["1992-03-01",139.1]
["1992-04-01",139.4]
["1992-05-01",139.69999999999999]
["1992-06-01",140.1]
["1992-07-01",140.5]
["1992-08-01",140.80000000000001]
["1992-09-01",141.1]
["1992-10-01",141.69999999999999]
["1992-11-01",142.1]
["1992-12-01",142.30000000000001]
["1993-01-01",142.80000000000001]
["1993-02-01",143.1]
["1993-03-01",143.30000000000001]
["1993-04-01",143.80000000000001]
["1993-05-01",144.19999999999999]
["1993-06-01",144.30000000000001]
["1993-07-01",144.5]
["1993-08-01",144.80000000000001]
["1993-09-01",145]
["1993-10-01",145.6]
["1993-11-01",146]
["1993-12-01",146.30000000000001]
["1994-01-01",146.30000000000001]
["1994-02-01",146.69999999999999]
["1994-03-01",147.1]
["1994-04-01",147.19999999999999]
["1994-05-01",147.5]
["1994-06-01",147.9]
["1994-07-01",148.4]
["1994-08-01",149]
["1994-09-01",149.30000000000001]
["1994-10-01",149.4]
["1994-11-01",149.80000000000001]
["1994-12-01",150.1]
["1995-01-01",150.5]
["1995-02-01",150.9]
["1995-03-01",151.19999999999999]
["1995-04-01",151.80000000000001]
["1995-05-01",152.1]
["1995-06-01",152.4]
["1995-07-01",152.6]
["1995-08-01",152.9]
["1995-09-01",153.1]
["1995-10-01",153.5]
["1995-11-01",153.69999999999999]
["1995-12-01",153.9]
["1996-01-01",154.69999999999999]
["1996-02-01",155]
["1996-03-01",155.5]
["1996-04-01",156.1]
["1996-05-01",156.4]
["1996-06-01",156.69999999999999]
["1996-07-01",157]
["1996-08-01",157.19999999999999]
["1996-09-01",157.69999999999999]
["1996-10-01",158.19999999999999]
["1996-11-01",158.69999999999999]
["1996-12-01",159.1]
["1997-01-01",159.4]
["1997-02-01",159.69999999999999]
["1997-03-01",159.80000000000001]
["1997-04-01",159.9]
["1997-05-01",159.9]
["1997-06-01",160.19999999999999]
["1997-07-01",160.4]
["1997-08-01",160.80000000000001]
["1997-09-01",161.19999999999999]
["1997-10-01",161.5]
["1997-11-01",161.69999999999999]
["1997-12-01",161.80000000000001]
["1998-01-01",162]
["1998-02-01",162]
["1998-03-01",162]
["1998-04-01",162.19999999999999]
["1998-05-01",162.6]
["1998-06-01",162.80000000000001]
["1998-07-01",163.19999999999999]
["1998-08-01",163.4]
["1998-09-01",163.5]
["1998-10-01",163.9]
["1998-11-01",164.1]
["1998-12-01",164.4]
["1999-01-01",164.7]
["1999-02-01",164.7]
["1999-03-01",164.8]
["1999-04-01",165.9]
["1999-05-01",166]
["1999-06-01",166]
["1999-07-01",166.7]
["1999-08-01",167.1]
["1999-09-01",167.8]
["1999-10-01",168.1]
["1999-11-01",168.4]
["1999-12-01",168.8]
["2000-01-01",169.3]
["2000-02-01",170]
["2000-03-01",171]
["2000-04-01",170.9]
["2000-05-01",171.2]
["2000-06-01",172.2]
["2000-07-01",172.7]
["2000-08-01",172.7]
["2000-09-01",173.6]
["2000-10-01",173.9]
["2000-11-01",174.2]
["2000-12-01",174.6]
["2001-01-01",175.6]
["2001-02-01",176]
["2001-03-01",176.1]
["2001-04-01",176.4]
["2001-05-01",177.3]
["2001-06-01",177.7]
["2001-07-01",177.4]
["2001-08-01",177.4]
["2001-09-01",178.1]
["2001-10-01",177.6]
["2001-11-01",177.5]
["2001-12-01",177.4]
["2002-01-01",177.7]
["2002-02-01",178]
["2002-03-01",178.5]
["2002-04-01",179.3]
["2002-05-01",179.5]
["2002-06-01",179.6]
["2002-07-01",180]
["2002-08-01",180.5]
["2002-09-01",180.8]
["2002-10-01",181.2]
["2002-11-01",181.5]
["2002-12-01",181.8]
["2003-01-01",182.6]
["2003-02-01",183.6]
["2003-03-01",183.9]
["2003-04-01",183.2]
["2003-05-01",182.9]
["2003-06-01",183.1]
["2003-07-01",183.7]
["2003-08-01",184.5]
["2003-09-01",185.1]
["2003-10-01",184.9]
["2003-11-01",185]
["2003-12-01",185.5]
["2004-01-01",186.3]
["2004-02-01",186.7]
["2004-03-01",187.1]
["2004-04-01",187.4]
["2004-05-01",188.2]
["2004-06-01",188.9]
["2004-07-01",189.1]
["2004-08-01",189.2]
["2004-09-01",189.8]
["2004-10-01",190.8]
["2004-11-01",191.7]
["2004-12-01",191.7]
["2005-01-01",191.6]
["2005-02-01",192.4]
["2005-03-01",193.1]
["2005-04-01",193.7]
["2005-05-01",193.6]
["2005-06-01",193.7]
["2005-07-01",194.9]
["2005-08-01",196.1]
["2005-09-01",198.8]
["2005-10-01",199.1]
["2005-11-01",198.1]
["2005-12-01",198.1]
["2006-01-01",199.3]
["2006-02-01",199.4]
["2006-03-01",199.7]
["2006-04-01",200.7]
["2006-05-01",201.3]
["2006-06-01",201.8]
["2006-07-01",202.9]
["2006-08-01",203.8]
["2006-09-01",202.8]
["2006-10-01",201.9]
["2006-11-01",202]
["2006-12-01",203.1]
["2007-01-01",203.43700000000001]
["2007-02-01",204.226]
["2007-03-01",205.28800000000001]
["2007-04-01",205.904]
["2007-05-01",206.755]
["2007-06-01",207.23400000000001]
["2007-07-01",207.60300000000001]
["2007-08-01",207.667]
["2007-09-01",208.547]
["2007-10-01",209.19]
["2007-11-01",210.834]
["2007-12-01",211.44499999999999]
["2008-01-01",212.17400000000001]
["2008-02-01",212.68700000000001]
["2008-03-01",213.44800000000001]
["2008-04-01",213.94200000000001]
["2008-05-01",215.208]
["2008-06-01",217.46299999999999]
["2008-07-01",219.01599999999999]
["2008-08-01",218.69]
["2008-09-01",218.87700000000001]
["2008-10-01",216.995]
["2008-11-01",213.15299999999999]
["2008-12-01",211.398]
["2009-01-01",211.93299999999999]
["2009-02-01",212.70500000000001]
["2009-03-01",212.495]
["2009-04-01",212.709]
["2009-05-01",213.02199999999999]
["2009-06-01",214.79]
["2009-07-01",214.726]
["2009-08-01",215.44499999999999]
["2009-09-01",215.86099999999999]
["2009-10-01",216.50899999999999]
["2009-11-01",217.23400000000001]
["2009-12-01",217.34700000000001]
["2010-01-01",217.488]
["2010-02-01",217.28100000000001]
["2010-03-01",217.35300000000001]
["2010-04-01",217.40299999999999]
["2010-05-01",217.29]
["2010-06-01",217.19900000000001]
["2010-07-01",217.60499999999999]
["2010-08-01",217.923]
["2010-09-01",218.27500000000001]
["2010-10-01",219.035]
["2010-11-01",219.59]
["2010-12-01",220.47200000000001]
["2011-01-01",221.18700000000001]
["2011-02-01",221.898]
["2011-03-01",223.04599999999999]
["2011-04-01",224.09299999999999]
["2011-05-01",224.80600000000001]
["2011-06-01",224.80600000000001]
["2011-07-01",225.39500000000001]
["2011-08-01",226.10599999999999]
["2011-09-01",226.59700000000001]
["2011-10-01",226.75]
["2011-11-01",227.16900000000001]
["2011-12-01",227.22300000000001]
["2012-01-01",227.84200000000001]
["2012-02-01",228.32900000000001]
["2012-03-01",228.80699999999999]
["2012-04-01",229.18700000000001]
["2012-05-01",228.71299999999999]
["2012-06-01",228.524]
["2012-07-01",228.59]
["2012-08-01",229.91800000000001]
["2012-09-01",231.01499999999999]
["2012-10-01",231.63800000000001]
["2012-11-01",231.249]
["2012-12-01",231.221]
["2013-01-01",231.679]
["2013-02-01",232.93700000000001]
["2013-03-01",232.28200000000001]
["2013-04-01",231.797]
["2013-05-01",231.893]
["2013-06-01",232.44499999999999]
["2013-07-01",232.9]
["2013-08-01",233.45599999999999]
["2013-09-01",233.54400000000001]
["2013-10-01",233.66900000000001]
["2013-11-01",234.1]
["2013-12-01",234.71899999999999]
["2014-01-01",235.28800000000001]
["2014-02-01",235.547]
["2014-03-01",236.02799999999999]
["2014-04-01",236.46799999999999]
["2014-05-01",236.91800000000001]
["2014-06-01",237.23099999999999]
["2014-07-01",237.49799999999999]
["2014-08-01",237.46]
["2014-09-01",237.477]
["2014-10-01",237.43]
["2014-11-01",236.983]
["2014-12-01",236.25200000000001]
["2015-01-01",234.74700000000001]
["2015-02-01",235.34200000000001]
["2015-03-01",235.976]
["2015-04-01",236.22200000000001]
["2015-05-01",237.001]
["2015-06-01",237.65700000000001]
["2015-07-01",238.03399999999999]
["2015-08-01",238.03299999999999]
["2015-09-01",237.49799999999999]
["2015-10-01",237.733]
["2015-11-01",238.017]
["2015-12-01",237.761]
["2016-01-01",237.827]
["2016-02-01",237.51400000000001]
["2016-03-01",237.99]
["2016-04-01",238.83500000000001]
["2016-05-01",239.44]
["2016-06-01",240.14400000000001]
["2016-07-01",240.11099999999999]
["2016-08-01",240.595]
["2016-09-01",241.06800000000001]
["2016-10-01",241.64099999999999]
["2016-11-01",241.99299999999999]
["2016-12-01",242.71199999999999]
["2017-01-01",243.71700000000001]
["2017-02-01",244.02799999999999]
["2017-03-01",243.721]
["2017-04-01",244.05799999999999]
["2017-05-01",243.92599999999999]
["2017-06-01",244.179]
["2017-07-01",244.328]
["2017-08-01",245.304]
["2017-09-01",246.44499999999999]
["2017-10-01",246.57]
["2017-11-01",247.333]
["2017-12-01",247.84700000000001]
["2018-01-01",248.816]
["2018-02-01",249.47499999999999]
["2018-03-01",249.41300000000001]
["2018-04-01",249.95699999999999]
["2018-05-01",250.64]
["2018-06-01",251.17599999999999]
["2018-07-01",251.482]
["2018-08-01",251.905]
["2018-09-01",252.261]
["2018-10-01",252.77699999999999]
["2018-11-01",252.66200000000001]
["2018-12-01",252.65299999999999]
["2019-01-01",252.55]
["2019-02-01",253.18100000000001]
["2019-03-01",254.095]
["2019-04-01",254.94300000000001]
["2019-05-01",255.167]
["2019-06-01",255.40199999999999]
["2019-07-01",256.08699999999999]
["2019-08-01",256.29399999999998]
["2019-09-01",256.59300000000002]
["2019-10-01",257.22899999999998]
["2019-11-01",257.82400000000001]
["2019-12-01",258.44400000000002]
["2020-01-01",258.82]
["2020-02-01",259.05]
["2020-03-01",257.95299999999997]

{"sheet":"LNU00000060 lin","index":13,"n_rows":759,"n_cols":2,"rows_kept":759,"cut":false,"hidden":false,"merged":[]}
["FRED Graph Observations"]
["Federal Reserve Economic Data"]
["Link: https://fred.stlouisfed.org"]
["Help: https://fred.stlouisfed.org/help-faq"]
["Economic Research Division"]
["Federal Reserve Bank of St. Louis"]
[]
["LNU00000060","Population Level - 25-54 Yrs., Thousands of Persons, Monthly, Not Seasonally Adjusted"]
[]
["Frequency: Monthly"]
["observation_date","LNU00000060"]
["1958-01-01",65325]
["1958-02-01",65350]
["1958-03-01",65373]
["1958-04-01",65392]
["1958-05-01",65422]
["1958-06-01",65451]
["1958-07-01",65460]
["1958-08-01",65449]
["1958-09-01",65426]
["1958-10-01",65454]
["1958-11-01",65476]
["1958-12-01",65497]
["1959-01-01",65525]
["1959-02-01",65544]
["1959-03-01",65566]
["1959-04-01",65587]
["1959-05-01",65614]
["1959-06-01",65638]
["1959-07-01",65660]
["1959-08-01",65681]
["1959-09-01",65650]
["1959-10-01",65639]
["1959-11-01",65621]
["1959-12-01",65642]
["1960-01-01",65931]
["1960-02-01",65952]
["1960-03-01",65975]
["1960-04-01",65974]
["1960-05-01",65989]
["1960-06-01",66017]
["1960-07-01",66034]
["1960-08-01",66069]
["1960-09-01",66073]
["1960-10-01",66091]
["1960-11-01",66146]
["1960-12-01",66194]
["1961-01-01",66237]
["1961-02-01",66243]
["1961-03-01",66253]
["1961-04-01",66274]
["1961-05-01",66301]
["1961-06-01",66328]
["1961-07-01",66348]
["1961-08-01",66362]
["1961-09-01",66373]
["1961-10-01",66380]
["1961-11-01",66324]
["1961-12-01",66316]
["1962-01-01",66277]
["1962-02-01",66272]
["1962-03-01",66290]
["1962-04-01",66023]
["1962-05-01",66043]
["1962-06-01",66069]
["1962-07-01",66167]
["1962-08-01",66204]
["1962-09-01",66282]
["1962-10-01",66318]
["1962-11-01",66334]
["1962-12-01",66349]
["1963-01-01",66390]
["1963-02-01",66405]
["1963-03-01",66422]
["1963-04-01",66437]
["1963-05-01",66440]
["1963-06-01",66461]
["1963-07-01",66509]
["1963-08-01",66551]
["1963-09-01",66547]
["1963-10-01",66572]
["1963-11-01",66596]
["1963-12-01",66613]
["1964-01-01",66653]
["1964-02-01",66666]
["1964-03-01",66679]
["1964-04-01",66702]
["1964-05-01",66724]
["1964-06-01",66749]
["1964-07-01",66774]
["1964-08-01",66789]
["1964-09-01",66814]
["1964-10-01",66838]
["1964-11-01",66862]
["1964-12-01",66885]
["1965-01-01",66911]
["1965-02-01",66929]
["1965-03-01",66951]
["1965-04-01",66977]
["1965-05-01",66996]
["1965-06-01",67021]
["1965-07-01",66934]
["1965-08-01",66975]
["1965-09-01",67005]
["1965-10-01",67013]
["1965-11-01",67019]
["1965-12-01",67024]
["1966-01-01",67022]
["1966-02-01",67029]
["1966-03-01",67002]
["1966-04-01",67037]
["1966-05-01",67096]
["1966-06-01",67098]
["1966-07-01",67105]
["1966-08-01",67129]
["1966-09-01",67144]
["1966-10-01",67162]
["1966-11-01",67179]
["1966-12-01",67212]
["1967-01-01",67275]
["1967-02-01",67318]
["1967-03-01",67348]
["1967-04-01",67357]
["1967-05-01",67398]
["1967-06-01",67475]
["1967-07-01",67579]
["1967-08-01",67788]
["1967-09-01",67908]
["1967-10-01",67973]
["1967-11-01",68036]
["1967-12-01",68102]
["1968-01-01",68170]
["1968-02-01",68232]
["1968-03-01",68293]
["1968-04-01",68356]
["1968-05-01",68418]
["1968-06-01",68473]
["1968-07-01",68522]
["1968-08-01",68557]
["1968-09-01",68607]
["1968-10-01",68651]
["1968-11-01",68734]
["1968-12-01",68793]
["1969-01-01",68857]
["1969-02-01",68900]
["1969-03-01",68942]
["1969-04-01",68988]
["1969-05-01",69054]
["1969-06-01",69106]
["1969-07-01",69208]
["1969-08-01",69258]
["1969-09-01",69302]
["1969-10-01",69362]
["1969-11-01",69424]
["1969-12-01",69541]
["1970-01-01",69604]
["1970-02-01",69672]
["1970-03-01",69743]
["1970-04-01",69821]
["1970-05-01",69903]
["1970-06-01",69967]
["1970-07-01",70043]
["1970-08-01",70093]
["1970-09-01",70138]
["1970-10-01",70210]
["1970-11-01",70284]
["1970-12-01",70340]
["1971-01-01",70414]
["1971-02-01",70472]
["1971-03-01",70511]
["1971-04-01",70588]
["1971-05-01",70663]
["1971-06-01",70721]
["1971-07-01",70789]
["1971-08-01",70938]
["1971-09-01",71087]
["1971-10-01",71238]
["1971-11-01",71362]
["1971-12-01",71514]
["1972-01-01",71723]
["1972-02-01",71878]
["1972-03-01",71997]
["1972-04-01",72138]
["1972-05-01",72293]
["1972-06-01",72393]
["1972-07-01",72538]
["1972-08-01",72648]
["1972-09-01",72761]
["1972-10-01",72854]
["1972-11-01",72959]
["1972-12-01",73092]
["1973-01-01",73216]
["1973-02-01",73330]
["1973-03-01",73492]
["1973-04-01",73605]
["1973-05-01",73730]
["1973-06-01",73836]
["1973-07-01",73958]
["1973-08-01",74071]
["1973-09-01",74184]
["1973-10-01",74297]
["1973-11-01",74410]
["1973-12-01",74582]
["1974-01-01",74878]
["1974-02-01",74987]
["1974-03-01",75085]
["1974-04-01",75199]
["1974-05-01",75327]
["1974-06-01",75452]
["1974-07-01",75563]
["1974-08-01",75660]
["1974-09-01",75756]
["1974-10-01",75859]
["1974-11-01",75959]
["1974-12-01",76058]
["1975-01-01",76167]
["1975-02-01",76266]
["1975-03-01",76363]
["1975-04-01",76456]
["1975-05-01",76570]
["1975-06-01",76686]
["1975-07-01",76840]
["1975-08-01",76947]
["1975-09-01",77068]
["1975-10-01",77175]
["1975-11-01",77291]
["1975-12-01",77407]
["1976-01-01",77527]
["1976-02-01",77635]
["1976-03-01",77746]
["1976-04-01",77851]
["1976-05-01",77973]
["1976-06-01",78099]
["1976-07-01",78218]
["1976-08-01",78339]
["1976-09-01",78459]
["1976-10-01",78558]
["1976-11-01",78673]
["1976-12-01",78820]
["1977-01-01",78934]
["1977-02-01",79048]
["1977-03-01",79154]
["1977-04-01",79275]
["1977-05-01",79412]
["1977-06-01",79544]
["1977-07-01",79670]
["1977-08-01",79800]
["1977-09-01",79927]
["1977-10-01",80054]
["1977-11-01",80190]
["1977-12-01",80317]
["1978-01-01",80444]
["1978-02-01",80564]
["1978-03-01",80679]
["1978-04-01",80810]
["1978-05-01",80950]
["1978-06-01",81097]
["1978-07-01",81226]
["1978-08-01",81364]
["1978-09-01",81498]
["1978-10-01",81652]
["1978-11-01",81788]
["1978-12-01",81931]
["1979-01-01",82080]
["1979-02-01",82211]
["1979-03-01",82359]
["1979-04-01",82470]
["1979-05-01",82632]
["1979-06-01",82789]
["1979-07-01",82926]
["1979-08-01",83068]
["1979-09-01",83211]
["1979-10-01",83439]
["1979-11-01",83582]
["1979-12-01",83737]
["1980-01-01",83886]
["1980-02-01",84026]
["1980-03-01",84163]
["1980-04-01",84311]
["1980-05-01",84458]
["1980-06-01",84612]
["1980-07-01",84798]
["1980-08-01",84932]
["1980-09-01",85076]
["1980-10-01",85227]
["1980-11-01",85369]
["1980-12-01",85508]
["1981-01-01",85659]
["1981-02-01",85809]
["1981-03-01",85950]
["1981-04-01",86100]
["1981-05-01",86250]
["1981-06-01",86398]
["1981-07-01",86553]
["1981-08-01",86698]
["1981-09-01",86862]
["1981-10-01",87036]
["1981-11-01",87203]
["1981-12-01",87358]
["1982-01-01",87517]
["1982-02-01",87670]
["1982-03-01",87813]
["1982-04-01",87967]
["1982-05-01",88128]
["1982-06-01",88281]
["1982-07-01",88437]
["1982-08-01",88593]
["1982-09-01",88756]
["1982-10-01",88935]
["1982-11-01",89107]
["1982-12-01",89198]
["1983-01-01",89349]
["1983-02-01",89513]
["1983-03-01",89671]
["1983-04-01",89823]
["1983-05-01",89988]
["1983-06-01",90149]
["1983-07-01",90319]
["1983-08-01",90480]
["1983-09-01",90655]
["1983-10-01",90821]
["1983-11-01",91003]
["1983-12-01",91176]
["1984-01-01",91517]
["1984-02-01",91690]
["1984-03-01",91863]
["1984-04-01",92033]
["1984-05-01",92212]
["1984-06-01",92390]
["1984-07-01",92555]
["1984-08-01",92726]
["1984-09-01",92905]
["1984-10-01",93096]
["1984-11-01",93280]
["1984-12-01",93432]
["1985-01-01",93534]
["1985-02-01",93663]
["1985-03-01",93869]
["1985-04-01",94031]
["1985-05-01",94193]
["1985-06-01",94381]
["1985-07-01",94562]
["1985-08-01",94712]
["1985-09-01",94872]
["1985-10-01",95072]
["1985-11-01",95252]
["1985-12-01",95451]
["1986-01-01",96074]
["1986-02-01",96220]
["1986-03-01",96383]
["1986-04-01",96532]
["1986-05-01",96694]
["1986-06-01",96950]
["1986-07-01",97128]
["1986-08-01",97297]
["1986-09-01",97448]
["1986-10-01",97627]
["1986-11-01",97801]
["1986-12-01",98010]
["1987-01-01",98267]
["1987-02-01",98447]
["1987-03-01",98621]
["1987-04-01",98816]
["1987-05-01",98991]
["1987-06-01",99155]
["1987-07-01",99344]
["1987-08-01",99471]
["1987-09-01",99647]
["1987-10-01",99823]
["1987-11-01",100021]
["1987-12-01",100202]
["1988-01-01",100429]
["1988-02-01",100611]
["1988-03-01",100748]
["1988-04-01",100950]
["1988-05-01",101127]
["1988-06-01",101318]
["1988-07-01",101515]
["1988-08-01",101700]
["1988-09-01",101873]
["1988-10-01",102038]
["1988-11-01",102163]
["1988-12-01",102311]
["1989-01-01",102558]
["1989-02-01",102803]
["1989-03-01",103008]
["1989-04-01",103163]
["1989-05-01",103328]
["1989-06-01",103455]
["1989-07-01",103672]
["1989-08-01",103836]
["1989-09-01",103983]
["1989-10-01",104159]
["1989-11-01",104338]
["1989-12-01",104480]
["1990-01-01",104971]
["1990-02-01",105137]
["1990-03-01",105254]
["1990-04-01",105374]
["1990-05-01",105575]
["1990-06-01",105618]
["1990-07-01",105756]
["1990-08-01",105980]
["1990-09-01",106142]
["1990-10-01",106332]
["1990-11-01",106533]
["1990-12-01",106647]
["1991-01-01",106760]
["1991-02-01",106888]
["1991-03-01",106971]
["1991-04-01",107091]
["1991-05-01",107268]
["1991-06-01",107428]
["1991-07-01",107575]
["1991-08-01",107694]
["1991-09-01",107855]
["1991-10-01",108005]
["1991-11-01",108236]
["1991-12-01",108383]
["1992-01-01",108520]
["1992-02-01",108768]
["1992-03-01",108835]
["1992-04-01",108977]
["1992-05-01",109112]
["1992-06-01",109239]
["1992-07-01",109381]
["1992-08-01",109516]
["1992-09-01",109693]
["1992-10-01",109828]
["1992-11-01",109955]
["1992-12-01",110205]
["1993-01-01",110320]
["1993-02-01",110505]
["1993-03-01",110622]
["1993-04-01",110751]
["1993-05-01",110831]
["1993-06-01",110944]
["1993-07-01",111149]
["1993-08-01",111176]
["1993-09-01",111362]
["1993-10-01",111503]
["1993-11-01",111629]
["1993-12-01",111847]
["1994-01-01",111955]
["1994-02-01",112144]
["1994-03-01",112261]
["1994-04-01",112359]
["1994-05-01",112427]
["1994-06-01",112506]
["1994-07-01",112592]
["1994-08-01",112719]
["1994-09-01",112872]
["1994-10-01",113046]
["1994-11-01",113223]
["1994-12-01",113308]
["1995-01-01",113389]
["1995-02-01",113598]
["1995-03-01",113688]
["1995-04-01",113758]
["1995-05-01",113826]
["1995-06-01",113873]
["1995-07-01",114002]
["1995-08-01",114137]
["1995-09-01",114282]
["1995-10-01",114459]
["1995-11-01",114598]
["1995-12-01",114700]
["1996-01-01",114724]
["1996-02-01",114957]
["1996-03-01",115069]
["1996-04-01",115238]
["1996-05-01",115403]
["1996-06-01",115488]
["1996-07-01",115581]
["1996-08-01",115667]
["1996-09-01",115818]
["1996-10-01",115938]
["1996-11-01",116059]
["1996-12-01",116131]
["1997-01-01",116348]
["1997-02-01",116462]
["1997-03-01",116559]
["1997-04-01",116662]
["1997-05-01",116873]
["1997-06-01",116902]
["1997-07-01",116881]
["1997-08-01",116940]
["1997-09-01",117018]
["1997-10-01",117039]
["1997-11-01",117124]
["1997-12-01",117181]
["1998-01-01",117202]
["1998-02-01",117246]
["1998-03-01",117218]
["1998-04-01",117329]
["1998-05-01",117483]
["1998-06-01",117427]
["1998-07-01",117375]
["1998-08-01",117487]
["1998-09-01",117511]
["1998-10-01",117596]
["1998-11-01",117731]
["1998-12-01",117789]
["1999-01-01",117912]
["1999-02-01",117808]
["1999-03-01",117854]
["1999-04-01",117862]
["1999-05-01",117995]
["1999-06-01",118240]
["1999-07-01",118266]
["1999-08-01",118369]
["1999-09-01",118328]
["1999-10-01",118433]
["1999-11-01",118577]
["1999-12-01",118734]
["2000-01-01",120252]
["2000-02-01",120264]
["2000-03-01",120237]
["2000-04-01",120319]
["2000-05-01",120534]
["2000-06-01",120546]
["2000-07-01",120716]
["2000-08-01",120847]
["2000-09-01",120843]
["2000-10-01",121056]
["2000-11-01",121072]
["2000-12-01",121191]
["2001-01-01",121330]
["2001-02-01",121340]
["2001-03-01",121477]
["2001-04-01",121555]
["2001-05-01",121556]
["2001-06-01",121579]
["2001-07-01",121616]
["2001-08-01",121740]
["2001-09-01",121735]
["2001-10-01",121771]
["2001-11-01",121769]
["2001-12-01",121779]
["2002-01-01",121880]
["2002-02-01",121814]
["2002-03-01",121912]
["2002-04-01",121913]
["2002-05-01",121988]
["2002-06-01",122114]
["2002-07-01",122103]
["2002-08-01",122201]
["2002-09-01",122234]
["2002-10-01",122213]
["2002-11-01",122264]
["2002-12-01",122284]
["2003-01-01",122930]
["2003-02-01",123006]
["2003-03-01",123046]
["2003-04-01",123125]
["2003-05-01",123172]
["2003-06-01",123231]
["2003-07-01",123317]
["2003-08-01",123379]
["2003-09-01",123469]
["2003-10-01",123523]
["2003-11-01",123595]
["2003-12-01",123676]
["2004-01-01",123095]
["2004-02-01",123150]
["2004-03-01",123208]
["2004-04-01",123262]
["2004-05-01",123301]
["2004-06-01",123373]
["2004-07-01",123426]
["2004-08-01",123496]
["2004-09-01",123564]
["2004-10-01",123607]
["2004-11-01",123686]
["2004-12-01",123751]
["2005-01-01",123764]
["2005-02-01",123813]
["2005-03-01",123877]
["2005-04-01",123941]
["2005-05-01",124017]
["2005-06-01",124121]
["2005-07-01",124194]
["2005-08-01",124270]
["2005-09-01",124382]
["2005-10-01",124472]
["2005-11-01",124582]
["2005-12-01",124671]
["2006-01-01",124579]
["2006-02-01",124637]
["2006-03-01",124661]
["2006-04-01",124711]
["2006-05-01",124756]
["2006-06-01",124805]
["2006-07-01",124881]
["2006-08-01",124974]
["2006-09-01",125045]
["2006-10-01",125113]
["2006-11-01",125201]
["2006-12-01",125244]
["2007-01-01",125387]
["2007-02-01",125456]
["2007-03-01",125488]
["2007-04-01",125550]
["2007-05-01",125581]
["2007-06-01",125620]
["2007-07-01",125715]
["2007-08-01",125791]
["2007-09-01",125867]
["2007-10-01",125916]
["2007-11-01",125978]
["2007-12-01",126009]
["2008-01-01",125396]
["2008-02-01",125440]
["2008-03-01",125474]
["2008-04-01",125506]
["2008-05-01",125563]
["2008-06-01",125627]
["2008-07-01",125699]
["2008-08-01",125742]
["2008-09-01",125801]
["2008-10-01",125812]
["2008-11-01",125857]
["2008-12-01",125904]
["2009-01-01",125461]
["2009-02-01",125498]
["2009-03-01",125493]
["2009-04-01",125491]
["2009-05-01",125513]
["2009-06-01",125533]
["2009-07-01",125604]
["2009-08-01",125617]
["2009-09-01",125637]
["2009-10-01",125644]
["2009-11-01",125647]
["2009-12-01",125640]
["2010-01-01",125156]
["2010-02-01",125178]
["2010-03-01",125191]
["2010-04-01",125192]
["2010-05-01",125249]
["2010-06-01",125268]
["2010-07-01",125326]
["2010-08-01",125337]
["2010-09-01",125354]
["2010-10-01",125407]
["2010-11-01",125415]
["2010-12-01",125410]
["2011-01-01",124628]
["2011-02-01",124647]
["2011-03-01",124644]
["2011-04-01",124658]
["2011-05-01",124727]
["2011-06-01",124738]
["2011-07-01",124771]
["2011-08-01",124756]
["2011-09-01",124728]
["2011-10-01",124743]
["2011-11-01",124722]
["2011-12-01",124690]
["2012-01-01",124356]
["2012-02-01",124341]
["2012-03-01",124323]
["2012-04-01",124357]
["2012-05-01",124363]
["2012-06-01",124355]
["2012-07-01",124372]
["2012-08-01",124308]
["2012-09-01",124259]
["2012-10-01",124270]
["2012-11-01",124248]
["2012-12-01",124219]
["2013-01-01",124357]
["2013-02-01",124354]
["2013-03-01",124343]
["2013-04-01",124380]
["2013-05-01",124388]
["2013-06-01",124406]
["2013-07-01",124401]
["2013-08-01",124409]
["2013-09-01",124465]
["2013-10-01",124461]
["2013-11-01",124474]
["2013-12-01",124438]
["2014-01-01",124453]
["2014-02-01",124439]
["2014-03-01",124410]
["2014-04-01",124453]
["2014-05-01",124442]
["2014-06-01",124478]
["2014-07-01",124500]
["2014-08-01",124549]
["2014-09-01",124587]
["2014-10-01",124607]
["2014-11-01",124612]
["2014-12-01",124597]
["2015-01-01",124974]
["2015-02-01",124959]
["2015-03-01",124949]
["2015-04-01",124970]
["2015-05-01",125015]
["2015-06-01",125085]
["2015-07-01",125147]
["2015-08-01",125210]
["2015-09-01",125238]
["2015-10-01",125241]
["2015-11-01",125258]
["2015-12-01",125258]
["2016-01-01",125536]
["2016-02-01",125570]
["2016-03-01",125614]
["2016-04-01",125635]
["2016-05-01",125674]
["2016-06-01",125716]
["2016-07-01",125771]
["2016-08-01",125852]
["2016-09-01",125896]
["2016-10-01",125928]
["2016-11-01",125965]
["2016-12-01",125970]
["2017-01-01",125547]
["2017-02-01",125567]
["2017-03-01",125572]
["2017-04-01",125562]
["2017-05-01",125602]
["2017-06-01",125667]
["2017-07-01",125732]
["2017-08-01",125772]
["2017-09-01",125804]
["2017-10-01",125822]
["2017-11-01",125849]
["2017-12-01",125867]
["2018-01-01",126238]
["2018-02-01",126241]
["2018-03-01",126282]
["2018-04-01",126295]
["2018-05-01",126321]
["2018-06-01",126337]
["2018-07-01",126388]
["2018-08-01",126423]
["2018-09-01",126482]
["2018-10-01",126541]
["2018-11-01",126568]
["2018-12-01",126564]
["2019-01-01",126164]
["2019-02-01",126205]
["2019-03-01",126238]
["2019-04-01",126265]
["2019-05-01",126292]
["2019-06-01",126296]
["2019-07-01",126288]
["2019-08-01",126257]
["2019-09-01",126277]
["2019-10-01",126322]
["2019-11-01",126376]
["2019-12-01",126395]
["2020-01-01",125936]
["2020-02-01",125950]
["2020-03-01",125960]
["2020-04-01",125980]

{"sheet":"UNRATE lin","index":14,"n_rows":759,"n_cols":2,"rows_kept":759,"cut":false,"hidden":false,"merged":[]}
["FRED Graph Observations"]
["Federal Reserve Economic Data"]
["Link: https://fred.stlouisfed.org"]
["Help: https://fred.stlouisfed.org/help-faq"]
["Economic Research Division"]
["Federal Reserve Bank of St. Louis"]
[]
["UNRATE","Unemployment Rate, Percent, Monthly, Seasonally Adjusted"]
[]
["Frequency: Monthly"]
["observation_date","UNRATE"]
["1958-01-01",5.8]
["1958-02-01",6.4]
["1958-03-01",6.7]
["1958-04-01",7.4]
["1958-05-01",7.4]
["1958-06-01",7.3]
["1958-07-01",7.5]
["1958-08-01",7.4]
["1958-09-01",7.1]
["1958-10-01",6.7]
["1958-11-01",6.2]
["1958-12-01",6.2]
["1959-01-01",6]
["1959-02-01",5.9]
["1959-03-01",5.6]
["1959-04-01",5.2]
["1959-05-01",5.0999999999999996]
["1959-06-01",5]
["1959-07-01",5.0999999999999996]
["1959-08-01",5.2]
["1959-09-01",5.5]
["1959-10-01",5.7]
["1959-11-01",5.8]
["1959-12-01",5.3]
["1960-01-01",5.2]
["1960-02-01",4.8]
["1960-03-01",5.4]
["1960-04-01",5.2]
["1960-05-01",5.0999999999999996]
["1960-06-01",5.4]
["1960-07-01",5.5]
["1960-08-01",5.6]
["1960-09-01",5.5]
["1960-10-01",6.1]
["1960-11-01",6.1]
["1960-12-01",6.6]
["1961-01-01",6.6]
["1961-02-01",6.9]
["1961-03-01",6.9]
["1961-04-01",7]
["1961-05-01",7.1]
["1961-06-01",6.9]
["1961-07-01",7]
["1961-08-01",6.6]
["1961-09-01",6.7]
["1961-10-01",6.5]
["1961-11-01",6.1]
["1961-12-01",6]
["1962-01-01",5.8]
["1962-02-01",5.5]
["1962-03-01",5.6]
["1962-04-01",5.6]
["1962-05-01",5.5]
["1962-06-01",5.5]
["1962-07-01",5.4]
["1962-08-01",5.7]
["1962-09-01",5.6]
["1962-10-01",5.4]
["1962-11-01",5.7]
["1962-12-01",5.5]
["1963-01-01",5.7]
["1963-02-01",5.9]
["1963-03-01",5.7]
["1963-04-01",5.7]
["1963-05-01",5.9]
["1963-06-01",5.6]
["1963-07-01",5.6]
["1963-08-01",5.4]
["1963-09-01",5.5]
["1963-10-01",5.5]
["1963-11-01",5.7]
["1963-12-01",5.5]
["1964-01-01",5.6]
["1964-02-01",5.4]
["1964-03-01",5.4]
["1964-04-01",5.3]
["1964-05-01",5.0999999999999996]
["1964-06-01",5.2]
["1964-07-01",4.9000000000000004]
["1964-08-01",5]
["1964-09-01",5.0999999999999996]
["1964-10-01",5.0999999999999996]
["1964-11-01",4.8]
["1964-12-01",5]
["1965-01-01",4.9000000000000004]
["1965-02-01",5.0999999999999996]
["1965-03-01",4.7]
["1965-04-01",4.8]
["1965-05-01",4.5999999999999996]
["1965-06-01",4.5999999999999996]
["1965-07-01",4.4000000000000004]
["1965-08-01",4.4000000000000004]
["1965-09-01",4.3]
["1965-10-01",4.2]
["1965-11-01",4.0999999999999996]
["1965-12-01",4]
["1966-01-01",4]
["1966-02-01",3.8]
["1966-03-01",3.8]
["1966-04-01",3.8]
["1966-05-01",3.9]
["1966-06-01",3.8]
["1966-07-01",3.8]
["1966-08-01",3.8]
["1966-09-01",3.7]
["1966-10-01",3.7]
["1966-11-01",3.6]
["1966-12-01",3.8]
["1967-01-01",3.9]
["1967-02-01",3.8]
["1967-03-01",3.8]
["1967-04-01",3.8]
["1967-05-01",3.8]
["1967-06-01",3.9]
["1967-07-01",3.8]
["1967-08-01",3.8]
["1967-09-01",3.8]
["1967-10-01",4]
["1967-11-01",3.9]
["1967-12-01",3.8]
["1968-01-01",3.7]
["1968-02-01",3.8]
["1968-03-01",3.7]
["1968-04-01",3.5]
["1968-05-01",3.5]
["1968-06-01",3.7]
["1968-07-01",3.7]
["1968-08-01",3.5]
["1968-09-01",3.4]
["1968-10-01",3.4]
["1968-11-01",3.4]
["1968-12-01",3.4]
["1969-01-01",3.4]
["1969-02-01",3.4]
["1969-03-01",3.4]
["1969-04-01",3.4]
["1969-05-01",3.4]
["1969-06-01",3.5]
["1969-07-01",3.5]
["1969-08-01",3.5]
["1969-09-01",3.7]
["1969-10-01",3.7]
["1969-11-01",3.5]
["1969-12-01",3.5]
["1970-01-01",3.9]
["1970-02-01",4.2]
["1970-03-01",4.4000000000000004]
["1970-04-01",4.5999999999999996]
["1970-05-01",4.8]
["1970-06-01",4.9000000000000004]
["1970-07-01",5]
["1970-08-01",5.0999999999999996]
["1970-09-01",5.4]
["1970-10-01",5.5]
["1970-11-01",5.9]
["1970-12-01",6.1]
["1971-01-01",5.9]
["1971-02-01",5.9]
["1971-03-01",6]
["1971-04-01",5.9]
["1971-05-01",5.9]
["1971-06-01",5.9]
["1971-07-01",6]
["1971-08-01",6.1]
["1971-09-01",6]
["1971-10-01",5.8]
["1971-11-01",6]
["1971-12-01",6]
["1972-01-01",5.8]
["1972-02-01",5.7]
["1972-03-01",5.8]
["1972-04-01",5.7]
["1972-05-01",5.7]
["1972-06-01",5.7]
["1972-07-01",5.6]
["1972-08-01",5.6]
["1972-09-01",5.5]
["1972-10-01",5.6]
["1972-11-01",5.3]
["1972-12-01",5.2]
["1973-01-01",4.9000000000000004]
["1973-02-01",5]
["1973-03-01",4.9000000000000004]
["1973-04-01",5]
["1973-05-01",4.9000000000000004]
["1973-06-01",4.9000000000000004]
["1973-07-01",4.8]
["1973-08-01",4.8]
["1973-09-01",4.8]
["1973-10-01",4.5999999999999996]
["1973-11-01",4.8]
["1973-12-01",4.9000000000000004]
["1974-01-01",5.0999999999999996]
["1974-02-01",5.2]
["1974-03-01",5.0999999999999996]
["1974-04-01",5.0999999999999996]
["1974-05-01",5.0999999999999996]
["1974-06-01",5.4]
["1974-07-01",5.5]
["1974-08-01",5.5]
["1974-09-01",5.9]
["1974-10-01",6]
["1974-11-01",6.6]
["1974-12-01",7.2]
["1975-01-01",8.1]
["1975-02-01",8.1]
["1975-03-01",8.6]
["1975-04-01",8.8000000000000007]
["1975-05-01",9]
["1975-06-01",8.8000000000000007]
["1975-07-01",8.6]
["1975-08-01",8.4]
["1975-09-01",8.4]
["1975-10-01",8.4]
["1975-11-01",8.3000000000000007]
["1975-12-01",8.1999999999999993]
["1976-01-01",7.9]
["1976-02-01",7.7]
["1976-03-01",7.6]
["1976-04-01",7.7]
["1976-05-01",7.4]
["1976-06-01",7.6]
["1976-07-01",7.8]
["1976-08-01",7.8]
["1976-09-01",7.6]
["1976-10-01",7.7]
["1976-11-01",7.8]
["1976-12-01",7.8]
["1977-01-01",7.5]
["1977-02-01",7.6]
["1977-03-01",7.4]
["1977-04-01",7.2]
["1977-05-01",7]
["1977-06-01",7.2]
["1977-07-01",6.9]
["1977-08-01",7]
["1977-09-01",6.8]
["1977-10-01",6.8]
["1977-11-01",6.8]
["1977-12-01",6.4]
["1978-01-01",6.4]
["1978-02-01",6.3]
["1978-03-01",6.3]
["1978-04-01",6.1]
["1978-05-01",6]
["1978-06-01",5.9]
["1978-07-01",6.2]
["1978-08-01",5.9]
["1978-09-01",6]
["1978-10-01",5.8]
["1978-11-01",5.9]
["1978-12-01",6]
["1979-01-01",5.9]
["1979-02-01",5.9]
["1979-03-01",5.8]
["1979-04-01",5.8]
["1979-05-01",5.6]
["1979-06-01",5.7]
["1979-07-01",5.7]
["1979-08-01",6]
["1979-09-01",5.9]
["1979-10-01",6]
["1979-11-01",5.9]
["1979-12-01",6]
["1980-01-01",6.3]
["1980-02-01",6.3]
["1980-03-01",6.3]
["1980-04-01",6.9]
["1980-05-01",7.5]
["1980-06-01",7.6]
["1980-07-01",7.8]
["1980-08-01",7.7]
["1980-09-01",7.5]
["1980-10-01",7.5]
["1980-11-01",7.5]
["1980-12-01",7.2]
["1981-01-01",7.5]
["1981-02-01",7.4]
["1981-03-01",7.4]
["1981-04-01",7.2]
["1981-05-01",7.5]
["1981-06-01",7.5]
["1981-07-01",7.2]
["1981-08-01",7.4]
["1981-09-01",7.6]
["1981-10-01",7.9]
["1981-11-01",8.3000000000000007]
["1981-12-01",8.5]
["1982-01-01",8.6]
["1982-02-01",8.9]
["1982-03-01",9]
["1982-04-01",9.3000000000000007]
["1982-05-01",9.4]
["1982-06-01",9.6]
["1982-07-01",9.8000000000000007]
["1982-08-01",9.8000000000000007]
["1982-09-01",10.1]
["1982-10-01",10.4]
["1982-11-01",10.8]
["1982-12-01",10.8]
["1983-01-01",10.4]
["1983-02-01",10.4]
["1983-03-01",10.3]
["1983-04-01",10.199999999999999]
["1983-05-01",10.1]
["1983-06-01",10.1]
["1983-07-01",9.4]
["1983-08-01",9.5]
["1983-09-01",9.1999999999999993]
["1983-10-01",8.8000000000000007]
["1983-11-01",8.5]
["1983-12-01",8.3000000000000007]
["1984-01-01",8]
["1984-02-01",7.8]
["1984-03-01",7.8]
["1984-04-01",7.7]
["1984-05-01",7.4]
["1984-06-01",7.2]
["1984-07-01",7.5]
["1984-08-01",7.5]
["1984-09-01",7.3]
["1984-10-01",7.4]
["1984-11-01",7.2]
["1984-12-01",7.3]
["1985-01-01",7.3]
["1985-02-01",7.2]
["1985-03-01",7.2]
["1985-04-01",7.3]
["1985-05-01",7.2]
["1985-06-01",7.4]
["1985-07-01",7.4]
["1985-08-01",7.1]
["1985-09-01",7.1]
["1985-10-01",7.1]
["1985-11-01",7]
["1985-12-01",7]
["1986-01-01",6.7]
["1986-02-01",7.2]
["1986-03-01",7.2]
["1986-04-01",7.1]
["1986-05-01",7.2]
["1986-06-01",7.2]
["1986-07-01",7]
["1986-08-01",6.9]
["1986-09-01",7]
["1986-10-01",7]
["1986-11-01",6.9]
["1986-12-01",6.6]
["1987-01-01",6.6]
["1987-02-01",6.6]
["1987-03-01",6.6]
["1987-04-01",6.3]
["1987-05-01",6.3]
["1987-06-01",6.2]
["1987-07-01",6.1]
["1987-08-01",6]
["1987-09-01",5.9]
["1987-10-01",6]
["1987-11-01",5.8]
["1987-12-01",5.7]
["1988-01-01",5.7]
["1988-02-01",5.7]
["1988-03-01",5.7]
["1988-04-01",5.4]
["1988-05-01",5.6]
["1988-06-01",5.4]
["1988-07-01",5.4]
["1988-08-01",5.6]
["1988-09-01",5.4]
["1988-10-01",5.4]
["1988-11-01",5.3]
["1988-12-01",5.3]
["1989-01-01",5.4]
["1989-02-01",5.2]
["1989-03-01",5]
["1989-04-01",5.2]
["1989-05-01",5.2]
["1989-06-01",5.3]
["1989-07-01",5.2]
["1989-08-01",5.2]
["1989-09-01",5.3]
["1989-10-01",5.3]
["1989-11-01",5.4]
["1989-12-01",5.4]
["1990-01-01",5.4]
["1990-02-01",5.3]
["1990-03-01",5.2]
["1990-04-01",5.4]
["1990-05-01",5.4]
["1990-06-01",5.2]
["1990-07-01",5.5]
["1990-08-01",5.7]
["1990-09-01",5.9]
["1990-10-01",5.9]
["1990-11-01",6.2]
["1990-12-01",6.3]
["1991-01-01",6.4]
["1991-02-01",6.6]
["1991-03-01",6.8]
["1991-04-01",6.7]
["1991-05-01",6.9]
["1991-06-01",6.9]
["1991-07-01",6.8]
["1991-08-01",6.9]
["1991-09-01",6.9]
["1991-10-01",7]
["1991-11-01",7]
["1991-12-01",7.3]
["1992-01-01",7.3]
["1992-02-01",7.4]
["1992-03-01",7.4]
["1992-04-01",7.4]
["1992-05-01",7.6]
["1992-06-01",7.8]
["1992-07-01",7.7]
["1992-08-01",7.6]
["1992-09-01",7.6]
["1992-10-01",7.3]
["1992-11-01",7.4]
["1992-12-01",7.4]
["1993-01-01",7.3]
["1993-02-01",7.1]
["1993-03-01",7]
["1993-04-01",7.1]
["1993-05-01",7.1]
["1993-06-01",7]
["1993-07-01",6.9]
["1993-08-01",6.8]
["1993-09-01",6.7]
["1993-10-01",6.8]
["1993-11-01",6.6]
["1993-12-01",6.5]
["1994-01-01",6.6]
["1994-02-01",6.6]
["1994-03-01",6.5]
["1994-04-01",6.4]
["1994-05-01",6.1]
["1994-06-01",6.1]
["1994-07-01",6.1]
["1994-08-01",6]
["1994-09-01",5.9]
["1994-10-01",5.8]
["1994-11-01",5.6]
["1994-12-01",5.5]
["1995-01-01",5.6]
["1995-02-01",5.4]
["1995-03-01",5.4]
["1995-04-01",5.8]
["1995-05-01",5.6]
["1995-06-01",5.6]
["1995-07-01",5.7]
["1995-08-01",5.7]
["1995-09-01",5.6]
["1995-10-01",5.5]
["1995-11-01",5.6]
["1995-12-01",5.6]
["1996-01-01",5.6]
["1996-02-01",5.5]
["1996-03-01",5.5]
["1996-04-01",5.6]
["1996-05-01",5.6]
["1996-06-01",5.3]
["1996-07-01",5.5]
["1996-08-01",5.0999999999999996]
["1996-09-01",5.2]
["1996-10-01",5.2]
["1996-11-01",5.4]
["1996-12-01",5.4]
["1997-01-01",5.3]
["1997-02-01",5.2]
["1997-03-01",5.2]
["1997-04-01",5.0999999999999996]
["1997-05-01",4.9000000000000004]
["1997-06-01",5]
["1997-07-01",4.9000000000000004]
["1997-08-01",4.8]
["1997-09-01",4.9000000000000004]
["1997-10-01",4.7]
["1997-11-01",4.5999999999999996]
["1997-12-01",4.7]
["1998-01-01",4.5999999999999996]
["1998-02-01",4.5999999999999996]
["1998-03-01",4.7]
["1998-04-01",4.3]
["1998-05-01",4.4000000000000004]
["1998-06-01",4.5]
["1998-07-01",4.5]
["1998-08-01",4.5]
["1998-09-01",4.5999999999999996]
["1998-10-01",4.5]
["1998-11-01",4.4000000000000004]
["1998-12-01",4.4000000000000004]
["1999-01-01",4.3]
["1999-02-01",4.4000000000000004]
["1999-03-01",4.2]
["1999-04-01",4.3]
["1999-05-01",4.2]
["1999-06-01",4.3]
["1999-07-01",4.3]
["1999-08-01",4.2]
["1999-09-01",4.2]
["1999-10-01",4.0999999999999996]
["1999-11-01",4.0999999999999996]
["1999-12-01",4]
["2000-01-01",4]
["2000-02-01",4.0999999999999996]
["2000-03-01",4]
["2000-04-01",3.8]
["2000-05-01",4]
["2000-06-01",4]
["2000-07-01",4]
["2000-08-01",4.0999999999999996]
["2000-09-01",3.9]
["2000-10-01",3.9]
["2000-11-01",3.9]
["2000-12-01",3.9]
["2001-01-01",4.2]
["2001-02-01",4.2]
["2001-03-01",4.3]
["2001-04-01",4.4000000000000004]
["2001-05-01",4.3]
["2001-06-01",4.5]
["2001-07-01",4.5999999999999996]
["2001-08-01",4.9000000000000004]
["2001-09-01",5]
["2001-10-01",5.3]
["2001-11-01",5.5]
["2001-12-01",5.7]
["2002-01-01",5.7]
["2002-02-01",5.7]
["2002-03-01",5.7]
["2002-04-01",5.9]
["2002-05-01",5.8]
["2002-06-01",5.8]
["2002-07-01",5.8]
["2002-08-01",5.7]
["2002-09-01",5.7]
["2002-10-01",5.7]
["2002-11-01",5.9]
["2002-12-01",6]
["2003-01-01",5.8]
["2003-02-01",5.9]
["2003-03-01",5.9]
["2003-04-01",6]
["2003-05-01",6.1]
["2003-06-01",6.3]
["2003-07-01",6.2]
["2003-08-01",6.1]
["2003-09-01",6.1]
["2003-10-01",6]
["2003-11-01",5.8]
["2003-12-01",5.7]
["2004-01-01",5.7]
["2004-02-01",5.6]
["2004-03-01",5.8]
["2004-04-01",5.6]
["2004-05-01",5.6]
["2004-06-01",5.6]
["2004-07-01",5.5]
["2004-08-01",5.4]
["2004-09-01",5.4]
["2004-10-01",5.5]
["2004-11-01",5.4]
["2004-12-01",5.4]
["2005-01-01",5.3]
["2005-02-01",5.4]
["2005-03-01",5.2]
["2005-04-01",5.2]
["2005-05-01",5.0999999999999996]
["2005-06-01",5]
["2005-07-01",5]
["2005-08-01",4.9000000000000004]
["2005-09-01",5]
["2005-10-01",5]
["2005-11-01",5]
["2005-12-01",4.9000000000000004]
["2006-01-01",4.7]
["2006-02-01",4.8]
["2006-03-01",4.7]
["2006-04-01",4.7]
["2006-05-01",4.5999999999999996]
["2006-06-01",4.5999999999999996]
["2006-07-01",4.7]
["2006-08-01",4.7]
["2006-09-01",4.5]
["2006-10-01",4.4000000000000004]
["2006-11-01",4.5]
["2006-12-01",4.4000000000000004]
["2007-01-01",4.5999999999999996]
["2007-02-01",4.5]
["2007-03-01",4.4000000000000004]
["2007-04-01",4.5]
["2007-05-01",4.4000000000000004]
["2007-06-01",4.5999999999999996]
["2007-07-01",4.7]
["2007-08-01",4.5999999999999996]
["2007-09-01",4.7]
["2007-10-01",4.7]
["2007-11-01",4.7]
["2007-12-01",5]
["2008-01-01",5]
["2008-02-01",4.9000000000000004]
["2008-03-01",5.0999999999999996]
["2008-04-01",5]
["2008-05-01",5.4]
["2008-06-01",5.6]
["2008-07-01",5.8]
["2008-08-01",6.1]
["2008-09-01",6.1]
["2008-10-01",6.5]
["2008-11-01",6.8]
["2008-12-01",7.3]
["2009-01-01",7.8]
["2009-02-01",8.3000000000000007]
["2009-03-01",8.6999999999999993]
["2009-04-01",9]
["2009-05-01",9.4]
["2009-06-01",9.5]
["2009-07-01",9.5]
["2009-08-01",9.6]
["2009-09-01",9.8000000000000007]
["2009-10-01",10]
["2009-11-01",9.9]
["2009-12-01",9.9]
["2010-01-01",9.8000000000000007]
["2010-02-01",9.8000000000000007]
["2010-03-01",9.9]
["2010-04-01",9.9]
["2010-05-01",9.6]
["2010-06-01",9.4]
["2010-07-01",9.4]
["2010-08-01",9.5]
["2010-09-01",9.5]
["2010-10-01",9.4]
["2010-11-01",9.8000000000000007]
["2010-12-01",9.3000000000000007]
["2011-01-01",9.1]
["2011-02-01",9]
["2011-03-01",9]
["2011-04-01",9.1]
["2011-05-01",9]
["2011-06-01",9.1]
["2011-07-01",9]
["2011-08-01",9]
["2011-09-01",9]
["2011-10-01",8.8000000000000007]
["2011-11-01",8.6]
["2011-12-01",8.5]
["2012-01-01",8.3000000000000007]
["2012-02-01",8.3000000000000007]
["2012-03-01",8.1999999999999993]
["2012-04-01",8.1999999999999993]
["2012-05-01",8.1999999999999993]
["2012-06-01",8.1999999999999993]
["2012-07-01",8.1999999999999993]
["2012-08-01",8.1]
["2012-09-01",7.8]
["2012-10-01",7.8]
["2012-11-01",7.7]
["2012-12-01",7.9]
["2013-01-01",8]
["2013-02-01",7.7]
["2013-03-01",7.5]
["2013-04-01",7.6]
["2013-05-01",7.5]
["2013-06-01",7.5]
["2013-07-01",7.3]
["2013-08-01",7.2]
["2013-09-01",7.2]
["2013-10-01",7.2]
["2013-11-01",6.9]
["2013-12-01",6.7]
["2014-01-01",6.6]
["2014-02-01",6.7]
["2014-03-01",6.7]
["2014-04-01",6.2]
["2014-05-01",6.3]
["2014-06-01",6.1]
["2014-07-01",6.2]
["2014-08-01",6.1]
["2014-09-01",5.9]
["2014-10-01",5.7]
["2014-11-01",5.8]
["2014-12-01",5.6]
["2015-01-01",5.7]
["2015-02-01",5.5]
["2015-03-01",5.4]
["2015-04-01",5.4]
["2015-05-01",5.6]
["2015-06-01",5.3]
["2015-07-01",5.2]
["2015-08-01",5.0999999999999996]
["2015-09-01",5]
["2015-10-01",5]
["2015-11-01",5.0999999999999996]
["2015-12-01",5]
["2016-01-01",4.9000000000000004]
["2016-02-01",4.9000000000000004]
["2016-03-01",5]
["2016-04-01",5]
["2016-05-01",4.8]
["2016-06-01",4.9000000000000004]
["2016-07-01",4.8]
["2016-08-01",4.9000000000000004]
["2016-09-01",5]
["2016-10-01",4.9000000000000004]
["2016-11-01",4.7]
["2016-12-01",4.7]
["2017-01-01",4.7]
["2017-02-01",4.5999999999999996]
["2017-03-01",4.4000000000000004]
["2017-04-01",4.4000000000000004]
["2017-05-01",4.4000000000000004]
["2017-06-01",4.3]
["2017-07-01",4.3]
["2017-08-01",4.4000000000000004]
["2017-09-01",4.2]
["2017-10-01",4.0999999999999996]
["2017-11-01",4.2]
["2017-12-01",4.0999999999999996]
["2018-01-01",4.0999999999999996]
["2018-02-01",4.0999999999999996]
["2018-03-01",4]
["2018-04-01",4]
["2018-05-01",3.8]
["2018-06-01",4]
["2018-07-01",3.8]
["2018-08-01",3.8]
["2018-09-01",3.7]
["2018-10-01",3.8]
["2018-11-01",3.7]
["2018-12-01",3.9]
["2019-01-01",4]
["2019-02-01",3.8]
["2019-03-01",3.8]
["2019-04-01",3.6]
["2019-05-01",3.6]
["2019-06-01",3.7]
["2019-07-01",3.7]
["2019-08-01",3.7]
["2019-09-01",3.5]
["2019-10-01",3.6]
["2019-11-01",3.5]
["2019-12-01",3.5]
["2020-01-01",3.6]
["2020-02-01",3.5]
["2020-03-01",4.4000000000000004]
["2020-04-01",14.7]

{"sheet":"CPILFESL pc1","index":15,"n_rows":758,"n_cols":2,"rows_kept":758,"cut":false,"hidden":false,"merged":[]}
["FRED Graph Observations"]
["Federal Reserve Economic Data"]
["Link: https://fred.stlouisfed.org"]
["Help: https://fred.stlouisfed.org/help-faq"]
["Economic Research Division"]
["Federal Reserve Bank of St. Louis"]
[]
["CPILFESL_PC1","Consumer Price Index for All Urban Consumers: All Items Less Food and Energy in U.S. City Average, Percent Change from Year Ago, Monthly, Seasonally Adjusted"]
[]
["Frequency: Monthly"]
["observation_date","CPILFESL_PC1"]
["1958-01-01",2.8070200000000001]
["1958-02-01",2.7972000000000001]
["1958-03-01",2.7874599999999998]
["1958-04-01",2.4305599999999998]
["1958-05-01",2.4305599999999998]
["1958-06-01",2.4221499999999998]
["1958-07-01",2.0689700000000002]
["1958-08-01",2.0689700000000002]
["1958-09-01",2.0618599999999998]
["1958-10-01",1.7123299999999999]
["1958-11-01",1.70648]
["1958-12-01",2.0477799999999999]
["1959-01-01",2.0477799999999999]
["1959-02-01",1.70068]
["1959-03-01",1.69492]
["1959-04-01",1.69492]
["1959-05-01",2.0339]
["1959-06-01",2.0270299999999999]
["1959-07-01",2.0270299999999999]
["1959-08-01",2.0270299999999999]
["1959-09-01",2.0202]
["1959-10-01",2.3569]
["1959-11-01",2.01342]
["1959-12-01",2.0066899999999999]
["1960-01-01",2.0066899999999999]
["1960-02-01",2.3411400000000002]
["1960-03-01",2]
["1960-04-01",2]
["1960-05-01",1.66113]
["1960-06-01",1.6556299999999999]
["1960-07-01",1.3245]
["1960-08-01",1.3245]
["1960-09-01",0.99009999999999998]
["1960-10-01",1.31579]
["1960-11-01",1.31579]
["1960-12-01",0.65573999999999999]
["1961-01-01",0.98360999999999998]
["1961-02-01",0.65359]
["1961-03-01",0.98038999999999998]
["1961-04-01",0.98038999999999998]
["1961-05-01",0.98038999999999998]
["1961-06-01",0.97719999999999996]
["1961-07-01",1.3071900000000001]
["1961-08-01",1.6339900000000001]
["1961-09-01",1.6339900000000001]
["1961-10-01",0.97402999999999995]
["1961-11-01",1.2987]
["1961-12-01",1.62866]
["1962-01-01",1.2987]
["1962-02-01",1.2987]
["1962-03-01",1.2945]
["1962-04-01",1.2945]
["1962-05-01",1.61812]
["1962-06-01",1.2903199999999999]
["1962-07-01",1.2903199999999999]
["1962-08-01",1.28617]
["1962-09-01",1.28617]
["1962-10-01",1.28617]
["1962-11-01",0.96153999999999995]
["1962-12-01",1.2820499999999999]
["1963-01-01",0.96153999999999995]
["1963-02-01",1.2820499999999999]
["1963-03-01",1.27796]
["1963-04-01",1.27796]
["1963-05-01",0.95540999999999998]
["1963-06-01",1.27389]
["1963-07-01",1.27389]
["1963-08-01",1.2698400000000001]
["1963-09-01",1.2698400000000001]
["1963-10-01",1.5872999999999999]
["1963-11-01",1.5872999999999999]
["1963-12-01",1.5822799999999999]
["1964-01-01",2.2222200000000001]
["1964-02-01",1.89873]
["1964-03-01",1.5772900000000001]
["1964-04-01",1.5772900000000001]
["1964-05-01",1.5772900000000001]
["1964-06-01",1.57233]
["1964-07-01",1.57233]
["1964-08-01",1.2539199999999999]
["1964-09-01",1.2539199999999999]
["1964-10-01",1.25]
["1964-11-01",1.5625]
["1964-12-01",1.2461100000000001]
["1965-01-01",1.24224]
["1965-02-01",1.24224]
["1965-03-01",1.24224]
["1965-04-01",1.5528]
["1965-05-01",1.5528]
["1965-06-01",1.2383900000000001]
["1965-07-01",1.2383900000000001]
["1965-08-01",1.2383900000000001]
["1965-09-01",1.54799]
["1965-10-01",1.2345699999999999]
["1965-11-01",1.2307699999999999]
["1965-12-01",1.5384599999999999]
["1966-01-01",1.22699]
["1966-02-01",1.5337400000000001]
["1966-03-01",1.5337400000000001]
["1966-04-01",1.8348599999999999]
["1966-05-01",2.1406700000000001]
["1966-06-01",2.4464800000000002]
["1966-07-01",2.7522899999999999]
["1966-08-01",3.0581]
["1966-09-01",3.0487799999999998]
["1966-10-01",3.6585399999999999]
["1966-11-01",3.3434699999999999]
["1966-12-01",3.3333300000000001]
["1967-01-01",3.6363599999999998]
["1967-02-01",3.3232599999999999]
["1967-03-01",3.6253799999999998]
["1967-04-01",3.3033000000000001]
["1967-05-01",3.2934100000000002]
["1967-06-01",3.2835800000000002]
["1967-07-01",3.2738100000000001]
["1967-08-01",3.5608300000000002]
["1967-09-01",3.5503]
["1967-10-01",3.23529]
["1967-11-01",3.5294099999999999]
["1967-12-01",3.8123200000000002]
["1968-01-01",3.8011699999999999]
["1968-02-01",4.3859599999999999]
["1968-03-01",4.3731799999999996]
["1968-04-01",4.3604700000000003]
["1968-05-01",4.3478300000000001]
["1968-06-01",4.6242799999999997]
["1968-07-01",4.8991400000000001]
["1968-08-01",4.58453]
["1968-09-01",4.8571400000000002]
["1968-10-01",5.1282100000000002]
["1968-11-01",5.3977300000000001]
["1968-12-01",5.0847499999999997]
["1969-01-01",5.0704200000000004]
["1969-02-01",5.3221299999999996]
["1969-03-01",5.5865900000000002]
["1969-04-01",6.1281299999999996]
["1969-05-01",5.8333300000000001]
["1969-06-01",5.8010999999999999]
["1969-07-01",5.7692300000000003]
["1969-08-01",6.0274000000000001]
["1969-09-01",5.9945500000000003]
["1969-10-01",5.9620600000000001]
["1969-11-01",5.66038]
["1969-12-01",5.9139799999999996]
["1970-01-01",6.16622]
["1970-02-01",5.8510600000000004]
["1970-03-01",6.0846600000000004]
["1970-04-01",6.0367499999999996]
["1970-05-01",6.2992100000000004]
["1970-06-01",6.5274200000000002]
["1970-07-01",6.2337699999999998]
["1970-08-01",6.2015500000000001]
["1970-09-01",6.16967]
["1970-10-01",6.1381100000000002]
["1970-11-01",6.6326499999999999]
["1970-12-01",6.5989800000000001]
["1971-01-01",6.3131300000000001]
["1971-02-01",6.0301499999999999]
["1971-03-01",5.23691]
["1971-04-01",4.9504999999999999]
["1971-05-01",5.1851900000000004]
["1971-06-01",4.9019599999999999]
["1971-07-01",4.8899800000000004]
["1971-08-01",4.6228699999999998]
["1971-09-01",4.1162200000000002]
["1971-10-01",3.8554200000000001]
["1971-11-01",3.3492799999999998]
["1971-12-01",3.09524]
["1972-01-01",3.3254199999999998]
["1972-02-01",3.3175400000000002]
["1972-03-01",3.3175400000000002]
["1972-04-01",3.3018900000000002]
["1972-05-01",3.0516399999999999]
["1972-06-01",2.8037399999999999]
["1972-07-01",2.7972000000000001]
["1972-08-01",3.0232600000000001]
["1972-09-01",3.0232600000000001]
["1972-10-01",3.0162399999999998]
["1972-11-01",2.7777799999999999]
["1972-12-01",3.00231]
["1973-01-01",2.52874]
["1973-02-01",2.7522899999999999]
["1973-03-01",3.2110099999999999]
["1973-04-01",2.9680399999999998]
["1973-05-01",3.1890700000000001]
["1973-06-01",3.1818200000000001]
["1973-07-01",3.1745999999999999]
["1973-08-01",3.1602700000000001]
["1973-09-01",3.8374700000000002]
["1973-10-01",4.27928]
["1973-11-01",4.72973]
["1973-12-01",4.70852]
["1974-01-01",5.1569500000000001]
["1974-02-01",5.3571400000000002]
["1974-03-01",5.7777799999999999]
["1974-04-01",6.2084299999999999]
["1974-05-01",7.0640200000000002]
["1974-06-01",7.9295200000000001]
["1974-07-01",8.7912099999999995]
["1974-08-01",9.8468300000000006]
["1974-09-01",10.21739]
["1974-10-01",10.58315]
["1974-11-01",10.967739999999999]
["1974-12-01",11.34904]
["1975-01-01",11.513859999999999]
["1975-02-01",11.864409999999999]
["1975-03-01",11.34454]
["1975-04-01",11.273490000000001]
["1975-05-01",10.309279999999999]
["1975-06-01",9.7959200000000006]
["1975-07-01",9.0909099999999992]
["1975-08-01",7.9681300000000004]
["1975-09-01",7.4950700000000001]
["1975-10-01",7.03125]
["1975-11-01",6.9767400000000004]
["1975-12-01",6.7307699999999997]
["1976-01-01",6.8833700000000002]
["1976-02-01",6.4393900000000004]
["1976-03-01",6.6037699999999999]
["1976-04-01",6.3789899999999999]
["1976-05-01",6.5420600000000002]
["1976-06-01",6.3197000000000001]
["1976-07-01",6.6666699999999999]
["1976-08-01",6.8265700000000002]
["1976-09-01",6.7889900000000001]
["1976-10-01",6.7518200000000004]
["1976-11-01",6.3405800000000001]
["1976-12-01",6.1261299999999999]
["1977-01-01",6.0822900000000004]
["1977-02-01",6.22776]
["1977-03-01",6.1946899999999996]
["1977-04-01",6.3492100000000002]
["1977-05-01",6.3157899999999998]
["1977-06-01",6.6433600000000004]
["1977-07-01",6.25]
["1977-08-01",6.2176200000000001]
["1977-09-01",6.1855700000000002]
["1977-10-01",5.9829100000000004]
["1977-11-01",6.1328800000000001]
["1977-12-01",6.4516099999999996]
["1978-01-01",6.4080899999999996]
["1978-02-01",6.1976500000000003]
["1978-03-01",6.3333300000000001]
["1978-04-01",6.6334999999999997]
["1978-05-01",6.7656799999999997]
["1978-06-01",6.8852500000000001]
["1978-07-01",7.18954]
["1978-08-01",7.4796699999999996]
["1978-09-01",7.9287999999999998]
["1978-10-01",8.3871000000000002]
["1978-11-01",8.5072200000000002]
["1978-12-01",8.4529499999999995]
["1979-01-01",8.5578400000000006]
["1979-02-01",9.1482600000000005]
["1979-03-01",9.4043899999999994]
["1979-04-01",9.3312600000000003]
["1979-05-01",9.4281299999999995]
["1979-06-01",9.3558299999999992]
["1979-07-01",9.6036599999999996]
["1979-08-01",9.9848700000000008]
["1979-09-01",9.8950499999999995]
["1979-10-01",10.11905]
["1979-11-01",10.65089]
["1979-12-01",11.32353]
["1980-01-01",11.970800000000001]
["1980-02-01",11.99422]
["1980-03-01",12.60745]
["1980-04-01",13.08677]
["1980-05-01",13.135590000000001]
["1980-06-01",13.60449]
["1980-07-01",12.378299999999999]
["1980-08-01",11.82944]
["1980-09-01",12.005459999999999]
["1980-10-01",12.16216]
["1980-11-01",12.16578]
["1980-12-01",12.15324]
["1981-01-01",11.342890000000001]
["1981-02-01",10.838710000000001]
["1981-03-01",9.9236599999999999]
["1981-04-01",9.4339600000000008]
["1981-05-01",9.6129800000000003]
["1981-06-01",9.3827200000000008]
["1981-07-01",11.13861]
["1981-08-01",11.56212]
["1981-09-01",11.814859999999999]
["1981-10-01",10.96386]
["1981-11-01",10.250299999999999]
["1981-12-01",9.5406399999999998]
["1982-01-01",9.2505900000000008]
["1982-02-01",9.1967400000000001]
["1982-03-01",8.6805599999999998]
["1982-04-01",8.8505699999999994]
["1982-05-01",8.6560400000000008]
["1982-06-01",8.4650099999999995]
["1982-07-01",7.6837400000000002]
["1982-08-01",7.0562300000000002]
["1982-09-01",5.8823499999999997]
["1982-10-01",5.8631900000000003]
["1982-11-01",5.18919]
["1982-12-01",4.5161300000000004]
["1983-01-01",4.6087899999999999]
["1983-02-01",4.4776100000000003]
["1983-03-01",4.5793400000000002]
["1983-04-01",4.1182699999999999]
["1983-05-01",3.6687599999999998]
["1983-06-01",3.2258100000000001]
["1983-07-01",3.2057899999999999]
["1983-08-01",3.0895999999999999]
["1983-09-01",3.39506]
["1983-10-01",3.5897399999999999]
["1983-11-01",4.3165500000000003]
["1983-12-01",4.7325100000000004]
["1984-01-01",5.0204899999999997]
["1984-02-01",4.8979600000000003]
["1984-03-01",5.0916499999999996]
["1984-04-01",5.1724100000000002]
["1984-05-01",5.2578399999999998]
["1984-06-01",5.34274]
["1984-07-01",5.2104200000000001]
["1984-08-01",5.2947100000000002]
["1984-09-01",5.2736299999999998]
["1984-10-01",5.1485099999999999]
["1984-11-01",4.8275899999999998]
["1984-12-01",4.9115900000000003]
["1985-01-01",4.4878]
["1985-02-01",4.76654]
["1985-03-01",4.7480599999999997]
["1985-04-01",4.5323000000000002]
["1985-05-01",4.5148900000000003]
["1985-06-01",4.40191]
["1985-07-01",4.19048]
["1985-08-01",4.1745700000000001]
["1985-09-01",3.9697499999999999]
["1985-10-01",4.0489600000000001]
["1985-11-01",4.4172900000000004]
["1985-12-01",4.3071200000000003]
["1986-01-01",4.4817900000000002]
["1986-02-01",4.1782700000000004]
["1986-03-01",4.0703100000000001]
["1986-04-01",4.1512900000000004]
["1986-05-01",3.95221]
["1986-06-01",3.9413399999999998]
["1986-07-01",4.0219399999999998]
["1986-08-01",4.0072900000000002]
["1986-09-01",4.1818200000000001]
["1986-10-01",4.0724]
["1986-11-01",3.7803800000000001]
["1986-12-01",3.7702]
["1987-01-01",3.5746199999999999]
["1987-02-01",3.5650599999999999]
["1987-03-01",3.6444399999999999]
["1987-04-01",3.8972500000000001]
["1987-05-01",4.0671999999999997]
["1987-06-01",3.9682499999999998]
["1987-07-01",3.95431]
["1987-08-01",3.9404599999999999]
["1987-09-01",4.01396]
["1987-10-01",4.1739100000000002]
["1987-11-01",4.1630500000000001]
["1987-12-01",4.1522500000000004]
["1988-01-01",4.3140599999999996]
["1988-02-01",4.3029299999999999]
["1988-03-01",4.3739299999999997]
["1988-04-01",4.2625700000000002]
["1988-05-01",4.2480900000000004]
["1988-06-01",4.4953399999999997]
["1988-07-01",4.4801399999999996]
["1988-08-01",4.4650400000000001]
["1988-09-01",4.61409]
["1988-10-01",4.5075099999999999]
["1988-11-01",4.5795199999999996]
["1988-12-01",4.65116]
["1989-01-01",4.6319299999999997]
["1989-02-01",4.7029699999999997]
["1989-03-01",4.6836500000000001]
["1989-04-01",4.4971399999999999]
["1989-05-01",4.5639799999999999]
["1989-06-01",4.5454499999999998]
["1989-07-01",4.5307399999999998]
["1989-08-01",4.4354800000000001]
["1989-09-01",4.1700100000000004]
["1989-10-01",4.3131000000000004]
["1989-11-01",4.3789800000000003]
["1989-12-01",4.4444400000000002]
["1990-01-01",4.4268799999999997]
["1990-02-01",4.5705299999999998]
["1990-03-01",4.7880700000000003]
["1990-04-01",4.8513299999999999]
["1990-05-01",4.75448]
["1990-06-01",4.8913000000000002]
["1990-07-01",5.1083600000000002]
["1990-08-01",5.4826300000000003]
["1990-09-01",5.5427299999999997]
["1990-10-01",5.3598800000000004]
["1990-11-01",5.2631600000000001]
["1990-12-01",5.3191499999999996]
["1991-01-01",5.60182]
["1991-02-01",5.6518499999999996]
["1991-03-01",5.2434500000000002]
["1991-04-01",5.1492500000000003]
["1991-05-01",5.1339300000000003]
["1991-06-01",4.9592900000000002]
["1991-07-01",4.7864500000000003]
["1991-08-01",4.6120099999999997]
["1991-09-01",4.5951899999999997]
["1991-10-01",4.4331399999999999]
["1991-11-01",4.49275]
["1991-12-01",4.4011500000000003]
["1992-01-01",4.0143399999999998]
["1992-02-01",3.70899]
["1992-03-01",3.8434200000000001]
["1992-04-01",3.8325100000000001]
["1992-05-01",3.8924300000000001]
["1992-06-01",3.73766]
["1992-07-01",3.7245300000000001]
["1992-08-01",3.4989499999999998]
["1992-09-01",3.2775500000000002]
["1992-10-01",3.5490599999999999]
["1992-11-01",3.4674100000000001]
["1992-12-01",3.38632]
["1993-01-01",3.4459]
["1993-02-01",3.5763400000000001]
["1993-03-01",3.35846]
["1993-04-01",3.4859900000000001]
["1993-05-01",3.4059900000000001]
["1993-06-01",3.3990499999999999]
["1993-07-01",3.1842800000000002]
["1993-08-01",3.3130500000000001]
["1993-09-01",3.24105]
["1993-10-01",3.0914000000000001]
["1993-11-01",3.1501299999999999]
["1993-12-01",3.1417099999999998]
["1994-01-01",2.9313799999999999]
["1994-02-01",2.78884]
["1994-03-01",2.9840800000000001]
["1994-04-01",2.7080600000000001]
["1994-05-01",2.70092]
["1994-06-01",2.8270900000000001]
["1994-07-01",2.88903]
["1994-08-01",2.8141400000000001]
["1994-09-01",3.0085000000000002]
["1994-10-01",2.8683200000000002]
["1994-11-01",2.7940200000000002]
["1994-12-01",2.5923500000000002]
["1995-01-01",2.91262]
["1995-02-01",2.9715799999999999]
["1995-03-01",2.9620099999999998]
["1995-04-01",3.1511300000000002]
["1995-05-01",3.0789]
["1995-06-01",3.0051199999999998]
["1995-07-01",2.9993599999999998]
["1995-08-01",2.99173]
["1995-09-01",2.9841299999999999]
["1995-10-01",3.1052]
["1995-11-01",3.0341300000000002]
["1995-12-01",3.0322200000000001]
["1996-01-01",2.9559700000000002]
["1996-02-01",2.8858199999999998]
["1996-03-01",2.81426]
["1996-04-01",2.6184500000000002]
["1996-05-01",2.6757900000000001]
["1996-06-01",2.6691500000000001]
["1996-07-01",2.6641900000000001]
["1996-08-01",2.5958000000000001]
["1996-09-01",2.6510500000000001]
["1996-10-01",2.5199799999999999]
["1996-11-01",2.5766900000000001]
["1996-12-01",2.6364200000000002]
["1997-01-01",2.5045799999999998]
["1997-02-01",2.5]
["1997-03-01",2.43309]
["1997-04-01",2.61239]
["1997-05-01",2.5454500000000002]
["1997-06-01",2.41838]
["1997-07-01",2.4140000000000001]
["1997-08-01",2.2891599999999999]
["1997-09-01",2.2222200000000001]
["1997-10-01",2.2781799999999999]
["1997-11-01",2.1531099999999999]
["1997-12-01",2.2700100000000001]
["1998-01-01",2.2646000000000002]
["1998-02-01",2.2605599999999999]
["1998-03-01",2.2565300000000001]
["1998-04-01",2.13144]
["1998-05-01",2.18676]
["1998-06-01",2.2432099999999999]
["1998-07-01",2.2392500000000002]
["1998-08-01",2.4735]
["1998-09-01",2.3501799999999999]
["1998-10-01",2.22743]
["1998-11-01",2.34192]
["1998-12-01",2.4532699999999998]
["1999-01-01",2.331]
["1999-02-01",2.1524100000000002]
["1999-03-01",2.0325199999999999]
["1999-04-01",2.2029000000000001]
["1999-05-01",2.0821299999999998]
["1999-06-01",1.96305]
["1999-07-01",2.0749300000000002]
["1999-08-01",1.89655]
["1999-09-01",2.0665900000000001]
["1999-10-01",2.1215600000000001]
["1999-11-01",2.0594999999999999]
["1999-12-01",1.88141]
["2000-01-01",2.1070600000000002]
["2000-02-01",2.1640100000000002]
["2000-03-01",2.4473500000000001]
["2000-04-01",2.2688600000000001]
["2000-05-01",2.3795999999999999]
["2000-06-01",2.54813]
["2000-07-01",2.48447]
["2000-08-01",2.5944699999999998]
["2000-09-01",2.5309300000000001]
["2000-10-01",2.5266700000000002]
["2000-11-01",2.6345299999999998]
["2000-12-01",2.5741499999999999]
["2001-01-01",2.5655299999999999]
["2001-02-01",2.7870699999999999]
["2001-03-01",2.61111]
["2001-04-01",2.6622300000000001]
["2001-05-01",2.5456599999999998]
["2001-06-01",2.7056900000000002]
["2001-07-01",2.6997200000000001]
["2001-08-01",2.6388099999999999]
["2001-09-01",2.6330200000000001]
["2001-10-01",2.6286999999999998]
["2001-11-01",2.73075]
["2001-12-01",2.7823199999999999]
["2002-01-01",2.6101100000000002]
["2002-02-01",2.54881]
["2002-03-01",2.4363800000000002]
["2002-04-01",2.4851399999999999]
["2002-05-01",2.5364300000000002]
["2002-06-01",2.25806]
["2002-07-01",2.19957]
["2002-08-01",2.3567200000000001]
["2002-09-01",2.2447900000000001]
["2002-10-01",2.1878299999999999]
["2002-11-01",2.0202]
["2002-12-01",1.96391]
["2003-01-01",1.96078]
["2003-02-01",1.79799]
["2003-03-01",1.7441899999999999]
["2003-04-01",1.47601]
["2003-05-01",1.5263199999999999]
["2003-06-01",1.4721299999999999]
["2003-07-01",1.5223100000000001]
["2003-08-01",1.3082199999999999]
["2003-09-01",1.25457]
["2003-10-01",1.30548]
["2003-11-01",1.09432]
["2003-12-01",1.09318]
["2004-01-01",1.1434500000000001]
["2004-02-01",1.24675]
["2004-03-01",1.55844]
["2004-04-01",1.76623]
["2004-05-01",1.7107300000000001]
["2004-06-01",1.86528]
["2004-07-01",1.7580100000000001]
["2004-08-01",1.70455]
["2004-09-01",1.9618]
["2004-10-01",2.01031]
["2004-11-01",2.2164899999999998]
["2004-12-01",2.2657099999999999]
["2005-01-01",2.26105]
["2005-02-01",2.3088799999999998]
["2005-03-01",2.3529399999999998]
["2005-04-01",2.1949999999999998]
["2005-05-01",2.19164]
["2005-06-01",2.0345900000000001]
["2005-07-01",2.0833300000000001]
["2005-08-01",2.13306]
["2005-09-01",1.92405]
["2005-10-01",2.0717500000000002]
["2005-11-01",2.1179999999999999]
["2005-12-01",2.1147999999999998]
["2006-01-01",2.1105499999999999]
["2006-02-01",2.1063200000000002]
["2006-03-01",2.0989499999999999]
["2006-04-01",2.2976999999999999]
["2006-05-01",2.4438900000000001]
["2006-06-01",2.6420699999999999]
["2006-07-01",2.6879]
["2006-08-01",2.8344100000000001]
["2006-09-01",2.9309500000000002]
["2006-10-01",2.7722799999999999]
["2006-11-01",2.6172800000000001]
["2006-12-01",2.61341]
["2007-01-01",2.6574800000000001]
["2007-02-01",2.7185700000000002]
["2007-03-01",2.5051399999999999]
["2007-04-01",2.41553]
["2007-05-01",2.2677700000000001]
["2007-06-01",2.1816399999999998]
["2007-07-01",2.1682000000000001]
["2007-08-01",2.0884900000000002]
["2007-09-01",2.1013500000000001]
["2007-10-01",2.1565500000000002]
["2007-11-01",2.3387899999999999]
["2007-12-01",2.4353699999999998]
["2008-01-01",2.4789099999999999]
["2008-02-01",2.2970799999999998]
["2008-03-01",2.3885200000000002]
["2008-04-01",2.29467]
["2008-05-01",2.3222200000000002]
["2008-06-01",2.3917299999999999]
["2008-07-01",2.4633099999999999]
["2008-08-01",2.4981200000000001]
["2008-09-01",2.4386199999999998]
["2008-10-01",2.2213599999999998]
["2008-11-01",2.0158900000000002]
["2008-12-01",1.7624599999999999]
["2009-01-01",1.67235]
["2009-02-01",1.80098]
["2009-03-01",1.7876099999999999]
["2009-04-01",1.9323300000000001]
["2009-05-01",1.84613]
["2009-06-01",1.71197]
["2009-07-01",1.5270999999999999]
["2009-08-01",1.43397]
["2009-09-01",1.47984]
["2009-10-01",1.7127300000000001]
["2009-11-01",1.71424]
["2009-12-01",1.8236699999999999]
["2010-01-01",1.51234]
["2010-02-01",1.34945]
["2010-03-01",1.1592100000000001]
["2010-04-01",0.96750999999999998]
["2010-05-01",0.94013999999999998]
["2010-06-01",0.95020000000000004]
["2010-07-01",0.95774999999999999]
["2010-08-01",0.91710000000000003]
["2010-09-01",0.81438999999999995]
["2010-10-01",0.60272000000000003]
["2010-11-01",0.67205999999999999]
["2010-12-01",0.66188999999999998]
["2011-01-01",0.98353000000000002]
["2011-02-01",1.1244499999999999]
["2011-03-01",1.2097899999999999]
["2011-04-01",1.3155399999999999]
["2011-05-01",1.4540999999999999]
["2011-06-01",1.58368]
["2011-07-01",1.7414799999999999]
["2011-08-01",1.96516]
["2011-09-01",1.9877199999999999]
["2011-10-01",2.10792]
["2011-11-01",2.1381999999999999]
["2011-12-01",2.2766600000000001]
["2012-01-01",2.2773500000000002]
["2012-02-01",2.1598199999999999]
["2012-03-01",2.2483399999999998]
["2012-04-01",2.3144300000000002]
["2012-05-01",2.2522600000000002]
["2012-06-01",2.1922899999999998]
["2012-07-01",2.1099600000000001]
["2012-08-01",1.9352499999999999]
["2012-09-01",2.0082399999999998]
["2012-10-01",1.99465]
["2012-11-01",1.95285]
["2012-12-01",1.8996900000000001]
["2013-01-01",1.9097999999999999]
["2013-02-01",1.98874]
["2013-03-01",1.8890199999999999]
["2013-04-01",1.71556]
["2013-05-01",1.6455500000000001]
["2013-06-01",1.6231]
["2013-07-01",1.7002200000000001]
["2013-08-01",1.7821100000000001]
["2013-09-01",1.7519400000000001]
["2013-10-01",1.6868399999999999]
["2013-11-01",1.7416700000000001]
["2013-12-01",1.7408600000000001]
["2014-01-01",1.60703]
["2014-02-01",1.55481]
["2014-03-01",1.6456599999999999]
["2014-04-01",1.8210599999999999]
["2014-05-01",1.94553]
["2014-06-01",1.92286]
["2014-07-01",1.8449599999999999]
["2014-08-01",1.7363999999999999]
["2014-09-01",1.74095]
["2014-10-01",1.8176300000000001]
["2014-11-01",1.74159]
["2014-12-01",1.62242]
["2015-01-01",1.6316299999999999]
["2015-02-01",1.68808]
["2015-03-01",1.7453799999999999]
["2015-04-01",1.8028299999999999]
["2015-05-01",1.7509399999999999]
["2015-06-01",1.7772699999999999]
["2015-07-01",1.83463]
["2015-08-01",1.85063]
["2015-09-01",1.8971]
["2015-10-01",1.91353]
["2015-11-01",1.99743]
["2015-12-01",2.07151]
["2016-01-01",2.1950599999999998]
["2016-02-01",2.2783699999999998]
["2016-03-01",2.1636099999999998]
["2016-04-01",2.1218499999999998]
["2016-05-01",2.2127699999999999]
["2016-06-01",2.2188300000000001]
["2016-07-01",2.1544699999999999]
["2016-08-01",2.2873199999999998]
["2016-09-01",2.2164600000000001]
["2016-10-01",2.1741999999999999]
["2016-11-01",2.15402]
["2016-12-01",2.2130700000000001]
["2017-01-01",2.2213599999999998]
["2017-02-01",2.1751]
["2017-03-01",2.0043600000000001]
["2017-04-01",1.8915299999999999]
["2017-05-01",1.7552099999999999]
["2017-06-01",1.7293400000000001]
["2017-07-01",1.70224]
["2017-08-01",1.6874]
["2017-09-01",1.68028]
["2017-10-01",1.79308]
["2017-11-01",1.74468]
["2017-12-01",1.7686900000000001]
["2018-01-01",1.831]
["2018-02-01",1.82599]
["2018-03-01",2.0650200000000001]
["2018-04-01",2.1335600000000001]
["2018-05-01",2.26159]
["2018-06-01",2.2676500000000002]
["2018-07-01",2.3384100000000001]
["2018-08-01",2.1788699999999999]
["2018-09-01",2.2610800000000002]
["2018-10-01",2.1531600000000002]
["2018-11-01",2.2189800000000002]
["2018-12-01",2.2037900000000001]
["2019-01-01",2.1402899999999998]
["2019-02-01",2.0847500000000001]
["2019-03-01",2.0470600000000001]
["2019-04-01",2.0851000000000002]
["2019-05-01",2.0003299999999999]
["2019-06-01",2.1377299999999999]
["2019-07-01",2.2043300000000001]
["2019-08-01",2.3695599999999999]
["2019-09-01",2.3495200000000001]
["2019-10-01",2.3143500000000001]
["2019-11-01",2.3172600000000001]
["2019-12-01",2.24858]
["2020-01-01",2.2681399999999998]
["2020-02-01",2.3656799999999998]
["2020-03-01",2.0962999999999998]

{"sheet":"WILL5000PR eop","index":16,"n_rows":604,"n_cols":2,"rows_kept":604,"cut":false,"hidden":false,"merged":[]}
["FRED Graph Observations"]
["Federal Reserve Economic Data"]
["Link: https://fred.stlouisfed.org"]
["Help: https://fred.stlouisfed.org/help-faq"]
["Economic Research Division"]
["Federal Reserve Bank of St. Louis"]
[]
["WILL5000PR","Wilshire 5000 Price Index, Index, Monthly, Not Seasonally Adjusted"]
[]
["Frequency: Monthly"]
["observation_date","WILL5000PR"]
["1971-01-01",873.31]
["1971-02-01",885.37]
["1971-03-01",923.13]
["1971-04-01",955.25]
["1971-05-01",919.83]
["1971-06-01",921.91]
["1971-07-01",887.9]
["1971-08-01",919.19]
["1971-09-01",914.22]
["1971-10-01",877.33]
["1971-11-01",871.15]
["1971-12-01",949.26]
["1972-01-01",976.73]
["1972-02-01",1005.79]
["1972-03-01",1013.1]
["1972-04-01",1019.47]
["1972-05-01",1033.3800000000001]
["1972-06-01",1010.34]
["1972-07-01",1006.5]
["1972-08-01",1037.9000000000001]
["1972-09-01",1028.17]
["1972-10-01",1036.01]
["1972-11-01",1080.29]
["1972-12-01",1090.31]
["1973-01-01",1059.76]
["1973-02-01",1010.11]
["1973-03-01",1001.61]
["1973-04-01",950.87]
["1973-05-01",923.96]
["1973-06-01",914.85]
["1973-07-01",965.02]
["1973-08-01",931.52]
["1973-09-01",979.04]
["1973-10-01",978.75]
["1973-11-01",854.6]
["1973-12-01",861.73]
["1974-01-01",863.57]
["1974-02-01",862.06]
["1974-03-01",838.94]
["1974-04-01",799.58]
["1974-05-01",760.04]
["1974-06-01",739.5]
["1974-07-01",686.32]
["1974-08-01",620.04]
["1974-09-01",550.04]
["1974-10-01",639.41]
["1974-11-01",607.86]
["1974-12-01",590.34]
["1975-01-01",675.54]
["1975-02-01",712.86]
["1975-03-01",730.29]
["1975-04-01",763.99]
["1975-05-01",802.3]
["1975-06-01",840.17]
["1975-07-01",787.06]
["1975-08-01",766.26]
["1975-09-01",734.62]
["1975-10-01",773.79]
["1975-11-01",794.05]
["1975-12-01",784.15]
["1976-01-01",880.47]
["1976-02-01",881.88]
["1976-03-01",903.47]
["1976-04-01",893.64]
["1976-05-01",879.52]
["1976-06-01",914.8]
["1976-07-01",907.82]
["1976-08-01",900.91]
["1976-09-01",920.72]
["1976-10-01",899.9]
["1976-11-01",899.25]
["1976-12-01",954.18]
["1977-01-01",918.86]
["1977-02-01",899.97]
["1977-03-01",888.81]
["1977-04-01",893.43]
["1977-05-01",882.18]
["1977-06-01",919.19]
["1977-07-01",905.66]
["1977-08-01",887.63]
["1977-09-01",887.45]
["1977-10-01",851.6]
["1977-11-01",882.39]
["1977-12-01",887.59]
["1978-01-01",836.79]
["1978-02-01",822.27]
["1978-03-01",847.81]
["1978-04-01",916.42]
["1978-05-01",930.65]
["1978-06-01",917.97]
["1978-07-01",969.18]
["1978-08-01",1004.15]
["1978-09-01",996.1]
["1978-10-01",886.92]
["1978-11-01",908.34]
["1978-12-01",922.77]
["1979-01-01",964.88]
["1979-02-01",935.84]
["1979-03-01",997.62]
["1979-04-01",1004.7]
["1979-05-01",981.15]
["1979-06-01",1028.23]
["1979-07-01",1038.1600000000001]
["1979-08-01",1097.81]
["1979-09-01",1101.82]
["1979-10-01",1020.04]
["1979-11-01",1075.4000000000001]
["1979-12-01",1100.71]
["1980-01-01",1176.99]
["1980-02-01",1171.6500000000001]
["1980-03-01",1026.03]
["1980-04-01",1075.93]
["1980-05-01",1127.1400000000001]
["1980-06-01",1165.1400000000001]
["1980-07-01",1242.57]
["1980-08-01",1267.49]
["1980-09-01",1300.9000000000001]
["1980-10-01",1330.26]
["1980-11-01",1466.64]
["1980-12-01",1404.6]
["1981-01-01",1342.17]
["1981-02-01",1351.44]
["1981-03-01",1415.04]
["1981-04-01",1401.08]
["1981-05-01",1410.97]
["1981-06-01",1391.4]
["1981-07-01",1382.29]
["1981-08-01",1297.2]
["1981-09-01",1208.44]
["1981-10-01",1277.45]
["1981-11-01",1326.22]
["1981-12-01",1286.24]
["1982-01-01",1247.3499999999999]
["1982-02-01",1170.3699999999999]
["1982-03-01",1153.7]
["1982-04-01",1201.46]
["1982-05-01",1157.8499999999999]
["1982-06-01",1125.1300000000001]
["1982-07-01",1099.7]
["1982-08-01",1219.94]
["1982-09-01",1235.79]
["1982-10-01",1377.33]
["1982-11-01",1435.37]
["1982-12-01",1451.59]
["1983-01-01",1508.98]
["1983-02-01",1548.13]
["1983-03-01",1600.06]
["1983-04-01",1716.89]
["1983-05-01",1729.91]
["1983-06-01",1791.7]
["1983-07-01",1733.45]
["1983-08-01",1734.15]
["1983-09-01",1757.86]
["1983-10-01",1707.46]
["1983-11-01",1747.26]
["1983-12-01",1723.62]
["1984-01-01",1692.65]
["1984-02-01",1616.94]
["1984-03-01",1633.98]
["1984-04-01",1635.44]
["1984-05-01",1540.08]
["1984-06-01",1571.33]
["1984-07-01",1536.91]
["1984-08-01",1702.1]
["1984-09-01",1698.07]
["1984-10-01",1692.87]
["1984-11-01",1666.92]
["1984-12-01",1702.01]
["1985-01-01",1845.24]
["1985-02-01",1868.27]
["1985-03-01",1859.77]
["1985-04-01",1852.76]
["1985-05-01",1948.25]
["1985-06-01",1977.84]
["1985-07-01",1972.98]
["1985-08-01",1953.1]
["1985-09-01",1871.23]
["1985-10-01",1949.96]
["1985-11-01",2076.7199999999998]
["1985-12-01",2164.69]
["1986-01-01",2184.11]
["1986-02-01",2335.94]
["1986-03-01",2455.2399999999998]
["1986-04-01",2434.17]
["1986-05-01",2548.89]
["1986-06-01",2577.65]
["1986-07-01",2419.31]
["1986-08-01",2570.85]
["1986-09-01",2360.48]
["1986-10-01",2475.41]
["1986-11-01",2503.6]
["1986-12-01",2434.9499999999998]
["1987-01-01",2743]
["1987-02-01",2867.81]
["1987-03-01",2929.67]
["1987-04-01",2873.94]
["1987-05-01",2883.1]
["1987-06-01",3004.91]
["1987-07-01",3134.55]
["1987-08-01",3245.83]
["1987-09-01",3170.98]
["1987-10-01",2443.29]
["1987-11-01",2259.44]
["1987-12-01",2417.12]
["1988-01-01",2517.81]
["1988-02-01",2635.73]
["1988-03-01",2583.9499999999998]
["1988-04-01",2608.52]
["1988-05-01",2602.61]
["1988-06-01",2729.65]
["1988-07-01",2702.23]
["1988-08-01",2613.4499999999998]
["1988-09-01",2706.67]
["1988-10-01",2750.8]
["1988-11-01",2690.03]
["1988-12-01",2738.42]
["1989-01-01",2917.26]
["1989-02-01",2857.86]
["1989-03-01",2915.07]
["1989-04-01",3053.13]
["1989-05-01",3162.61]
["1989-06-01",3137.01]
["1989-07-01",3377.4]
["1989-08-01",3440.84]
["1989-09-01",3426.66]
["1989-10-01",3320.35]
["1989-11-01",3367.64]
["1989-12-01",3419.88]
["1990-01-01",3163.3]
["1990-02-01",3201.21]
["1990-03-01",3273.46]
["1990-04-01",3172.33]
["1990-05-01",3448.48]
["1990-06-01",3424.37]
["1990-07-01",3384.37]
["1990-08-01",3053.6]
["1990-09-01",2879.34]
["1990-10-01",2833.99]
["1990-11-01",3015.02]
["1990-12-01",3101.36]
["1991-01-01",3245.35]
["1991-02-01",3484.85]
["1991-03-01",3583.67]
["1991-04-01",3587.92]
["1991-05-01",3719.3]
["1991-06-01",3545.47]
["1991-07-01",3705.89]
["1991-08-01",3795.04]
["1991-09-01",3743.98]
["1991-10-01",3807.08]
["1991-11-01",3649.99]
["1991-12-01",4041.1]
["1992-01-01",4027.77]
["1992-02-01",4071.25]
["1992-03-01",3961.55]
["1992-04-01",4008.71]
["1992-05-01",4021.51]
["1992-06-01",3930.33]
["1992-07-01",4083.85]
["1992-08-01",3985]
["1992-09-01",4024.36]
["1992-10-01",4067.78]
["1992-11-01",4223.41]
["1992-12-01",4289.74]
["1993-01-01",4336.92]
["1993-02-01",4342.87]
["1993-03-01",4444.3]
["1993-04-01",4316.12]
["1993-05-01",4438.55]
["1993-06-01",4449.57]
["1993-07-01",4443.28]
["1993-08-01",4601.55]
["1993-09-01",4601.84]
["1993-10-01",4672.7700000000004]
["1993-11-01",4583.82]
["1993-12-01",4657.83]
["1994-01-01",4798.07]
["1994-02-01",4678.3900000000003]
["1994-03-01",4457.6899999999996]
["1994-04-01",4494.72]
["1994-05-01",4525.5200000000004]
["1994-06-01",4395.22]
["1994-07-01",4519.8]
["1994-08-01",4705.97]
["1994-09-01",4605.82]
["1994-10-01",4674.18]
["1994-11-01",4490.58]
["1994-12-01",4540.62]
["1995-01-01",4631.3999999999996]
["1995-02-01",4803.91]
["1995-03-01",4920.42]
["1995-04-01",5035.8900000000003]
["1995-05-01",5192.8]
["1995-06-01",5348.77]
["1995-07-01",5561.86]
["1995-08-01",5602.28]
["1995-09-01",5806.63]
["1995-10-01",5740.87]
["1995-11-01",5969.99]
["1995-12-01",6057.21]
["1996-01-01",6211.82]
["1996-02-01",6307.25]
["1996-03-01",6365.89]
["1996-04-01",6514.79]
["1996-05-01",6677.35]
["1996-06-01",6612.77]
["1996-07-01",6247.03]
["1996-08-01",6434.03]
["1996-09-01",6765.65]
["1996-10-01",6851.33]
["1996-11-01",7292.16]
["1996-12-01",7198.29]
["1997-01-01",7575.79]
["1997-02-01",7559.42]
["1997-03-01",7213.53]
["1997-04-01",7519.29]
["1997-05-01",8038.5]
["1997-06-01",8396.8700000000008]
["1997-07-01",9031.43]
["1997-08-01",8679.98]
["1997-09-01",9180.2099999999991]
["1997-10-01",8865.25]
["1997-11-01",9142.43]
["1997-12-01",9298.19]
["1998-01-01",9340.7999999999993]
["1998-02-01",10006.44]
["1998-03-01",10494.72]
["1998-04-01",10609.61]
["1998-05-01",10314.18]
["1998-06-01",10663.61]
["1998-07-01",10420.26]
["1998-08-01",8785.7099999999991]
["1998-09-01",9346.81]
["1998-10-01",10032.19]
["1998-11-01",10650.2]
["1998-12-01",11317.59]
["1999-01-01",11724.83]
["1999-02-01",11286.08]
["1999-03-01",11707.67]
["1999-04-01",12259.36]
["1999-05-01",11976.75]
["1999-06-01",12583.6]
["1999-07-01",12189.84]
["1999-08-01",12042.23]
["1999-09-01",11713.8]
["1999-10-01",12449.4]
["1999-11-01",12851.93]
["1999-12-01",13812.67]
["2000-01-01",13230.62]
["2000-02-01",13511]
["2000-03-01",14296.18]
["2000-04-01",13541.7]
["2000-05-01",13052.96]
["2000-06-01",13618.5]
["2000-07-01",13330.31]
["2000-08-01",14280.04]
["2000-09-01",13613.33]
["2000-10-01",13314.68]
["2000-11-01",11976.24]
["2000-12-01",12175.88]
["2001-01-01",12631.36]
["2001-02-01",11425.29]
["2001-03-01",10645.85]
["2001-04-01",11512.46]
["2001-05-01",11610.22]
["2001-06-01",11407.15]
["2001-07-01",11208.51]
["2001-08-01",10515.09]
["2001-09-01",9562.9500000000007]
["2001-10-01",9796.86]
["2001-11-01",10531.45]
["2001-12-01",10707.68]
["2002-01-01",10564.69]
["2002-02-01",10332.89]
["2002-03-01",10775.74]
["2002-04-01",10241.18]
["2002-05-01",10106.49]
["2002-06-01",9384.0300000000007]
["2002-07-01",8616.94]
["2002-08-01",8654.0400000000009]
["2002-09-01",7773.63]
["2002-10-01",8357.32]
["2002-11-01",8846.7099999999991]
["2002-12-01",8343.19]
["2003-01-01",8125.07]
["2003-02-01",7972.6]
["2003-03-01",8051.86]
["2003-04-01",8701.9699999999993]
["2003-05-01",9218.89]
["2003-06-01",9342.42]
["2003-07-01",9555.19]
["2003-08-01",9770.56]
["2003-09-01",9649.68]
["2003-10-01",10224.52]
["2003-11-01",10352.219999999999]
["2003-12-01",10799.63]
["2004-01-01",11029.2]
["2004-02-01",11172.89]
["2004-03-01",11039.42]
["2004-04-01",10793.66]
["2004-05-01",10926.27]
["2004-06-01",11144.59]
["2004-07-01",10716.61]
["2004-08-01",10735.48]
["2004-09-01",10893.78]
["2004-10-01",11056.51]
["2004-11-01",11552.06]
["2004-12-01",11951.47]
["2005-01-01",11627.25]
["2005-02-01",11859.8]
["2005-03-01",11637.25]
["2005-04-01",11367.56]
["2005-05-01",11778.43]
["2005-06-01",11856.67]
["2005-07-01",12333.31]
["2005-08-01",12199.09]
["2005-09-01",12282.87]
["2005-10-01",12043.73]
["2005-11-01",12496.61]
["2005-12-01",12497.18]
["2006-01-01",12930.07]
["2006-02-01",12901.14]
["2006-03-01",13121.56]
["2006-04-01",13252.5]
["2006-05-01",12802.45]
["2006-06-01",12808.89]
["2006-07-01",12780.76]
["2006-08-01",13051.47]
["2006-09-01",13322.49]
["2006-10-01",13791.73]
["2006-11-01",14071.65]
["2006-12-01",14215.82]
["2007-01-01",14471.77]
["2007-02-01",14213.88]
["2007-03-01",14354.03]
["2007-04-01",14914.86]
["2007-05-01",15429.51]
["2007-06-01",15163.1]
["2007-07-01",14633.47]
["2007-08-01",14807.65]
["2007-09-01",15317.78]
["2007-10-01",15594.91]
["2007-11-01",14869.56]
["2007-12-01",14753.62]
["2008-01-01",13843.25]
["2008-02-01",13398.01]
["2008-03-01",13284.11]
["2008-04-01",13930.84]
["2008-05-01",14193.69]
["2008-06-01",13016.38]
["2008-07-01",12886.12]
["2008-08-01",13061.72]
["2008-09-01",11826]
["2008-10-01",9732.07]
["2008-11-01",8925.9599999999991]
["2008-12-01",9056.67]
["2009-01-01",8305.1200000000008]
["2009-02-01",7415.6]
["2009-03-01",8044.18]
["2009-04-01",8875.92]
["2009-05-01",9323.65]
["2009-06-01",9345.16]
["2009-07-01",10060.620000000001]
["2009-08-01",10413.6]
["2009-09-01",10830.64]
["2009-10-01",10553.99]
["2009-11-01",11139.86]
["2009-12-01",11421.77]
["2010-01-01",11014.79]
["2010-02-01",11359.92]
["2010-03-01",12049.25]
["2010-04-01",12291.61]
["2010-05-01",11294.66]
["2010-06-01",10654.76]
["2010-07-01",11378.9]
["2010-08-01",10823.79]
["2010-09-01",11813.61]
["2010-10-01",12259.8]
["2010-11-01",12298.12]
["2010-12-01",13121.37]
["2011-01-01",13391.12]
["2011-02-01",13841.66]
["2011-03-01",13871.4]
["2011-04-01",14260.31]
["2011-05-01",14062.99]
["2011-06-01",13793.5]
["2011-07-01",13482.2]
["2011-08-01",12648.69]
["2011-09-01",11661.69]
["2011-10-01",12972.12]
["2011-11-01",12898.87]
["2011-12-01",12993.93]
["2012-01-01",13620.07]
["2012-02-01",14163.54]
["2012-03-01",14580.21]
["2012-04-01",14460.8]
["2012-05-01",13537.87]
["2012-06-01",14049.42]
["2012-07-01",14180.01]
["2012-08-01",14483.86]
["2012-09-01",14834.84]
["2012-10-01",14555.51]
["2012-11-01",14611.97]
["2012-12-01",14759.52]
["2013-01-01",15542.2]
["2013-02-01",15707.47]
["2013-03-01",16288.82]
["2013-04-01",16554.91]
["2013-05-01",16896.759999999998]
["2013-06-01",16654.740000000002]
["2013-07-01",17540.45]
["2013-08-01",16995.740000000002]
["2013-09-01",17573.560000000001]
["2013-10-01",18309.93]
["2013-11-01",18799.91]
["2013-12-01",19254.150000000001]
["2014-01-01",18629.599999999999]
["2014-02-01",19448.88]
["2014-03-01",19555.04]
["2014-04-01",19568.099999999999]
["2014-05-01",19951.29]
["2014-06-01",20406.71]
["2014-07-01",20004.98]
["2014-08-01",20777.34]
["2014-09-01",20324.66]
["2014-10-01",20862.169999999998]
["2014-11-01",21335.3]
["2014-12-01",21289.13]
["2015-01-01",20678.93]
["2015-02-01",21807.89]
["2015-03-01",21526.87]
["2015-04-01",21622.29]
["2015-05-01",21854.12]
["2015-06-01",21433.95]
["2015-07-01",21787.08]
["2015-08-01",20445.400000000001]
["2015-09-01",19855.23]
["2015-10-01",21420.58]
["2015-11-01",21439.35]
["2015-12-01",20979.51]
["2016-01-01",19812.47]
["2016-02-01",19749.650000000001]
["2016-03-01",21107.18]
["2016-04-01",21220.21]
["2016-05-01",21549.42]
["2016-06-01",21577.7]
["2016-07-01",22399.56]
["2016-08-01",22398.83]
["2016-09-01",22386.07]
["2016-10-01",21903.39]
["2016-11-01",22840.77]
["2016-12-01",23273.97]
["2017-01-01",23661.88]
["2017-02-01",24487.46]
["2017-03-01",24459.06]
["2017-04-01",24689.06]
["2017-05-01",24879.18]
["2017-06-01",25059.71]
["2017-07-01",25502.52]
["2017-08-01",25501.78]
["2017-09-01",26082.7]
["2017-10-01",26616.43]
["2017-11-01",27356.7]
["2017-12-01",27615.03]
["2018-01-01",29035.23]
["2018-02-01",27906.45]
["2018-03-01",27276.86]
["2018-04-01",27355.88]
["2018-05-01",28043.79]
["2018-06-01",28187.64]
["2018-07-01",29117.38]
["2018-08-01",30073.15]
["2018-09-01",30080.78]
["2018-10-01",27856.97]
["2018-11-01",28328.14]
["2018-12-01",25647.29]
["2019-01-01",27830.1]
["2019-02-01",28734.54]
["2019-03-01",29121.06]
["2019-04-01",30255.95]
["2019-05-01",28217.599999999999]
["2019-06-01",30135.48]
["2019-07-01",30550.75]
["2019-08-01",29857.78]
["2019-09-01",30355.57]
["2019-10-01",30983.59]
["2019-11-01",32064.26]
["2019-12-01",32948.410000000003]
["2020-01-01",32913.47]
["2020-02-01",30151.73]
["2020-03-01",25995.73]
["2020-04-01",29409.58]
["2020-05-01",{"$f":"NA()","v":{"$error":"#N/A"}}]

{"sheet":"data_ex","index":17,"n_rows":603,"n_cols":3,"rows_kept":603,"cut":false,"hidden":false,"merged":[]}
["FRED Graph Observations"]
["Federal Reserve Economic Data"]
["Link: https://fred.stlouisfed.org"]
["Help: https://fred.stlouisfed.org/help-faq"]
["Economic Research Division"]
["Federal Reserve Bank of St. Louis"]
[]
["LNU00000060_UNRATE_CPILFESL_PC1","LNU00000060/(UNRATE+CPILFESL), Index Jul 1990=100 of (Thous. of Persons/(%+% Chg. from Yr. Ago)), Monthly"]
["WILL5000PR_CPIAUCNS","WILL5000PR/CPIAUCNS, Index Jul 1990=100 of (Index/Index 1982-1984=100), Monthly, Not Seasonally Adjusted"]
[]
["Frequency: Monthly"]
["observation_date","LNU00000060_UNRATE_CPILFESL_PC1","WILL5000PR_CPIAUCNS"]
["1971-01-01",57.832940000000001,84.544449999999998]
["1971-02-01",59.253489999999999,85.497150000000005]
["1971-03-01",62.943840000000002,88.920649999999995]
["1971-04-01",65.256590000000003,91.785150000000002]
["1971-05-01",63.942880000000002,87.943200000000004]
["1971-06-01",65.673330000000007,87.490769999999998]
["1971-07-01",65.205150000000003,84.056129999999996]
["1971-08-01",66.360730000000004,86.805030000000002]
["1971-09-01",70.487989999999996,86.335679999999996]
["1971-10-01",74.008870000000002,82.649349999999998]
["1971-11-01",76.56532,82.067160000000001]
["1971-12-01",78.871510000000001,88.990390000000005]
["1972-01-01",78.840400000000002,91.565619999999996]
["1972-02-01",79.956010000000006,93.833309999999997]
["1972-03-01",79.209990000000005,94.28698]
["1972-04-01",80.384739999999994,94.651200000000003]
["1972-05-01",82.860969999999995,95.712019999999995]
["1972-06-01",85.394490000000005,93.353639999999999]
["1972-07-01",86.651150000000001,92.554919999999996]
["1972-08-01",84.507530000000003,95.215130000000002]
["1972-09-01",85.632009999999994,94.098479999999995]
["1972-10-01",84.816209999999998,94.367689999999996]
["1972-11-01",90.600390000000004,98.168970000000002]
["1972-12-01",89.387519999999995,98.84639]
["1973-01-01",98.863069999999993,95.851230000000001]
["1973-02-01",94.884420000000006,90.721689999999995]
["1973-03-01",90.888379999999998,89.127250000000004]
["1973-04-01",92.661439999999999,84.030010000000004]
["1973-05-01",91.430030000000002,81.093940000000003]
["1973-06-01",91.643619999999999,79.749390000000005]
["1973-07-01",93.029240000000001,83.932919999999996]
["1973-08-01",93.339110000000005,79.582099999999997]
["1973-09-01",86.15231,83.456810000000004]
["1973-10-01",83.933779999999999,82.700220000000002]
["1973-11-01",78.323830000000001,71.738110000000006]
["1973-12-01",77.861140000000006,71.866910000000004]
["1974-01-01",73.228350000000006,71.402169999999998]
["1974-02-01",71.249679999999998,70.371250000000003]
["1974-03-01",69.239850000000004,67.624300000000005]
["1974-04-01",66.704170000000005,64.183059999999998]
["1974-05-01",62.117899999999999,60.255949999999999]
["1974-06-01",56.780529999999999,58.148949999999999]
["1974-07-01",53.037550000000003,53.530270000000002]
["1974-08-01",49.452800000000003,47.780360000000002]
["1974-09-01",47.148249999999997,41.88355]
["1974-10-01",45.886330000000001,48.212350000000001]
["1974-11-01",43.37171,45.477449999999997]
["1974-12-01",41.130760000000002,43.826279999999997]
["1975-01-01",38.95355,49.958930000000002]
["1975-02-01",38.319310000000002,52.317219999999999]
["1975-03-01",38.406280000000002,53.39302]
["1975-04-01",38.206029999999998,55.645719999999997]
["1975-05-01",39.777349999999998,58.106529999999999]
["1975-06-01",41.365819999999999,60.395159999999997]
["1975-07-01",43.569279999999999,55.951059999999998]
["1975-08-01",47.155880000000003,54.372100000000003]
["1975-09-01",48.635669999999998,51.840580000000003]
["1975-10-01",50.167070000000002,54.306339999999999]
["1975-11-01",50.750630000000001,55.325130000000001]
["1975-12-01",52.004539999999999,54.438470000000002]
["1976-01-01",52.604480000000002,61.015410000000003]
["1976-02-01",55.076979999999999,60.894080000000002]
["1976-03-01",54.905729999999998,62.273269999999997]
["1976-04-01",55.46716,61.376130000000003]
["1976-05-01",56.099699999999999,59.978700000000003]
["1976-06-01",56.280610000000003,62.055109999999999]
["1976-07-01",54.235210000000002,61.25808]
["1976-08-01",53.725290000000001,60.474080000000001]
["1976-09-01",54.696019999999997,61.589239999999997]
["1976-10-01",54.526940000000003,59.884639999999997]
["1976-11-01",55.808680000000003,59.738210000000002]
["1976-12-01",56.773960000000002,63.169449999999998]
["1977-01-01",58.295409999999997,60.519210000000001]
["1977-02-01",57.343249999999998,58.673270000000002]
["1977-03-01",58.404559999999996,57.556150000000002]
["1977-04-01",58.690190000000001,57.373199999999997]
["1977-05-01",59.822209999999998,56.36891]
["1977-06-01",57.638030000000001,58.346710000000002]
["1977-07-01",60.773229999999998,57.205150000000003]
["1977-08-01",60.560980000000001,55.88308]
["1977-09-01",61.741289999999999,55.689749999999997]
["1977-10-01",62.819800000000001,53.266570000000002]
["1977-11-01",62.196820000000002,54.924950000000003]
["1977-12-01",62.689259999999997,55.070689999999999]
["1978-01-01",63.001739999999998,51.58652]
["1978-02-01",64.66301,50.369030000000002]
["1978-03-01",64.059849999999997,51.523940000000003]
["1978-04-01",63.659109999999998,55.257779999999997]
["1978-05-01",63.608640000000001,55.593809999999998]
["1978-06-01",63.626609999999999,54.247610000000002]
["1978-07-01",60.851689999999998,56.838009999999997]
["1978-08-01",61.000039999999998,58.621160000000003]
["1978-09-01",58.691670000000002,57.713979999999999]
["1978-10-01",57.73198,50.92859]
["1978-11-01",56.944609999999997,51.926409999999997]
["1978-12-01",56.863680000000002,52.517560000000003]
["1979-01-01",56.947830000000003,54.431759999999997]
["1979-02-01",54.800800000000002,52.182310000000001]
["1979-03-01",54.335700000000003,55.069290000000002]
["1979-04-01",54.671900000000001,54.831670000000003]
["1979-05-01",55.155209999999997,52.872410000000002]
["1979-06-01",55.158340000000003,54.79636]
["1979-07-01",54.354889999999997,54.72007]
["1979-08-01",52.12762,57.315300000000001]
["1979-09-01",52.844889999999999,56.907769999999999]
["1979-10-01",51.924570000000003,52.263579999999997]
["1979-11-01",50.656440000000003,54.591880000000003]
["1979-12-01",48.486879999999999,55.293909999999997]
["1980-01-01",46.054830000000003,58.289850000000001]
["1980-02-01",46.072629999999997,57.216419999999999]
["1980-03-01",44.651029999999999,49.354559999999999]
["1980-04-01",42.314079999999997,51.179819999999999]
["1980-05-01",41.055100000000003,53.091419999999999]
["1980-06-01",40.026479999999999,54.284059999999997]
["1980-07-01",42.154530000000001,57.891539999999999]
["1980-08-01",43.623930000000001,58.627220000000001]
["1980-09-01",43.751620000000003,59.671149999999997]
["1980-10-01",43.479970000000002,60.442219999999999]
["1980-11-01",43.54439,66.093260000000001]
["1980-12-01",44.319650000000003,62.710700000000003]
["1981-01-01",45.600409999999997,59.44126]
["1981-02-01",47.193469999999998,59.238990000000001]
["1981-03-01",49.767919999999997,61.606310000000001]
["1981-04-01",51.92192,60.587769999999999]
["1981-05-01",50.556460000000001,60.539830000000002]
["1981-06-01",51.333930000000002,59.173000000000002]
["1981-07-01",47.343350000000001,58.143799999999999]
["1981-08-01",45.863309999999998,54.15081]
["1981-09-01",44.878549999999997,49.958449999999999]
["1981-10-01",46.281939999999999,52.698320000000002]
["1981-11-01",47.154559999999996,54.535049999999998]
["1981-12-01",48.572890000000001,52.722250000000003]
["1982-01-01",49.179380000000002,50.965510000000002]
["1982-02-01",48.595260000000003,47.668529999999997]
["1982-03-01",49.820259999999998,47.039299999999997]
["1982-04-01",48.615270000000002,48.780119999999997]
["1982-05-01",48.959240000000001,46.567889999999998]
["1982-06-01",49.019880000000001,44.692100000000003]
["1982-07-01",50.73912,43.45796]
["1982-08-01",52.720820000000003,48.11092]
["1982-09-01",55.70579,48.63644]
["1982-10-01",54.854239999999997,54.041359999999997]
["1982-11-01",55.902160000000002,56.433570000000003]
["1982-12-01",58.418349999999997,57.30518]
["1983-01-01",59.715519999999998,59.448979999999999]
["1983-02-01",60.352629999999998,60.92906]
["1983-03-01",60.452129999999997,62.972850000000001]
["1983-04-01",62.92747,67.091160000000002]
["1983-05-01",65.559100000000001,67.191079999999999]
["1983-06-01",67.859480000000005,69.381230000000002]
["1983-07-01",71.870769999999993,66.856800000000007]
["1983-08-01",72.091470000000001,66.683549999999997]
["1983-09-01",72.199590000000001,67.259640000000005]
["1983-10-01",73.530469999999994,65.137180000000001]
["1983-11-01",71.224239999999995,66.523759999999996]
["1983-12-01",70.177149999999997,65.558930000000004]
["1984-01-01",70.504639999999995,64.00188]
["1984-02-01",72.432130000000001,60.840629999999997]
["1984-03-01",71.478489999999994,61.36195]
["1984-04-01",71.717799999999997,61.118920000000003]
["1984-05-01",73.075379999999996,57.388190000000002]
["1984-06-01",73.888319999999993,58.383270000000003]
["1984-07-01",73.043779999999998,56.88496]
["1984-08-01",72.696640000000002,62.757919999999999]
["1984-09-01",74.117649999999998,62.311190000000003]
["1984-10-01",74.418700000000001,61.943390000000001]
["1984-11-01",77.795259999999999,60.993859999999998]
["1984-12-01",76.747929999999997,62.277830000000002]
["1985-01-01",79.593940000000003,67.390730000000005]
["1985-02-01",78.513199999999998,67.909970000000001]
["1985-03-01",78.807590000000005,67.346860000000007]
["1985-04-01",79.71593,66.779200000000003]
["1985-05-01",80.653580000000005,69.959180000000003]
["1985-06-01",80.218680000000006,70.823700000000002]
["1985-07-01",81.838650000000001,70.518600000000006]
["1985-08-01",84.265199999999993,69.67877]
["1985-09-01",85.969319999999996,66.573049999999995]
["1985-10-01",85.538480000000007,69.118759999999995]
["1985-11-01",83.68629,73.409319999999994]
["1985-12-01",84.678219999999996,76.308920000000001]
["1986-01-01",86.186210000000003,76.782759999999996]
["1986-02-01",84.826660000000004,82.345770000000002]
["1986-03-01",85.784300000000002,86.949039999999997]
["1986-04-01",86.062160000000006,86.361630000000005]
["1986-05-01",86.972470000000001,90.182640000000006]
["1986-06-01",87.287809999999993,90.700479999999999]
["1986-07-01",88.395390000000006,85.128929999999997]
["1986-08-01",89.479969999999994,90.296279999999996]
["1986-09-01",87.418559999999999,82.531260000000003]
["1986-10-01",88.44462,86.471180000000004]
["1986-11-01",91.854370000000003,87.3767]
["1986-12-01",94.803960000000004,84.903880000000001]
["1987-01-01",96.879689999999997,95.043139999999994]
["1987-02-01",97.148430000000005,99.011570000000006]
["1987-03-01",96.566040000000001,100.69615]
["1987-04-01",97.204740000000001,98.254750000000001]
["1987-05-01",95.78058,98.219300000000004]
["1987-06-01",97.816389999999998,102.00827]
["1987-07-01",99.11345,106.12866]
["1987-08-01",100.37676999999999,109.31997]
["1987-09-01",100.82316,106.2418]
["1987-10-01",98.420590000000004,81.647980000000004]
["1987-11-01",100.70292999999999,75.438800000000001]
["1987-12-01",102.01974,80.703460000000007]
["1988-01-01",100.59866,83.847350000000006]
["1988-02-01",100.8931,87.547290000000004]
["1988-03-01",100.31843000000001,85.459029999999998]
["1988-04-01",104.79894,85.829589999999996]
["1988-05-01",103.00501,85.343599999999995]
["1988-06-01",102.70677999999999,89.130170000000007]
["1988-07-01",103.06480000000001,87.862530000000007]
["1988-08-01",101.35581999999999,84.618819999999999]
["1988-09-01",102.04479000000001,87.051900000000003]
["1988-10-01",103.30959,88.176789999999997]
["1988-11-01",103.72920000000001,86.157139999999998]
["1988-12-01",103.13162,87.561409999999995]
["1989-01-01",102.54826,92.817689999999999]
["1989-02-01",104.13184,90.553889999999996]
["1989-03-01",106.70263,91.837969999999999]
["1989-04-01",106.71451999999999,95.562389999999994]
["1989-05-01",106.15351,98.429379999999995]
["1989-06-01",105.4045,97.396619999999999]
["1989-07-01",106.87075,104.60727]
["1989-08-01",108.09804,106.40112000000001]
["1989-09-01",110.14255,105.62354999999999]
["1989-10-01",108.68674,101.85773]
["1989-11-01",107.02670999999999,103.06227]
["1989-12-01",106.45972999999999,104.49500999999999]
["1990-01-01",107.15116999999999,95.668880000000001]
["1990-02-01",106.84602,96.361590000000007]
["1990-03-01",105.70614999999999,98.000489999999999]
["1990-04-01",103.10898,94.825509999999994]
["1990-05-01",104.29095,102.84068000000001]
["1990-06-01",104.98663999999999,101.57136]
["1990-07-01",100,100]
["1990-08-01",95.065560000000005,89.403809999999993]
["1990-09-01",93.046670000000006,83.602980000000002]
["1990-10-01",94.726929999999996,81.793130000000005]
["1990-11-01",93.222989999999996,86.822810000000004]
["1990-12-01",92.069869999999995,89.309119999999993]
["1991-01-01",89.228729999999999,92.900109999999998]
["1991-02-01",87.512590000000003,99.607939999999999]
["1991-03-01",89.096029999999999,102.28077]
["1991-04-01",90.657839999999993,102.25059]
["1991-05-01",89.414079999999998,105.68206000000001]
["1991-06-01",90.866129999999998,100.44647000000001]
["1991-07-01",93.133129999999994,104.83714000000001]
["1991-08-01",93.83905,107.04476]
["1991-09-01",94.116849999999999,105.14270999999999]
["1991-10-01",94.759240000000005,106.75913]
["1991-11-01",94.469369999999998,102.05686]
["1991-12-01",92.912869999999998,112.91070000000001]
["1992-01-01",96.210790000000003,112.37527]
["1992-02-01",98.213189999999997,113.17859]
["1992-03-01",97.098690000000005,109.57558]
["1992-04-01",97.319810000000004,110.72105000000001]
["1992-05-01",95.236599999999996,110.91557]
["1992-06-01",94.973669999999998,108.01418]
["1992-07-01",96.038809999999998,111.9936]
["1992-08-01",98.978049999999996,108.97254]
["1992-09-01",101.15586,109.73734]
["1992-10-01",101.54631999999999,110.53021]
["1992-11-01",101.49208,114.59737]
["1992-12-01",102.48757999999999,116.47919]
["1993-01-01",102.98043,117.18219999999999]
["1993-02-01",103.8252,116.93295999999999]
["1993-03-01",107.12468,119.24733000000001]
["1993-04-01",104.94443,115.48638]
["1993-05-01",105.81994,118.59752]
["1993-06-01",107.01715,118.7273]
["1993-07-01",110.56149000000001,118.55947]
["1993-08-01",110.27374,122.44338999999999]
["1993-09-01",112.36938000000001,122.19793]
["1993-10-01",113.07641,123.57044]
["1993-11-01",114.84441,121.13504]
["1993-12-01",116.36262000000001,123.09088]
["1994-01-01",117.82324,126.45004]
["1994-02-01",119.81394,122.87572]
["1994-03-01",118.7345,116.68145]
["1994-04-01",123.7443,117.49108]
["1994-05-01",128.14031,118.21599000000001]
["1994-06-01",126.41803,114.42440000000001]
["1994-07-01",125.6429,117.35053000000001]
["1994-08-01",128.28043,121.69217]
["1994-09-01",127.09395000000001,118.7835]
["1994-10-01",130.81679,120.46586000000001]
["1994-11-01",135.30314000000001,115.57939]
["1994-12-01",140.45239000000001,116.86733]
["1995-01-01",133.61367999999999,118.72798]
["1995-02-01",136.11516,122.66068]
["1995-03-01",136.37889999999999,125.22068]
["1995-04-01",127.48154,127.73744000000001]
["1995-05-01",131.55884,131.4579]
["1995-06-01",132.74161000000001,135.13998000000001]
["1995-07-01",131.45236,140.52383]
["1995-08-01",131.72355999999999,141.17477]
["1995-09-01",133.54411999999999,146.03774999999999]
["1995-10-01",133.42346000000001,143.91417999999999]
["1995-11-01",133.1379,149.75528]
["1995-12-01",133.28587999999999,152.04214999999999]
["1996-01-01",134.50184999999999,155.01414]
["1996-02-01",137.50962999999999,156.88750999999999]
["1996-03-01",138.82829000000001,157.53254000000001]
["1996-04-01",140.65300999999999,160.59838999999999]
["1996-05-01",139.87846999999999,164.29038]
["1996-06-01",145.36776,162.59762000000001]
["1996-07-01",142.00923,153.31112999999999]
["1996-08-01",150.76444000000001,157.59924000000001]
["1996-09-01",147.97609,165.19704999999999]
["1996-10-01",150.64435,166.76070999999999]
["1996-11-01",145.94839999999999,177.15473]
["1996-12-01",144.95352,174.87427]
["1997-01-01",149.53836000000001,183.46681000000001]
["1997-02-01",151.71788000000001,182.49683999999999]
["1997-03-01",153.17527000000001,173.71111999999999]
["1997-04-01",151.73427000000001,180.84815]
["1997-05-01",157.45863,193.45654999999999]
["1997-06-01",158.07241999999999,201.82903999999999]
["1997-07-01",160.29951,216.81095999999999]
["1997-08-01",165.46706,207.98519999999999]
["1997-09-01",164.80885000000001,219.42562000000001]
["1997-10-01",168.24092999999999,211.37294]
["1997-11-01",173.97438,218.11668]
["1997-12-01",168.64250000000001,222.1078]
["1998-01-01",171.26279,222.71141]
["1998-02-01",171.42797999999999,238.14008000000001]
["1998-03-01",169.02264,249.29855000000001]
["1998-04-01",182.99548999999999,251.56245000000001]
["1998-05-01",178.91486,244.1069]
["1998-06-01",174.68054000000001,252.06724]
["1998-07-01",174.70578,246.01306]
["1998-08-01",168.99825999999999,207.16890000000001]
["1998-09-01",169.59994,220.13032000000001]
["1998-10-01",175.34226000000001,235.69569999999999]
["1998-11-01",175.16627,250.21519000000001]
["1998-12-01",172.40511000000001,266.05703999999997]
["1999-01-01",178.37016,274.95951000000002]
["1999-02-01",180.35033000000001,264.34858000000003]
["1999-03-01",189.68101999999999,273.39229999999998]
["1999-04-01",181.80672999999999,284.20814999999999]
["1999-05-01",188.40825000000001,277.65642000000003]
["1999-06-01",189.37461999999999,291.72498999999999]
["1999-07-01",186.09200999999999,281.74885999999998]
["1999-08-01",194.75879,277.67081000000002]
["1999-09-01",189.4085,268.81088999999997]
["1999-10-01",190.94868,285.18205]
["1999-11-01",193.1071,294.22798999999998]
["1999-12-01",202.50551999999999,316.22287]
["2000-01-01",197.51649,302.00038999999998]
["2000-02-01",192.58676,306.58404999999999]
["2000-03-01",187.06826000000001,321.74811]
["2000-04-01",198.87047999999999,304.58996000000002]
["2000-05-01",189.52188000000001,293.25447000000003]
["2000-06-01",184.66251,304.36293999999998]
["2000-07-01",186.73838000000001,297.23248000000001]
["2000-08-01",181.07684,318.40908000000002]
["2000-09-01",188.49114,301.97035]
["2000-10-01",188.94855000000001,294.83649000000003]
["2000-11-01",185.85428999999999,265.04613000000001]
["2000-12-01",187.77200999999999,269.61923000000002]
["2001-01-01",179.89107000000001,277.94810999999999]
["2001-02-01",174.20160000000001,250.40795]
["2001-03-01",176.31509,232.79528999999999]
["2001-04-01",172.65303,250.74949000000001]
["2001-05-01",178.11655999999999,251.74032]
["2001-06-01",169.24904000000001,246.92035999999999]
["2001-07-01",167.11974000000001,243.30402000000001]
["2001-08-01",161.9846,228.25189]
["2001-09-01",159.97874999999999,206.65233000000001]
["2001-10-01",154.05831000000001,212.42187000000001]
["2001-11-01",148.40227999999999,228.73589000000001]
["2001-12-01",144.01275999999999,233.48479]
["2002-01-01",147.11904999999999,229.84653]
["2002-02-01",148.13209000000001,223.91840999999999]
["2002-03-01",150.29982000000001,232.20916]
["2002-04-01",145.84210999999999,219.46236999999999]
["2002-05-01",146.78451000000001,216.57604000000001]
["2002-06-01",152.01211000000001,200.98238000000001]
["2002-07-01",153.10978,184.34828999999999]
["2002-08-01",152.14571000000001,184.52725000000001]
["2002-09-01",154.33088000000001,165.47981999999999]
["2002-10-01",155.41864000000001,177.61063999999999]
["2002-11-01",154.84802999999999,188.01121000000001]
["2002-12-01",154.02333999999999,177.70240999999999]
["2003-01-01",158.8897,172.29471000000001]
["2003-02-01",160.28474,167.76886999999999]
["2003-03-01",161.46531999999999,168.42491999999999]
["2003-04-01",165.20364000000001,182.41973999999999]
["2003-05-01",162.0094,193.5719]
["2003-06-01",159.04615000000001,195.95213000000001]
["2003-07-01",160.18393,200.1969]
["2003-08-01",167.05928,203.93299999999999]
["2003-09-01",168.40069,200.75746000000001]
["2003-10-01",169.60642999999999,212.94672]
["2003-11-01",179.82608999999999,216.19063]
["2003-12-01",182.62303,225.77887000000001]
["2004-01-01",180.42992000000001,229.45778000000001]
["2004-02-01",180.42353,231.19881000000001]
["2004-03-01",167.95633000000001,226.97416000000001]
["2004-04-01",167.85225,221.21299999999999]
["2004-05-01",169.18002999999999,222.62818999999999]
["2004-06-01",165.77431999999999,226.35835]
["2004-07-01",170.58166,218.0104]
["2004-08-01",174.36509000000001,218.27903000000001]
["2004-09-01",168.36474999999999,221.03110000000001]
["2004-10-01",165.09290999999999,223.15771000000001]
["2004-11-01",162.89543,233.03751]
["2004-12-01",161.93457000000001,241.98157]
["2005-01-01",164.19331,234.92329000000001]
["2005-02-01",161.10839999999999,238.24759]
["2005-03-01",164.51969,231.96276]
["2005-04-01",168.12026,225.07339999999999]
["2005-05-01",170.60794000000001,233.44839999999999]
["2005-06-01",176.99039999999999,234.87828999999999]
["2005-07-01",175.87592000000001,243.19511]
["2005-08-01",177.24142000000001,239.3237]
["2005-09-01",180.19409999999999,238.05824999999999]
["2005-10-01",176.55824000000001,232.95468]
["2005-11-01",175.56604999999999,243.67166]
["2005-12-01",178.27620999999999,244.67336]
["2006-01-01",183.48724999999999,251.23371]
["2006-02-01",181.02707000000001,250.16696999999999]
["2006-03-01",183.92128,253.04033000000001]
["2006-04-01",178.76919000000001,253.40928]
["2006-05-01",177.661,243.59469000000001]
["2006-06-01",172.86716000000001,243.23676]
["2006-07-01",169.55812,241.98698999999999]
["2006-08-01",166.38480000000001,246.62775999999999]
["2006-09-01",168.79719,252.98985999999999]
["2006-10-01",174.98000999999999,263.32817999999997]
["2006-11-01",176.45622,269.07276000000002]
["2006-12-01",179.13108,271.42541]
["2007-01-01",173.30452,275.47143]
["2007-02-01",174.33456000000001,269.12257]
["2007-03-01",182.29424,269.32375999999999]
["2007-04-01",182.11028999999999,278.04038000000003]
["2007-05-01",188.92375000000001,285.88742000000002]
["2007-06-01",185.80923000000001,280.40778999999998]
["2007-07-01",183.60622000000001,270.68232]
["2007-08-01",188.65343999999999,274.40744999999998]
["2007-09-01",185.63505000000001,283.08076]
["2007-10-01",184.21225000000001,287.58706999999998]
["2007-11-01",179.53120000000001,272.59172999999998]
["2007-12-01",169.99736999999999,270.64787000000001]
["2008-01-01",168.18552,252.69156000000001]
["2008-02-01",174.83280999999999,243.85606000000001]
["2008-03-01",168.07417000000001,239.70516000000001]
["2008-04-01",172.58461,249.85973999999999]
["2008-05-01",163.10329999999999,252.44830999999999]
["2008-06-01",157.6832,229.19909000000001]
["2008-07-01",152.58822000000001,225.72013999999999]
["2008-08-01",146.69662,229.71296000000001]
["2008-09-01",147.78816,208.26872]
["2008-10-01",144.70418000000001,173.1413]
["2008-11-01",143.20376999999999,161.90083000000001]
["2008-12-01",139.35953000000001,165.98840000000001]
["2009-01-01",132.86000000000001,151.55455000000001]
["2009-02-01",124.62826,134.65268]
["2009-03-01",120.029,145.71212]
["2009-04-01",115.14447,160.37788]
["2009-05-01",111.95122000000001,167.98258999999999]
["2009-06-01",112.31019999999999,166.93617]
["2009-07-01",114.25767999999999,180.00210999999999]
["2009-08-01",114.19835999999999,185.9006]
["2009-09-01",111.72693,193.22461999999999]
["2009-10-01",107.60361,188.10785999999999]
["2009-11-01",108.51869000000001,198.40962999999999]
["2009-12-01",107.49978,203.78958]
["2010-01-01",110.97942,195.85881000000001]
["2010-02-01",112.62059000000001,201.94540000000001]
["2010-03-01",113.55132999999999,213.32364999999999]
["2010-04-01",115.55526999999999,217.23715000000001]
["2010-05-01",119.19859,199.46281999999999]
["2010-06-01",121.40446,188.34611000000001]
["2010-07-01",121.37213,201.10443000000001]
["2010-08-01",120.69123,191.02996999999999]
["2010-09-01",121.90958999999999,208.37816000000001]
["2010-10-01",125.76127,215.97949]
["2010-11-01",120.13252,216.56347]
["2010-12-01",126.27973,230.66408999999999]
["2011-01-01",123.97847,234.29012]
["2011-02-01",123.49621,240.98436000000001]
["2011-03-01",122.461,239.16997000000001]
["2011-04-01",120.05537,244.30237]
["2011-05-01",119.67874999999999,239.79392000000001]
["2011-06-01",117.11732000000001,235.45088999999999]
["2011-07-01",116.51793000000001,229.93337]
["2011-08-01",114.12734,215.12496999999999]
["2011-09-01",113.86745000000001,198.03766999999999]
["2011-10-01",114.71428,220.74659]
["2011-11-01",116.50775,219.68541999999999]
["2011-12-01",116.06216999999999,221.85162]
["2012-01-01",117.93239,231.52325999999999]
["2012-02-01",119.24312999999999,239.70612]
["2012-03-01",119.35687,244.89802]
["2012-04-01",118.63907,242.16076000000001]
["2012-05-01",119.35048999999999,226.97171]
["2012-06-01",120.03149999999999,235.89411000000001]
["2012-07-01",121.00655,238.47542000000001]
["2012-08-01",124.25507,242.23739]
["2012-09-01",127.08082,247.00522000000001]
["2012-10-01",127.26841,242.44856999999999]
["2012-11-01",129.11510999999999,244.54769999999999]
["2012-12-01",127.15075,247.68414999999999]
["2013-01-01",125.87764,260.04950000000002]
["2013-02-01",128.74657999999999,260.6798]
["2013-03-01",132.84472,269.62290000000002]
["2013-04-01",133.93214,274.31258000000003]
["2013-05-01",136.43063000000001,279.4794]
["2013-06-01",136.78614999999999,274.81680999999998]
["2013-07-01",138.64812000000001,289.31774999999999]
["2013-08-01",138.9366,279.99632000000003]
["2013-09-01",139.4676,289.17930000000001]
["2013-10-01",140.48473999999999,302.07445999999999]
["2013-11-01",144.48548,310.79284999999999]
["2013-12-01",147.88004000000001,318.32947999999999]
["2014-01-01",152.11169000000001,306.86216999999999]
["2014-02-01",151.21422999999999,319.17685999999998]
["2014-03-01",149.53326999999999,318.86554999999998]
["2014-04-01",155.63843,318.03003999999999]
["2014-05-01",151.38807,323.12927000000002]
["2014-06-01",155.63477,329.89091000000002]
["2014-07-01",155.23465999999999,323.52285999999998]
["2014-08-01",159.42884000000001,336.57580999999999]
["2014-09-01",163.55680000000001,328.99516999999997]
["2014-10-01",166.26649,338.54635999999999]
["2014-11-01",165.7449,348.10376000000002]
["2014-12-01",173.04859999999999,349.33120000000002]
["2015-01-01",170.98670999999999,340.92284000000001]
["2015-02-01",174.38048000000001,357.98068999999998]
["2015-03-01",175.40852000000001,351.27699000000001]
["2015-04-01",174.03870000000001,352.11824999999999]
["2015-05-01",170.59350000000001,354.08872000000002]
["2015-06-01",177.28936999999999,346.06873999999999]
["2015-07-01",178.45240999999999,351.74673000000001]
["2015-08-01",180.69997000000001,330.55381]
["2015-09-01",182.14314999999999,321.51267000000001]
["2015-10-01",181.71464,347.01618999999999]
["2015-11-01",177.03029000000001,348.05489999999998]
["2015-12-01",177.67918,341.75749000000002]
["2016-01-01",177.48246,322.21368999999999]
["2016-02-01",175.47017,320.92788999999999]
["2016-03-01",175.89331999999999,341.51691]
["2016-04-01",176.95427000000001,341.72559999999999]
["2016-05-01",179.76249000000001,345.62878999999998]
["2016-06-01",177.14348000000001,344.94943000000001]
["2016-07-01",181.40937,358.66836999999998]
["2016-08-01",175.64524,358.32758000000001]
["2016-09-01",174.99714,357.26459]
["2016-10-01",178.56165999999999,349.12610999999998]
["2016-11-01",184.35195999999999,364.63452999999998]
["2016-12-01",182.78451999999999,371.42863999999997]
["2017-01-01",181.95254,375.43137999999999]
["2017-02-01",185.91012000000001,387.31191999999999]
["2017-03-01",196.68004999999999,386.54854]
["2017-04-01",200.19129000000001,389.02974999999998]
["2017-05-01",204.69014000000001,391.69072]
["2017-06-01",209.07144,394.17536999999999]
["2017-07-01",210.12402,401.41748000000001]
["2017-08-01",207.25039000000001,400.20742999999999]
["2017-09-01",214.60491999999999,407.16807]
["2017-10-01",214.16943000000001,415.76272]
["2017-11-01",212.35598999999999,427.31574000000001]
["2017-12-01",215.13641999999999,431.6046]
["2018-01-01",213.50370000000001,451.34258999999997]
["2018-02-01",213.68928,431.83784000000003]
["2018-03-01",208.85864000000001,421.14301]
["2018-04-01",206.54598999999999,420.69076000000001]
["2018-05-01",209.04136,429.48354999999998]
["2018-06-01",202.19436999999999,430.99961999999999]
["2018-07-01",206.53477000000001,445.18565999999998]
["2018-08-01",212.10466,459.54345999999998]
["2018-09-01",212.83694,459.12653999999998]
["2018-10-01",213.21951000000001,424.43439000000001]
["2018-11-01",214.49653000000001,433.06371000000001]
["2018-12-01",207.99545000000001,393.33677999999998]
["2019-01-01",206.10560000000001,426.00098000000003]
["2019-02-01",215.12544,437.99401]
["2019-03-01",216.56874999999999,441.39557000000002]
["2019-04-01",222.78611000000001,456.18191000000002]
["2019-05-01",226.20670000000001,424.54507999999998]
["2019-06-01",217.01454000000001,453.31008000000003]
["2019-07-01",214.55305000000001,458.79012999999998]
["2019-08-01",208.6611,448.40629999999999]
["2019-09-01",216.54454999999999,455.52526999999998]
["2019-10-01",214.24722,463.88898999999998]
["2019-11-01",217.91612000000001,480.32645000000002]
["2019-12-01",220.55278999999999,494.02057000000002]
["2020-01-01",215.27454,491.58942999999999]
["2020-02-01",215.38875999999999,449.10975999999999]
["2020-03-01",194.49561,388.05074999999999]

{"sheet":"Tocalino_Index","index":18,"n_rows":1007,"n_cols":5,"rows_kept":1007,"cut":false,"hidden":false,"merged":[]}
[]
[]
[]
[]
[]
[]
[]
[]
[]
[null,null,null,null,"1990-07-01 = 100"]
["date","Tocalino Index",null,"date","Tocalino Index"]
["1958-01-01",{"$f":"IF('CPILFESL pc1'!B12=\"\",\"\",'LNU00000060 lin'!B12/('UNRATE lin'!B12+'CPILFESL pc1'!B12))","v":7589.7348908216782},null,{"$f":"IF(B12=\"\",\"\",A12)","v":"1958-01-01"}]
["1958-02-01",{"$f":"IF('CPILFESL pc1'!B13=\"\",\"\",'LNU00000060 lin'!B13/('UNRATE lin'!B13+'CPILFESL pc1'!B13))","v":7105.4233897273079},null,"1958-02-01"]
["1958-03-01",{"$f":"IF('CPILFESL pc1'!B14=\"\",\"\",'LNU00000060 lin'!B14/('UNRATE lin'!B14+'CPILFESL pc1'!B14))","v":6890.463833312604},null,"1958-03-01"]
["1958-04-01",{"$f":"IF('CPILFESL pc1'!B15=\"\",\"\",'LNU00000060 lin'!B15/('UNRATE lin'!B15+'CPILFESL pc1'!B15))","v":6651.9099624029559},null,"1958-04-01"]
["1958-05-01",{"$f":"IF('CPILFESL pc1'!B16=\"\",\"\",'LNU00000060 lin'!B16/('UNRATE lin'!B16+'CPILFESL pc1'!B16))","v":6654.9616705457265},null,"1958-05-01"]
["1958-06-01",{"$f":"IF('CPILFESL pc1'!B17=\"\",\"\",'LNU00000060 lin'!B17/('UNRATE lin'!B17+'CPILFESL pc1'!B17))","v":6732.1528674213014},null,"1958-06-01"]
["1958-07-01",{"$f":"IF('CPILFESL pc1'!B18=\"\",\"\",'LNU00000060 lin'!B18/('UNRATE lin'!B18+'CPILFESL pc1'!B18))","v":6840.8616601368794},null,"1958-07-01"]
["1958-08-01",{"$f":"IF('CPILFESL pc1'!B19=\"\",\"\",'LNU00000060 lin'!B19/('UNRATE lin'!B19+'CPILFESL pc1'!B19))","v":6911.9450161950026},null,"1958-08-01"]
["1958-09-01",{"$f":"IF('CPILFESL pc1'!B20=\"\",\"\",'LNU00000060 lin'!B20/('UNRATE lin'!B20+'CPILFESL pc1'!B20))","v":7141.1263651703921},null,"1958-09-01"]
["1958-10-01",{"$f":"IF('CPILFESL pc1'!B21=\"\",\"\",'LNU00000060 lin'!B21/('UNRATE lin'!B21+'CPILFESL pc1'!B21))","v":7780.7218689709025},null,"1958-10-01"]
["1958-11-01",{"$f":"IF('CPILFESL pc1'!B22=\"\",\"\",'LNU00000060 lin'!B22/('UNRATE lin'!B22+'CPILFESL pc1'!B22))","v":8281.3084963220044},null,"1958-11-01"]
["1958-12-01",{"$f":"IF('CPILFESL pc1'!B23=\"\",\"\",'LNU00000060 lin'!B23/('UNRATE lin'!B23+'CPILFESL pc1'!B23))","v":7941.1671989311062},null,"1958-12-01"]
["1959-01-01",{"$f":"IF('CPILFESL pc1'!B24=\"\",\"\",'LNU00000060 lin'!B24/('UNRATE lin'!B24+'CPILFESL pc1'!B24))","v":8141.9969233751426},null,"1959-01-01"]
["1959-02-01",{"$f":"IF('CPILFESL pc1'!B25=\"\",\"\",'LNU00000060 lin'!B25/('UNRATE lin'!B25+'CPILFESL pc1'!B25))","v":8623.4389554618792},null,"1959-02-01"]
["1959-03-01",{"$f":"IF('CPILFESL pc1'!B26=\"\",\"\",'LNU00000060 lin'!B26/('UNRATE lin'!B26+'CPILFESL pc1'!B26))","v":8987.8984279471206},null,"1959-03-01"]
["1959-04-01",{"$f":"IF('CPILFESL pc1'!B27=\"\",\"\",'LNU00000060 lin'!B27/('UNRATE lin'!B27+'CPILFESL pc1'!B27))","v":9512.3656257070415},null,"1959-04-01"]
["1959-05-01",{"$f":"IF('CPILFESL pc1'!B28=\"\",\"\",'LNU00000060 lin'!B28/('UNRATE lin'!B28+'CPILFESL pc1'!B28))","v":9197.4936570459358},null,"1959-05-01"]
["1959-06-01",{"$f":"IF('CPILFESL pc1'!B29=\"\",\"\",'LNU00000060 lin'!B29/('UNRATE lin'!B29+'CPILFESL pc1'!B29))","v":9340.7883558203102},null,"1959-06-01"]
["1959-07-01",{"$f":"IF('CPILFESL pc1'!B30=\"\",\"\",'LNU00000060 lin'!B30/('UNRATE lin'!B30+'CPILFESL pc1'!B30))","v":9212.8137527132621},null,"1959-07-01"]
["1959-08-01",{"$f":"IF('CPILFESL pc1'!B31=\"\",\"\",'LNU00000060 lin'!B31/('UNRATE lin'!B31+'CPILFESL pc1'!B31))","v":9088.2423346796677},null,"1959-08-01"]
["1959-09-01",{"$f":"IF('CPILFESL pc1'!B32=\"\",\"\",'LNU00000060 lin'!B32/('UNRATE lin'!B32+'CPILFESL pc1'!B32))","v":8729.8210153985274},null,"1959-09-01"]
["1959-10-01",{"$f":"IF('CPILFESL pc1'!B33=\"\",\"\",'LNU00000060 lin'!B33/('UNRATE lin'!B33+'CPILFESL pc1'!B33))","v":8146.929960654842},null,"1959-10-01"]
["1959-11-01",{"$f":"IF('CPILFESL pc1'!B34=\"\",\"\",'LNU00000060 lin'!B34/('UNRATE lin'!B34+'CPILFESL pc1'!B34))","v":8398.4989927586121},null,"1959-11-01"]
["1959-12-01",{"$f":"IF('CPILFESL pc1'!B35=\"\",\"\",'LNU00000060 lin'!B35/('UNRATE lin'!B35+'CPILFESL pc1'!B35))","v":8983.8216757519476},null,"1959-12-01"]
["1960-01-01",{"$f":"IF('CPILFESL pc1'!B36=\"\",\"\",'LNU00000060 lin'!B36/('UNRATE lin'!B36+'CPILFESL pc1'!B36))","v":9148.5827751714023},null,"1960-01-01"]
["1960-02-01",{"$f":"IF('CPILFESL pc1'!B37=\"\",\"\",'LNU00000060 lin'!B37/('UNRATE lin'!B37+'CPILFESL pc1'!B37))","v":9235.5002142515059},null,"1960-02-01"]
["1960-03-01",{"$f":"IF('CPILFESL pc1'!B38=\"\",\"\",'LNU00000060 lin'!B38/('UNRATE lin'!B38+'CPILFESL pc1'!B38))","v":8915.54054054054},null,"1960-03-01"]
["1960-04-01",{"$f":"IF('CPILFESL pc1'!B39=\"\",\"\",'LNU00000060 lin'!B39/('UNRATE lin'!B39+'CPILFESL pc1'!B39))","v":9163.0555555555547},null,"1960-04-01"]
["1960-05-01",{"$f":"IF('CPILFESL pc1'!B40=\"\",\"\",'LNU00000060 lin'!B40/('UNRATE lin'!B40+'CPILFESL pc1'!B40))","v":9760.054902065187},null,"1960-05-01"]
["1960-06-01",{"$f":"IF('CPILFESL pc1'!B41=\"\",\"\",'LNU00000060 lin'!B41/('UNRATE lin'!B41+'CPILFESL pc1'!B41))","v":9356.6414338620361},null,"1960-06-01"]
["1960-07-01",{"$f":"IF('CPILFESL pc1'!B42=\"\",\"\",'LNU00000060 lin'!B42/('UNRATE lin'!B42+'CPILFESL pc1'!B42))","v":9676.0202212616296},null,"1960-07-01"]
["1960-08-01",{"$f":"IF('CPILFESL pc1'!B43=\"\",\"\",'LNU00000060 lin'!B43/('UNRATE lin'!B43+'CPILFESL pc1'!B43))","v":9541.3387248176768},null,"1960-08-01"]
["1960-09-01",{"$f":"IF('CPILFESL pc1'!B44=\"\",\"\",'LNU00000060 lin'!B44/('UNRATE lin'!B44+'CPILFESL pc1'!B44))","v":10180.5827337021},null,"1960-09-01"]
["1960-10-01",{"$f":"IF('CPILFESL pc1'!B45=\"\",\"\",'LNU00000060 lin'!B45/('UNRATE lin'!B45+'CPILFESL pc1'!B45))","v":8912.1995094251597},null,"1960-10-01"]
["1960-11-01",{"$f":"IF('CPILFESL pc1'!B46=\"\",\"\",'LNU00000060 lin'!B46/('UNRATE lin'!B46+'CPILFESL pc1'!B46))","v":8919.616116421852},null,"1960-11-01"]
["1960-12-01",{"$f":"IF('CPILFESL pc1'!B47=\"\",\"\",'LNU00000060 lin'!B47/('UNRATE lin'!B47+'CPILFESL pc1'!B47))","v":9122.9840099011271},null,"1960-12-01"]
["1961-01-01",{"$f":"IF('CPILFESL pc1'!B48=\"\",\"\",'LNU00000060 lin'!B48/('UNRATE lin'!B48+'CPILFESL pc1'!B48))","v":8734.2307950962677},null,"1961-01-01"]
["1961-02-01",{"$f":"IF('CPILFESL pc1'!B49=\"\",\"\",'LNU00000060 lin'!B49/('UNRATE lin'!B49+'CPILFESL pc1'!B49))","v":8769.7373037191574},null,"1961-02-01"]
["1961-03-01",{"$f":"IF('CPILFESL pc1'!B50=\"\",\"\",'LNU00000060 lin'!B50/('UNRATE lin'!B50+'CPILFESL pc1'!B50))","v":8407.325018178035},null,"1961-03-01"]
["1961-04-01",{"$f":"IF('CPILFESL pc1'!B51=\"\",\"\",'LNU00000060 lin'!B51/('UNRATE lin'!B51+'CPILFESL pc1'!B51))","v":8304.6066670927103},null,"1961-04-01"]
["1961-05-01",{"$f":"IF('CPILFESL pc1'!B52=\"\",\"\",'LNU00000060 lin'!B52/('UNRATE lin'!B52+'CPILFESL pc1'!B52))","v":8205.1732651518068},null,"1961-05-01"]
["1961-06-01",{"$f":"IF('CPILFESL pc1'!B53=\"\",\"\",'LNU00000060 lin'!B53/('UNRATE lin'!B53+'CPILFESL pc1'!B53))","v":8420.2508505560345},null,"1961-06-01"]
["1961-07-01",{"$f":"IF('CPILFESL pc1'!B54=\"\",\"\",'LNU00000060 lin'!B54/('UNRATE lin'!B54+'CPILFESL pc1'!B54))","v":7986.8162399078383},null,"1961-07-01"]
["1961-08-01",{"$f":"IF('CPILFESL pc1'!B55=\"\",\"\",'LNU00000060 lin'!B55/('UNRATE lin'!B55+'CPILFESL pc1'!B55))","v":8059.5191395666006},null,"1961-08-01"]
["1961-09-01",{"$f":"IF('CPILFESL pc1'!B56=\"\",\"\",'LNU00000060 lin'!B56/('UNRATE lin'!B56+'CPILFESL pc1'!B56))","v":7964.1324263648021},null,"1961-09-01"]
["1961-10-01",{"$f":"IF('CPILFESL pc1'!B57=\"\",\"\",'LNU00000060 lin'!B57/('UNRATE lin'!B57+'CPILFESL pc1'!B57))","v":8881.4200638745097},null,"1961-10-01"]
["1961-11-01",{"$f":"IF('CPILFESL pc1'!B58=\"\",\"\",'LNU00000060 lin'!B58/('UNRATE lin'!B58+'CPILFESL pc1'!B58))","v":8964.2775082109019},null,"1961-11-01"]
["1961-12-01",{"$f":"IF('CPILFESL pc1'!B59=\"\",\"\",'LNU00000060 lin'!B59/('UNRATE lin'!B59+'CPILFESL pc1'!B59))","v":8693.0076841804457},null,"1961-12-01"]
["1962-01-01",{"$f":"IF('CPILFESL pc1'!B60=\"\",\"\",'LNU00000060 lin'!B60/('UNRATE lin'!B60+'CPILFESL pc1'!B60))","v":9336.4982320706604},null,"1962-01-01"]
["1962-02-01",{"$f":"IF('CPILFESL pc1'!B61=\"\",\"\",'LNU00000060 lin'!B61/('UNRATE lin'!B61+'CPILFESL pc1'!B61))","v":9747.7458925971132},null,"1962-02-01"]
["1962-03-01",{"$f":"IF('CPILFESL pc1'!B62=\"\",\"\",'LNU00000060 lin'!B62/('UNRATE lin'!B62+'CPILFESL pc1'!B62))","v":9614.9104358546665},null,"1962-03-01"]
["1962-04-01",{"$f":"IF('CPILFESL pc1'!B63=\"\",\"\",'LNU00000060 lin'!B63/('UNRATE lin'!B63+'CPILFESL pc1'!B63))","v":9576.1839147146275},null,"1962-04-01"]
["1962-05-01",{"$f":"IF('CPILFESL pc1'!B64=\"\",\"\",'LNU00000060 lin'!B64/('UNRATE lin'!B64+'CPILFESL pc1'!B64))","v":9278.1520963400453},null,"1962-05-01"]
["1962-06-01",{"$f":"IF('CPILFESL pc1'!B65=\"\",\"\",'LNU00000060 lin'!B65/('UNRATE lin'!B65+'CPILFESL pc1'!B65))","v":9729.8801823772665},null,"1962-06-01"]
["1962-07-01",{"$f":"IF('CPILFESL pc1'!B66=\"\",\"\",'LNU00000060 lin'!B66/('UNRATE lin'!B66+'CPILFESL pc1'!B66))","v":9889.9604204283205},null,"1962-07-01"]
["1962-08-01",{"$f":"IF('CPILFESL pc1'!B67=\"\",\"\",'LNU00000060 lin'!B67/('UNRATE lin'!B67+'CPILFESL pc1'!B67))","v":9476.4370177078417},null,"1962-08-01"]
["1962-09-01",{"$f":"IF('CPILFESL pc1'!B68=\"\",\"\",'LNU00000060 lin'!B68/('UNRATE lin'!B68+'CPILFESL pc1'!B68))","v":9625.3795651283654},null,"1962-09-01"]
["1962-10-01",{"$f":"IF('CPILFESL pc1'!B69=\"\",\"\",'LNU00000060 lin'!B69/('UNRATE lin'!B69+'CPILFESL pc1'!B69))","v":9918.6828931959535},null,"1962-10-01"]
["1962-11-01",{"$f":"IF('CPILFESL pc1'!B70=\"\",\"\",'LNU00000060 lin'!B70/('UNRATE lin'!B70+'CPILFESL pc1'!B70))","v":9957.7575155294417},null,"1962-11-01"]
["1962-12-01",{"$f":"IF('CPILFESL pc1'!B71=\"\",\"\",'LNU00000060 lin'!B71/('UNRATE lin'!B71+'CPILFESL pc1'!B71))","v":9783.0302047316072},null,"1962-12-01"]
["1963-01-01",{"$f":"IF('CPILFESL pc1'!B72=\"\",\"\",'LNU00000060 lin'!B72/('UNRATE lin'!B72+'CPILFESL pc1'!B72))","v":9966.1639801006968},null,"1963-01-01"]
["1963-02-01",{"$f":"IF('CPILFESL pc1'!B73=\"\",\"\",'LNU00000060 lin'!B73/('UNRATE lin'!B73+'CPILFESL pc1'!B73))","v":9245.9673770023874},null,"1963-02-01"]
["1963-03-01",{"$f":"IF('CPILFESL pc1'!B74=\"\",\"\",'LNU00000060 lin'!B74/('UNRATE lin'!B74+'CPILFESL pc1'!B74))","v":9518.8278522662786},null,"1963-03-01"]
["1963-04-01",{"$f":"IF('CPILFESL pc1'!B75=\"\",\"\",'LNU00000060 lin'!B75/('UNRATE lin'!B75+'CPILFESL pc1'!B75))","v":9520.9774776582271},null,"1963-04-01"]
["1963-05-01",{"$f":"IF('CPILFESL pc1'!B76=\"\",\"\",'LNU00000060 lin'!B76/('UNRATE lin'!B76+'CPILFESL pc1'!B76))","v":9691.6158187475285},null,{"$f":"IF(B76=\"\",\"\",A76)","v":"1963-05-01"}]
["1963-06-01",{"$f":"IF('CPILFESL pc1'!B77=\"\",\"\",'LNU00000060 lin'!B77/('UNRATE lin'!B77+'CPILFESL pc1'!B77))","v":9668.6155873893822},null,"1963-06-01"]
["1963-07-01",{"$f":"IF('CPILFESL pc1'!B78=\"\",\"\",'LNU00000060 lin'!B78/('UNRATE lin'!B78+'CPILFESL pc1'!B78))","v":9675.598532999511},null,"1963-07-01"]
["1963-08-01",{"$f":"IF('CPILFESL pc1'!B79=\"\",\"\",'LNU00000060 lin'!B79/('UNRATE lin'!B79+'CPILFESL pc1'!B79))","v":9977.9005193527864},null,"1963-08-01"]
["1963-09-01",{"$f":"IF('CPILFESL pc1'!B80=\"\",\"\",'LNU00000060 lin'!B80/('UNRATE lin'!B80+'CPILFESL pc1'!B80))","v":9829.922125190551},null,"1963-09-01"]
["1963-10-01",{"$f":"IF('CPILFESL pc1'!B81=\"\",\"\",'LNU00000060 lin'!B81/('UNRATE lin'!B81+'CPILFESL pc1'!B81))","v":9393.139841688655},null,"1963-10-01"]
["1963-11-01",{"$f":"IF('CPILFESL pc1'!B82=\"\",\"\",'LNU00000060 lin'!B82/('UNRATE lin'!B82+'CPILFESL pc1'!B82))","v":9138.6384531994008},null,"1963-11-01"]
["1963-12-01",{"$f":"IF('CPILFESL pc1'!B83=\"\",\"\",'LNU00000060 lin'!B83/('UNRATE lin'!B83+'CPILFESL pc1'!B83))","v":9405.586901393337},null,"1963-12-01"]
["1964-01-01",{"$f":"IF('CPILFESL pc1'!B84=\"\",\"\",'LNU00000060 lin'!B84/('UNRATE lin'!B84+'CPILFESL pc1'!B84))","v":8520.9825343700377},null,"1964-01-01"]
["1964-02-01",{"$f":"IF('CPILFESL pc1'!B85=\"\",\"\",'LNU00000060 lin'!B85/('UNRATE lin'!B85+'CPILFESL pc1'!B85))","v":9133.9178185793953},null,"1964-02-01"]
["1964-03-01",{"$f":"IF('CPILFESL pc1'!B86=\"\",\"\",'LNU00000060 lin'!B86/('UNRATE lin'!B86+'CPILFESL pc1'!B86))","v":9556.5756905618091},null,"1964-03-01"]
["1964-04-01",{"$f":"IF('CPILFESL pc1'!B87=\"\",\"\",'LNU00000060 lin'!B87/('UNRATE lin'!B87+'CPILFESL pc1'!B87))","v":9698.8784826581395},null,"1964-04-01"]
["1964-05-01",{"$f":"IF('CPILFESL pc1'!B88=\"\",\"\",'LNU00000060 lin'!B88/('UNRATE lin'!B88+'CPILFESL pc1'!B88))","v":9992.6766697267922},null,"1964-05-01"]
["1964-06-01",{"$f":"IF('CPILFESL pc1'!B89=\"\",\"\",'LNU00000060 lin'!B89/('UNRATE lin'!B89+'CPILFESL pc1'!B89))","v":9856.1351853793294},null,"1964-06-01"]
["1964-07-01",{"$f":"IF('CPILFESL pc1'!B90=\"\",\"\",'LNU00000060 lin'!B90/('UNRATE lin'!B90+'CPILFESL pc1'!B90))","v":10316.84107577951},null,"1964-07-01"]
["1964-08-01",{"$f":"IF('CPILFESL pc1'!B91=\"\",\"\",'LNU00000060 lin'!B91/('UNRATE lin'!B91+'CPILFESL pc1'!B91))","v":10679.541791388441},null,"1964-08-01"]
["1964-09-01",{"$f":"IF('CPILFESL pc1'!B92=\"\",\"\",'LNU00000060 lin'!B92/('UNRATE lin'!B92+'CPILFESL pc1'!B92))","v":10515.398368251412},null,"1964-09-01"]
["1964-10-01",{"$f":"IF('CPILFESL pc1'!B93=\"\",\"\",'LNU00000060 lin'!B93/('UNRATE lin'!B93+'CPILFESL pc1'!B93))","v":10525.669291338583},null,"1964-10-01"]
["1964-11-01",{"$f":"IF('CPILFESL pc1'!B94=\"\",\"\",'LNU00000060 lin'!B94/('UNRATE lin'!B94+'CPILFESL pc1'!B94))","v":10508.762278978389},null,"1964-11-01"]
["1964-12-01",{"$f":"IF('CPILFESL pc1'!B95=\"\",\"\",'LNU00000060 lin'!B95/('UNRATE lin'!B95+'CPILFESL pc1'!B95))","v":10708.264824026475},null,"1964-12-01"]
["1965-01-01",{"$f":"IF('CPILFESL pc1'!B96=\"\",\"\",'LNU00000060 lin'!B96/('UNRATE lin'!B96+'CPILFESL pc1'!B96))","v":10893.582797155435},null,"1965-01-01"]
["1965-02-01",{"$f":"IF('CPILFESL pc1'!B97=\"\",\"\",'LNU00000060 lin'!B97/('UNRATE lin'!B97+'CPILFESL pc1'!B97))","v":10552.896137642221},null,"1965-02-01"]
["1965-03-01",{"$f":"IF('CPILFESL pc1'!B98=\"\",\"\",'LNU00000060 lin'!B98/('UNRATE lin'!B98+'CPILFESL pc1'!B98))","v":11266.963300035004},null,"1965-03-01"]
["1965-04-01",{"$f":"IF('CPILFESL pc1'!B99=\"\",\"\",'LNU00000060 lin'!B99/('UNRATE lin'!B99+'CPILFESL pc1'!B99))","v":10542.910212819545},null,"1965-04-01"]
["1965-05-01",{"$f":"IF('CPILFESL pc1'!B100=\"\",\"\",'LNU00000060 lin'!B100/('UNRATE lin'!B100+'CPILFESL pc1'!B100))","v":10888.701079183462},null,"1965-05-01"]
["1965-06-01",{"$f":"IF('CPILFESL pc1'!B101=\"\",\"\",'LNU00000060 lin'!B101/('UNRATE lin'!B101+'CPILFESL pc1'!B101))","v":11479.363317626949},null,"1965-06-01"]
["1965-07-01",{"$f":"IF('CPILFESL pc1'!B102=\"\",\"\",'LNU00000060 lin'!B102/('UNRATE lin'!B102+'CPILFESL pc1'!B102))","v":11871.119237938488},null,"1965-07-01"]
["1965-08-01",{"$f":"IF('CPILFESL pc1'!B103=\"\",\"\",'LNU00000060 lin'!B103/('UNRATE lin'!B103+'CPILFESL pc1'!B103))","v":11878.390817236836},null,"1965-08-01"]
["1965-09-01",{"$f":"IF('CPILFESL pc1'!B104=\"\",\"\",'LNU00000060 lin'!B104/('UNRATE lin'!B104+'CPILFESL pc1'!B104))","v":11457.782930545369},null,"1965-09-01"]
["1965-10-01",{"$f":"IF('CPILFESL pc1'!B105=\"\",\"\",'LNU00000060 lin'!B105/('UNRATE lin'!B105+'CPILFESL pc1'!B105))","v":12330.874383805894},null,"1965-10-01"]
["1965-11-01",{"$f":"IF('CPILFESL pc1'!B106=\"\",\"\",'LNU00000060 lin'!B106/('UNRATE lin'!B106+'CPILFESL pc1'!B106))","v":12572.104967950223},null,"1965-11-01"]
["1965-12-01",{"$f":"IF('CPILFESL pc1'!B107=\"\",\"\",'LNU00000060 lin'!B107/('UNRATE lin'!B107+'CPILFESL pc1'!B107))","v":12101.558917099699},null,"1965-12-01"]
["1966-01-01",{"$f":"IF('CPILFESL pc1'!B108=\"\",\"\",'LNU00000060 lin'!B108/('UNRATE lin'!B108+'CPILFESL pc1'!B108))","v":12822.293518832063},null,"1966-01-01"]
["1966-02-01",{"$f":"IF('CPILFESL pc1'!B109=\"\",\"\",'LNU00000060 lin'!B109/('UNRATE lin'!B109+'CPILFESL pc1'!B109))","v":12566.979267830829},null,"1966-02-01"]
["1966-03-01",{"$f":"IF('CPILFESL pc1'!B110=\"\",\"\",'LNU00000060 lin'!B110/('UNRATE lin'!B110+'CPILFESL pc1'!B110))","v":12561.917153817021},null,"1966-03-01"]
["1966-04-01",{"$f":"IF('CPILFESL pc1'!B111=\"\",\"\",'LNU00000060 lin'!B111/('UNRATE lin'!B111+'CPILFESL pc1'!B111))","v":11896.835058901197},null,"1966-04-01"]
["1966-05-01",{"$f":"IF('CPILFESL pc1'!B112=\"\",\"\",'LNU00000060 lin'!B112/('UNRATE lin'!B112+'CPILFESL pc1'!B112))","v":11107.377161804898},null,"1966-05-01"]
["1966-06-01",{"$f":"IF('CPILFESL pc1'!B113=\"\",\"\",'LNU00000060 lin'!B113/('UNRATE lin'!B113+'CPILFESL pc1'!B113))","v":10741.729742190802},null,"1966-06-01"]
["1966-07-01",{"$f":"IF('CPILFESL pc1'!B114=\"\",\"\",'LNU00000060 lin'!B114/('UNRATE lin'!B114+'CPILFESL pc1'!B114))","v":10241.457566743842},null,"1966-07-01"]
["1966-08-01",{"$f":"IF('CPILFESL pc1'!B115=\"\",\"\",'LNU00000060 lin'!B115/('UNRATE lin'!B115+'CPILFESL pc1'!B115))","v":9788.2795526457758},null,"1966-08-01"]
["1966-09-01",{"$f":"IF('CPILFESL pc1'!B116=\"\",\"\",'LNU00000060 lin'!B116/('UNRATE lin'!B116+'CPILFESL pc1'!B116))","v":9949.0574592741214},null,"1966-09-01"]
["1966-10-01",{"$f":"IF('CPILFESL pc1'!B117=\"\",\"\",'LNU00000060 lin'!B117/('UNRATE lin'!B117+'CPILFESL pc1'!B117))","v":9127.0822744729267},null,"1966-10-01"]
["1966-11-01",{"$f":"IF('CPILFESL pc1'!B118=\"\",\"\",'LNU00000060 lin'!B118/('UNRATE lin'!B118+'CPILFESL pc1'!B118))","v":9675.1336147488219},null,"1966-11-01"]
["1966-12-01",{"$f":"IF('CPILFESL pc1'!B119=\"\",\"\",'LNU00000060 lin'!B119/('UNRATE lin'!B119+'CPILFESL pc1'!B119))","v":9422.2473935735488},null,"1966-12-01"]
["1967-01-01",{"$f":"IF('CPILFESL pc1'!B120=\"\",\"\",'LNU00000060 lin'!B120/('UNRATE lin'!B120+'CPILFESL pc1'!B120))","v":8926.7232457048231},null,"1967-01-01"]
["1967-02-01",{"$f":"IF('CPILFESL pc1'!B121=\"\",\"\",'LNU00000060 lin'!B121/('UNRATE lin'!B121+'CPILFESL pc1'!B121))","v":9450.4482498182006},null,"1967-02-01"]
["1967-03-01",{"$f":"IF('CPILFESL pc1'!B122=\"\",\"\",'LNU00000060 lin'!B122/('UNRATE lin'!B122+'CPILFESL pc1'!B122))","v":9069.9735232405619},null,"1967-03-01"]
["1967-04-01",{"$f":"IF('CPILFESL pc1'!B123=\"\",\"\",'LNU00000060 lin'!B123/('UNRATE lin'!B123+'CPILFESL pc1'!B123))","v":9482.4940520603104},null,"1967-04-01"]
["1967-05-01",{"$f":"IF('CPILFESL pc1'!B124=\"\",\"\",'LNU00000060 lin'!B124/('UNRATE lin'!B124+'CPILFESL pc1'!B124))","v":9501.4950496305719},null,"1967-05-01"]
["1967-06-01",{"$f":"IF('CPILFESL pc1'!B125=\"\",\"\",'LNU00000060 lin'!B125/('UNRATE lin'!B125+'CPILFESL pc1'!B125))","v":9392.9489196194645},null,"1967-06-01"]
["1967-07-01",{"$f":"IF('CPILFESL pc1'!B126=\"\",\"\",'LNU00000060 lin'!B126/('UNRATE lin'!B126+'CPILFESL pc1'!B126))","v":9553.4089832777536},null,"1967-07-01"]
["1967-08-01",{"$f":"IF('CPILFESL pc1'!B127=\"\",\"\",'LNU00000060 lin'!B127/('UNRATE lin'!B127+'CPILFESL pc1'!B127))","v":9209.2875395845313},null,"1967-08-01"]
["1967-09-01",{"$f":"IF('CPILFESL pc1'!B128=\"\",\"\",'LNU00000060 lin'!B128/('UNRATE lin'!B128+'CPILFESL pc1'!B128))","v":9238.8065793232927},null,"1967-09-01"]
["1967-10-01",{"$f":"IF('CPILFESL pc1'!B129=\"\",\"\",'LNU00000060 lin'!B129/('UNRATE lin'!B129+'CPILFESL pc1'!B129))","v":9394.6476229701912},null,"1967-10-01"]
["1967-11-01",{"$f":"IF('CPILFESL pc1'!B130=\"\",\"\",'LNU00000060 lin'!B130/('UNRATE lin'!B130+'CPILFESL pc1'!B130))","v":9157.6585489291883},null,"1967-11-01"]
["1967-12-01",{"$f":"IF('CPILFESL pc1'!B131=\"\",\"\",'LNU00000060 lin'!B131/('UNRATE lin'!B131+'CPILFESL pc1'!B131))","v":8946.2870714841192},null,"1967-12-01"]
["1968-01-01",{"$f":"IF('CPILFESL pc1'!B132=\"\",\"\",'LNU00000060 lin'!B132/('UNRATE lin'!B132+'CPILFESL pc1'!B132))","v":9087.9156184968469},null,"1968-01-01"]
["1968-02-01",{"$f":"IF('CPILFESL pc1'!B133=\"\",\"\",'LNU00000060 lin'!B133/('UNRATE lin'!B133+'CPILFESL pc1'!B133))","v":8335.2471793167824},null,"1968-02-01"]
["1968-03-01",{"$f":"IF('CPILFESL pc1'!B134=\"\",\"\",'LNU00000060 lin'!B134/('UNRATE lin'!B134+'CPILFESL pc1'!B134))","v":8459.2440649161781},null,"1968-03-01"]
["1968-04-01",{"$f":"IF('CPILFESL pc1'!B135=\"\",\"\",'LNU00000060 lin'!B135/('UNRATE lin'!B135+'CPILFESL pc1'!B135))","v":8696.1721118457299},null,"1968-04-01"]
["1968-05-01",{"$f":"IF('CPILFESL pc1'!B136=\"\",\"\",'LNU00000060 lin'!B136/('UNRATE lin'!B136+'CPILFESL pc1'!B136))","v":8718.0787555285988},null,"1968-05-01"]
["1968-06-01",{"$f":"IF('CPILFESL pc1'!B137=\"\",\"\",'LNU00000060 lin'!B137/('UNRATE lin'!B137+'CPILFESL pc1'!B137))","v":8225.6963965652285},null,"1968-06-01"]
["1968-07-01",{"$f":"IF('CPILFESL pc1'!B138=\"\",\"\",'LNU00000060 lin'!B138/('UNRATE lin'!B138+'CPILFESL pc1'!B138))","v":7968.4712657312239},null,"1968-07-01"]
["1968-08-01",{"$f":"IF('CPILFESL pc1'!B139=\"\",\"\",'LNU00000060 lin'!B139/('UNRATE lin'!B139+'CPILFESL pc1'!B139))","v":8480.0229574260957},null,"1968-08-01"]
["1968-09-01",{"$f":"IF('CPILFESL pc1'!B140=\"\",\"\",'LNU00000060 lin'!B140/('UNRATE lin'!B140+'CPILFESL pc1'!B140))","v":8308.8091033941546},null,{"$f":"IF(B140=\"\",\"\",A140)","v":"1968-09-01"}]
["1968-10-01",{"$f":"IF('CPILFESL pc1'!B141=\"\",\"\",'LNU00000060 lin'!B141/('UNRATE lin'!B141+'CPILFESL pc1'!B141))","v":8049.8721302594568},null,"1968-10-01"]
["1968-11-01",{"$f":"IF('CPILFESL pc1'!B142=\"\",\"\",'LNU00000060 lin'!B142/('UNRATE lin'!B142+'CPILFESL pc1'!B142))","v":7812.697138921063},null,"1968-11-01"]
["1968-12-01",{"$f":"IF('CPILFESL pc1'!B143=\"\",\"\",'LNU00000060 lin'!B143/('UNRATE lin'!B143+'CPILFESL pc1'!B143))","v":8107.8405374348094},null,"1968-12-01"]
["1969-01-01",{"$f":"IF('CPILFESL pc1'!B144=\"\",\"\",'LNU00000060 lin'!B144/('UNRATE lin'!B144+'CPILFESL pc1'!B144))","v":8129.1128421022795},null,"1969-01-01"]
["1969-02-01",{"$f":"IF('CPILFESL pc1'!B145=\"\",\"\",'LNU00000060 lin'!B145/('UNRATE lin'!B145+'CPILFESL pc1'!B145))","v":7899.4465801358156},null,"1969-02-01"]
["1969-03-01",{"$f":"IF('CPILFESL pc1'!B146=\"\",\"\",'LNU00000060 lin'!B146/('UNRATE lin'!B146+'CPILFESL pc1'!B146))","v":7671.6529851701262},null,"1969-03-01"]
["1969-04-01",{"$f":"IF('CPILFESL pc1'!B147=\"\",\"\",'LNU00000060 lin'!B147/('UNRATE lin'!B147+'CPILFESL pc1'!B147))","v":7240.455367422569},null,"1969-04-01"]
["1969-05-01",{"$f":"IF('CPILFESL pc1'!B148=\"\",\"\",'LNU00000060 lin'!B148/('UNRATE lin'!B148+'CPILFESL pc1'!B148))","v":7478.7752630957621},null,"1969-05-01"]
["1969-06-01",{"$f":"IF('CPILFESL pc1'!B149=\"\",\"\",'LNU00000060 lin'!B149/('UNRATE lin'!B149+'CPILFESL pc1'!B149))","v":7429.8738858844654},null,"1969-06-01"]
["1969-07-01",{"$f":"IF('CPILFESL pc1'!B150=\"\",\"\",'LNU00000060 lin'!B150/('UNRATE lin'!B150+'CPILFESL pc1'!B150))","v":7466.4238561347593},null,"1969-07-01"]
["1969-08-01",{"$f":"IF('CPILFESL pc1'!B151=\"\",\"\",'LNU00000060 lin'!B151/('UNRATE lin'!B151+'CPILFESL pc1'!B151))","v":7269.3494552553684},null,"1969-08-01"]
["1969-09-01",{"$f":"IF('CPILFESL pc1'!B152=\"\",\"\",'LNU00000060 lin'!B152/('UNRATE lin'!B152+'CPILFESL pc1'!B152))","v":7148.5525372503107},null,"1969-09-01"]
["1969-10-01",{"$f":"IF('CPILFESL pc1'!B153=\"\",\"\",'LNU00000060 lin'!B153/('UNRATE lin'!B153+'CPILFESL pc1'!B153))","v":7178.8003800431788},null,"1969-10-01"]
["1969-11-01",{"$f":"IF('CPILFESL pc1'!B154=\"\",\"\",'LNU00000060 lin'!B154/('UNRATE lin'!B154+'CPILFESL pc1'!B154))","v":7578.7249000587308},null,"1969-11-01"]
["1969-12-01",{"$f":"IF('CPILFESL pc1'!B155=\"\",\"\",'LNU00000060 lin'!B155/('UNRATE lin'!B155+'CPILFESL pc1'!B155))","v":7386.9925366316911},null,"1969-12-01"]
["1970-01-01",{"$f":"IF('CPILFESL pc1'!B156=\"\",\"\",'LNU00000060 lin'!B156/('UNRATE lin'!B156+'CPILFESL pc1'!B156))","v":6914.6114430242933},null,"1970-01-01"]
["1970-02-01",{"$f":"IF('CPILFESL pc1'!B157=\"\",\"\",'LNU00000060 lin'!B157/('UNRATE lin'!B157+'CPILFESL pc1'!B157))","v":6931.8061975552828},null,"1970-02-01"]
["1970-03-01",{"$f":"IF('CPILFESL pc1'!B158=\"\",\"\",'LNU00000060 lin'!B158/('UNRATE lin'!B158+'CPILFESL pc1'!B158))","v":6651.9085978944468},null,"1970-03-01"]
["1970-04-01",{"$f":"IF('CPILFESL pc1'!B159=\"\",\"\",'LNU00000060 lin'!B159/('UNRATE lin'!B159+'CPILFESL pc1'!B159))","v":6564.1290807812538},null,"1970-04-01"]
["1970-05-01",{"$f":"IF('CPILFESL pc1'!B160=\"\",\"\",'LNU00000060 lin'!B160/('UNRATE lin'!B160+'CPILFESL pc1'!B160))","v":6298.0158047284449},null,"1970-05-01"]
["1970-06-01",{"$f":"IF('CPILFESL pc1'!B161=\"\",\"\",'LNU00000060 lin'!B161/('UNRATE lin'!B161+'CPILFESL pc1'!B161))","v":6122.729364983521},null,"1970-06-01"]
["1970-07-01",{"$f":"IF('CPILFESL pc1'!B162=\"\",\"\",'LNU00000060 lin'!B162/('UNRATE lin'!B162+'CPILFESL pc1'!B162))","v":6235.0395281370365},null,"1970-07-01"]
["1970-08-01",{"$f":"IF('CPILFESL pc1'!B163=\"\",\"\",'LNU00000060 lin'!B163/('UNRATE lin'!B163+'CPILFESL pc1'!B163))","v":6202.0696276174513},null,"1970-08-01"]
["1970-09-01",{"$f":"IF('CPILFESL pc1'!B164=\"\",\"\",'LNU00000060 lin'!B164/('UNRATE lin'!B164+'CPILFESL pc1'!B164))","v":6062.2299512432073},null,"1970-09-01"]
["1970-10-01",{"$f":"IF('CPILFESL pc1'!B165=\"\",\"\",'LNU00000060 lin'!B165/('UNRATE lin'!B165+'CPILFESL pc1'!B165))","v":6032.7664887168103},null,"1970-10-01"]
["1970-11-01",{"$f":"IF('CPILFESL pc1'!B166=\"\",\"\",'LNU00000060 lin'!B166/('UNRATE lin'!B166+'CPILFESL pc1'!B166))","v":5608.0717166760423},null,"1970-11-01"]
["1970-12-01",{"$f":"IF('CPILFESL pc1'!B167=\"\",\"\",'LNU00000060 lin'!B167/('UNRATE lin'!B167+'CPILFESL pc1'!B167))","v":5539.0275439444749},null,"1970-12-01"]
["1971-01-01",{"$f":"IF('CPILFESL pc1'!B168=\"\",\"\",'LNU00000060 lin'!B168/('UNRATE lin'!B168+'CPILFESL pc1'!B168))","v":5765.4344136187856},null,"1971-01-01"]
["1971-02-01",{"$f":"IF('CPILFESL pc1'!B169=\"\",\"\",'LNU00000060 lin'!B169/('UNRATE lin'!B169+'CPILFESL pc1'!B169))","v":5907.0506238395992},null,"1971-02-01"]
["1971-03-01",{"$f":"IF('CPILFESL pc1'!B170=\"\",\"\",'LNU00000060 lin'!B170/('UNRATE lin'!B170+'CPILFESL pc1'!B170))","v":6274.9456923656062},null,"1971-03-01"]
["1971-04-01",{"$f":"IF('CPILFESL pc1'!B171=\"\",\"\",'LNU00000060 lin'!B171/('UNRATE lin'!B171+'CPILFESL pc1'!B171))","v":6505.5066586793237},null,"1971-04-01"]
["1971-05-01",{"$f":"IF('CPILFESL pc1'!B172=\"\",\"\",'LNU00000060 lin'!B172/('UNRATE lin'!B172+'CPILFESL pc1'!B172))","v":6374.5411670887006},null,"1971-05-01"]
["1971-06-01",{"$f":"IF('CPILFESL pc1'!B173=\"\",\"\",'LNU00000060 lin'!B173/('UNRATE lin'!B173+'CPILFESL pc1'!B173))","v":6547.0525719406469},null,"1971-06-01"]
["1971-07-01",{"$f":"IF('CPILFESL pc1'!B174=\"\",\"\",'LNU00000060 lin'!B174/('UNRATE lin'!B174+'CPILFESL pc1'!B174))","v":6500.379247712116},null,"1971-07-01"]
["1971-08-01",{"$f":"IF('CPILFESL pc1'!B175=\"\",\"\",'LNU00000060 lin'!B175/('UNRATE lin'!B175+'CPILFESL pc1'!B175))","v":6615.5795976263817},null,"1971-08-01"]
["1971-09-01",{"$f":"IF('CPILFESL pc1'!B176=\"\",\"\",'LNU00000060 lin'!B176/('UNRATE lin'!B176+'CPILFESL pc1'!B176))","v":7027.0318360019846},null,"1971-09-01"]
["1971-10-01",{"$f":"IF('CPILFESL pc1'!B177=\"\",\"\",'LNU00000060 lin'!B177/('UNRATE lin'!B177+'CPILFESL pc1'!B177))","v":7378.0322347448382},null,"1971-10-01"]
["1971-11-01",{"$f":"IF('CPILFESL pc1'!B178=\"\",\"\",'LNU00000060 lin'!B178/('UNRATE lin'!B178+'CPILFESL pc1'!B178))","v":7632.8872383755752},null,"1971-11-01"]
["1971-12-01",{"$f":"IF('CPILFESL pc1'!B179=\"\",\"\",'LNU00000060 lin'!B179/('UNRATE lin'!B179+'CPILFESL pc1'!B179))","v":7862.7941648598608},null,"1971-12-01"]
["1972-01-01",{"$f":"IF('CPILFESL pc1'!B180=\"\",\"\",'LNU00000060 lin'!B180/('UNRATE lin'!B180+'CPILFESL pc1'!B180))","v":7859.6930333069604},null,"1972-01-01"]
["1972-02-01",{"$f":"IF('CPILFESL pc1'!B181=\"\",\"\",'LNU00000060 lin'!B181/('UNRATE lin'!B181+'CPILFESL pc1'!B181))","v":7970.9100264595445},null,"1972-02-01"]
["1972-03-01",{"$f":"IF('CPILFESL pc1'!B182=\"\",\"\",'LNU00000060 lin'!B182/('UNRATE lin'!B182+'CPILFESL pc1'!B182))","v":7896.537881928678},null,"1972-03-01"]
["1972-04-01",{"$f":"IF('CPILFESL pc1'!B183=\"\",\"\",'LNU00000060 lin'!B183/('UNRATE lin'!B183+'CPILFESL pc1'!B183))","v":8013.6504667353192},null,"1972-04-01"]
["1972-05-01",{"$f":"IF('CPILFESL pc1'!B184=\"\",\"\",'LNU00000060 lin'!B184/('UNRATE lin'!B184+'CPILFESL pc1'!B184))","v":8260.50888747709},null,"1972-05-01"]
["1972-06-01",{"$f":"IF('CPILFESL pc1'!B185=\"\",\"\",'LNU00000060 lin'!B185/('UNRATE lin'!B185+'CPILFESL pc1'!B185))","v":8513.0777751906808},null,"1972-06-01"]
["1972-07-01",{"$f":"IF('CPILFESL pc1'!B186=\"\",\"\",'LNU00000060 lin'!B186/('UNRATE lin'!B186+'CPILFESL pc1'!B186))","v":8638.3556423569771},null,"1972-07-01"]
["1972-08-01",{"$f":"IF('CPILFESL pc1'!B187=\"\",\"\",'LNU00000060 lin'!B187/('UNRATE lin'!B187+'CPILFESL pc1'!B187))","v":8424.6561045358721},null,"1972-08-01"]
["1972-09-01",{"$f":"IF('CPILFESL pc1'!B188=\"\",\"\",'LNU00000060 lin'!B188/('UNRATE lin'!B188+'CPILFESL pc1'!B188))","v":8536.7570624385498},null,"1972-09-01"]
["1972-10-01",{"$f":"IF('CPILFESL pc1'!B189=\"\",\"\",'LNU00000060 lin'!B189/('UNRATE lin'!B189+'CPILFESL pc1'!B189))","v":8455.4283538991494},null,"1972-10-01"]
["1972-11-01",{"$f":"IF('CPILFESL pc1'!B190=\"\",\"\",'LNU00000060 lin'!B190/('UNRATE lin'!B190+'CPILFESL pc1'!B190))","v":9032.0607889791499},null,"1972-11-01"]
["1972-12-01",{"$f":"IF('CPILFESL pc1'!B191=\"\",\"\",'LNU00000060 lin'!B191/('UNRATE lin'!B191+'CPILFESL pc1'!B191))","v":8911.1482009336396},null,"1972-12-01"]
["1973-01-01",{"$f":"IF('CPILFESL pc1'!B192=\"\",\"\",'LNU00000060 lin'!B192/('UNRATE lin'!B192+'CPILFESL pc1'!B192))","v":9855.7763496905263},null,"1973-01-01"]
["1973-02-01",{"$f":"IF('CPILFESL pc1'!B193=\"\",\"\",'LNU00000060 lin'!B193/('UNRATE lin'!B193+'CPILFESL pc1'!B193))","v":9459.1404604316922},null,"1973-02-01"]
["1973-03-01",{"$f":"IF('CPILFESL pc1'!B194=\"\",\"\",'LNU00000060 lin'!B194/('UNRATE lin'!B194+'CPILFESL pc1'!B194))","v":9060.7704835772602},null,"1973-03-01"]
["1973-04-01",{"$f":"IF('CPILFESL pc1'!B195=\"\",\"\",'LNU00000060 lin'!B195/('UNRATE lin'!B195+'CPILFESL pc1'!B195))","v":9237.5289280676297},null,"1973-04-01"]
["1973-05-01",{"$f":"IF('CPILFESL pc1'!B196=\"\",\"\",'LNU00000060 lin'!B196/('UNRATE lin'!B196+'CPILFESL pc1'!B196))","v":9114.7684468053812},null,"1973-05-01"]
["1973-06-01",{"$f":"IF('CPILFESL pc1'!B197=\"\",\"\",'LNU00000060 lin'!B197/('UNRATE lin'!B197+'CPILFESL pc1'!B197))","v":9136.0609367691923},null,"1973-06-01"]
["1973-07-01",{"$f":"IF('CPILFESL pc1'!B198=\"\",\"\",'LNU00000060 lin'!B198/('UNRATE lin'!B198+'CPILFESL pc1'!B198))","v":9274.1955709377271},null,"1973-07-01"]
["1973-08-01",{"$f":"IF('CPILFESL pc1'!B199=\"\",\"\",'LNU00000060 lin'!B199/('UNRATE lin'!B199+'CPILFESL pc1'!B199))","v":9305.0863852608018},null,"1973-08-01"]
["1973-09-01",{"$f":"IF('CPILFESL pc1'!B200=\"\",\"\",'LNU00000060 lin'!B200/('UNRATE lin'!B200+'CPILFESL pc1'!B200))","v":8588.6260675869198},null,"1973-09-01"]
["1973-10-01",{"$f":"IF('CPILFESL pc1'!B201=\"\",\"\",'LNU00000060 lin'!B201/('UNRATE lin'!B201+'CPILFESL pc1'!B201))","v":8367.4577217972637},null,"1973-10-01"]
["1973-11-01",{"$f":"IF('CPILFESL pc1'!B202=\"\",\"\",'LNU00000060 lin'!B202/('UNRATE lin'!B202+'CPILFESL pc1'!B202))","v":7808.1960349348819},null,"1973-11-01"]
["1973-12-01",{"$f":"IF('CPILFESL pc1'!B203=\"\",\"\",'LNU00000060 lin'!B203/('UNRATE lin'!B203+'CPILFESL pc1'!B203))","v":7762.0694966550518},null,"1973-12-01"]
["1974-01-01",{"$f":"IF('CPILFESL pc1'!B204=\"\",\"\",'LNU00000060 lin'!B204/('UNRATE lin'!B204+'CPILFESL pc1'!B204))","v":7300.2208258790379},null,{"$f":"IF(B204=\"\",\"\",A204)","v":"1974-01-01"}]
["1974-02-01",{"$f":"IF('CPILFESL pc1'!B205=\"\",\"\",'LNU00000060 lin'!B205/('UNRATE lin'!B205+'CPILFESL pc1'!B205))","v":7102.9653864588327},null,"1974-02-01"]
["1974-03-01",{"$f":"IF('CPILFESL pc1'!B206=\"\",\"\",'LNU00000060 lin'!B206/('UNRATE lin'!B206+'CPILFESL pc1'!B206))","v":6902.6032885386539},null,"1974-03-01"]
["1974-04-01",{"$f":"IF('CPILFESL pc1'!B207=\"\",\"\",'LNU00000060 lin'!B207/('UNRATE lin'!B207+'CPILFESL pc1'!B207))","v":6649.8178792281515},null,"1974-04-01"]
["1974-05-01",{"$f":"IF('CPILFESL pc1'!B208=\"\",\"\",'LNU00000060 lin'!B208/('UNRATE lin'!B208+'CPILFESL pc1'!B208))","v":6192.6073781529458},null,"1974-05-01"]
["1974-06-01",{"$f":"IF('CPILFESL pc1'!B209=\"\",\"\",'LNU00000060 lin'!B209/('UNRATE lin'!B209+'CPILFESL pc1'!B209))","v":5660.5189084078047},null,"1974-06-01"]
["1974-07-01",{"$f":"IF('CPILFESL pc1'!B210=\"\",\"\",'LNU00000060 lin'!B210/('UNRATE lin'!B210+'CPILFESL pc1'!B210))","v":5287.3759464733921},null,"1974-07-01"]
["1974-08-01",{"$f":"IF('CPILFESL pc1'!B211=\"\",\"\",'LNU00000060 lin'!B211/('UNRATE lin'!B211+'CPILFESL pc1'!B211))","v":4930.0083470006512},null,"1974-08-01"]
["1974-09-01",{"$f":"IF('CPILFESL pc1'!B212=\"\",\"\",'LNU00000060 lin'!B212/('UNRATE lin'!B212+'CPILFESL pc1'!B212))","v":4700.2647450983068},null,"1974-09-01"]
["1974-10-01",{"$f":"IF('CPILFESL pc1'!B213=\"\",\"\",'LNU00000060 lin'!B213/('UNRATE lin'!B213+'CPILFESL pc1'!B213))","v":4574.4626322502054},null,"1974-10-01"]
["1974-11-01",{"$f":"IF('CPILFESL pc1'!B214=\"\",\"\",'LNU00000060 lin'!B214/('UNRATE lin'!B214+'CPILFESL pc1'!B214))","v":4323.777560460253},null,"1974-11-01"]
["1974-12-01",{"$f":"IF('CPILFESL pc1'!B215=\"\",\"\",'LNU00000060 lin'!B215/('UNRATE lin'!B215+'CPILFESL pc1'!B215))","v":4100.37392770731},null,"1974-12-01"]
["1975-01-01",{"$f":"IF('CPILFESL pc1'!B216=\"\",\"\",'LNU00000060 lin'!B216/('UNRATE lin'!B216+'CPILFESL pc1'!B216))","v":3883.3253627791778},null,"1975-01-01"]
["1975-02-01",{"$f":"IF('CPILFESL pc1'!B217=\"\",\"\",'LNU00000060 lin'!B217/('UNRATE lin'!B217+'CPILFESL pc1'!B217))","v":3820.0978641492534},null,"1975-02-01"]
["1975-03-01",{"$f":"IF('CPILFESL pc1'!B218=\"\",\"\",'LNU00000060 lin'!B218/('UNRATE lin'!B218+'CPILFESL pc1'!B218))","v":3828.7671713661985},null,"1975-03-01"]
["1975-04-01",{"$f":"IF('CPILFESL pc1'!B219=\"\",\"\",'LNU00000060 lin'!B219/('UNRATE lin'!B219+'CPILFESL pc1'!B219))","v":3808.8045476895149},null,"1975-04-01"]
["1975-05-01",{"$f":"IF('CPILFESL pc1'!B220=\"\",\"\",'LNU00000060 lin'!B220/('UNRATE lin'!B220+'CPILFESL pc1'!B220))","v":3965.4508091446182},null,"1975-05-01"]
["1975-06-01",{"$f":"IF('CPILFESL pc1'!B221=\"\",\"\",'LNU00000060 lin'!B221/('UNRATE lin'!B221+'CPILFESL pc1'!B221))","v":4123.8078030019487},null,"1975-06-01"]
["1975-07-01",{"$f":"IF('CPILFESL pc1'!B222=\"\",\"\",'LNU00000060 lin'!B222/('UNRATE lin'!B222+'CPILFESL pc1'!B222))","v":4343.4735691945752},null,"1975-07-01"]
["1975-08-01",{"$f":"IF('CPILFESL pc1'!B223=\"\",\"\",'LNU00000060 lin'!B223/('UNRATE lin'!B223+'CPILFESL pc1'!B223))","v":4701.0257127723198},null,"1975-08-01"]
["1975-09-01",{"$f":"IF('CPILFESL pc1'!B224=\"\",\"\",'LNU00000060 lin'!B224/('UNRATE lin'!B224+'CPILFESL pc1'!B224))","v":4848.5473797850527},null,"1975-09-01"]
["1975-10-01",{"$f":"IF('CPILFESL pc1'!B225=\"\",\"\",'LNU00000060 lin'!B225/('UNRATE lin'!B225+'CPILFESL pc1'!B225))","v":5001.2150668286758},null,"1975-10-01"]
["1975-11-01",{"$f":"IF('CPILFESL pc1'!B226=\"\",\"\",'LNU00000060 lin'!B226/('UNRATE lin'!B226+'CPILFESL pc1'!B226))","v":5059.3909433557155},null,"1975-11-01"]
["1975-12-01",{"$f":"IF('CPILFESL pc1'!B227=\"\",\"\",'LNU00000060 lin'!B227/('UNRATE lin'!B227+'CPILFESL pc1'!B227))","v":5184.3943748380025},null,"1975-12-01"]
["1976-01-01",{"$f":"IF('CPILFESL pc1'!B228=\"\",\"\",'LNU00000060 lin'!B228/('UNRATE lin'!B228+'CPILFESL pc1'!B228))","v":5244.203452933938},null,"1976-01-01"]
["1976-02-01",{"$f":"IF('CPILFESL pc1'!B229=\"\",\"\",'LNU00000060 lin'!B229/('UNRATE lin'!B229+'CPILFESL pc1'!B229))","v":5490.6894851899551},null,"1976-02-01"]
["1976-03-01",{"$f":"IF('CPILFESL pc1'!B230=\"\",\"\",'LNU00000060 lin'!B230/('UNRATE lin'!B230+'CPILFESL pc1'!B230))","v":5473.6172157110404},null,"1976-03-01"]
["1976-04-01",{"$f":"IF('CPILFESL pc1'!B231=\"\",\"\",'LNU00000060 lin'!B231/('UNRATE lin'!B231+'CPILFESL pc1'!B231))","v":5529.5869945216236},null,"1976-04-01"]
["1976-05-01",{"$f":"IF('CPILFESL pc1'!B232=\"\",\"\",'LNU00000060 lin'!B232/('UNRATE lin'!B232+'CPILFESL pc1'!B232))","v":5592.6455631377275},null,"1976-05-01"]
["1976-06-01",{"$f":"IF('CPILFESL pc1'!B233=\"\",\"\",'LNU00000060 lin'!B233/('UNRATE lin'!B233+'CPILFESL pc1'!B233))","v":5610.6812646824292},null,"1976-06-01"]
["1976-07-01",{"$f":"IF('CPILFESL pc1'!B234=\"\",\"\",'LNU00000060 lin'!B234/('UNRATE lin'!B234+'CPILFESL pc1'!B234))","v":5406.7729477481689},null,"1976-07-01"]
["1976-08-01",{"$f":"IF('CPILFESL pc1'!B235=\"\",\"\",'LNU00000060 lin'!B235/('UNRATE lin'!B235+'CPILFESL pc1'!B235))","v":5355.9378582948702},null,"1976-08-01"]
["1976-09-01",{"$f":"IF('CPILFESL pc1'!B236=\"\",\"\",'LNU00000060 lin'!B236/('UNRATE lin'!B236+'CPILFESL pc1'!B236))","v":5452.7107184034458},null,"1976-09-01"]
["1976-10-01",{"$f":"IF('CPILFESL pc1'!B237=\"\",\"\",'LNU00000060 lin'!B237/('UNRATE lin'!B237+'CPILFESL pc1'!B237))","v":5435.8551379687815},null,"1976-10-01"]
["1976-11-01",{"$f":"IF('CPILFESL pc1'!B238=\"\",\"\",'LNU00000060 lin'!B238/('UNRATE lin'!B238+'CPILFESL pc1'!B238))","v":5563.6331748768434},null,"1976-11-01"]
["1976-12-01",{"$f":"IF('CPILFESL pc1'!B239=\"\",\"\",'LNU00000060 lin'!B239/('UNRATE lin'!B239+'CPILFESL pc1'!B239))","v":5659.8638674204531},null,"1976-12-01"]
["1977-01-01",{"$f":"IF('CPILFESL pc1'!B240=\"\",\"\",'LNU00000060 lin'!B240/('UNRATE lin'!B240+'CPILFESL pc1'!B240))","v":5811.5384077353674},null,"1977-01-01"]
["1977-02-01",{"$f":"IF('CPILFESL pc1'!B241=\"\",\"\",'LNU00000060 lin'!B241/('UNRATE lin'!B241+'CPILFESL pc1'!B241))","v":5716.6164295590897},null,"1977-02-01"]
["1977-03-01",{"$f":"IF('CPILFESL pc1'!B242=\"\",\"\",'LNU00000060 lin'!B242/('UNRATE lin'!B242+'CPILFESL pc1'!B242))","v":5822.4203714832774},null,"1977-03-01"]
["1977-04-01",{"$f":"IF('CPILFESL pc1'!B243=\"\",\"\",'LNU00000060 lin'!B243/('UNRATE lin'!B243+'CPILFESL pc1'!B243))","v":5850.8946278048679},null,"1977-04-01"]
["1977-05-01",{"$f":"IF('CPILFESL pc1'!B244=\"\",\"\",'LNU00000060 lin'!B244/('UNRATE lin'!B244+'CPILFESL pc1'!B244))","v":5963.7467998519051},null,"1977-05-01"]
["1977-06-01",{"$f":"IF('CPILFESL pc1'!B245=\"\",\"\",'LNU00000060 lin'!B245/('UNRATE lin'!B245+'CPILFESL pc1'!B245))","v":5746.0038603344847},null,"1977-06-01"]
["1977-07-01",{"$f":"IF('CPILFESL pc1'!B246=\"\",\"\",'LNU00000060 lin'!B246/('UNRATE lin'!B246+'CPILFESL pc1'!B246))","v":6058.555133079848},null,"1977-07-01"]
["1977-08-01",{"$f":"IF('CPILFESL pc1'!B247=\"\",\"\",'LNU00000060 lin'!B247/('UNRATE lin'!B247+'CPILFESL pc1'!B247))","v":6037.3955371693237},null,"1977-08-01"]
["1977-09-01",{"$f":"IF('CPILFESL pc1'!B248=\"\",\"\",'LNU00000060 lin'!B248/('UNRATE lin'!B248+'CPILFESL pc1'!B248))","v":6155.0628890376011},null,"1977-09-01"]
["1977-10-01",{"$f":"IF('CPILFESL pc1'!B249=\"\",\"\",'LNU00000060 lin'!B249/('UNRATE lin'!B249+'CPILFESL pc1'!B249))","v":6262.5802731928798},null,"1977-10-01"]
["1977-11-01",{"$f":"IF('CPILFESL pc1'!B250=\"\",\"\",'LNU00000060 lin'!B250/('UNRATE lin'!B250+'CPILFESL pc1'!B250))","v":6200.4750681982659},null,"1977-11-01"]
["1977-12-01",{"$f":"IF('CPILFESL pc1'!B251=\"\",\"\",'LNU00000060 lin'!B251/('UNRATE lin'!B251+'CPILFESL pc1'!B251))","v":6249.5671748520217},null,"1977-12-01"]
["1978-01-01",{"$f":"IF('CPILFESL pc1'!B252=\"\",\"\",'LNU00000060 lin'!B252/('UNRATE lin'!B252+'CPILFESL pc1'!B252))","v":6280.7178900210729},null,"1978-01-01"]
["1978-02-01",{"$f":"IF('CPILFESL pc1'!B253=\"\",\"\",'LNU00000060 lin'!B253/('UNRATE lin'!B253+'CPILFESL pc1'!B253))","v":6446.3319103991553},null,"1978-02-01"]
["1978-03-01",{"$f":"IF('CPILFESL pc1'!B254=\"\",\"\",'LNU00000060 lin'!B254/('UNRATE lin'!B254+'CPILFESL pc1'!B254))","v":6386.2022127182618},null,"1978-03-01"]
["1978-04-01",{"$f":"IF('CPILFESL pc1'!B255=\"\",\"\",'LNU00000060 lin'!B255/('UNRATE lin'!B255+'CPILFESL pc1'!B255))","v":6346.2520124082148},null,"1978-04-01"]
["1978-05-01",{"$f":"IF('CPILFESL pc1'!B256=\"\",\"\",'LNU00000060 lin'!B256/('UNRATE lin'!B256+'CPILFESL pc1'!B256))","v":6341.2211492063097},null,"1978-05-01"]
["1978-06-01",{"$f":"IF('CPILFESL pc1'!B257=\"\",\"\",'LNU00000060 lin'!B257/('UNRATE lin'!B257+'CPILFESL pc1'!B257))","v":6343.0124557595664},null,"1978-06-01"]
["1978-07-01",{"$f":"IF('CPILFESL pc1'!B258=\"\",\"\",'LNU00000060 lin'!B258/('UNRATE lin'!B258+'CPILFESL pc1'!B258))","v":6066.3771869683351},null,"1978-07-01"]
["1978-08-01",{"$f":"IF('CPILFESL pc1'!B259=\"\",\"\",'LNU00000060 lin'!B259/('UNRATE lin'!B259+'CPILFESL pc1'!B259))","v":6081.1664263767343},null,"1978-08-01"]
["1978-09-01",{"$f":"IF('CPILFESL pc1'!B260=\"\",\"\",'LNU00000060 lin'!B260/('UNRATE lin'!B260+'CPILFESL pc1'!B260))","v":5851.0424444316814},null,"1978-09-01"]
["1978-10-01",{"$f":"IF('CPILFESL pc1'!B261=\"\",\"\",'LNU00000060 lin'!B261/('UNRATE lin'!B261+'CPILFESL pc1'!B261))","v":5755.3693143771452},null,"1978-10-01"]
["1978-11-01",{"$f":"IF('CPILFESL pc1'!B262=\"\",\"\",'LNU00000060 lin'!B262/('UNRATE lin'!B262+'CPILFESL pc1'!B262))","v":5676.8758997225004},null,"1978-11-01"]
["1978-12-01",{"$f":"IF('CPILFESL pc1'!B263=\"\",\"\",'LNU00000060 lin'!B263/('UNRATE lin'!B263+'CPILFESL pc1'!B263))","v":5668.8080980007544},null,"1978-12-01"]
["1979-01-01",{"$f":"IF('CPILFESL pc1'!B264=\"\",\"\",'LNU00000060 lin'!B264/('UNRATE lin'!B264+'CPILFESL pc1'!B264))","v":5677.1965936820434},null,"1979-01-01"]
["1979-02-01",{"$f":"IF('CPILFESL pc1'!B265=\"\",\"\",'LNU00000060 lin'!B265/('UNRATE lin'!B265+'CPILFESL pc1'!B265))","v":5463.1565376993749},null,"1979-02-01"]
["1979-03-01",{"$f":"IF('CPILFESL pc1'!B266=\"\",\"\",'LNU00000060 lin'!B266/('UNRATE lin'!B266+'CPILFESL pc1'!B266))","v":5416.7908084441406},null,"1979-03-01"]
["1979-04-01",{"$f":"IF('CPILFESL pc1'!B267=\"\",\"\",'LNU00000060 lin'!B267/('UNRATE lin'!B267+'CPILFESL pc1'!B267))","v":5450.306187323461},null,"1979-04-01"]
["1979-05-01",{"$f":"IF('CPILFESL pc1'!B268=\"\",\"\",'LNU00000060 lin'!B268/('UNRATE lin'!B268+'CPILFESL pc1'!B268))","v":5498.4885012306922},null,{"$f":"IF(B268=\"\",\"\",A268)","v":"1979-05-01"}]
["1979-06-01",{"$f":"IF('CPILFESL pc1'!B269=\"\",\"\",'LNU00000060 lin'!B269/('UNRATE lin'!B269+'CPILFESL pc1'!B269))","v":5498.8001325732293},null,"1979-06-01"]
["1979-07-01",{"$f":"IF('CPILFESL pc1'!B270=\"\",\"\",'LNU00000060 lin'!B270/('UNRATE lin'!B270+'CPILFESL pc1'!B270))","v":5418.7037610610796},null,"1979-07-01"]
["1979-08-01",{"$f":"IF('CPILFESL pc1'!B271=\"\",\"\",'LNU00000060 lin'!B271/('UNRATE lin'!B271+'CPILFESL pc1'!B271))","v":5196.6640954852928},null,"1979-08-01"]
["1979-09-01",{"$f":"IF('CPILFESL pc1'!B272=\"\",\"\",'LNU00000060 lin'!B272/('UNRATE lin'!B272+'CPILFESL pc1'!B272))","v":5268.1694581530292},null,"1979-09-01"]
["1979-10-01",{"$f":"IF('CPILFESL pc1'!B273=\"\",\"\",'LNU00000060 lin'!B273/('UNRATE lin'!B273+'CPILFESL pc1'!B273))","v":5176.4216873823207},null,"1979-10-01"]
["1979-11-01",{"$f":"IF('CPILFESL pc1'!B274=\"\",\"\",'LNU00000060 lin'!B274/('UNRATE lin'!B274+'CPILFESL pc1'!B274))","v":5050.0003323084129},null,"1979-11-01"]
["1979-12-01",{"$f":"IF('CPILFESL pc1'!B275=\"\",\"\",'LNU00000060 lin'!B275/('UNRATE lin'!B275+'CPILFESL pc1'!B275))","v":4833.7146066650394},null,"1979-12-01"]
["1980-01-01",{"$f":"IF('CPILFESL pc1'!B276=\"\",\"\",'LNU00000060 lin'!B276/('UNRATE lin'!B276+'CPILFESL pc1'!B276))","v":4591.260371740701},null,"1980-01-01"]
["1980-02-01",{"$f":"IF('CPILFESL pc1'!B277=\"\",\"\",'LNU00000060 lin'!B277/('UNRATE lin'!B277+'CPILFESL pc1'!B277))","v":4593.0353958791356},null,"1980-02-01"]
["1980-03-01",{"$f":"IF('CPILFESL pc1'!B278=\"\",\"\",'LNU00000060 lin'!B278/('UNRATE lin'!B278+'CPILFESL pc1'!B278))","v":4451.3141645224496},null,"1980-03-01"]
["1980-04-01",{"$f":"IF('CPILFESL pc1'!B279=\"\",\"\",'LNU00000060 lin'!B279/('UNRATE lin'!B279+'CPILFESL pc1'!B279))","v":4218.3404321958978},null,"1980-04-01"]
["1980-05-01",{"$f":"IF('CPILFESL pc1'!B280=\"\",\"\",'LNU00000060 lin'!B280/('UNRATE lin'!B280+'CPILFESL pc1'!B280))","v":4092.8318502160587},null,"1980-05-01"]
["1980-06-01",{"$f":"IF('CPILFESL pc1'!B281=\"\",\"\",'LNU00000060 lin'!B281/('UNRATE lin'!B281+'CPILFESL pc1'!B281))","v":3990.2869628083486},null,"1980-06-01"]
["1980-07-01",{"$f":"IF('CPILFESL pc1'!B282=\"\",\"\",'LNU00000060 lin'!B282/('UNRATE lin'!B282+'CPILFESL pc1'!B282))","v":4202.4352893950436},null,"1980-07-01"]
["1980-08-01",{"$f":"IF('CPILFESL pc1'!B283=\"\",\"\",'LNU00000060 lin'!B283/('UNRATE lin'!B283+'CPILFESL pc1'!B283))","v":4348.9214232461345},null,"1980-08-01"]
["1980-09-01",{"$f":"IF('CPILFESL pc1'!B284=\"\",\"\",'LNU00000060 lin'!B284/('UNRATE lin'!B284+'CPILFESL pc1'!B284))","v":4361.6505327226323},null,"1980-09-01"]
["1980-10-01",{"$f":"IF('CPILFESL pc1'!B285=\"\",\"\",'LNU00000060 lin'!B285/('UNRATE lin'!B285+'CPILFESL pc1'!B285))","v":4334.5695488186448},null,"1980-10-01"]
["1980-11-01",{"$f":"IF('CPILFESL pc1'!B286=\"\",\"\",'LNU00000060 lin'!B286/('UNRATE lin'!B286+'CPILFESL pc1'!B286))","v":4340.9923227047193},null,"1980-11-01"]
["1980-12-01",{"$f":"IF('CPILFESL pc1'!B287=\"\",\"\",'LNU00000060 lin'!B287/('UNRATE lin'!B287+'CPILFESL pc1'!B287))","v":4418.2782831195191},null,"1980-12-01"]
["1981-01-01",{"$f":"IF('CPILFESL pc1'!B288=\"\",\"\",'LNU00000060 lin'!B288/('UNRATE lin'!B288+'CPILFESL pc1'!B288))","v":4545.9587144010284},null,"1981-01-01"]
["1981-02-01",{"$f":"IF('CPILFESL pc1'!B289=\"\",\"\",'LNU00000060 lin'!B289/('UNRATE lin'!B289+'CPILFESL pc1'!B289))","v":4704.7735283909878},null,"1981-02-01"]
["1981-03-01",{"$f":"IF('CPILFESL pc1'!B290=\"\",\"\",'LNU00000060 lin'!B290/('UNRATE lin'!B290+'CPILFESL pc1'!B290))","v":4961.4227016692776},null,"1981-03-01"]
["1981-04-01",{"$f":"IF('CPILFESL pc1'!B291=\"\",\"\",'LNU00000060 lin'!B291/('UNRATE lin'!B291+'CPILFESL pc1'!B291))","v":5176.1576918544943},null,"1981-04-01"]
["1981-05-01",{"$f":"IF('CPILFESL pc1'!B292=\"\",\"\",'LNU00000060 lin'!B292/('UNRATE lin'!B292+'CPILFESL pc1'!B292))","v":5040.0339391502821},null,"1981-05-01"]
["1981-06-01",{"$f":"IF('CPILFESL pc1'!B293=\"\",\"\",'LNU00000060 lin'!B293/('UNRATE lin'!B293+'CPILFESL pc1'!B293))","v":5117.5403015627817},null,"1981-06-01"]
["1981-07-01",{"$f":"IF('CPILFESL pc1'!B294=\"\",\"\",'LNU00000060 lin'!B294/('UNRATE lin'!B294+'CPILFESL pc1'!B294))","v":4719.7143076819893},null,"1981-07-01"]
["1981-08-01",{"$f":"IF('CPILFESL pc1'!B295=\"\",\"\",'LNU00000060 lin'!B295/('UNRATE lin'!B295+'CPILFESL pc1'!B295))","v":4572.1680909096667},null,"1981-08-01"]
["1981-09-01",{"$f":"IF('CPILFESL pc1'!B296=\"\",\"\",'LNU00000060 lin'!B296/('UNRATE lin'!B296+'CPILFESL pc1'!B296))","v":4473.9956919596643},null,"1981-09-01"]
["1981-10-01",{"$f":"IF('CPILFESL pc1'!B297=\"\",\"\",'LNU00000060 lin'!B297/('UNRATE lin'!B297+'CPILFESL pc1'!B297))","v":4613.9019267530603},null,"1981-10-01"]
["1981-11-01",{"$f":"IF('CPILFESL pc1'!B298=\"\",\"\",'LNU00000060 lin'!B298/('UNRATE lin'!B298+'CPILFESL pc1'!B298))","v":4700.8943251591618},null,"1981-11-01"]
["1981-12-01",{"$f":"IF('CPILFESL pc1'!B299=\"\",\"\",'LNU00000060 lin'!B299/('UNRATE lin'!B299+'CPILFESL pc1'!B299))","v":4842.2894088014618},null,"1981-12-01"]
["1982-01-01",{"$f":"IF('CPILFESL pc1'!B300=\"\",\"\",'LNU00000060 lin'!B300/('UNRATE lin'!B300+'CPILFESL pc1'!B300))","v":4902.7511135486275},null,"1982-01-01"]
["1982-02-01",{"$f":"IF('CPILFESL pc1'!B301=\"\",\"\",'LNU00000060 lin'!B301/('UNRATE lin'!B301+'CPILFESL pc1'!B301))","v":4844.5189575581016},null,"1982-02-01"]
["1982-03-01",{"$f":"IF('CPILFESL pc1'!B302=\"\",\"\",'LNU00000060 lin'!B302/('UNRATE lin'!B302+'CPILFESL pc1'!B302))","v":4966.6413281027299},null,"1982-03-01"]
["1982-04-01",{"$f":"IF('CPILFESL pc1'!B303=\"\",\"\",'LNU00000060 lin'!B303/('UNRATE lin'!B303+'CPILFESL pc1'!B303))","v":4846.5144620802539},null,"1982-04-01"]
["1982-05-01",{"$f":"IF('CPILFESL pc1'!B304=\"\",\"\",'LNU00000060 lin'!B304/('UNRATE lin'!B304+'CPILFESL pc1'!B304))","v":4880.804428878092},null,"1982-05-01"]
["1982-06-01",{"$f":"IF('CPILFESL pc1'!B305=\"\",\"\",'LNU00000060 lin'!B305/('UNRATE lin'!B305+'CPILFESL pc1'!B305))","v":4886.8503255741343},null,"1982-06-01"]
["1982-07-01",{"$f":"IF('CPILFESL pc1'!B306=\"\",\"\",'LNU00000060 lin'!B306/('UNRATE lin'!B306+'CPILFESL pc1'!B306))","v":5058.2426872053684},null,"1982-07-01"]
["1982-08-01",{"$f":"IF('CPILFESL pc1'!B307=\"\",\"\",'LNU00000060 lin'!B307/('UNRATE lin'!B307+'CPILFESL pc1'!B307))","v":5255.8015641694492},null,"1982-08-01"]
["1982-09-01",{"$f":"IF('CPILFESL pc1'!B308=\"\",\"\",'LNU00000060 lin'!B308/('UNRATE lin'!B308+'CPILFESL pc1'!B308))","v":5553.3760679749848},null,"1982-09-01"]
["1982-10-01",{"$f":"IF('CPILFESL pc1'!B309=\"\",\"\",'LNU00000060 lin'!B309/('UNRATE lin'!B309+'CPILFESL pc1'!B309))","v":5468.4843502412496},null,"1982-10-01"]
["1982-11-01",{"$f":"IF('CPILFESL pc1'!B310=\"\",\"\",'LNU00000060 lin'!B310/('UNRATE lin'!B310+'CPILFESL pc1'!B310))","v":5572.9527261856292},null,"1982-11-01"]
["1982-12-01",{"$f":"IF('CPILFESL pc1'!B311=\"\",\"\",'LNU00000060 lin'!B311/('UNRATE lin'!B311+'CPILFESL pc1'!B311))","v":5823.7949142505313},null,"1982-12-01"]
["1983-01-01",{"$f":"IF('CPILFESL pc1'!B312=\"\",\"\",'LNU00000060 lin'!B312/('UNRATE lin'!B312+'CPILFESL pc1'!B312))","v":5953.1114766746678},null,"1983-01-01"]
["1983-02-01",{"$f":"IF('CPILFESL pc1'!B313=\"\",\"\",'LNU00000060 lin'!B313/('UNRATE lin'!B313+'CPILFESL pc1'!B313))","v":6016.6249821039801},null,"1983-02-01"]
["1983-03-01",{"$f":"IF('CPILFESL pc1'!B314=\"\",\"\",'LNU00000060 lin'!B314/('UNRATE lin'!B314+'CPILFESL pc1'!B314))","v":6026.5441881158704},null,"1983-03-01"]
["1983-04-01",{"$f":"IF('CPILFESL pc1'!B315=\"\",\"\",'LNU00000060 lin'!B315/('UNRATE lin'!B315+'CPILFESL pc1'!B315))","v":6273.3137453058234},null,"1983-04-01"]
["1983-05-01",{"$f":"IF('CPILFESL pc1'!B316=\"\",\"\",'LNU00000060 lin'!B316/('UNRATE lin'!B316+'CPILFESL pc1'!B316))","v":6535.6647947963356},null,"1983-05-01"]
["1983-06-01",{"$f":"IF('CPILFESL pc1'!B317=\"\",\"\",'LNU00000060 lin'!B317/('UNRATE lin'!B317+'CPILFESL pc1'!B317))","v":6764.9921468188422},null,"1983-06-01"]
["1983-07-01",{"$f":"IF('CPILFESL pc1'!B318=\"\",\"\",'LNU00000060 lin'!B318/('UNRATE lin'!B318+'CPILFESL pc1'!B318))","v":7164.8821692254114},null,"1983-07-01"]
["1983-08-01",{"$f":"IF('CPILFESL pc1'!B319=\"\",\"\",'LNU00000060 lin'!B319/('UNRATE lin'!B319+'CPILFESL pc1'!B319))","v":7186.8844125309779},null,"1983-08-01"]
["1983-09-01",{"$f":"IF('CPILFESL pc1'!B320=\"\",\"\",'LNU00000060 lin'!B320/('UNRATE lin'!B320+'CPILFESL pc1'!B320))","v":7197.6632108143986},null,"1983-09-01"]
["1983-10-01",{"$f":"IF('CPILFESL pc1'!B321=\"\",\"\",'LNU00000060 lin'!B321/('UNRATE lin'!B321+'CPILFESL pc1'!B321))","v":7330.3394582937171},null,"1983-10-01"]
["1983-11-01",{"$f":"IF('CPILFESL pc1'!B322=\"\",\"\",'LNU00000060 lin'!B322/('UNRATE lin'!B322+'CPILFESL pc1'!B322))","v":7100.4287425243147},null,"1983-11-01"]
["1983-12-01",{"$f":"IF('CPILFESL pc1'!B323=\"\",\"\",'LNU00000060 lin'!B323/('UNRATE lin'!B323+'CPILFESL pc1'!B323))","v":6996.0429725356043},null,"1983-12-01"]
["1984-01-01",{"$f":"IF('CPILFESL pc1'!B324=\"\",\"\",'LNU00000060 lin'!B324/('UNRATE lin'!B324+'CPILFESL pc1'!B324))","v":7028.6909325225097},null,"1984-01-01"]
["1984-02-01",{"$f":"IF('CPILFESL pc1'!B325=\"\",\"\",'LNU00000060 lin'!B325/('UNRATE lin'!B325+'CPILFESL pc1'!B325))","v":7220.8449231215091},null,"1984-02-01"]
["1984-03-01",{"$f":"IF('CPILFESL pc1'!B326=\"\",\"\",'LNU00000060 lin'!B326/('UNRATE lin'!B326+'CPILFESL pc1'!B326))","v":7125.7752110862466},null,"1984-03-01"]
["1984-04-01",{"$f":"IF('CPILFESL pc1'!B327=\"\",\"\",'LNU00000060 lin'!B327/('UNRATE lin'!B327+'CPILFESL pc1'!B327))","v":7149.6324309123156},null,"1984-04-01"]
["1984-05-01",{"$f":"IF('CPILFESL pc1'!B328=\"\",\"\",'LNU00000060 lin'!B328/('UNRATE lin'!B328+'CPILFESL pc1'!B328))","v":7284.9712115179209},null,"1984-05-01"]
["1984-06-01",{"$f":"IF('CPILFESL pc1'!B329=\"\",\"\",'LNU00000060 lin'!B329/('UNRATE lin'!B329+'CPILFESL pc1'!B329))","v":7366.0141245054911},null,"1984-06-01"]
["1984-07-01",{"$f":"IF('CPILFESL pc1'!B330=\"\",\"\",'LNU00000060 lin'!B330/('UNRATE lin'!B330+'CPILFESL pc1'!B330))","v":7281.8207423515514},null,"1984-07-01"]
["1984-08-01",{"$f":"IF('CPILFESL pc1'!B331=\"\",\"\",'LNU00000060 lin'!B331/('UNRATE lin'!B331+'CPILFESL pc1'!B331))","v":7247.2138876144909},null,"1984-08-01"]
["1984-09-01",{"$f":"IF('CPILFESL pc1'!B332=\"\",\"\",'LNU00000060 lin'!B332/('UNRATE lin'!B332+'CPILFESL pc1'!B332))","v":7388.8765615021284},null,{"$f":"IF(B332=\"\",\"\",A332)","v":"1984-09-01"}]
["1984-10-01",{"$f":"IF('CPILFESL pc1'!B333=\"\",\"\",'LNU00000060 lin'!B333/('UNRATE lin'!B333+'CPILFESL pc1'!B333))","v":7418.8887764364054},null,"1984-10-01"]
["1984-11-01",{"$f":"IF('CPILFESL pc1'!B334=\"\",\"\",'LNU00000060 lin'!B334/('UNRATE lin'!B334+'CPILFESL pc1'!B334))","v":7755.5021413267332},null,"1984-11-01"]
["1984-12-01",{"$f":"IF('CPILFESL pc1'!B335=\"\",\"\",'LNU00000060 lin'!B335/('UNRATE lin'!B335+'CPILFESL pc1'!B335))","v":7651.0921182253905},null,"1984-12-01"]
["1985-01-01",{"$f":"IF('CPILFESL pc1'!B336=\"\",\"\",'LNU00000060 lin'!B336/('UNRATE lin'!B336+'CPILFESL pc1'!B336))","v":7934.8139601961348},null,"1985-01-01"]
["1985-02-01",{"$f":"IF('CPILFESL pc1'!B337=\"\",\"\",'LNU00000060 lin'!B337/('UNRATE lin'!B337+'CPILFESL pc1'!B337))","v":7827.0744927105079},null,"1985-02-01"]
["1985-03-01",{"$f":"IF('CPILFESL pc1'!B338=\"\",\"\",'LNU00000060 lin'!B338/('UNRATE lin'!B338+'CPILFESL pc1'!B338))","v":7856.4218793678638},null,"1985-03-01"]
["1985-04-01",{"$f":"IF('CPILFESL pc1'!B339=\"\",\"\",'LNU00000060 lin'!B339/('UNRATE lin'!B339+'CPILFESL pc1'!B339))","v":7946.9756513949105},null,"1985-04-01"]
["1985-05-01",{"$f":"IF('CPILFESL pc1'!B340=\"\",\"\",'LNU00000060 lin'!B340/('UNRATE lin'!B340+'CPILFESL pc1'!B340))","v":8040.4510840477369},null,"1985-05-01"]
["1985-06-01",{"$f":"IF('CPILFESL pc1'!B341=\"\",\"\",'LNU00000060 lin'!B341/('UNRATE lin'!B341+'CPILFESL pc1'!B341))","v":7997.0953854079553},null,"1985-06-01"]
["1985-07-01",{"$f":"IF('CPILFESL pc1'!B342=\"\",\"\",'LNU00000060 lin'!B342/('UNRATE lin'!B342+'CPILFESL pc1'!B342))","v":8158.5922239631145},null,"1985-07-01"]
["1985-08-01",{"$f":"IF('CPILFESL pc1'!B343=\"\",\"\",'LNU00000060 lin'!B343/('UNRATE lin'!B343+'CPILFESL pc1'!B343))","v":8400.4977573424076},null,"1985-08-01"]
["1985-09-01",{"$f":"IF('CPILFESL pc1'!B344=\"\",\"\",'LNU00000060 lin'!B344/('UNRATE lin'!B344+'CPILFESL pc1'!B344))","v":8570.3832516542843},null,"1985-09-01"]
["1985-10-01",{"$f":"IF('CPILFESL pc1'!B345=\"\",\"\",'LNU00000060 lin'!B345/('UNRATE lin'!B345+'CPILFESL pc1'!B345))","v":8527.4321551068442},null,"1985-10-01"]
["1985-11-01",{"$f":"IF('CPILFESL pc1'!B346=\"\",\"\",'LNU00000060 lin'!B346/('UNRATE lin'!B346+'CPILFESL pc1'!B346))","v":8342.7853720103449},null,"1985-11-01"]
["1985-12-01",{"$f":"IF('CPILFESL pc1'!B347=\"\",\"\",'LNU00000060 lin'!B347/('UNRATE lin'!B347+'CPILFESL pc1'!B347))","v":8441.6721499373834},null,"1985-12-01"]
["1986-01-01",{"$f":"IF('CPILFESL pc1'!B348=\"\",\"\",'LNU00000060 lin'!B348/('UNRATE lin'!B348+'CPILFESL pc1'!B348))","v":8592.0053944851406},null,"1986-01-01"]
["1986-02-01",{"$f":"IF('CPILFESL pc1'!B349=\"\",\"\",'LNU00000060 lin'!B349/('UNRATE lin'!B349+'CPILFESL pc1'!B349))","v":8456.4700960690861},null,"1986-02-01"]
["1986-03-01",{"$f":"IF('CPILFESL pc1'!B350=\"\",\"\",'LNU00000060 lin'!B350/('UNRATE lin'!B350+'CPILFESL pc1'!B350))","v":8551.9386778180906},null,"1986-03-01"]
["1986-04-01",{"$f":"IF('CPILFESL pc1'!B351=\"\",\"\",'LNU00000060 lin'!B351/('UNRATE lin'!B351+'CPILFESL pc1'!B351))","v":8579.6384236829726},null,"1986-04-01"]
["1986-05-01",{"$f":"IF('CPILFESL pc1'!B352=\"\",\"\",'LNU00000060 lin'!B352/('UNRATE lin'!B352+'CPILFESL pc1'!B352))","v":8670.3890977662722},null,"1986-05-01"]
["1986-06-01",{"$f":"IF('CPILFESL pc1'!B353=\"\",\"\",'LNU00000060 lin'!B353/('UNRATE lin'!B353+'CPILFESL pc1'!B353))","v":8701.8258126939854},null,"1986-06-01"]
["1986-07-01",{"$f":"IF('CPILFESL pc1'!B354=\"\",\"\",'LNU00000060 lin'!B354/('UNRATE lin'!B354+'CPILFESL pc1'!B354))","v":8812.2417650613224},null,"1986-07-01"]
["1986-08-01",{"$f":"IF('CPILFESL pc1'!B355=\"\",\"\",'LNU00000060 lin'!B355/('UNRATE lin'!B355+'CPILFESL pc1'!B355))","v":8920.364270134929},null,"1986-08-01"]
["1986-09-01",{"$f":"IF('CPILFESL pc1'!B356=\"\",\"\",'LNU00000060 lin'!B356/('UNRATE lin'!B356+'CPILFESL pc1'!B356))","v":8714.8603715674199},null,"1986-09-01"]
["1986-10-01",{"$f":"IF('CPILFESL pc1'!B357=\"\",\"\",'LNU00000060 lin'!B357/('UNRATE lin'!B357+'CPILFESL pc1'!B357))","v":8817.1489469311073},null,"1986-10-01"]
["1986-11-01",{"$f":"IF('CPILFESL pc1'!B358=\"\",\"\",'LNU00000060 lin'!B358/('UNRATE lin'!B358+'CPILFESL pc1'!B358))","v":9157.0711903509055},null,"1986-11-01"]
["1986-12-01",{"$f":"IF('CPILFESL pc1'!B359=\"\",\"\",'LNU00000060 lin'!B359/('UNRATE lin'!B359+'CPILFESL pc1'!B359))","v":9451.1195541069592},null,"1986-12-01"]
["1987-01-01",{"$f":"IF('CPILFESL pc1'!B360=\"\",\"\",'LNU00000060 lin'!B360/('UNRATE lin'!B360+'CPILFESL pc1'!B360))","v":9658.0511114911424},null,"1987-01-01"]
["1987-02-01",{"$f":"IF('CPILFESL pc1'!B361=\"\",\"\",'LNU00000060 lin'!B361/('UNRATE lin'!B361+'CPILFESL pc1'!B361))","v":9684.8419979813207},null,"1987-02-01"]
["1987-03-01",{"$f":"IF('CPILFESL pc1'!B362=\"\",\"\",'LNU00000060 lin'!B362/('UNRATE lin'!B362+'CPILFESL pc1'!B362))","v":9626.7829183440008},null,"1987-03-01"]
["1987-04-01",{"$f":"IF('CPILFESL pc1'!B363=\"\",\"\",'LNU00000060 lin'!B363/('UNRATE lin'!B363+'CPILFESL pc1'!B363))","v":9690.4557601314082},null,"1987-04-01"]
["1987-05-01",{"$f":"IF('CPILFESL pc1'!B364=\"\",\"\",'LNU00000060 lin'!B364/('UNRATE lin'!B364+'CPILFESL pc1'!B364))","v":9548.4798209738401},null,"1987-05-01"]
["1987-06-01",{"$f":"IF('CPILFESL pc1'!B365=\"\",\"\",'LNU00000060 lin'!B365/('UNRATE lin'!B365+'CPILFESL pc1'!B365))","v":9751.4321540088022},null,"1987-06-01"]
["1987-07-01",{"$f":"IF('CPILFESL pc1'!B366=\"\",\"\",'LNU00000060 lin'!B366/('UNRATE lin'!B366+'CPILFESL pc1'!B366))","v":9880.7377134781018},null,"1987-07-01"]
["1987-08-01",{"$f":"IF('CPILFESL pc1'!B367=\"\",\"\",'LNU00000060 lin'!B367/('UNRATE lin'!B367+'CPILFESL pc1'!B367))","v":10006.679771358669},null,"1987-08-01"]
["1987-09-01",{"$f":"IF('CPILFESL pc1'!B368=\"\",\"\",'LNU00000060 lin'!B368/('UNRATE lin'!B368+'CPILFESL pc1'!B368))","v":10051.180355781142},null,"1987-09-01"]
["1987-10-01",{"$f":"IF('CPILFESL pc1'!B369=\"\",\"\",'LNU00000060 lin'!B369/('UNRATE lin'!B369+'CPILFESL pc1'!B369))","v":9811.6653282759544},null,"1987-10-01"]
["1987-11-01",{"$f":"IF('CPILFESL pc1'!B370=\"\",\"\",'LNU00000060 lin'!B370/('UNRATE lin'!B370+'CPILFESL pc1'!B370))","v":10039.194824877924},null,"1987-11-01"]
["1987-12-01",{"$f":"IF('CPILFESL pc1'!B371=\"\",\"\",'LNU00000060 lin'!B371/('UNRATE lin'!B371+'CPILFESL pc1'!B371))","v":10170.468674668222},null,"1987-12-01"]
["1988-01-01",{"$f":"IF('CPILFESL pc1'!B372=\"\",\"\",'LNU00000060 lin'!B372/('UNRATE lin'!B372+'CPILFESL pc1'!B372))","v":10028.799507891903},null,"1988-01-01"]
["1988-02-01",{"$f":"IF('CPILFESL pc1'!B373=\"\",\"\",'LNU00000060 lin'!B373/('UNRATE lin'!B373+'CPILFESL pc1'!B373))","v":10058.152961182373},null,"1988-02-01"]
["1988-03-01",{"$f":"IF('CPILFESL pc1'!B374=\"\",\"\",'LNU00000060 lin'!B374/('UNRATE lin'!B374+'CPILFESL pc1'!B374))","v":10000.863615292144},null,"1988-03-01"]
["1988-04-01",{"$f":"IF('CPILFESL pc1'!B375=\"\",\"\",'LNU00000060 lin'!B375/('UNRATE lin'!B375+'CPILFESL pc1'!B375))","v":10447.531039878624},null,"1988-04-01"]
["1988-05-01",{"$f":"IF('CPILFESL pc1'!B376=\"\",\"\",'LNU00000060 lin'!B376/('UNRATE lin'!B376+'CPILFESL pc1'!B376))","v":10268.691695547057},null,"1988-05-01"]
["1988-06-01",{"$f":"IF('CPILFESL pc1'!B377=\"\",\"\",'LNU00000060 lin'!B377/('UNRATE lin'!B377+'CPILFESL pc1'!B377))","v":10238.960965464552},null,"1988-06-01"]
["1988-07-01",{"$f":"IF('CPILFESL pc1'!B378=\"\",\"\",'LNU00000060 lin'!B378/('UNRATE lin'!B378+'CPILFESL pc1'!B378))","v":10274.651978615686},null,"1988-07-01"]
["1988-08-01",{"$f":"IF('CPILFESL pc1'!B379=\"\",\"\",'LNU00000060 lin'!B379/('UNRATE lin'!B379+'CPILFESL pc1'!B379))","v":10104.281751488321},null,"1988-08-01"]
["1988-09-01",{"$f":"IF('CPILFESL pc1'!B380=\"\",\"\",'LNU00000060 lin'!B380/('UNRATE lin'!B380+'CPILFESL pc1'!B380))","v":10172.96629049669},null,"1988-09-01"]
["1988-10-01",{"$f":"IF('CPILFESL pc1'!B381=\"\",\"\",'LNU00000060 lin'!B381/('UNRATE lin'!B381+'CPILFESL pc1'!B381))","v":10299.055968654082},null,"1988-10-01"]
["1988-11-01",{"$f":"IF('CPILFESL pc1'!B382=\"\",\"\",'LNU00000060 lin'!B382/('UNRATE lin'!B382+'CPILFESL pc1'!B382))","v":10340.887006656194},null,"1988-11-01"]
["1988-12-01",{"$f":"IF('CPILFESL pc1'!B383=\"\",\"\",'LNU00000060 lin'!B383/('UNRATE lin'!B383+'CPILFESL pc1'!B383))","v":10281.313937269626},null,"1988-12-01"]
["1989-01-01",{"$f":"IF('CPILFESL pc1'!B384=\"\",\"\",'LNU00000060 lin'!B384/('UNRATE lin'!B384+'CPILFESL pc1'!B384))","v":10223.157458235853},null,"1989-01-01"]
["1989-02-01",{"$f":"IF('CPILFESL pc1'!B385=\"\",\"\",'LNU00000060 lin'!B385/('UNRATE lin'!B385+'CPILFESL pc1'!B385))","v":10381.027106009611},null,"1989-02-01"]
["1989-03-01",{"$f":"IF('CPILFESL pc1'!B386=\"\",\"\",'LNU00000060 lin'!B386/('UNRATE lin'!B386+'CPILFESL pc1'!B386))","v":10637.311344379443},null,"1989-03-01"]
["1989-04-01",{"$f":"IF('CPILFESL pc1'!B387=\"\",\"\",'LNU00000060 lin'!B387/('UNRATE lin'!B387+'CPILFESL pc1'!B387))","v":10638.497536387016},null,"1989-04-01"]
["1989-05-01",{"$f":"IF('CPILFESL pc1'!B388=\"\",\"\",'LNU00000060 lin'!B388/('UNRATE lin'!B388+'CPILFESL pc1'!B388))","v":10582.569812719812},null,"1989-05-01"]
["1989-06-01",{"$f":"IF('CPILFESL pc1'!B389=\"\",\"\",'LNU00000060 lin'!B389/('UNRATE lin'!B389+'CPILFESL pc1'!B389))","v":10507.899588134622},null,"1989-06-01"]
["1989-07-01",{"$f":"IF('CPILFESL pc1'!B390=\"\",\"\",'LNU00000060 lin'!B390/('UNRATE lin'!B390+'CPILFESL pc1'!B390))","v":10654.071530017243},null,"1989-07-01"]
["1989-08-01",{"$f":"IF('CPILFESL pc1'!B391=\"\",\"\",'LNU00000060 lin'!B391/('UNRATE lin'!B391+'CPILFESL pc1'!B391))","v":10776.422139841501},null,"1989-08-01"]
["1989-09-01",{"$f":"IF('CPILFESL pc1'!B392=\"\",\"\",'LNU00000060 lin'!B392/('UNRATE lin'!B392+'CPILFESL pc1'!B392))","v":10980.241837125832},null,"1989-09-01"]
["1989-10-01",{"$f":"IF('CPILFESL pc1'!B393=\"\",\"\",'LNU00000060 lin'!B393/('UNRATE lin'!B393+'CPILFESL pc1'!B393))","v":10835.110422236325},null,"1989-10-01"]
["1989-11-01",{"$f":"IF('CPILFESL pc1'!B394=\"\",\"\",'LNU00000060 lin'!B394/('UNRATE lin'!B394+'CPILFESL pc1'!B394))","v":10669.619939911932},null,"1989-11-01"]
["1989-12-01",{"$f":"IF('CPILFESL pc1'!B395=\"\",\"\",'LNU00000060 lin'!B395/('UNRATE lin'!B395+'CPILFESL pc1'!B395))","v":10613.097342256136},null,"1989-12-01"]
["1990-01-01",{"$f":"IF('CPILFESL pc1'!B396=\"\",\"\",'LNU00000060 lin'!B396/('UNRATE lin'!B396+'CPILFESL pc1'!B396))","v":10682.027255853334},null,{"$f":"IF(B396=\"\",\"\",A396)","v":"1990-01-01"}]
["1990-02-01",{"$f":"IF('CPILFESL pc1'!B397=\"\",\"\",'LNU00000060 lin'!B397/('UNRATE lin'!B397+'CPILFESL pc1'!B397))","v":10651.606347379524},null,"1990-02-01"]
["1990-03-01",{"$f":"IF('CPILFESL pc1'!B398=\"\",\"\",'LNU00000060 lin'!B398/('UNRATE lin'!B398+'CPILFESL pc1'!B398))","v":10537.971800357827},null,"1990-03-01"]
["1990-04-01",{"$f":"IF('CPILFESL pc1'!B399=\"\",\"\",'LNU00000060 lin'!B399/('UNRATE lin'!B399+'CPILFESL pc1'!B399))","v":10279.05647364781},null,"1990-04-01"]
["1990-05-01",{"$f":"IF('CPILFESL pc1'!B400=\"\",\"\",'LNU00000060 lin'!B400/('UNRATE lin'!B400+'CPILFESL pc1'!B400))","v":10396.88886087717},null,"1990-05-01"]
["1990-06-01",{"$f":"IF('CPILFESL pc1'!B401=\"\",\"\",'LNU00000060 lin'!B401/('UNRATE lin'!B401+'CPILFESL pc1'!B401))","v":10466.243199587763},null,"1990-06-01"]
["1990-07-01",{"$f":"IF('CPILFESL pc1'!B402=\"\",\"\",'LNU00000060 lin'!B402/('UNRATE lin'!B402+'CPILFESL pc1'!B402))","v":9969.1186950669089},null,"1990-07-01"]
["1990-08-01",{"$f":"IF('CPILFESL pc1'!B403=\"\",\"\",'LNU00000060 lin'!B403/('UNRATE lin'!B403+'CPILFESL pc1'!B403))","v":9477.1981188682803},null,"1990-08-01"]
["1990-09-01",{"$f":"IF('CPILFESL pc1'!B404=\"\",\"\",'LNU00000060 lin'!B404/('UNRATE lin'!B404+'CPILFESL pc1'!B404))","v":9275.9332781600187},null,"1990-09-01"]
["1990-10-01",{"$f":"IF('CPILFESL pc1'!B405=\"\",\"\",'LNU00000060 lin'!B405/('UNRATE lin'!B405+'CPILFESL pc1'!B405))","v":9443.4398945637076},null,"1990-10-01"]
["1990-11-01",{"$f":"IF('CPILFESL pc1'!B406=\"\",\"\",'LNU00000060 lin'!B406/('UNRATE lin'!B406+'CPILFESL pc1'!B406))","v":9293.5106898970262},null,"1990-11-01"]
["1990-12-01",{"$f":"IF('CPILFESL pc1'!B407=\"\",\"\",'LNU00000060 lin'!B407/('UNRATE lin'!B407+'CPILFESL pc1'!B407))","v":9178.5543692955162},null,"1990-12-01"]
["1991-01-01",{"$f":"IF('CPILFESL pc1'!B408=\"\",\"\",'LNU00000060 lin'!B408/('UNRATE lin'!B408+'CPILFESL pc1'!B408))","v":8895.317543505902},null,"1991-01-01"]
["1991-02-01",{"$f":"IF('CPILFESL pc1'!B409=\"\",\"\",'LNU00000060 lin'!B409/('UNRATE lin'!B409+'CPILFESL pc1'!B409))","v":8724.2334831066328},null,"1991-02-01"]
["1991-03-01",{"$f":"IF('CPILFESL pc1'!B410=\"\",\"\",'LNU00000060 lin'!B410/('UNRATE lin'!B410+'CPILFESL pc1'!B410))","v":8882.0894345058932},null,"1991-03-01"]
["1991-04-01",{"$f":"IF('CPILFESL pc1'!B411=\"\",\"\",'LNU00000060 lin'!B411/('UNRATE lin'!B411+'CPILFESL pc1'!B411))","v":9037.7872017216268},null,"1991-04-01"]
["1991-05-01",{"$f":"IF('CPILFESL pc1'!B412=\"\",\"\",'LNU00000060 lin'!B412/('UNRATE lin'!B412+'CPILFESL pc1'!B412))","v":8913.7962411282097},null,"1991-05-01"]
["1991-06-01",{"$f":"IF('CPILFESL pc1'!B413=\"\",\"\",'LNU00000060 lin'!B413/('UNRATE lin'!B413+'CPILFESL pc1'!B413))","v":9058.5524091239859},null,"1991-06-01"]
["1991-07-01",{"$f":"IF('CPILFESL pc1'!B414=\"\",\"\",'LNU00000060 lin'!B414/('UNRATE lin'!B414+'CPILFESL pc1'!B414))","v":9284.552214008605},null,"1991-07-01"]
["1991-08-01",{"$f":"IF('CPILFESL pc1'!B415=\"\",\"\",'LNU00000060 lin'!B415/('UNRATE lin'!B415+'CPILFESL pc1'!B415))","v":9354.9258556933146},null,"1991-08-01"]
["1991-09-01",{"$f":"IF('CPILFESL pc1'!B416=\"\",\"\",'LNU00000060 lin'!B416/('UNRATE lin'!B416+'CPILFESL pc1'!B416))","v":9382.6200349885457},null,"1991-09-01"]
["1991-10-01",{"$f":"IF('CPILFESL pc1'!B417=\"\",\"\",'LNU00000060 lin'!B417/('UNRATE lin'!B417+'CPILFESL pc1'!B417))","v":9446.661197186424},null,"1991-10-01"]
["1991-11-01",{"$f":"IF('CPILFESL pc1'!B418=\"\",\"\",'LNU00000060 lin'!B418/('UNRATE lin'!B418+'CPILFESL pc1'!B418))","v":9417.7633725609612},null,"1991-11-01"]
["1991-12-01",{"$f":"IF('CPILFESL pc1'!B419=\"\",\"\",'LNU00000060 lin'!B419/('UNRATE lin'!B419+'CPILFESL pc1'!B419))","v":9262.5938476132687},null,"1991-12-01"]
["1992-01-01",{"$f":"IF('CPILFESL pc1'!B420=\"\",\"\",'LNU00000060 lin'!B420/('UNRATE lin'!B420+'CPILFESL pc1'!B420))","v":9591.3681222236555},null,"1992-01-01"]
["1992-02-01",{"$f":"IF('CPILFESL pc1'!B421=\"\",\"\",'LNU00000060 lin'!B421/('UNRATE lin'!B421+'CPILFESL pc1'!B421))","v":9790.9890998191549},null,"1992-02-01"]
["1992-03-01",{"$f":"IF('CPILFESL pc1'!B422=\"\",\"\",'LNU00000060 lin'!B422/('UNRATE lin'!B422+'CPILFESL pc1'!B422))","v":9679.8838787486366},null,"1992-03-01"]
["1992-04-01",{"$f":"IF('CPILFESL pc1'!B423=\"\",\"\",'LNU00000060 lin'!B423/('UNRATE lin'!B423+'CPILFESL pc1'!B423))","v":9701.9277080545653},null,"1992-04-01"]
["1992-05-01",{"$f":"IF('CPILFESL pc1'!B424=\"\",\"\",'LNU00000060 lin'!B424/('UNRATE lin'!B424+'CPILFESL pc1'!B424))","v":9494.2496930588241},null,"1992-05-01"]
["1992-06-01",{"$f":"IF('CPILFESL pc1'!B425=\"\",\"\",'LNU00000060 lin'!B425/('UNRATE lin'!B425+'CPILFESL pc1'!B425))","v":9468.0377130197994},null,"1992-06-01"]
["1992-07-01",{"$f":"IF('CPILFESL pc1'!B426=\"\",\"\",'LNU00000060 lin'!B426/('UNRATE lin'!B426+'CPILFESL pc1'!B426))","v":9574.2231846736795},null,"1992-07-01"]
["1992-08-01",{"$f":"IF('CPILFESL pc1'!B427=\"\",\"\",'LNU00000060 lin'!B427/('UNRATE lin'!B427+'CPILFESL pc1'!B427))","v":9867.2396938449147},null,"1992-08-01"]
["1992-09-01",{"$f":"IF('CPILFESL pc1'!B428=\"\",\"\",'LNU00000060 lin'!B428/('UNRATE lin'!B428+'CPILFESL pc1'!B428))","v":10084.348037931337},null,"1992-09-01"]
["1992-10-01",{"$f":"IF('CPILFESL pc1'!B429=\"\",\"\",'LNU00000060 lin'!B429/('UNRATE lin'!B429+'CPILFESL pc1'!B429))","v":10123.273352714428},null,"1992-10-01"]
["1992-11-01",{"$f":"IF('CPILFESL pc1'!B430=\"\",\"\",'LNU00000060 lin'!B430/('UNRATE lin'!B430+'CPILFESL pc1'!B430))","v":10117.866170504289},null,"1992-11-01"]
["1992-12-01",{"$f":"IF('CPILFESL pc1'!B431=\"\",\"\",'LNU00000060 lin'!B431/('UNRATE lin'!B431+'CPILFESL pc1'!B431))","v":10217.108337227155},null,"1992-12-01"]
["1993-01-01",{"$f":"IF('CPILFESL pc1'!B432=\"\",\"\",'LNU00000060 lin'!B432/('UNRATE lin'!B432+'CPILFESL pc1'!B432))","v":10266.241077992538},null,"1993-01-01"]
["1993-02-01",{"$f":"IF('CPILFESL pc1'!B433=\"\",\"\",'LNU00000060 lin'!B433/('UNRATE lin'!B433+'CPILFESL pc1'!B433))","v":10350.457179145662},null,"1993-02-01"]
["1993-03-01",{"$f":"IF('CPILFESL pc1'!B434=\"\",\"\",'LNU00000060 lin'!B434/('UNRATE lin'!B434+'CPILFESL pc1'!B434))","v":10679.386704201203},null,"1993-03-01"]
["1993-04-01",{"$f":"IF('CPILFESL pc1'!B435=\"\",\"\",'LNU00000060 lin'!B435/('UNRATE lin'!B435+'CPILFESL pc1'!B435))","v":10462.035199353108},null,"1993-04-01"]
["1993-05-01",{"$f":"IF('CPILFESL pc1'!B436=\"\",\"\",'LNU00000060 lin'!B436/('UNRATE lin'!B436+'CPILFESL pc1'!B436))","v":10549.315200185798},null,"1993-05-01"]
["1993-06-01",{"$f":"IF('CPILFESL pc1'!B437=\"\",\"\",'LNU00000060 lin'!B437/('UNRATE lin'!B437+'CPILFESL pc1'!B437))","v":10668.666849375664},null,"1993-06-01"]
["1993-07-01",{"$f":"IF('CPILFESL pc1'!B438=\"\",\"\",'LNU00000060 lin'!B438/('UNRATE lin'!B438+'CPILFESL pc1'!B438))","v":11022.006528973809},null,"1993-07-01"]
["1993-08-01",{"$f":"IF('CPILFESL pc1'!B439=\"\",\"\",'LNU00000060 lin'!B439/('UNRATE lin'!B439+'CPILFESL pc1'!B439))","v":10993.320511616179},null,"1993-08-01"]
["1993-09-01",{"$f":"IF('CPILFESL pc1'!B440=\"\",\"\",'LNU00000060 lin'!B440/('UNRATE lin'!B440+'CPILFESL pc1'!B440))","v":11202.237188224582},null,"1993-09-01"]
["1993-10-01",{"$f":"IF('CPILFESL pc1'!B441=\"\",\"\",'LNU00000060 lin'!B441/('UNRATE lin'!B441+'CPILFESL pc1'!B441))","v":11272.721758295083},null,"1993-10-01"]
["1993-11-01",{"$f":"IF('CPILFESL pc1'!B442=\"\",\"\",'LNU00000060 lin'!B442/('UNRATE lin'!B442+'CPILFESL pc1'!B442))","v":11448.975552120844},null,"1993-11-01"]
["1993-12-01",{"$f":"IF('CPILFESL pc1'!B443=\"\",\"\",'LNU00000060 lin'!B443/('UNRATE lin'!B443+'CPILFESL pc1'!B443))","v":11600.328157557115},null,"1993-12-01"]
["1994-01-01",{"$f":"IF('CPILFESL pc1'!B444=\"\",\"\",'LNU00000060 lin'!B444/('UNRATE lin'!B444+'CPILFESL pc1'!B444))","v":11745.938153761577},null,"1994-01-01"]
["1994-02-01",{"$f":"IF('CPILFESL pc1'!B445=\"\",\"\",'LNU00000060 lin'!B445/('UNRATE lin'!B445+'CPILFESL pc1'!B445))","v":11944.393556605502},null,"1994-02-01"]
["1994-03-01",{"$f":"IF('CPILFESL pc1'!B446=\"\",\"\",'LNU00000060 lin'!B446/('UNRATE lin'!B446+'CPILFESL pc1'!B446))","v":11836.783325319904},null,"1994-03-01"]
["1994-04-01",{"$f":"IF('CPILFESL pc1'!B447=\"\",\"\",'LNU00000060 lin'!B447/('UNRATE lin'!B447+'CPILFESL pc1'!B447))","v":12336.216493962491},null,"1994-04-01"]
["1994-05-01",{"$f":"IF('CPILFESL pc1'!B448=\"\",\"\",'LNU00000060 lin'!B448/('UNRATE lin'!B448+'CPILFESL pc1'!B448))","v":12774.45994282416},null,"1994-05-01"]
["1994-06-01",{"$f":"IF('CPILFESL pc1'!B449=\"\",\"\",'LNU00000060 lin'!B449/('UNRATE lin'!B449+'CPILFESL pc1'!B449))","v":12602.76305044533},null,"1994-06-01"]
["1994-07-01",{"$f":"IF('CPILFESL pc1'!B450=\"\",\"\",'LNU00000060 lin'!B450/('UNRATE lin'!B450+'CPILFESL pc1'!B450))","v":12525.489402082316},null,"1994-07-01"]
["1994-08-01",{"$f":"IF('CPILFESL pc1'!B451=\"\",\"\",'LNU00000060 lin'!B451/('UNRATE lin'!B451+'CPILFESL pc1'!B451))","v":12788.42859314692},null,"1994-08-01"]
["1994-09-01",{"$f":"IF('CPILFESL pc1'!B452=\"\",\"\",'LNU00000060 lin'!B452/('UNRATE lin'!B452+'CPILFESL pc1'!B452))","v":12670.146489307965},null,"1994-09-01"]
["1994-10-01",{"$f":"IF('CPILFESL pc1'!B453=\"\",\"\",'LNU00000060 lin'!B453/('UNRATE lin'!B453+'CPILFESL pc1'!B453))","v":13041.281355556786},null,"1994-10-01"]
["1994-11-01",{"$f":"IF('CPILFESL pc1'!B454=\"\",\"\",'LNU00000060 lin'!B454/('UNRATE lin'!B454+'CPILFESL pc1'!B454))","v":13488.531120964688},null,"1994-11-01"]
["1994-12-01",{"$f":"IF('CPILFESL pc1'!B455=\"\",\"\",'LNU00000060 lin'!B455/('UNRATE lin'!B455+'CPILFESL pc1'!B455))","v":14001.865959826257},null,"1994-12-01"]
["1995-01-01",{"$f":"IF('CPILFESL pc1'!B456=\"\",\"\",'LNU00000060 lin'!B456/('UNRATE lin'!B456+'CPILFESL pc1'!B456))","v":13320.105913338079},null,"1995-01-01"]
["1995-02-01",{"$f":"IF('CPILFESL pc1'!B457=\"\",\"\",'LNU00000060 lin'!B457/('UNRATE lin'!B457+'CPILFESL pc1'!B457))","v":13569.481507672388},null,"1995-02-01"]
["1995-03-01",{"$f":"IF('CPILFESL pc1'!B458=\"\",\"\",'LNU00000060 lin'!B458/('UNRATE lin'!B458+'CPILFESL pc1'!B458))","v":13595.774221748121},null,"1995-03-01"]
["1995-04-01",{"$f":"IF('CPILFESL pc1'!B459=\"\",\"\",'LNU00000060 lin'!B459/('UNRATE lin'!B459+'CPILFESL pc1'!B459))","v":12708.786488409845},null,"1995-04-01"]
["1995-05-01",{"$f":"IF('CPILFESL pc1'!B460=\"\",\"\",'LNU00000060 lin'!B460/('UNRATE lin'!B460+'CPILFESL pc1'!B460))","v":13115.25654172764},null,{"$f":"IF(B460=\"\",\"\",A460)","v":"1995-05-01"}]
["1995-06-01",{"$f":"IF('CPILFESL pc1'!B461=\"\",\"\",'LNU00000060 lin'!B461/('UNRATE lin'!B461+'CPILFESL pc1'!B461))","v":13233.168160351048},null,"1995-06-01"]
["1995-07-01",{"$f":"IF('CPILFESL pc1'!B462=\"\",\"\",'LNU00000060 lin'!B462/('UNRATE lin'!B462+'CPILFESL pc1'!B462))","v":13104.642180574203},null,"1995-07-01"]
["1995-08-01",{"$f":"IF('CPILFESL pc1'!B463=\"\",\"\",'LNU00000060 lin'!B463/('UNRATE lin'!B463+'CPILFESL pc1'!B463))","v":13131.678043381467},null,"1995-08-01"]
["1995-09-01",{"$f":"IF('CPILFESL pc1'!B464=\"\",\"\",'LNU00000060 lin'!B464/('UNRATE lin'!B464+'CPILFESL pc1'!B464))","v":13313.172097813058},null,"1995-09-01"]
["1995-10-01",{"$f":"IF('CPILFESL pc1'!B465=\"\",\"\",'LNU00000060 lin'!B465/('UNRATE lin'!B465+'CPILFESL pc1'!B465))","v":13301.143494631153},null,"1995-10-01"]
["1995-11-01",{"$f":"IF('CPILFESL pc1'!B466=\"\",\"\",'LNU00000060 lin'!B466/('UNRATE lin'!B466+'CPILFESL pc1'!B466))","v":13272.674838113397},null,"1995-11-01"]
["1995-12-01",{"$f":"IF('CPILFESL pc1'!B467=\"\",\"\",'LNU00000060 lin'!B467/('UNRATE lin'!B467+'CPILFESL pc1'!B467))","v":13287.427799569519},null,"1995-12-01"]
["1996-01-01",{"$f":"IF('CPILFESL pc1'!B468=\"\",\"\",'LNU00000060 lin'!B468/('UNRATE lin'!B468+'CPILFESL pc1'!B468))","v":13408.649165436531},null,"1996-01-01"]
["1996-02-01",{"$f":"IF('CPILFESL pc1'!B469=\"\",\"\",'LNU00000060 lin'!B469/('UNRATE lin'!B469+'CPILFESL pc1'!B469))","v":13708.498393717015},null,"1996-02-01"]
["1996-03-01",{"$f":"IF('CPILFESL pc1'!B470=\"\",\"\",'LNU00000060 lin'!B470/('UNRATE lin'!B470+'CPILFESL pc1'!B470))","v":13839.956893337469},null,"1996-03-01"]
["1996-04-01",{"$f":"IF('CPILFESL pc1'!B471=\"\",\"\",'LNU00000060 lin'!B471/('UNRATE lin'!B471+'CPILFESL pc1'!B471))","v":14021.865436913286},null,"1996-04-01"]
["1996-05-01",{"$f":"IF('CPILFESL pc1'!B472=\"\",\"\",'LNU00000060 lin'!B472/('UNRATE lin'!B472+'CPILFESL pc1'!B472))","v":13944.65060133232},null,"1996-05-01"]
["1996-06-01",{"$f":"IF('CPILFESL pc1'!B473=\"\",\"\",'LNU00000060 lin'!B473/('UNRATE lin'!B473+'CPILFESL pc1'!B473))","v":14491.884328943488},null,"1996-06-01"]
["1996-07-01",{"$f":"IF('CPILFESL pc1'!B474=\"\",\"\",'LNU00000060 lin'!B474/('UNRATE lin'!B474+'CPILFESL pc1'!B474))","v":14157.068858025108},null,"1996-07-01"]
["1996-08-01",{"$f":"IF('CPILFESL pc1'!B475=\"\",\"\",'LNU00000060 lin'!B475/('UNRATE lin'!B475+'CPILFESL pc1'!B475))","v":15029.886431560071},null,"1996-08-01"]
["1996-09-01",{"$f":"IF('CPILFESL pc1'!B476=\"\",\"\",'LNU00000060 lin'!B476/('UNRATE lin'!B476+'CPILFESL pc1'!B476))","v":14751.912164614923},null,"1996-09-01"]
["1996-10-01",{"$f":"IF('CPILFESL pc1'!B477=\"\",\"\",'LNU00000060 lin'!B477/('UNRATE lin'!B477+'CPILFESL pc1'!B477))","v":15017.914554182784},null,"1996-10-01"]
["1996-11-01",{"$f":"IF('CPILFESL pc1'!B478=\"\",\"\",'LNU00000060 lin'!B478/('UNRATE lin'!B478+'CPILFESL pc1'!B478))","v":14549.769390561749},null,"1996-11-01"]
["1996-12-01",{"$f":"IF('CPILFESL pc1'!B479=\"\",\"\",'LNU00000060 lin'!B479/('UNRATE lin'!B479+'CPILFESL pc1'!B479))","v":14450.588694966167},null,"1996-12-01"]
["1997-01-01",{"$f":"IF('CPILFESL pc1'!B480=\"\",\"\",'LNU00000060 lin'!B480/('UNRATE lin'!B480+'CPILFESL pc1'!B480))","v":14907.656786143521},null,"1997-01-01"]
["1997-02-01",{"$f":"IF('CPILFESL pc1'!B481=\"\",\"\",'LNU00000060 lin'!B481/('UNRATE lin'!B481+'CPILFESL pc1'!B481))","v":15124.935064935065},null,"1997-02-01"]
["1997-03-01",{"$f":"IF('CPILFESL pc1'!B482=\"\",\"\",'LNU00000060 lin'!B482/('UNRATE lin'!B482+'CPILFESL pc1'!B482))","v":15270.22477135734},null,"1997-03-01"]
["1997-04-01",{"$f":"IF('CPILFESL pc1'!B483=\"\",\"\",'LNU00000060 lin'!B483/('UNRATE lin'!B483+'CPILFESL pc1'!B483))","v":15126.569066139033},null,"1997-04-01"]
["1997-05-01",{"$f":"IF('CPILFESL pc1'!B484=\"\",\"\",'LNU00000060 lin'!B484/('UNRATE lin'!B484+'CPILFESL pc1'!B484))","v":15697.237910401653},null,"1997-05-01"]
["1997-06-01",{"$f":"IF('CPILFESL pc1'!B485=\"\",\"\",'LNU00000060 lin'!B485/('UNRATE lin'!B485+'CPILFESL pc1'!B485))","v":15758.427042022651},null,"1997-06-01"]
["1997-07-01",{"$f":"IF('CPILFESL pc1'!B486=\"\",\"\",'LNU00000060 lin'!B486/('UNRATE lin'!B486+'CPILFESL pc1'!B486))","v":15980.448455017775},null,"1997-07-01"]
["1997-08-01",{"$f":"IF('CPILFESL pc1'!B487=\"\",\"\",'LNU00000060 lin'!B487/('UNRATE lin'!B487+'CPILFESL pc1'!B487))","v":16495.607378025041},null,"1997-08-01"]
["1997-09-01",{"$f":"IF('CPILFESL pc1'!B488=\"\",\"\",'LNU00000060 lin'!B488/('UNRATE lin'!B488+'CPILFESL pc1'!B488))","v":16429.989525737761},null,"1997-09-01"]
["1997-10-01",{"$f":"IF('CPILFESL pc1'!B489=\"\",\"\",'LNU00000060 lin'!B489/('UNRATE lin'!B489+'CPILFESL pc1'!B489))","v":16772.138293939108},null,"1997-10-01"]
["1997-11-01",{"$f":"IF('CPILFESL pc1'!B490=\"\",\"\",'LNU00000060 lin'!B490/('UNRATE lin'!B490+'CPILFESL pc1'!B490))","v":17343.712748644699},null,"1997-11-01"]
["1997-12-01",{"$f":"IF('CPILFESL pc1'!B491=\"\",\"\",'LNU00000060 lin'!B491/('UNRATE lin'!B491+'CPILFESL pc1'!B491))","v":16812.171001189381},null,"1997-12-01"]
["1998-01-01",{"$f":"IF('CPILFESL pc1'!B492=\"\",\"\",'LNU00000060 lin'!B492/('UNRATE lin'!B492+'CPILFESL pc1'!B492))","v":17073.391020598436},null,"1998-01-01"]
["1998-02-01",{"$f":"IF('CPILFESL pc1'!B493=\"\",\"\",'LNU00000060 lin'!B493/('UNRATE lin'!B493+'CPILFESL pc1'!B493))","v":17089.858553820679},null,"1998-02-01"]
["1998-03-01",{"$f":"IF('CPILFESL pc1'!B494=\"\",\"\",'LNU00000060 lin'!B494/('UNRATE lin'!B494+'CPILFESL pc1'!B494))","v":16850.067490544854},null,"1998-03-01"]
["1998-04-01",{"$f":"IF('CPILFESL pc1'!B495=\"\",\"\",'LNU00000060 lin'!B495/('UNRATE lin'!B495+'CPILFESL pc1'!B495))","v":18243.037329120692},null,"1998-04-01"]
["1998-05-01",{"$f":"IF('CPILFESL pc1'!B496=\"\",\"\",'LNU00000060 lin'!B496/('UNRATE lin'!B496+'CPILFESL pc1'!B496))","v":17836.235114077332},null,"1998-05-01"]
["1998-06-01",{"$f":"IF('CPILFESL pc1'!B497=\"\",\"\",'LNU00000060 lin'!B497/('UNRATE lin'!B497+'CPILFESL pc1'!B497))","v":17414.109897215127},null,"1998-06-01"]
["1998-07-01",{"$f":"IF('CPILFESL pc1'!B498=\"\",\"\",'LNU00000060 lin'!B498/('UNRATE lin'!B498+'CPILFESL pc1'!B498))","v":17416.626479207625},null,"1998-07-01"]
["1998-08-01",{"$f":"IF('CPILFESL pc1'!B499=\"\",\"\",'LNU00000060 lin'!B499/('UNRATE lin'!B499+'CPILFESL pc1'!B499))","v":16847.637484763749},null,"1998-08-01"]
["1998-09-01",{"$f":"IF('CPILFESL pc1'!B500=\"\",\"\",'LNU00000060 lin'!B500/('UNRATE lin'!B500+'CPILFESL pc1'!B500))","v":16907.619658771429},null,"1998-09-01"]
["1998-10-01",{"$f":"IF('CPILFESL pc1'!B501=\"\",\"\",'LNU00000060 lin'!B501/('UNRATE lin'!B501+'CPILFESL pc1'!B501))","v":17480.077830612878},null,"1998-10-01"]
["1998-11-01",{"$f":"IF('CPILFESL pc1'!B502=\"\",\"\",'LNU00000060 lin'!B502/('UNRATE lin'!B502+'CPILFESL pc1'!B502))","v":17462.532928305289},null,"1998-11-01"]
["1998-12-01",{"$f":"IF('CPILFESL pc1'!B503=\"\",\"\",'LNU00000060 lin'!B503/('UNRATE lin'!B503+'CPILFESL pc1'!B503))","v":17187.269726714399},null,"1998-12-01"]
["1999-01-01",{"$f":"IF('CPILFESL pc1'!B504=\"\",\"\",'LNU00000060 lin'!B504/('UNRATE lin'!B504+'CPILFESL pc1'!B504))","v":17781.933343387122},null,"1999-01-01"]
["1999-02-01",{"$f":"IF('CPILFESL pc1'!B505=\"\",\"\",'LNU00000060 lin'!B505/('UNRATE lin'!B505+'CPILFESL pc1'!B505))","v":17979.338899733077},null,"1999-02-01"]
["1999-03-01",{"$f":"IF('CPILFESL pc1'!B506=\"\",\"\",'LNU00000060 lin'!B506/('UNRATE lin'!B506+'CPILFESL pc1'!B506))","v":18909.526162772039},null,"1999-03-01"]
["1999-04-01",{"$f":"IF('CPILFESL pc1'!B507=\"\",\"\",'LNU00000060 lin'!B507/('UNRATE lin'!B507+'CPILFESL pc1'!B507))","v":18124.529056267202},null,"1999-04-01"]
["1999-05-01",{"$f":"IF('CPILFESL pc1'!B508=\"\",\"\",'LNU00000060 lin'!B508/('UNRATE lin'!B508+'CPILFESL pc1'!B508))","v":18782.642193014151},null,"1999-05-01"]
["1999-06-01",{"$f":"IF('CPILFESL pc1'!B509=\"\",\"\",'LNU00000060 lin'!B509/('UNRATE lin'!B509+'CPILFESL pc1'!B509))","v":18878.980688322783},null,"1999-06-01"]
["1999-07-01",{"$f":"IF('CPILFESL pc1'!B510=\"\",\"\",'LNU00000060 lin'!B510/('UNRATE lin'!B510+'CPILFESL pc1'!B510))","v":18551.733117069522},null,"1999-07-01"]
["1999-08-01",{"$f":"IF('CPILFESL pc1'!B511=\"\",\"\",'LNU00000060 lin'!B511/('UNRATE lin'!B511+'CPILFESL pc1'!B511))","v":19415.735128884367},null,"1999-08-01"]
["1999-09-01",{"$f":"IF('CPILFESL pc1'!B512=\"\",\"\",'LNU00000060 lin'!B512/('UNRATE lin'!B512+'CPILFESL pc1'!B512))","v":18882.358667153905},null,"1999-09-01"]
["1999-10-01",{"$f":"IF('CPILFESL pc1'!B513=\"\",\"\",'LNU00000060 lin'!B513/('UNRATE lin'!B513+'CPILFESL pc1'!B513))","v":19035.900963745426},null,"1999-10-01"]
["1999-11-01",{"$f":"IF('CPILFESL pc1'!B514=\"\",\"\",'LNU00000060 lin'!B514/('UNRATE lin'!B514+'CPILFESL pc1'!B514))","v":19251.075574316099},null,"1999-11-01"]
["1999-12-01",{"$f":"IF('CPILFESL pc1'!B515=\"\",\"\",'LNU00000060 lin'!B515/('UNRATE lin'!B515+'CPILFESL pc1'!B515))","v":20188.016138987081},null,"1999-12-01"]
["2000-01-01",{"$f":"IF('CPILFESL pc1'!B516=\"\",\"\",'LNU00000060 lin'!B516/('UNRATE lin'!B516+'CPILFESL pc1'!B516))","v":19690.653112954515},null,"2000-01-01"]
["2000-02-01",{"$f":"IF('CPILFESL pc1'!B517=\"\",\"\",'LNU00000060 lin'!B517/('UNRATE lin'!B517+'CPILFESL pc1'!B517))","v":19199.203066406342},null,"2000-02-01"]
["2000-03-01",{"$f":"IF('CPILFESL pc1'!B518=\"\",\"\",'LNU00000060 lin'!B518/('UNRATE lin'!B518+'CPILFESL pc1'!B518))","v":18649.057364653694},null,"2000-03-01"]
["2000-04-01",{"$f":"IF('CPILFESL pc1'!B519=\"\",\"\",'LNU00000060 lin'!B519/('UNRATE lin'!B519+'CPILFESL pc1'!B519))","v":19825.634468417462},null,"2000-04-01"]
["2000-05-01",{"$f":"IF('CPILFESL pc1'!B520=\"\",\"\",'LNU00000060 lin'!B520/('UNRATE lin'!B520+'CPILFESL pc1'!B520))","v":18893.661044579596},null,"2000-05-01"]
["2000-06-01",{"$f":"IF('CPILFESL pc1'!B521=\"\",\"\",'LNU00000060 lin'!B521/('UNRATE lin'!B521+'CPILFESL pc1'!B521))","v":18409.225229187567},null,"2000-06-01"]
["2000-07-01",{"$f":"IF('CPILFESL pc1'!B522=\"\",\"\",'LNU00000060 lin'!B522/('UNRATE lin'!B522+'CPILFESL pc1'!B522))","v":18616.170635379607},null,"2000-07-01"]
["2000-08-01",{"$f":"IF('CPILFESL pc1'!B523=\"\",\"\",'LNU00000060 lin'!B523/('UNRATE lin'!B523+'CPILFESL pc1'!B523))","v":18051.765113593759},null,"2000-08-01"]
["2000-09-01",{"$f":"IF('CPILFESL pc1'!B524=\"\",\"\",'LNU00000060 lin'!B524/('UNRATE lin'!B524+'CPILFESL pc1'!B524))","v":18790.905825440488},null,{"$f":"IF(B524=\"\",\"\",A524)","v":"2000-09-01"}]
["2000-10-01",{"$f":"IF('CPILFESL pc1'!B525=\"\",\"\",'LNU00000060 lin'!B525/('UNRATE lin'!B525+'CPILFESL pc1'!B525))","v":18836.504752850233},null,"2000-10-01"]
["2000-11-01",{"$f":"IF('CPILFESL pc1'!B526=\"\",\"\",'LNU00000060 lin'!B526/('UNRATE lin'!B526+'CPILFESL pc1'!B526))","v":18528.034916053643},null,"2000-11-01"]
["2000-12-01",{"$f":"IF('CPILFESL pc1'!B527=\"\",\"\",'LNU00000060 lin'!B527/('UNRATE lin'!B527+'CPILFESL pc1'!B527))","v":18719.21410532657},null,"2000-12-01"]
["2001-01-01",{"$f":"IF('CPILFESL pc1'!B528=\"\",\"\",'LNU00000060 lin'!B528/('UNRATE lin'!B528+'CPILFESL pc1'!B528))","v":17933.554355682409},null,"2001-01-01"]
["2001-02-01",{"$f":"IF('CPILFESL pc1'!B529=\"\",\"\",'LNU00000060 lin'!B529/('UNRATE lin'!B529+'CPILFESL pc1'!B529))","v":17366.363869261364},null,"2001-02-01"]
["2001-03-01",{"$f":"IF('CPILFESL pc1'!B530=\"\",\"\",'LNU00000060 lin'!B530/('UNRATE lin'!B530+'CPILFESL pc1'!B530))","v":17577.06070370751},null,"2001-03-01"]
["2001-04-01",{"$f":"IF('CPILFESL pc1'!B531=\"\",\"\",'LNU00000060 lin'!B531/('UNRATE lin'!B531+'CPILFESL pc1'!B531))","v":17211.98544935523},null,"2001-04-01"]
["2001-05-01",{"$f":"IF('CPILFESL pc1'!B532=\"\",\"\",'LNU00000060 lin'!B532/('UNRATE lin'!B532+'CPILFESL pc1'!B532))","v":17756.651659591626},null,"2001-05-01"]
["2001-06-01",{"$f":"IF('CPILFESL pc1'!B533=\"\",\"\",'LNU00000060 lin'!B533/('UNRATE lin'!B533+'CPILFESL pc1'!B533))","v":16872.638151238811},null,"2001-06-01"]
["2001-07-01",{"$f":"IF('CPILFESL pc1'!B534=\"\",\"\",'LNU00000060 lin'!B534/('UNRATE lin'!B534+'CPILFESL pc1'!B534))","v":16660.365055098006},null,"2001-07-01"]
["2001-08-01",{"$f":"IF('CPILFESL pc1'!B535=\"\",\"\",'LNU00000060 lin'!B535/('UNRATE lin'!B535+'CPILFESL pc1'!B535))","v":16148.437220197884},null,"2001-08-01"]
["2001-09-01",{"$f":"IF('CPILFESL pc1'!B536=\"\",\"\",'LNU00000060 lin'!B536/('UNRATE lin'!B536+'CPILFESL pc1'!B536))","v":15948.471247291372},null,"2001-09-01"]
["2001-10-01",{"$f":"IF('CPILFESL pc1'!B537=\"\",\"\",'LNU00000060 lin'!B537/('UNRATE lin'!B537+'CPILFESL pc1'!B537))","v":15358.255451713398},null,"2001-10-01"]
["2001-11-01",{"$f":"IF('CPILFESL pc1'!B538=\"\",\"\",'LNU00000060 lin'!B538/('UNRATE lin'!B538+'CPILFESL pc1'!B538))","v":14794.399052334235},null,"2001-11-01"]
["2001-12-01",{"$f":"IF('CPILFESL pc1'!B539=\"\",\"\",'LNU00000060 lin'!B539/('UNRATE lin'!B539+'CPILFESL pc1'!B539))","v":14356.803327391563},null,"2001-12-01"]
["2002-01-01",{"$f":"IF('CPILFESL pc1'!B540=\"\",\"\",'LNU00000060 lin'!B540/('UNRATE lin'!B540+'CPILFESL pc1'!B540))","v":14666.472525634439},null,"2002-01-01"]
["2002-02-01",{"$f":"IF('CPILFESL pc1'!B541=\"\",\"\",'LNU00000060 lin'!B541/('UNRATE lin'!B541+'CPILFESL pc1'!B541))","v":14767.463428058107},null,"2002-02-01"]
["2002-03-01",{"$f":"IF('CPILFESL pc1'!B542=\"\",\"\",'LNU00000060 lin'!B542/('UNRATE lin'!B542+'CPILFESL pc1'!B542))","v":14983.567630813703},null,"2002-03-01"]
["2002-04-01",{"$f":"IF('CPILFESL pc1'!B543=\"\",\"\",'LNU00000060 lin'!B543/('UNRATE lin'!B543+'CPILFESL pc1'!B543))","v":14539.172870101156},null,"2002-04-01"]
["2002-05-01",{"$f":"IF('CPILFESL pc1'!B544=\"\",\"\",'LNU00000060 lin'!B544/('UNRATE lin'!B544+'CPILFESL pc1'!B544))","v":14633.122331741524},null,"2002-05-01"]
["2002-06-01",{"$f":"IF('CPILFESL pc1'!B545=\"\",\"\",'LNU00000060 lin'!B545/('UNRATE lin'!B545+'CPILFESL pc1'!B545))","v":15154.267900710594},null,"2002-06-01"]
["2002-07-01",{"$f":"IF('CPILFESL pc1'!B546=\"\",\"\",'LNU00000060 lin'!B546/('UNRATE lin'!B546+'CPILFESL pc1'!B546))","v":15263.69542362902},null,"2002-07-01"]
["2002-08-01",{"$f":"IF('CPILFESL pc1'!B547=\"\",\"\",'LNU00000060 lin'!B547/('UNRATE lin'!B547+'CPILFESL pc1'!B547))","v":15167.586809520499},null,"2002-08-01"]
["2002-09-01",{"$f":"IF('CPILFESL pc1'!B548=\"\",\"\",'LNU00000060 lin'!B548/('UNRATE lin'!B548+'CPILFESL pc1'!B548))","v":15385.428689745102},null,"2002-09-01"]
["2002-10-01",{"$f":"IF('CPILFESL pc1'!B549=\"\",\"\",'LNU00000060 lin'!B549/('UNRATE lin'!B549+'CPILFESL pc1'!B549))","v":15493.868402336257},null,"2002-10-01"]
["2002-11-01",{"$f":"IF('CPILFESL pc1'!B550=\"\",\"\",'LNU00000060 lin'!B550/('UNRATE lin'!B550+'CPILFESL pc1'!B550))","v":15436.983914547613},null,"2002-11-01"]
["2002-12-01",{"$f":"IF('CPILFESL pc1'!B551=\"\",\"\",'LNU00000060 lin'!B551/('UNRATE lin'!B551+'CPILFESL pc1'!B551))","v":15354.76920256507},null,"2002-12-01"]
["2003-01-01",{"$f":"IF('CPILFESL pc1'!B552=\"\",\"\",'LNU00000060 lin'!B552/('UNRATE lin'!B552+'CPILFESL pc1'!B552))","v":15839.902690193512},null,"2003-01-01"]
["2003-02-01",{"$f":"IF('CPILFESL pc1'!B553=\"\",\"\",'LNU00000060 lin'!B553/('UNRATE lin'!B553+'CPILFESL pc1'!B553))","v":15978.976330184891},null,"2003-02-01"]
["2003-03-01",{"$f":"IF('CPILFESL pc1'!B554=\"\",\"\",'LNU00000060 lin'!B554/('UNRATE lin'!B554+'CPILFESL pc1'!B554))","v":16096.669496702725},null,"2003-03-01"]
["2003-04-01",{"$f":"IF('CPILFESL pc1'!B555=\"\",\"\",'LNU00000060 lin'!B555/('UNRATE lin'!B555+'CPILFESL pc1'!B555))","v":16469.346616711318},null,"2003-04-01"]
["2003-05-01",{"$f":"IF('CPILFESL pc1'!B556=\"\",\"\",'LNU00000060 lin'!B556/('UNRATE lin'!B556+'CPILFESL pc1'!B556))","v":16150.908957400163},null,"2003-05-01"]
["2003-06-01",{"$f":"IF('CPILFESL pc1'!B557=\"\",\"\",'LNU00000060 lin'!B557/('UNRATE lin'!B557+'CPILFESL pc1'!B557))","v":15855.499071683053},null,"2003-06-01"]
["2003-07-01",{"$f":"IF('CPILFESL pc1'!B558=\"\",\"\",'LNU00000060 lin'!B558/('UNRATE lin'!B558+'CPILFESL pc1'!B558))","v":15968.926396376213},null,"2003-07-01"]
["2003-08-01",{"$f":"IF('CPILFESL pc1'!B559=\"\",\"\",'LNU00000060 lin'!B559/('UNRATE lin'!B559+'CPILFESL pc1'!B559))","v":16654.338019119303},null,"2003-08-01"]
["2003-09-01",{"$f":"IF('CPILFESL pc1'!B560=\"\",\"\",'LNU00000060 lin'!B560/('UNRATE lin'!B560+'CPILFESL pc1'!B560))","v":16788.065107817318},null,"2003-09-01"]
["2003-10-01",{"$f":"IF('CPILFESL pc1'!B561=\"\",\"\",'LNU00000060 lin'!B561/('UNRATE lin'!B561+'CPILFESL pc1'!B561))","v":16908.26612351276},null,"2003-10-01"]
["2003-11-01",{"$f":"IF('CPILFESL pc1'!B562=\"\",\"\",'LNU00000060 lin'!B562/('UNRATE lin'!B562+'CPILFESL pc1'!B562))","v":17927.076201858923},null,"2003-11-01"]
["2003-12-01",{"$f":"IF('CPILFESL pc1'!B563=\"\",\"\",'LNU00000060 lin'!B563/('UNRATE lin'!B563+'CPILFESL pc1'!B563))","v":18205.906512119505},null,"2003-12-01"]
["2004-01-01",{"$f":"IF('CPILFESL pc1'!B564=\"\",\"\",'LNU00000060 lin'!B564/('UNRATE lin'!B564+'CPILFESL pc1'!B564))","v":17987.272501442985},null,"2004-01-01"]
["2004-02-01",{"$f":"IF('CPILFESL pc1'!B565=\"\",\"\",'LNU00000060 lin'!B565/('UNRATE lin'!B565+'CPILFESL pc1'!B565))","v":17986.635995180193},null,"2004-02-01"]
["2004-03-01",{"$f":"IF('CPILFESL pc1'!B566=\"\",\"\",'LNU00000060 lin'!B566/('UNRATE lin'!B566+'CPILFESL pc1'!B566))","v":16743.766341778963},null,"2004-03-01"]
["2004-04-01",{"$f":"IF('CPILFESL pc1'!B567=\"\",\"\",'LNU00000060 lin'!B567/('UNRATE lin'!B567+'CPILFESL pc1'!B567))","v":16733.390078778426},null,"2004-04-01"]
["2004-05-01",{"$f":"IF('CPILFESL pc1'!B568=\"\",\"\",'LNU00000060 lin'!B568/('UNRATE lin'!B568+'CPILFESL pc1'!B568))","v":16865.757591923106},null,"2004-05-01"]
["2004-06-01",{"$f":"IF('CPILFESL pc1'!B569=\"\",\"\",'LNU00000060 lin'!B569/('UNRATE lin'!B569+'CPILFESL pc1'!B569))","v":16526.238801491705},null,"2004-06-01"]
["2004-07-01",{"$f":"IF('CPILFESL pc1'!B570=\"\",\"\",'LNU00000060 lin'!B570/('UNRATE lin'!B570+'CPILFESL pc1'!B570))","v":17005.487730107838},null,"2004-07-01"]
["2004-08-01",{"$f":"IF('CPILFESL pc1'!B571=\"\",\"\",'LNU00000060 lin'!B571/('UNRATE lin'!B571+'CPILFESL pc1'!B571))","v":17382.663222864219},null,"2004-08-01"]
["2004-09-01",{"$f":"IF('CPILFESL pc1'!B572=\"\",\"\",'LNU00000060 lin'!B572/('UNRATE lin'!B572+'CPILFESL pc1'!B572))","v":16784.482056018907},null,"2004-09-01"]
["2004-10-01",{"$f":"IF('CPILFESL pc1'!B573=\"\",\"\",'LNU00000060 lin'!B573/('UNRATE lin'!B573+'CPILFESL pc1'!B573))","v":16458.30864504927},null,"2004-10-01"]
["2004-11-01",{"$f":"IF('CPILFESL pc1'!B574=\"\",\"\",'LNU00000060 lin'!B574/('UNRATE lin'!B574+'CPILFESL pc1'!B574))","v":16239.238809477854},null,"2004-11-01"]
["2004-12-01",{"$f":"IF('CPILFESL pc1'!B575=\"\",\"\",'LNU00000060 lin'!B575/('UNRATE lin'!B575+'CPILFESL pc1'!B575))","v":16143.449204313754},null,"2004-12-01"]
["2005-01-01",{"$f":"IF('CPILFESL pc1'!B576=\"\",\"\",'LNU00000060 lin'!B576/('UNRATE lin'!B576+'CPILFESL pc1'!B576))","v":16368.626050614665},null,"2005-01-01"]
["2005-02-01",{"$f":"IF('CPILFESL pc1'!B577=\"\",\"\",'LNU00000060 lin'!B577/('UNRATE lin'!B577+'CPILFESL pc1'!B577))","v":16061.087992029969},null,"2005-02-01"]
["2005-03-01",{"$f":"IF('CPILFESL pc1'!B578=\"\",\"\",'LNU00000060 lin'!B578/('UNRATE lin'!B578+'CPILFESL pc1'!B578))","v":16401.162990835357},null,"2005-03-01"]
["2005-04-01",{"$f":"IF('CPILFESL pc1'!B579=\"\",\"\",'LNU00000060 lin'!B579/('UNRATE lin'!B579+'CPILFESL pc1'!B579))","v":16760.108181203515},null,"2005-04-01"]
["2005-05-01",{"$f":"IF('CPILFESL pc1'!B580=\"\",\"\",'LNU00000060 lin'!B580/('UNRATE lin'!B580+'CPILFESL pc1'!B580))","v":17008.107915366094},null,"2005-05-01"]
["2005-06-01",{"$f":"IF('CPILFESL pc1'!B581=\"\",\"\",'LNU00000060 lin'!B581/('UNRATE lin'!B581+'CPILFESL pc1'!B581))","v":17644.382970436091},null,"2005-06-01"]
["2005-07-01",{"$f":"IF('CPILFESL pc1'!B582=\"\",\"\",'LNU00000060 lin'!B582/('UNRATE lin'!B582+'CPILFESL pc1'!B582))","v":17533.278839190043},null,"2005-07-01"]
["2005-08-01",{"$f":"IF('CPILFESL pc1'!B583=\"\",\"\",'LNU00000060 lin'!B583/('UNRATE lin'!B583+'CPILFESL pc1'!B583))","v":17669.407057525455},null,"2005-08-01"]
["2005-09-01",{"$f":"IF('CPILFESL pc1'!B584=\"\",\"\",'LNU00000060 lin'!B584/('UNRATE lin'!B584+'CPILFESL pc1'!B584))","v":17963.763982062519},null,"2005-09-01"]
["2005-10-01",{"$f":"IF('CPILFESL pc1'!B585=\"\",\"\",'LNU00000060 lin'!B585/('UNRATE lin'!B585+'CPILFESL pc1'!B585))","v":17601.300950966877},null,"2005-10-01"]
["2005-11-01",{"$f":"IF('CPILFESL pc1'!B586=\"\",\"\",'LNU00000060 lin'!B586/('UNRATE lin'!B586+'CPILFESL pc1'!B586))","v":17502.388311323404},null,"2005-11-01"]
["2005-12-01",{"$f":"IF('CPILFESL pc1'!B587=\"\",\"\",'LNU00000060 lin'!B587/('UNRATE lin'!B587+'CPILFESL pc1'!B587))","v":17772.56657353025},null,"2005-12-01"]
["2006-01-01",{"$f":"IF('CPILFESL pc1'!B588=\"\",\"\",'LNU00000060 lin'!B588/('UNRATE lin'!B588+'CPILFESL pc1'!B588))","v":18292.061580929589},null,{"$f":"IF(B588=\"\",\"\",A588)","v":"2006-01-01"}]
["2006-02-01",{"$f":"IF('CPILFESL pc1'!B589=\"\",\"\",'LNU00000060 lin'!B589/('UNRATE lin'!B589+'CPILFESL pc1'!B589))","v":18046.803507511959},null,"2006-02-01"]
["2006-03-01",{"$f":"IF('CPILFESL pc1'!B590=\"\",\"\",'LNU00000060 lin'!B590/('UNRATE lin'!B590+'CPILFESL pc1'!B590))","v":18335.331190845645},null,"2006-03-01"]
["2006-04-01",{"$f":"IF('CPILFESL pc1'!B591=\"\",\"\",'LNU00000060 lin'!B591/('UNRATE lin'!B591+'CPILFESL pc1'!B591))","v":17821.712848507366},null,"2006-04-01"]
["2006-05-01",{"$f":"IF('CPILFESL pc1'!B592=\"\",\"\",'LNU00000060 lin'!B592/('UNRATE lin'!B592+'CPILFESL pc1'!B592))","v":17711.236262917224},null,"2006-05-01"]
["2006-06-01",{"$f":"IF('CPILFESL pc1'!B593=\"\",\"\",'LNU00000060 lin'!B593/('UNRATE lin'!B593+'CPILFESL pc1'!B593))","v":17233.332458813573},null,"2006-06-01"]
["2006-07-01",{"$f":"IF('CPILFESL pc1'!B594=\"\",\"\",'LNU00000060 lin'!B594/('UNRATE lin'!B594+'CPILFESL pc1'!B594))","v":16903.450236197026},null,"2006-07-01"]
["2006-08-01",{"$f":"IF('CPILFESL pc1'!B595=\"\",\"\",'LNU00000060 lin'!B595/('UNRATE lin'!B595+'CPILFESL pc1'!B595))","v":16587.098392574866},null,"2006-08-01"]
["2006-09-01",{"$f":"IF('CPILFESL pc1'!B596=\"\",\"\",'LNU00000060 lin'!B596/('UNRATE lin'!B596+'CPILFESL pc1'!B596))","v":16827.592703490132},null,"2006-09-01"]
["2006-10-01",{"$f":"IF('CPILFESL pc1'!B597=\"\",\"\",'LNU00000060 lin'!B597/('UNRATE lin'!B597+'CPILFESL pc1'!B597))","v":17443.964820112989},null,"2006-10-01"]
["2006-11-01",{"$f":"IF('CPILFESL pc1'!B598=\"\",\"\",'LNU00000060 lin'!B598/('UNRATE lin'!B598+'CPILFESL pc1'!B598))","v":17591.130319447879},null,"2006-11-01"]
["2006-12-01",{"$f":"IF('CPILFESL pc1'!B599=\"\",\"\",'LNU00000060 lin'!B599/('UNRATE lin'!B599+'CPILFESL pc1'!B599))","v":17857.789577395302},null,"2006-12-01"]
["2007-01-01",{"$f":"IF('CPILFESL pc1'!B600=\"\",\"\",'LNU00000060 lin'!B600/('UNRATE lin'!B600+'CPILFESL pc1'!B600))","v":17276.933591274108},null,"2007-01-01"]
["2007-02-01",{"$f":"IF('CPILFESL pc1'!B601=\"\",\"\",'LNU00000060 lin'!B601/('UNRATE lin'!B601+'CPILFESL pc1'!B601))","v":17379.619509127155},null,"2007-02-01"]
["2007-03-01",{"$f":"IF('CPILFESL pc1'!B602=\"\",\"\",'LNU00000060 lin'!B602/('UNRATE lin'!B602+'CPILFESL pc1'!B602))","v":18173.129002453243},null,"2007-03-01"]
["2007-04-01",{"$f":"IF('CPILFESL pc1'!B603=\"\",\"\",'LNU00000060 lin'!B603/('UNRATE lin'!B603+'CPILFESL pc1'!B603))","v":18154.790739104596},null,"2007-04-01"]
["2007-05-01",{"$f":"IF('CPILFESL pc1'!B604=\"\",\"\",'LNU00000060 lin'!B604/('UNRATE lin'!B604+'CPILFESL pc1'!B604))","v":18834.03296754387},null,"2007-05-01"]
["2007-06-01",{"$f":"IF('CPILFESL pc1'!B605=\"\",\"\",'LNU00000060 lin'!B605/('UNRATE lin'!B605+'CPILFESL pc1'!B605))","v":18523.54297780478},null,"2007-06-01"]
["2007-07-01",{"$f":"IF('CPILFESL pc1'!B606=\"\",\"\",'LNU00000060 lin'!B606/('UNRATE lin'!B606+'CPILFESL pc1'!B606))","v":18303.922425089542},null,"2007-07-01"]
["2007-08-01",{"$f":"IF('CPILFESL pc1'!B607=\"\",\"\",'LNU00000060 lin'!B607/('UNRATE lin'!B607+'CPILFESL pc1'!B607))","v":18807.085007228838},null,"2007-08-01"]
["2007-09-01",{"$f":"IF('CPILFESL pc1'!B608=\"\",\"\",'LNU00000060 lin'!B608/('UNRATE lin'!B608+'CPILFESL pc1'!B608))","v":18506.178920361399},null,"2007-09-01"]
["2007-10-01",{"$f":"IF('CPILFESL pc1'!B609=\"\",\"\",'LNU00000060 lin'!B609/('UNRATE lin'!B609+'CPILFESL pc1'!B609))","v":18364.337750034636},null,"2007-10-01"]
["2007-11-01",{"$f":"IF('CPILFESL pc1'!B610=\"\",\"\",'LNU00000060 lin'!B610/('UNRATE lin'!B610+'CPILFESL pc1'!B610))","v":17897.678436208495},null,"2007-11-01"]
["2007-12-01",{"$f":"IF('CPILFESL pc1'!B611=\"\",\"\",'LNU00000060 lin'!B611/('UNRATE lin'!B611+'CPILFESL pc1'!B611))","v":16947.240016300468},null,"2007-12-01"]
["2008-01-01",{"$f":"IF('CPILFESL pc1'!B612=\"\",\"\",'LNU00000060 lin'!B612/('UNRATE lin'!B612+'CPILFESL pc1'!B612))","v":16766.614386321002},null,"2008-01-01"]
["2008-02-01",{"$f":"IF('CPILFESL pc1'!B613=\"\",\"\",'LNU00000060 lin'!B613/('UNRATE lin'!B613+'CPILFESL pc1'!B613))","v":17429.290767922546},null,"2008-02-01"]
["2008-03-01",{"$f":"IF('CPILFESL pc1'!B614=\"\",\"\",'LNU00000060 lin'!B614/('UNRATE lin'!B614+'CPILFESL pc1'!B614))","v":16755.513773081999},null,"2008-03-01"]
["2008-04-01",{"$f":"IF('CPILFESL pc1'!B615=\"\",\"\",'LNU00000060 lin'!B615/('UNRATE lin'!B615+'CPILFESL pc1'!B615))","v":17205.164866950799},null,"2008-04-01"]
["2008-05-01",{"$f":"IF('CPILFESL pc1'!B616=\"\",\"\",'LNU00000060 lin'!B616/('UNRATE lin'!B616+'CPILFESL pc1'!B616))","v":16259.961513657989},null,"2008-05-01"]
["2008-06-01",{"$f":"IF('CPILFESL pc1'!B617=\"\",\"\",'LNU00000060 lin'!B617/('UNRATE lin'!B617+'CPILFESL pc1'!B617))","v":15719.625162511747},null,"2008-06-01"]
["2008-07-01",{"$f":"IF('CPILFESL pc1'!B618=\"\",\"\",'LNU00000060 lin'!B618/('UNRATE lin'!B618+'CPILFESL pc1'!B618))","v":15211.700880155771},null,"2008-07-01"]
["2008-08-01",{"$f":"IF('CPILFESL pc1'!B619=\"\",\"\",'LNU00000060 lin'!B619/('UNRATE lin'!B619+'CPILFESL pc1'!B619))","v":14624.359743757937},null,"2008-08-01"]
["2008-09-01",{"$f":"IF('CPILFESL pc1'!B620=\"\",\"\",'LNU00000060 lin'!B620/('UNRATE lin'!B620+'CPILFESL pc1'!B620))","v":14733.177023921899},null,"2008-09-01"]
["2008-10-01",{"$f":"IF('CPILFESL pc1'!B621=\"\",\"\",'LNU00000060 lin'!B621/('UNRATE lin'!B621+'CPILFESL pc1'!B621))","v":14425.731766605208},null,"2008-10-01"]
["2008-11-01",{"$f":"IF('CPILFESL pc1'!B622=\"\",\"\",'LNU00000060 lin'!B622/('UNRATE lin'!B622+'CPILFESL pc1'!B622))","v":14276.153627143714},null,"2008-11-01"]
["2008-12-01",{"$f":"IF('CPILFESL pc1'!B623=\"\",\"\",'LNU00000060 lin'!B623/('UNRATE lin'!B623+'CPILFESL pc1'!B623))","v":13892.916492872797},null,"2008-12-01"]
["2009-01-01",{"$f":"IF('CPILFESL pc1'!B624=\"\",\"\",'LNU00000060 lin'!B624/('UNRATE lin'!B624+'CPILFESL pc1'!B624))","v":13244.97088895575},null,"2009-01-01"]
["2009-02-01",{"$f":"IF('CPILFESL pc1'!B625=\"\",\"\",'LNU00000060 lin'!B625/('UNRATE lin'!B625+'CPILFESL pc1'!B625))","v":12424.339024530293},null,"2009-02-01"]
["2009-03-01",{"$f":"IF('CPILFESL pc1'!B626=\"\",\"\",'LNU00000060 lin'!B626/('UNRATE lin'!B626+'CPILFESL pc1'!B626))","v":11965.833969798648},null,"2009-03-01"]
["2009-04-01",{"$f":"IF('CPILFESL pc1'!B627=\"\",\"\",'LNU00000060 lin'!B627/('UNRATE lin'!B627+'CPILFESL pc1'!B627))","v":11478.888763877416},null,"2009-04-01"]
["2009-05-01",{"$f":"IF('CPILFESL pc1'!B628=\"\",\"\",'LNU00000060 lin'!B628/('UNRATE lin'!B628+'CPILFESL pc1'!B628))","v":11160.550340428217},null,"2009-05-01"]
["2009-06-01",{"$f":"IF('CPILFESL pc1'!B629=\"\",\"\",'LNU00000060 lin'!B629/('UNRATE lin'!B629+'CPILFESL pc1'!B629))","v":11196.337485740685},null,"2009-06-01"]
["2009-07-01",{"$f":"IF('CPILFESL pc1'!B630=\"\",\"\",'LNU00000060 lin'!B630/('UNRATE lin'!B630+'CPILFESL pc1'!B630))","v":11390.483445330141},null,"2009-07-01"]
["2009-08-01",{"$f":"IF('CPILFESL pc1'!B631=\"\",\"\",'LNU00000060 lin'!B631/('UNRATE lin'!B631+'CPILFESL pc1'!B631))","v":11384.569651721004},null,"2009-08-01"]
["2009-09-01",{"$f":"IF('CPILFESL pc1'!B632=\"\",\"\",'LNU00000060 lin'!B632/('UNRATE lin'!B632+'CPILFESL pc1'!B632))","v":11138.189903402885},null,"2009-09-01"]
["2009-10-01",{"$f":"IF('CPILFESL pc1'!B633=\"\",\"\",'LNU00000060 lin'!B633/('UNRATE lin'!B633+'CPILFESL pc1'!B633))","v":10727.131932521283},null,"2009-10-01"]
["2009-11-01",{"$f":"IF('CPILFESL pc1'!B634=\"\",\"\",'LNU00000060 lin'!B634/('UNRATE lin'!B634+'CPILFESL pc1'!B634))","v":10818.357464629627},null,"2009-11-01"]
["2009-12-01",{"$f":"IF('CPILFESL pc1'!B635=\"\",\"\",'LNU00000060 lin'!B635/('UNRATE lin'!B635+'CPILFESL pc1'!B635))","v":10716.780666804849},null,"2009-12-01"]
["2010-01-01",{"$f":"IF('CPILFESL pc1'!B636=\"\",\"\",'LNU00000060 lin'!B636/('UNRATE lin'!B636+'CPILFESL pc1'!B636))","v":11063.670292795301},null,"2010-01-01"]
["2010-02-01",{"$f":"IF('CPILFESL pc1'!B637=\"\",\"\",'LNU00000060 lin'!B637/('UNRATE lin'!B637+'CPILFESL pc1'!B637))","v":11227.280269430328},null,"2010-02-01"]
["2010-03-01",{"$f":"IF('CPILFESL pc1'!B638=\"\",\"\",'LNU00000060 lin'!B638/('UNRATE lin'!B638+'CPILFESL pc1'!B638))","v":11320.067165737879},null,"2010-03-01"]
["2010-04-01",{"$f":"IF('CPILFESL pc1'!B639=\"\",\"\",'LNU00000060 lin'!B639/('UNRATE lin'!B639+'CPILFESL pc1'!B639))","v":11519.842171757835},null,"2010-04-01"]
["2010-05-01",{"$f":"IF('CPILFESL pc1'!B640=\"\",\"\",'LNU00000060 lin'!B640/('UNRATE lin'!B640+'CPILFESL pc1'!B640))","v":11883.048991759124},null,"2010-05-01"]
["2010-06-01",{"$f":"IF('CPILFESL pc1'!B641=\"\",\"\",'LNU00000060 lin'!B641/('UNRATE lin'!B641+'CPILFESL pc1'!B641))","v":12102.954532279568},null,"2010-06-01"]
["2010-07-01",{"$f":"IF('CPILFESL pc1'!B642=\"\",\"\",'LNU00000060 lin'!B642/('UNRATE lin'!B642+'CPILFESL pc1'!B642))","v":12099.732084670897},null,"2010-07-01"]
["2010-08-01",{"$f":"IF('CPILFESL pc1'!B643=\"\",\"\",'LNU00000060 lin'!B643/('UNRATE lin'!B643+'CPILFESL pc1'!B643))","v":12031.851474978641},null,"2010-08-01"]
["2010-09-01",{"$f":"IF('CPILFESL pc1'!B644=\"\",\"\",'LNU00000060 lin'!B644/('UNRATE lin'!B644+'CPILFESL pc1'!B644))","v":12153.312023299488},null,"2010-09-01"]
["2010-10-01",{"$f":"IF('CPILFESL pc1'!B645=\"\",\"\",'LNU00000060 lin'!B645/('UNRATE lin'!B645+'CPILFESL pc1'!B645))","v":12537.289857158852},null,"2010-10-01"]
["2010-11-01",{"$f":"IF('CPILFESL pc1'!B646=\"\",\"\",'LNU00000060 lin'!B646/('UNRATE lin'!B646+'CPILFESL pc1'!B646))","v":11976.153688959001},null,"2010-11-01"]
["2010-12-01",{"$f":"IF('CPILFESL pc1'!B647=\"\",\"\",'LNU00000060 lin'!B647/('UNRATE lin'!B647+'CPILFESL pc1'!B647))","v":12588.976589783666},null,"2010-12-01"]
["2011-01-01",{"$f":"IF('CPILFESL pc1'!B648=\"\",\"\",'LNU00000060 lin'!B648/('UNRATE lin'!B648+'CPILFESL pc1'!B648))","v":12359.560590388486},null,"2011-01-01"]
["2011-02-01",{"$f":"IF('CPILFESL pc1'!B649=\"\",\"\",'LNU00000060 lin'!B649/('UNRATE lin'!B649+'CPILFESL pc1'!B649))","v":12311.483586762739},null,"2011-02-01"]
["2011-03-01",{"$f":"IF('CPILFESL pc1'!B650=\"\",\"\",'LNU00000060 lin'!B650/('UNRATE lin'!B650+'CPILFESL pc1'!B650))","v":12208.28244263594},null,"2011-03-01"]
["2011-04-01",{"$f":"IF('CPILFESL pc1'!B651=\"\",\"\",'LNU00000060 lin'!B651/('UNRATE lin'!B651+'CPILFESL pc1'!B651))","v":11968.462508904962},null,"2011-04-01"]
["2011-05-01",{"$f":"IF('CPILFESL pc1'!B652=\"\",\"\",'LNU00000060 lin'!B652/('UNRATE lin'!B652+'CPILFESL pc1'!B652))","v":11930.917056465883},null,{"$f":"IF(B652=\"\",\"\",A652)","v":"2011-05-01"}]
["2011-06-01",{"$f":"IF('CPILFESL pc1'!B653=\"\",\"\",'LNU00000060 lin'!B653/('UNRATE lin'!B653+'CPILFESL pc1'!B653))","v":11675.564973866683},null,"2011-06-01"]
["2011-07-01",{"$f":"IF('CPILFESL pc1'!B654=\"\",\"\",'LNU00000060 lin'!B654/('UNRATE lin'!B654+'CPILFESL pc1'!B654))","v":11615.81085660449},null,"2011-07-01"]
["2011-08-01",{"$f":"IF('CPILFESL pc1'!B655=\"\",\"\",'LNU00000060 lin'!B655/('UNRATE lin'!B655+'CPILFESL pc1'!B655))","v":11377.49015974231},null,"2011-08-01"]
["2011-09-01",{"$f":"IF('CPILFESL pc1'!B656=\"\",\"\",'LNU00000060 lin'!B656/('UNRATE lin'!B656+'CPILFESL pc1'!B656))","v":11351.581583804465},null,"2011-09-01"]
["2011-10-01",{"$f":"IF('CPILFESL pc1'!B657=\"\",\"\",'LNU00000060 lin'!B657/('UNRATE lin'!B657+'CPILFESL pc1'!B657))","v":11436.002464264497},null,"2011-10-01"]
["2011-11-01",{"$f":"IF('CPILFESL pc1'!B658=\"\",\"\",'LNU00000060 lin'!B658/('UNRATE lin'!B658+'CPILFESL pc1'!B658))","v":11614.795775828352},null,"2011-11-01"]
["2011-12-01",{"$f":"IF('CPILFESL pc1'!B659=\"\",\"\",'LNU00000060 lin'!B659/('UNRATE lin'!B659+'CPILFESL pc1'!B659))","v":11570.375236854461},null,"2011-12-01"]
["2012-01-01",{"$f":"IF('CPILFESL pc1'!B660=\"\",\"\",'LNU00000060 lin'!B660/('UNRATE lin'!B660+'CPILFESL pc1'!B660))","v":11756.819997447375},null,"2012-01-01"]
["2012-02-01",{"$f":"IF('CPILFESL pc1'!B661=\"\",\"\",'LNU00000060 lin'!B661/('UNRATE lin'!B661+'CPILFESL pc1'!B661))","v":11887.489459665654},null,"2012-02-01"]
["2012-03-01",{"$f":"IF('CPILFESL pc1'!B662=\"\",\"\",'LNU00000060 lin'!B662/('UNRATE lin'!B662+'CPILFESL pc1'!B662))","v":11898.827947788837},null,"2012-03-01"]
["2012-04-01",{"$f":"IF('CPILFESL pc1'!B663=\"\",\"\",'LNU00000060 lin'!B663/('UNRATE lin'!B663+'CPILFESL pc1'!B663))","v":11827.269761651371},null,"2012-04-01"]
["2012-05-01",{"$f":"IF('CPILFESL pc1'!B664=\"\",\"\",'LNU00000060 lin'!B664/('UNRATE lin'!B664+'CPILFESL pc1'!B664))","v":11898.19235265866},null,"2012-05-01"]
["2012-06-01",{"$f":"IF('CPILFESL pc1'!B665=\"\",\"\",'LNU00000060 lin'!B665/('UNRATE lin'!B665+'CPILFESL pc1'!B665))","v":11966.082547734908},null,"2012-06-01"]
["2012-07-01",{"$f":"IF('CPILFESL pc1'!B666=\"\",\"\",'LNU00000060 lin'!B666/('UNRATE lin'!B666+'CPILFESL pc1'!B666))","v":12063.286375504851},null,"2012-07-01"]
["2012-08-01",{"$f":"IF('CPILFESL pc1'!B667=\"\",\"\",'LNU00000060 lin'!B667/('UNRATE lin'!B667+'CPILFESL pc1'!B667))","v":12387.135347898658},null,"2012-08-01"]
["2012-09-01",{"$f":"IF('CPILFESL pc1'!B668=\"\",\"\",'LNU00000060 lin'!B668/('UNRATE lin'!B668+'CPILFESL pc1'!B668))","v":12668.837630400561},null,"2012-09-01"]
["2012-10-01",{"$f":"IF('CPILFESL pc1'!B669=\"\",\"\",'LNU00000060 lin'!B669/('UNRATE lin'!B669+'CPILFESL pc1'!B669))","v":12687.538605258993},null,"2012-10-01"]
["2012-11-01",{"$f":"IF('CPILFESL pc1'!B670=\"\",\"\",'LNU00000060 lin'!B670/('UNRATE lin'!B670+'CPILFESL pc1'!B670))","v":12871.638946010762},null,"2012-11-01"]
["2012-12-01",{"$f":"IF('CPILFESL pc1'!B671=\"\",\"\",'LNU00000060 lin'!B671/('UNRATE lin'!B671+'CPILFESL pc1'!B671))","v":12675.809132737872},null,"2012-12-01"]
["2013-01-01",{"$f":"IF('CPILFESL pc1'!B672=\"\",\"\",'LNU00000060 lin'!B672/('UNRATE lin'!B672+'CPILFESL pc1'!B672))","v":12548.890996791055},null,"2013-01-01"]
["2013-02-01",{"$f":"IF('CPILFESL pc1'!B673=\"\",\"\",'LNU00000060 lin'!B673/('UNRATE lin'!B673+'CPILFESL pc1'!B673))","v":12834.899068403116},null,"2013-02-01"]
["2013-03-01",{"$f":"IF('CPILFESL pc1'!B674=\"\",\"\",'LNU00000060 lin'!B674/('UNRATE lin'!B674+'CPILFESL pc1'!B674))","v":13243.448198001495},null,"2013-03-01"]
["2013-04-01",{"$f":"IF('CPILFESL pc1'!B675=\"\",\"\",'LNU00000060 lin'!B675/('UNRATE lin'!B675+'CPILFESL pc1'!B675))","v":13351.854316863399},null,"2013-04-01"]
["2013-05-01",{"$f":"IF('CPILFESL pc1'!B676=\"\",\"\",'LNU00000060 lin'!B676/('UNRATE lin'!B676+'CPILFESL pc1'!B676))","v":13600.931600614507},null,"2013-05-01"]
["2013-06-01",{"$f":"IF('CPILFESL pc1'!B677=\"\",\"\",'LNU00000060 lin'!B677/('UNRATE lin'!B677+'CPILFESL pc1'!B677))","v":13636.37360107858},null,"2013-06-01"]
["2013-07-01",{"$f":"IF('CPILFESL pc1'!B678=\"\",\"\",'LNU00000060 lin'!B678/('UNRATE lin'!B678+'CPILFESL pc1'!B678))","v":13821.995462333141},null,"2013-07-01"]
["2013-08-01",{"$f":"IF('CPILFESL pc1'!B679=\"\",\"\",'LNU00000060 lin'!B679/('UNRATE lin'!B679+'CPILFESL pc1'!B679))","v":13850.754444111684},null,"2013-08-01"]
["2013-09-01",{"$f":"IF('CPILFESL pc1'!B680=\"\",\"\",'LNU00000060 lin'!B680/('UNRATE lin'!B680+'CPILFESL pc1'!B680))","v":13903.690149844613},null,"2013-09-01"]
["2013-10-01",{"$f":"IF('CPILFESL pc1'!B681=\"\",\"\",'LNU00000060 lin'!B681/('UNRATE lin'!B681+'CPILFESL pc1'!B681))","v":14005.09067340022},null,"2013-10-01"]
["2013-11-01",{"$f":"IF('CPILFESL pc1'!B682=\"\",\"\",'LNU00000060 lin'!B682/('UNRATE lin'!B682+'CPILFESL pc1'!B682))","v":14403.928870229942},null,"2013-11-01"]
["2013-12-01",{"$f":"IF('CPILFESL pc1'!B683=\"\",\"\",'LNU00000060 lin'!B683/('UNRATE lin'!B683+'CPILFESL pc1'!B683))","v":14742.336681333418},null,"2013-12-01"]
["2014-01-01",{"$f":"IF('CPILFESL pc1'!B684=\"\",\"\",'LNU00000060 lin'!B684/('UNRATE lin'!B684+'CPILFESL pc1'!B684))","v":15164.194599020597},null,"2014-01-01"]
["2014-02-01",{"$f":"IF('CPILFESL pc1'!B685=\"\",\"\",'LNU00000060 lin'!B685/('UNRATE lin'!B685+'CPILFESL pc1'!B685))","v":15074.726129371844},null,"2014-02-01"]
["2014-03-01",{"$f":"IF('CPILFESL pc1'!B686=\"\",\"\",'LNU00000060 lin'!B686/('UNRATE lin'!B686+'CPILFESL pc1'!B686))","v":14907.149344689335},null,"2014-03-01"]
["2014-04-01",{"$f":"IF('CPILFESL pc1'!B687=\"\",\"\",'LNU00000060 lin'!B687/('UNRATE lin'!B687+'CPILFESL pc1'!B687))","v":15515.779709913651},null,"2014-04-01"]
["2014-05-01",{"$f":"IF('CPILFESL pc1'!B688=\"\",\"\",'LNU00000060 lin'!B688/('UNRATE lin'!B688+'CPILFESL pc1'!B688))","v":15092.055938187113},null,"2014-05-01"]
["2014-06-01",{"$f":"IF('CPILFESL pc1'!B689=\"\",\"\",'LNU00000060 lin'!B689/('UNRATE lin'!B689+'CPILFESL pc1'!B689))","v":15515.414702487642},null,"2014-06-01"]
["2014-07-01",{"$f":"IF('CPILFESL pc1'!B690=\"\",\"\",'LNU00000060 lin'!B690/('UNRATE lin'!B690+'CPILFESL pc1'!B690))","v":15475.527535251886},null,"2014-07-01"]
["2014-08-01",{"$f":"IF('CPILFESL pc1'!B691=\"\",\"\",'LNU00000060 lin'!B691/('UNRATE lin'!B691+'CPILFESL pc1'!B691))","v":15893.650145474965},null,"2014-08-01"]
["2014-09-01",{"$f":"IF('CPILFESL pc1'!B692=\"\",\"\",'LNU00000060 lin'!B692/('UNRATE lin'!B692+'CPILFESL pc1'!B692))","v":16305.171477368651},null,"2014-09-01"]
["2014-10-01",{"$f":"IF('CPILFESL pc1'!B693=\"\",\"\",'LNU00000060 lin'!B693/('UNRATE lin'!B693+'CPILFESL pc1'!B693))","v":16575.303652879964},null,"2014-10-01"]
["2014-11-01",{"$f":"IF('CPILFESL pc1'!B694=\"\",\"\",'LNU00000060 lin'!B694/('UNRATE lin'!B694+'CPILFESL pc1'!B694))","v":16523.306093277413},null,"2014-11-01"]
["2014-12-01",{"$f":"IF('CPILFESL pc1'!B695=\"\",\"\",'LNU00000060 lin'!B695/('UNRATE lin'!B695+'CPILFESL pc1'!B695))","v":17251.41988419394},null,"2014-12-01"]
["2015-01-01",{"$f":"IF('CPILFESL pc1'!B696=\"\",\"\",'LNU00000060 lin'!B696/('UNRATE lin'!B696+'CPILFESL pc1'!B696))","v":17045.868381246735},null,"2015-01-01"]
["2015-02-01",{"$f":"IF('CPILFESL pc1'!B697=\"\",\"\",'LNU00000060 lin'!B697/('UNRATE lin'!B697+'CPILFESL pc1'!B697))","v":17384.197170871776},null,"2015-02-01"]
["2015-03-01",{"$f":"IF('CPILFESL pc1'!B698=\"\",\"\",'LNU00000060 lin'!B698/('UNRATE lin'!B698+'CPILFESL pc1'!B698))","v":17486.683703315986},null,"2015-03-01"]
["2015-04-01",{"$f":"IF('CPILFESL pc1'!B699=\"\",\"\",'LNU00000060 lin'!B699/('UNRATE lin'!B699+'CPILFESL pc1'!B699))","v":17350.124881470198},null,"2015-04-01"]
["2015-05-01",{"$f":"IF('CPILFESL pc1'!B700=\"\",\"\",'LNU00000060 lin'!B700/('UNRATE lin'!B700+'CPILFESL pc1'!B700))","v":17006.668534908462},null,"2015-05-01"]
["2015-06-01",{"$f":"IF('CPILFESL pc1'!B701=\"\",\"\",'LNU00000060 lin'!B701/('UNRATE lin'!B701+'CPILFESL pc1'!B701))","v":17674.187928396121},null,"2015-06-01"]
["2015-07-01",{"$f":"IF('CPILFESL pc1'!B702=\"\",\"\",'LNU00000060 lin'!B702/('UNRATE lin'!B702+'CPILFESL pc1'!B702))","v":17790.132530069102},null,"2015-07-01"]
["2015-08-01",{"$f":"IF('CPILFESL pc1'!B703=\"\",\"\",'LNU00000060 lin'!B703/('UNRATE lin'!B703+'CPILFESL pc1'!B703))","v":18014.194396766914},null,"2015-08-01"]
["2015-09-01",{"$f":"IF('CPILFESL pc1'!B704=\"\",\"\",'LNU00000060 lin'!B704/('UNRATE lin'!B704+'CPILFESL pc1'!B704))","v":18158.066433718519},null,"2015-09-01"]
["2015-10-01",{"$f":"IF('CPILFESL pc1'!B705=\"\",\"\",'LNU00000060 lin'!B705/('UNRATE lin'!B705+'CPILFESL pc1'!B705))","v":18115.347731187976},null,"2015-10-01"]
["2015-11-01",{"$f":"IF('CPILFESL pc1'!B706=\"\",\"\",'LNU00000060 lin'!B706/('UNRATE lin'!B706+'CPILFESL pc1'!B706))","v":17648.360040183561},null,"2015-11-01"]
["2015-12-01",{"$f":"IF('CPILFESL pc1'!B707=\"\",\"\",'LNU00000060 lin'!B707/('UNRATE lin'!B707+'CPILFESL pc1'!B707))","v":17713.0485568146},null,"2015-12-01"]
["2016-01-01",{"$f":"IF('CPILFESL pc1'!B708=\"\",\"\",'LNU00000060 lin'!B708/('UNRATE lin'!B708+'CPILFESL pc1'!B708))","v":17693.437405744276},null,"2016-01-01"]
["2016-02-01",{"$f":"IF('CPILFESL pc1'!B709=\"\",\"\",'LNU00000060 lin'!B709/('UNRATE lin'!B709+'CPILFESL pc1'!B709))","v":17492.829152021975},null,"2016-02-01"]
["2016-03-01",{"$f":"IF('CPILFESL pc1'!B710=\"\",\"\",'LNU00000060 lin'!B710/('UNRATE lin'!B710+'CPILFESL pc1'!B710))","v":17535.013770989764},null,"2016-03-01"]
["2016-04-01",{"$f":"IF('CPILFESL pc1'!B711=\"\",\"\",'LNU00000060 lin'!B711/('UNRATE lin'!B711+'CPILFESL pc1'!B711))","v":17640.781538504743},null,"2016-04-01"]
["2016-05-01",{"$f":"IF('CPILFESL pc1'!B712=\"\",\"\",'LNU00000060 lin'!B712/('UNRATE lin'!B712+'CPILFESL pc1'!B712))","v":17920.736028701926},null,"2016-05-01"]
["2016-06-01",{"$f":"IF('CPILFESL pc1'!B713=\"\",\"\",'LNU00000060 lin'!B713/('UNRATE lin'!B713+'CPILFESL pc1'!B713))","v":17659.643508835015},null,"2016-06-01"]
["2016-07-01",{"$f":"IF('CPILFESL pc1'!B714=\"\",\"\",'LNU00000060 lin'!B714/('UNRATE lin'!B714+'CPILFESL pc1'!B714))","v":18084.915169667856},null,"2016-07-01"]
["2016-08-01",{"$f":"IF('CPILFESL pc1'!B715=\"\",\"\",'LNU00000060 lin'!B715/('UNRATE lin'!B715+'CPILFESL pc1'!B715))","v":17510.281996627393},null,"2016-08-01"]
["2016-09-01",{"$f":"IF('CPILFESL pc1'!B716=\"\",\"\",'LNU00000060 lin'!B716/('UNRATE lin'!B716+'CPILFESL pc1'!B716))","v":17445.67280910585},null,{"$f":"IF(B716=\"\",\"\",A716)","v":"2016-09-01"}]
["2016-10-01",{"$f":"IF('CPILFESL pc1'!B717=\"\",\"\",'LNU00000060 lin'!B717/('UNRATE lin'!B717+'CPILFESL pc1'!B717))","v":17801.023437279127},null,"2016-10-01"]
["2016-11-01",{"$f":"IF('CPILFESL pc1'!B718=\"\",\"\",'LNU00000060 lin'!B718/('UNRATE lin'!B718+'CPILFESL pc1'!B718))","v":18378.265601792817},null,"2016-11-01"]
["2016-12-01",{"$f":"IF('CPILFESL pc1'!B719=\"\",\"\",'LNU00000060 lin'!B719/('UNRATE lin'!B719+'CPILFESL pc1'!B719))","v":18222.005563374882},null,"2016-12-01"]
["2017-01-01",{"$f":"IF('CPILFESL pc1'!B720=\"\",\"\",'LNU00000060 lin'!B720/('UNRATE lin'!B720+'CPILFESL pc1'!B720))","v":18139.065154825064},null,"2017-01-01"]
["2017-02-01",{"$f":"IF('CPILFESL pc1'!B721=\"\",\"\",'LNU00000060 lin'!B721/('UNRATE lin'!B721+'CPILFESL pc1'!B721))","v":18533.600980059335},null,"2017-02-01"]
["2017-03-01",{"$f":"IF('CPILFESL pc1'!B722=\"\",\"\",'LNU00000060 lin'!B722/('UNRATE lin'!B722+'CPILFESL pc1'!B722))","v":19607.267548982254},null,"2017-03-01"]
["2017-04-01",{"$f":"IF('CPILFESL pc1'!B723=\"\",\"\",'LNU00000060 lin'!B723/('UNRATE lin'!B723+'CPILFESL pc1'!B723))","v":19957.307681915212},null,"2017-04-01"]
["2017-05-01",{"$f":"IF('CPILFESL pc1'!B724=\"\",\"\",'LNU00000060 lin'!B724/('UNRATE lin'!B724+'CPILFESL pc1'!B724))","v":20405.80256400675},null,"2017-05-01"]
["2017-06-01",{"$f":"IF('CPILFESL pc1'!B725=\"\",\"\",'LNU00000060 lin'!B725/('UNRATE lin'!B725+'CPILFESL pc1'!B725))","v":20842.579784852074},null,"2017-06-01"]
["2017-07-01",{"$f":"IF('CPILFESL pc1'!B726=\"\",\"\",'LNU00000060 lin'!B726/('UNRATE lin'!B726+'CPILFESL pc1'!B726))","v":20947.512928506691},null,"2017-07-01"]
["2017-08-01",{"$f":"IF('CPILFESL pc1'!B727=\"\",\"\",'LNU00000060 lin'!B727/('UNRATE lin'!B727+'CPILFESL pc1'!B727))","v":20661.03755297828},null,"2017-08-01"]
["2017-09-01",{"$f":"IF('CPILFESL pc1'!B728=\"\",\"\",'LNU00000060 lin'!B728/('UNRATE lin'!B728+'CPILFESL pc1'!B728))","v":21394.219322889385},null,"2017-09-01"]
["2017-10-01",{"$f":"IF('CPILFESL pc1'!B729=\"\",\"\",'LNU00000060 lin'!B729/('UNRATE lin'!B729+'CPILFESL pc1'!B729))","v":21350.80467259905},null,"2017-10-01"]
["2017-11-01",{"$f":"IF('CPILFESL pc1'!B730=\"\",\"\",'LNU00000060 lin'!B730/('UNRATE lin'!B730+'CPILFESL pc1'!B730))","v":21170.020926273577},null,"2017-11-01"]
["2017-12-01",{"$f":"IF('CPILFESL pc1'!B731=\"\",\"\",'LNU00000060 lin'!B731/('UNRATE lin'!B731+'CPILFESL pc1'!B731))","v":21447.205424038413},null,"2017-12-01"]
["2018-01-01",{"$f":"IF('CPILFESL pc1'!B732=\"\",\"\",'LNU00000060 lin'!B732/('UNRATE lin'!B732+'CPILFESL pc1'!B732))","v":21284.43770021919},null,"2018-01-01"]
["2018-02-01",{"$f":"IF('CPILFESL pc1'!B733=\"\",\"\",'LNU00000060 lin'!B733/('UNRATE lin'!B733+'CPILFESL pc1'!B733))","v":21302.938411978423},null,"2018-02-01"]
["2018-03-01",{"$f":"IF('CPILFESL pc1'!B734=\"\",\"\",'LNU00000060 lin'!B734/('UNRATE lin'!B734+'CPILFESL pc1'!B734))","v":20821.365799288378},null,"2018-03-01"]
["2018-04-01",{"$f":"IF('CPILFESL pc1'!B735=\"\",\"\",'LNU00000060 lin'!B735/('UNRATE lin'!B735+'CPILFESL pc1'!B735))","v":20590.815122049837},null,"2018-04-01"]
["2018-05-01",{"$f":"IF('CPILFESL pc1'!B736=\"\",\"\",'LNU00000060 lin'!B736/('UNRATE lin'!B736+'CPILFESL pc1'!B736))","v":20839.581693911994},null,"2018-05-01"]
["2018-06-01",{"$f":"IF('CPILFESL pc1'!B737=\"\",\"\",'LNU00000060 lin'!B737/('UNRATE lin'!B737+'CPILFESL pc1'!B737))","v":20156.996641484449},null,"2018-06-01"]
["2018-07-01",{"$f":"IF('CPILFESL pc1'!B738=\"\",\"\",'LNU00000060 lin'!B738/('UNRATE lin'!B738+'CPILFESL pc1'!B738))","v":20589.696680410725},null,"2018-07-01"]
["2018-08-01",{"$f":"IF('CPILFESL pc1'!B739=\"\",\"\",'LNU00000060 lin'!B739/('UNRATE lin'!B739+'CPILFESL pc1'!B739))","v":21144.965520240446},null,"2018-08-01"]
["2018-09-01",{"$f":"IF('CPILFESL pc1'!B740=\"\",\"\",'LNU00000060 lin'!B740/('UNRATE lin'!B740+'CPILFESL pc1'!B740))","v":21217.967213994776},null,"2018-09-01"]
["2018-10-01",{"$f":"IF('CPILFESL pc1'!B741=\"\",\"\",'LNU00000060 lin'!B741/('UNRATE lin'!B741+'CPILFESL pc1'!B741))","v":21256.106000846608},null,"2018-10-01"]
["2018-11-01",{"$f":"IF('CPILFESL pc1'!B742=\"\",\"\",'LNU00000060 lin'!B742/('UNRATE lin'!B742+'CPILFESL pc1'!B742))","v":21383.414034174806},null,"2018-11-01"]
["2018-12-01",{"$f":"IF('CPILFESL pc1'!B743=\"\",\"\",'LNU00000060 lin'!B743/('UNRATE lin'!B743+'CPILFESL pc1'!B743))","v":20735.313633005066},null,"2018-12-01"]
["2019-01-01",{"$f":"IF('CPILFESL pc1'!B744=\"\",\"\",'LNU00000060 lin'!B744/('UNRATE lin'!B744+'CPILFESL pc1'!B744))","v":20546.912279387456},null,"2019-01-01"]
["2019-02-01",{"$f":"IF('CPILFESL pc1'!B745=\"\",\"\",'LNU00000060 lin'!B745/('UNRATE lin'!B745+'CPILFESL pc1'!B745))","v":21446.110709885721},null,"2019-02-01"]
["2019-03-01",{"$f":"IF('CPILFESL pc1'!B746=\"\",\"\",'LNU00000060 lin'!B746/('UNRATE lin'!B746+'CPILFESL pc1'!B746))","v":21589.995655936487},null,"2019-03-01"]
["2019-04-01",{"$f":"IF('CPILFESL pc1'!B747=\"\",\"\",'LNU00000060 lin'!B747/('UNRATE lin'!B747+'CPILFESL pc1'!B747))","v":22209.811612812438},null,"2019-04-01"]
["2019-05-01",{"$f":"IF('CPILFESL pc1'!B748=\"\",\"\",'LNU00000060 lin'!B748/('UNRATE lin'!B748+'CPILFESL pc1'!B748))","v":22550.81396989106},null,"2019-05-01"]
["2019-06-01",{"$f":"IF('CPILFESL pc1'!B749=\"\",\"\",'LNU00000060 lin'!B749/('UNRATE lin'!B749+'CPILFESL pc1'!B749))","v":21634.436673158914},null,"2019-06-01"]
["2019-07-01",{"$f":"IF('CPILFESL pc1'!B750=\"\",\"\",'LNU00000060 lin'!B750/('UNRATE lin'!B750+'CPILFESL pc1'!B750))","v":21389.048376361079},null,"2019-07-01"]
["2019-08-01",{"$f":"IF('CPILFESL pc1'!B751=\"\",\"\",'LNU00000060 lin'!B751/('UNRATE lin'!B751+'CPILFESL pc1'!B751))","v":20801.672608887628},null,"2019-08-01"]
["2019-09-01",{"$f":"IF('CPILFESL pc1'!B752=\"\",\"\",'LNU00000060 lin'!B752/('UNRATE lin'!B752+'CPILFESL pc1'!B752))","v":21587.583254694404},null,"2019-09-01"]
["2019-10-01",{"$f":"IF('CPILFESL pc1'!B753=\"\",\"\",'LNU00000060 lin'!B753/('UNRATE lin'!B753+'CPILFESL pc1'!B753))","v":21358.560112269308},null,"2019-10-01"]
["2019-11-01",{"$f":"IF('CPILFESL pc1'!B754=\"\",\"\",'LNU00000060 lin'!B754/('UNRATE lin'!B754+'CPILFESL pc1'!B754))","v":21724.316946466206},null,"2019-11-01"]
["2019-12-01",{"$f":"IF('CPILFESL pc1'!B755=\"\",\"\",'LNU00000060 lin'!B755/('UNRATE lin'!B755+'CPILFESL pc1'!B755))","v":21987.169005215201},null,"2019-12-01"]
["2020-01-01",{"$f":"IF('CPILFESL pc1'!B756=\"\",\"\",'LNU00000060 lin'!B756/('UNRATE lin'!B756+'CPILFESL pc1'!B756))","v":21460.974005391825},null,"2020-01-01"]
["2020-02-01",{"$f":"IF('CPILFESL pc1'!B757=\"\",\"\",'LNU00000060 lin'!B757/('UNRATE lin'!B757+'CPILFESL pc1'!B757))","v":21472.361260757494},null,"2020-02-01"]
["2020-03-01",{"$f":"IF('CPILFESL pc1'!B758=\"\",\"\",'LNU00000060 lin'!B758/('UNRATE lin'!B758+'CPILFESL pc1'!B758))","v":19389.498637686069},null,"2020-03-01"]
["2020-04-01",{"$f":"IF('CPILFESL pc1'!B759=\"\",\"\",'LNU00000060 lin'!B759/('UNRATE lin'!B759+'CPILFESL pc1'!B759))","v":""},null,""]
["2020-05-01",{"$f":"IF('CPILFESL pc1'!B760=\"\",\"\",'LNU00000060 lin'!B760/('UNRATE lin'!B760+'CPILFESL pc1'!B760))","v":""},null,""]
["2020-06-01",{"$f":"IF('CPILFESL pc1'!B761=\"\",\"\",'LNU00000060 lin'!B761/('UNRATE lin'!B761+'CPILFESL pc1'!B761))","v":""},null,""]
["2020-07-01",{"$f":"IF('CPILFESL pc1'!B762=\"\",\"\",'LNU00000060 lin'!B762/('UNRATE lin'!B762+'CPILFESL pc1'!B762))","v":""},null,""]
["2020-08-01",{"$f":"IF('CPILFESL pc1'!B763=\"\",\"\",'LNU00000060 lin'!B763/('UNRATE lin'!B763+'CPILFESL pc1'!B763))","v":""},null,""]
["2020-09-01",{"$f":"IF('CPILFESL pc1'!B764=\"\",\"\",'LNU00000060 lin'!B764/('UNRATE lin'!B764+'CPILFESL pc1'!B764))","v":""},null,""]
["2020-10-01",{"$f":"IF('CPILFESL pc1'!B765=\"\",\"\",'LNU00000060 lin'!B765/('UNRATE lin'!B765+'CPILFESL pc1'!B765))","v":""},null,""]
["2020-11-01",{"$f":"IF('CPILFESL pc1'!B766=\"\",\"\",'LNU00000060 lin'!B766/('UNRATE lin'!B766+'CPILFESL pc1'!B766))","v":""},null,""]
["2020-12-01",{"$f":"IF('CPILFESL pc1'!B767=\"\",\"\",'LNU00000060 lin'!B767/('UNRATE lin'!B767+'CPILFESL pc1'!B767))","v":""},null,""]
["2021-01-01",{"$f":"IF('CPILFESL pc1'!B768=\"\",\"\",'LNU00000060 lin'!B768/('UNRATE lin'!B768+'CPILFESL pc1'!B768))","v":""},null,""]
["2021-02-01",{"$f":"IF('CPILFESL pc1'!B769=\"\",\"\",'LNU00000060 lin'!B769/('UNRATE lin'!B769+'CPILFESL pc1'!B769))","v":""},null,""]
["2021-03-01",{"$f":"IF('CPILFESL pc1'!B770=\"\",\"\",'LNU00000060 lin'!B770/('UNRATE lin'!B770+'CPILFESL pc1'!B770))","v":""},null,""]
["2021-04-01",{"$f":"IF('CPILFESL pc1'!B771=\"\",\"\",'LNU00000060 lin'!B771/('UNRATE lin'!B771+'CPILFESL pc1'!B771))","v":""},null,""]
["2021-05-01",{"$f":"IF('CPILFESL pc1'!B772=\"\",\"\",'LNU00000060 lin'!B772/('UNRATE lin'!B772+'CPILFESL pc1'!B772))","v":""},null,""]
["2021-06-01",{"$f":"IF('CPILFESL pc1'!B773=\"\",\"\",'LNU00000060 lin'!B773/('UNRATE lin'!B773+'CPILFESL pc1'!B773))","v":""},null,""]
["2021-07-01",{"$f":"IF('CPILFESL pc1'!B774=\"\",\"\",'LNU00000060 lin'!B774/('UNRATE lin'!B774+'CPILFESL pc1'!B774))","v":""},null,""]
["2021-08-01",{"$f":"IF('CPILFESL pc1'!B775=\"\",\"\",'LNU00000060 lin'!B775/('UNRATE lin'!B775+'CPILFESL pc1'!B775))","v":""},null,""]
["2021-09-01",{"$f":"IF('CPILFESL pc1'!B776=\"\",\"\",'LNU00000060 lin'!B776/('UNRATE lin'!B776+'CPILFESL pc1'!B776))","v":""},null,""]
["2021-10-01",{"$f":"IF('CPILFESL pc1'!B777=\"\",\"\",'LNU00000060 lin'!B777/('UNRATE lin'!B777+'CPILFESL pc1'!B777))","v":""},null,""]
["2021-11-01",{"$f":"IF('CPILFESL pc1'!B778=\"\",\"\",'LNU00000060 lin'!B778/('UNRATE lin'!B778+'CPILFESL pc1'!B778))","v":""},null,""]
["2021-12-01",{"$f":"IF('CPILFESL pc1'!B779=\"\",\"\",'LNU00000060 lin'!B779/('UNRATE lin'!B779+'CPILFESL pc1'!B779))","v":""},null,""]
["2022-01-01",{"$f":"IF('CPILFESL pc1'!B780=\"\",\"\",'LNU00000060 lin'!B780/('UNRATE lin'!B780+'CPILFESL pc1'!B780))","v":""},null,{"$f":"IF(B780=\"\",\"\",A780)","v":""}]
["2022-02-01",{"$f":"IF('CPILFESL pc1'!B781=\"\",\"\",'LNU00000060 lin'!B781/('UNRATE lin'!B781+'CPILFESL pc1'!B781))","v":""},null,""]
["2022-03-01",{"$f":"IF('CPILFESL pc1'!B782=\"\",\"\",'LNU00000060 lin'!B782/('UNRATE lin'!B782+'CPILFESL pc1'!B782))","v":""},null,""]
["2022-04-01",{"$f":"IF('CPILFESL pc1'!B783=\"\",\"\",'LNU00000060 lin'!B783/('UNRATE lin'!B783+'CPILFESL pc1'!B783))","v":""},null,""]
["2022-05-01",{"$f":"IF('CPILFESL pc1'!B784=\"\",\"\",'LNU00000060 lin'!B784/('UNRATE lin'!B784+'CPILFESL pc1'!B784))","v":""},null,""]
["2022-06-01",{"$f":"IF('CPILFESL pc1'!B785=\"\",\"\",'LNU00000060 lin'!B785/('UNRATE lin'!B785+'CPILFESL pc1'!B785))","v":""},null,""]
["2022-07-01",{"$f":"IF('CPILFESL pc1'!B786=\"\",\"\",'LNU00000060 lin'!B786/('UNRATE lin'!B786+'CPILFESL pc1'!B786))","v":""},null,""]
["2022-08-01",{"$f":"IF('CPILFESL pc1'!B787=\"\",\"\",'LNU00000060 lin'!B787/('UNRATE lin'!B787+'CPILFESL pc1'!B787))","v":""},null,""]
["2022-09-01",{"$f":"IF('CPILFESL pc1'!B788=\"\",\"\",'LNU00000060 lin'!B788/('UNRATE lin'!B788+'CPILFESL pc1'!B788))","v":""},null,""]
["2022-10-01",{"$f":"IF('CPILFESL pc1'!B789=\"\",\"\",'LNU00000060 lin'!B789/('UNRATE lin'!B789+'CPILFESL pc1'!B789))","v":""},null,""]
["2022-11-01",{"$f":"IF('CPILFESL pc1'!B790=\"\",\"\",'LNU00000060 lin'!B790/('UNRATE lin'!B790+'CPILFESL pc1'!B790))","v":""},null,""]
["2022-12-01",{"$f":"IF('CPILFESL pc1'!B791=\"\",\"\",'LNU00000060 lin'!B791/('UNRATE lin'!B791+'CPILFESL pc1'!B791))","v":""},null,""]
["2023-01-01",{"$f":"IF('CPILFESL pc1'!B792=\"\",\"\",'LNU00000060 lin'!B792/('UNRATE lin'!B792+'CPILFESL pc1'!B792))","v":""},null,""]
["2023-02-01",{"$f":"IF('CPILFESL pc1'!B793=\"\",\"\",'LNU00000060 lin'!B793/('UNRATE lin'!B793+'CPILFESL pc1'!B793))","v":""},null,""]
["2023-03-01",{"$f":"IF('CPILFESL pc1'!B794=\"\",\"\",'LNU00000060 lin'!B794/('UNRATE lin'!B794+'CPILFESL pc1'!B794))","v":""},null,""]
["2023-04-01",{"$f":"IF('CPILFESL pc1'!B795=\"\",\"\",'LNU00000060 lin'!B795/('UNRATE lin'!B795+'CPILFESL pc1'!B795))","v":""},null,""]
["2023-05-01",{"$f":"IF('CPILFESL pc1'!B796=\"\",\"\",'LNU00000060 lin'!B796/('UNRATE lin'!B796+'CPILFESL pc1'!B796))","v":""},null,""]
["2023-06-01",{"$f":"IF('CPILFESL pc1'!B797=\"\",\"\",'LNU00000060 lin'!B797/('UNRATE lin'!B797+'CPILFESL pc1'!B797))","v":""},null,""]
["2023-07-01",{"$f":"IF('CPILFESL pc1'!B798=\"\",\"\",'LNU00000060 lin'!B798/('UNRATE lin'!B798+'CPILFESL pc1'!B798))","v":""},null,""]
["2023-08-01",{"$f":"IF('CPILFESL pc1'!B799=\"\",\"\",'LNU00000060 lin'!B799/('UNRATE lin'!B799+'CPILFESL pc1'!B799))","v":""},null,""]
["2023-09-01",{"$f":"IF('CPILFESL pc1'!B800=\"\",\"\",'LNU00000060 lin'!B800/('UNRATE lin'!B800+'CPILFESL pc1'!B800))","v":""},null,""]
["2023-10-01",{"$f":"IF('CPILFESL pc1'!B801=\"\",\"\",'LNU00000060 lin'!B801/('UNRATE lin'!B801+'CPILFESL pc1'!B801))","v":""},null,""]
["2023-11-01",{"$f":"IF('CPILFESL pc1'!B802=\"\",\"\",'LNU00000060 lin'!B802/('UNRATE lin'!B802+'CPILFESL pc1'!B802))","v":""},null,""]
["2023-12-01",{"$f":"IF('CPILFESL pc1'!B803=\"\",\"\",'LNU00000060 lin'!B803/('UNRATE lin'!B803+'CPILFESL pc1'!B803))","v":""},null,""]
["2024-01-01",{"$f":"IF('CPILFESL pc1'!B804=\"\",\"\",'LNU00000060 lin'!B804/('UNRATE lin'!B804+'CPILFESL pc1'!B804))","v":""},null,""]
["2024-02-01",{"$f":"IF('CPILFESL pc1'!B805=\"\",\"\",'LNU00000060 lin'!B805/('UNRATE lin'!B805+'CPILFESL pc1'!B805))","v":""},null,""]
["2024-03-01",{"$f":"IF('CPILFESL pc1'!B806=\"\",\"\",'LNU00000060 lin'!B806/('UNRATE lin'!B806+'CPILFESL pc1'!B806))","v":""},null,""]
["2024-04-01",{"$f":"IF('CPILFESL pc1'!B807=\"\",\"\",'LNU00000060 lin'!B807/('UNRATE lin'!B807+'CPILFESL pc1'!B807))","v":""},null,""]
["2024-05-01",{"$f":"IF('CPILFESL pc1'!B808=\"\",\"\",'LNU00000060 lin'!B808/('UNRATE lin'!B808+'CPILFESL pc1'!B808))","v":""},null,""]
["2024-06-01",{"$f":"IF('CPILFESL pc1'!B809=\"\",\"\",'LNU00000060 lin'!B809/('UNRATE lin'!B809+'CPILFESL pc1'!B809))","v":""},null,""]
["2024-07-01",{"$f":"IF('CPILFESL pc1'!B810=\"\",\"\",'LNU00000060 lin'!B810/('UNRATE lin'!B810+'CPILFESL pc1'!B810))","v":""},null,""]
["2024-08-01",{"$f":"IF('CPILFESL pc1'!B811=\"\",\"\",'LNU00000060 lin'!B811/('UNRATE lin'!B811+'CPILFESL pc1'!B811))","v":""},null,""]
["2024-09-01",{"$f":"IF('CPILFESL pc1'!B812=\"\",\"\",'LNU00000060 lin'!B812/('UNRATE lin'!B812+'CPILFESL pc1'!B812))","v":""},null,""]
["2024-10-01",{"$f":"IF('CPILFESL pc1'!B813=\"\",\"\",'LNU00000060 lin'!B813/('UNRATE lin'!B813+'CPILFESL pc1'!B813))","v":""},null,""]
["2024-11-01",{"$f":"IF('CPILFESL pc1'!B814=\"\",\"\",'LNU00000060 lin'!B814/('UNRATE lin'!B814+'CPILFESL pc1'!B814))","v":""},null,""]
["2024-12-01",{"$f":"IF('CPILFESL pc1'!B815=\"\",\"\",'LNU00000060 lin'!B815/('UNRATE lin'!B815+'CPILFESL pc1'!B815))","v":""},null,""]
["2025-01-01",{"$f":"IF('CPILFESL pc1'!B816=\"\",\"\",'LNU00000060 lin'!B816/('UNRATE lin'!B816+'CPILFESL pc1'!B816))","v":""},null,""]
["2025-02-01",{"$f":"IF('CPILFESL pc1'!B817=\"\",\"\",'LNU00000060 lin'!B817/('UNRATE lin'!B817+'CPILFESL pc1'!B817))","v":""},null,""]
["2025-03-01",{"$f":"IF('CPILFESL pc1'!B818=\"\",\"\",'LNU00000060 lin'!B818/('UNRATE lin'!B818+'CPILFESL pc1'!B818))","v":""},null,""]
["2025-04-01",{"$f":"IF('CPILFESL pc1'!B819=\"\",\"\",'LNU00000060 lin'!B819/('UNRATE lin'!B819+'CPILFESL pc1'!B819))","v":""},null,""]
["2025-05-01",{"$f":"IF('CPILFESL pc1'!B820=\"\",\"\",'LNU00000060 lin'!B820/('UNRATE lin'!B820+'CPILFESL pc1'!B820))","v":""},null,""]
["2025-06-01",{"$f":"IF('CPILFESL pc1'!B821=\"\",\"\",'LNU00000060 lin'!B821/('UNRATE lin'!B821+'CPILFESL pc1'!B821))","v":""},null,""]
["2025-07-01",{"$f":"IF('CPILFESL pc1'!B822=\"\",\"\",'LNU00000060 lin'!B822/('UNRATE lin'!B822+'CPILFESL pc1'!B822))","v":""},null,""]
["2025-08-01",{"$f":"IF('CPILFESL pc1'!B823=\"\",\"\",'LNU00000060 lin'!B823/('UNRATE lin'!B823+'CPILFESL pc1'!B823))","v":""},null,""]
["2025-09-01",{"$f":"IF('CPILFESL pc1'!B824=\"\",\"\",'LNU00000060 lin'!B824/('UNRATE lin'!B824+'CPILFESL pc1'!B824))","v":""},null,""]
["2025-10-01",{"$f":"IF('CPILFESL pc1'!B825=\"\",\"\",'LNU00000060 lin'!B825/('UNRATE lin'!B825+'CPILFESL pc1'!B825))","v":""},null,""]
["2025-11-01",{"$f":"IF('CPILFESL pc1'!B826=\"\",\"\",'LNU00000060 lin'!B826/('UNRATE lin'!B826+'CPILFESL pc1'!B826))","v":""},null,""]
["2025-12-01",{"$f":"IF('CPILFESL pc1'!B827=\"\",\"\",'LNU00000060 lin'!B827/('UNRATE lin'!B827+'CPILFESL pc1'!B827))","v":""},null,""]
["2026-01-01",{"$f":"IF('CPILFESL pc1'!B828=\"\",\"\",'LNU00000060 lin'!B828/('UNRATE lin'!B828+'CPILFESL pc1'!B828))","v":""},null,""]
["2026-02-01",{"$f":"IF('CPILFESL pc1'!B829=\"\",\"\",'LNU00000060 lin'!B829/('UNRATE lin'!B829+'CPILFESL pc1'!B829))","v":""},null,""]
["2026-03-01",{"$f":"IF('CPILFESL pc1'!B830=\"\",\"\",'LNU00000060 lin'!B830/('UNRATE lin'!B830+'CPILFESL pc1'!B830))","v":""},null,""]
["2026-04-01",{"$f":"IF('CPILFESL pc1'!B831=\"\",\"\",'LNU00000060 lin'!B831/('UNRATE lin'!B831+'CPILFESL pc1'!B831))","v":""},null,""]
["2026-05-01",{"$f":"IF('CPILFESL pc1'!B832=\"\",\"\",'LNU00000060 lin'!B832/('UNRATE lin'!B832+'CPILFESL pc1'!B832))","v":""},null,""]
["2026-06-01",{"$f":"IF('CPILFESL pc1'!B833=\"\",\"\",'LNU00000060 lin'!B833/('UNRATE lin'!B833+'CPILFESL pc1'!B833))","v":""},null,""]
["2026-07-01",{"$f":"IF('CPILFESL pc1'!B834=\"\",\"\",'LNU00000060 lin'!B834/('UNRATE lin'!B834+'CPILFESL pc1'!B834))","v":""},null,""]
["2026-08-01",{"$f":"IF('CPILFESL pc1'!B835=\"\",\"\",'LNU00000060 lin'!B835/('UNRATE lin'!B835+'CPILFESL pc1'!B835))","v":""},null,""]
["2026-09-01",{"$f":"IF('CPILFESL pc1'!B836=\"\",\"\",'LNU00000060 lin'!B836/('UNRATE lin'!B836+'CPILFESL pc1'!B836))","v":""},null,""]
["2026-10-01",{"$f":"IF('CPILFESL pc1'!B837=\"\",\"\",'LNU00000060 lin'!B837/('UNRATE lin'!B837+'CPILFESL pc1'!B837))","v":""},null,""]
["2026-11-01",{"$f":"IF('CPILFESL pc1'!B838=\"\",\"\",'LNU00000060 lin'!B838/('UNRATE lin'!B838+'CPILFESL pc1'!B838))","v":""},null,""]
["2026-12-01",{"$f":"IF('CPILFESL pc1'!B839=\"\",\"\",'LNU00000060 lin'!B839/('UNRATE lin'!B839+'CPILFESL pc1'!B839))","v":""},null,""]
["2027-01-01",{"$f":"IF('CPILFESL pc1'!B840=\"\",\"\",'LNU00000060 lin'!B840/('UNRATE lin'!B840+'CPILFESL pc1'!B840))","v":""},null,""]
["2027-02-01",{"$f":"IF('CPILFESL pc1'!B841=\"\",\"\",'LNU00000060 lin'!B841/('UNRATE lin'!B841+'CPILFESL pc1'!B841))","v":""},null,""]
["2027-03-01",{"$f":"IF('CPILFESL pc1'!B842=\"\",\"\",'LNU00000060 lin'!B842/('UNRATE lin'!B842+'CPILFESL pc1'!B842))","v":""},null,""]
["2027-04-01",{"$f":"IF('CPILFESL pc1'!B843=\"\",\"\",'LNU00000060 lin'!B843/('UNRATE lin'!B843+'CPILFESL pc1'!B843))","v":""},null,""]
["2027-05-01",{"$f":"IF('CPILFESL pc1'!B844=\"\",\"\",'LNU00000060 lin'!B844/('UNRATE lin'!B844+'CPILFESL pc1'!B844))","v":""},null,{"$f":"IF(B844=\"\",\"\",A844)","v":""}]
["2027-06-01",{"$f":"IF('CPILFESL pc1'!B845=\"\",\"\",'LNU00000060 lin'!B845/('UNRATE lin'!B845+'CPILFESL pc1'!B845))","v":""},null,""]
["2027-07-01",{"$f":"IF('CPILFESL pc1'!B846=\"\",\"\",'LNU00000060 lin'!B846/('UNRATE lin'!B846+'CPILFESL pc1'!B846))","v":""},null,""]
["2027-08-01",{"$f":"IF('CPILFESL pc1'!B847=\"\",\"\",'LNU00000060 lin'!B847/('UNRATE lin'!B847+'CPILFESL pc1'!B847))","v":""},null,""]
["2027-09-01",{"$f":"IF('CPILFESL pc1'!B848=\"\",\"\",'LNU00000060 lin'!B848/('UNRATE lin'!B848+'CPILFESL pc1'!B848))","v":""},null,""]
["2027-10-01",{"$f":"IF('CPILFESL pc1'!B849=\"\",\"\",'LNU00000060 lin'!B849/('UNRATE lin'!B849+'CPILFESL pc1'!B849))","v":""},null,""]
["2027-11-01",{"$f":"IF('CPILFESL pc1'!B850=\"\",\"\",'LNU00000060 lin'!B850/('UNRATE lin'!B850+'CPILFESL pc1'!B850))","v":""},null,""]
["2027-12-01",{"$f":"IF('CPILFESL pc1'!B851=\"\",\"\",'LNU00000060 lin'!B851/('UNRATE lin'!B851+'CPILFESL pc1'!B851))","v":""},null,""]
["2028-01-01",{"$f":"IF('CPILFESL pc1'!B852=\"\",\"\",'LNU00000060 lin'!B852/('UNRATE lin'!B852+'CPILFESL pc1'!B852))","v":""},null,""]
["2028-02-01",{"$f":"IF('CPILFESL pc1'!B853=\"\",\"\",'LNU00000060 lin'!B853/('UNRATE lin'!B853+'CPILFESL pc1'!B853))","v":""},null,""]
["2028-03-01",{"$f":"IF('CPILFESL pc1'!B854=\"\",\"\",'LNU00000060 lin'!B854/('UNRATE lin'!B854+'CPILFESL pc1'!B854))","v":""},null,""]
["2028-04-01",{"$f":"IF('CPILFESL pc1'!B855=\"\",\"\",'LNU00000060 lin'!B855/('UNRATE lin'!B855+'CPILFESL pc1'!B855))","v":""},null,""]
["2028-05-01",{"$f":"IF('CPILFESL pc1'!B856=\"\",\"\",'LNU00000060 lin'!B856/('UNRATE lin'!B856+'CPILFESL pc1'!B856))","v":""},null,""]
["2028-06-01",{"$f":"IF('CPILFESL pc1'!B857=\"\",\"\",'LNU00000060 lin'!B857/('UNRATE lin'!B857+'CPILFESL pc1'!B857))","v":""},null,""]
["2028-07-01",{"$f":"IF('CPILFESL pc1'!B858=\"\",\"\",'LNU00000060 lin'!B858/('UNRATE lin'!B858+'CPILFESL pc1'!B858))","v":""},null,""]
["2028-08-01",{"$f":"IF('CPILFESL pc1'!B859=\"\",\"\",'LNU00000060 lin'!B859/('UNRATE lin'!B859+'CPILFESL pc1'!B859))","v":""},null,""]
["2028-09-01",{"$f":"IF('CPILFESL pc1'!B860=\"\",\"\",'LNU00000060 lin'!B860/('UNRATE lin'!B860+'CPILFESL pc1'!B860))","v":""},null,""]
["2028-10-01",{"$f":"IF('CPILFESL pc1'!B861=\"\",\"\",'LNU00000060 lin'!B861/('UNRATE lin'!B861+'CPILFESL pc1'!B861))","v":""},null,""]
["2028-11-01",{"$f":"IF('CPILFESL pc1'!B862=\"\",\"\",'LNU00000060 lin'!B862/('UNRATE lin'!B862+'CPILFESL pc1'!B862))","v":""},null,""]
["2028-12-01",{"$f":"IF('CPILFESL pc1'!B863=\"\",\"\",'LNU00000060 lin'!B863/('UNRATE lin'!B863+'CPILFESL pc1'!B863))","v":""},null,""]
["2029-01-01",{"$f":"IF('CPILFESL pc1'!B864=\"\",\"\",'LNU00000060 lin'!B864/('UNRATE lin'!B864+'CPILFESL pc1'!B864))","v":""},null,""]
["2029-02-01",{"$f":"IF('CPILFESL pc1'!B865=\"\",\"\",'LNU00000060 lin'!B865/('UNRATE lin'!B865+'CPILFESL pc1'!B865))","v":""},null,""]
["2029-03-01",{"$f":"IF('CPILFESL pc1'!B866=\"\",\"\",'LNU00000060 lin'!B866/('UNRATE lin'!B866+'CPILFESL pc1'!B866))","v":""},null,""]
["2029-04-01",{"$f":"IF('CPILFESL pc1'!B867=\"\",\"\",'LNU00000060 lin'!B867/('UNRATE lin'!B867+'CPILFESL pc1'!B867))","v":""},null,""]
["2029-05-01",{"$f":"IF('CPILFESL pc1'!B868=\"\",\"\",'LNU00000060 lin'!B868/('UNRATE lin'!B868+'CPILFESL pc1'!B868))","v":""},null,""]
["2029-06-01",{"$f":"IF('CPILFESL pc1'!B869=\"\",\"\",'LNU00000060 lin'!B869/('UNRATE lin'!B869+'CPILFESL pc1'!B869))","v":""},null,""]
["2029-07-01",{"$f":"IF('CPILFESL pc1'!B870=\"\",\"\",'LNU00000060 lin'!B870/('UNRATE lin'!B870+'CPILFESL pc1'!B870))","v":""},null,""]
["2029-08-01",{"$f":"IF('CPILFESL pc1'!B871=\"\",\"\",'LNU00000060 lin'!B871/('UNRATE lin'!B871+'CPILFESL pc1'!B871))","v":""},null,""]
["2029-09-01",{"$f":"IF('CPILFESL pc1'!B872=\"\",\"\",'LNU00000060 lin'!B872/('UNRATE lin'!B872+'CPILFESL pc1'!B872))","v":""},null,""]
["2029-10-01",{"$f":"IF('CPILFESL pc1'!B873=\"\",\"\",'LNU00000060 lin'!B873/('UNRATE lin'!B873+'CPILFESL pc1'!B873))","v":""},null,""]
["2029-11-01",{"$f":"IF('CPILFESL pc1'!B874=\"\",\"\",'LNU00000060 lin'!B874/('UNRATE lin'!B874+'CPILFESL pc1'!B874))","v":""},null,""]
["2029-12-01",{"$f":"IF('CPILFESL pc1'!B875=\"\",\"\",'LNU00000060 lin'!B875/('UNRATE lin'!B875+'CPILFESL pc1'!B875))","v":""},null,""]
["2030-01-01",{"$f":"IF('CPILFESL pc1'!B876=\"\",\"\",'LNU00000060 lin'!B876/('UNRATE lin'!B876+'CPILFESL pc1'!B876))","v":""},null,""]
["2030-02-01",{"$f":"IF('CPILFESL pc1'!B877=\"\",\"\",'LNU00000060 lin'!B877/('UNRATE lin'!B877+'CPILFESL pc1'!B877))","v":""},null,""]
["2030-03-01",{"$f":"IF('CPILFESL pc1'!B878=\"\",\"\",'LNU00000060 lin'!B878/('UNRATE lin'!B878+'CPILFESL pc1'!B878))","v":""},null,""]
["2030-04-01",{"$f":"IF('CPILFESL pc1'!B879=\"\",\"\",'LNU00000060 lin'!B879/('UNRATE lin'!B879+'CPILFESL pc1'!B879))","v":""},null,""]
["2030-05-01",{"$f":"IF('CPILFESL pc1'!B880=\"\",\"\",'LNU00000060 lin'!B880/('UNRATE lin'!B880+'CPILFESL pc1'!B880))","v":""},null,""]
["2030-06-01",{"$f":"IF('CPILFESL pc1'!B881=\"\",\"\",'LNU00000060 lin'!B881/('UNRATE lin'!B881+'CPILFESL pc1'!B881))","v":""},null,""]
["2030-07-01",{"$f":"IF('CPILFESL pc1'!B882=\"\",\"\",'LNU00000060 lin'!B882/('UNRATE lin'!B882+'CPILFESL pc1'!B882))","v":""},null,""]
["2030-08-01",{"$f":"IF('CPILFESL pc1'!B883=\"\",\"\",'LNU00000060 lin'!B883/('UNRATE lin'!B883+'CPILFESL pc1'!B883))","v":""},null,""]
["2030-09-01",{"$f":"IF('CPILFESL pc1'!B884=\"\",\"\",'LNU00000060 lin'!B884/('UNRATE lin'!B884+'CPILFESL pc1'!B884))","v":""},null,""]
["2030-10-01",{"$f":"IF('CPILFESL pc1'!B885=\"\",\"\",'LNU00000060 lin'!B885/('UNRATE lin'!B885+'CPILFESL pc1'!B885))","v":""},null,""]
["2030-11-01",{"$f":"IF('CPILFESL pc1'!B886=\"\",\"\",'LNU00000060 lin'!B886/('UNRATE lin'!B886+'CPILFESL pc1'!B886))","v":""},null,""]
["2030-12-01",{"$f":"IF('CPILFESL pc1'!B887=\"\",\"\",'LNU00000060 lin'!B887/('UNRATE lin'!B887+'CPILFESL pc1'!B887))","v":""},null,""]
["2031-01-01",{"$f":"IF('CPILFESL pc1'!B888=\"\",\"\",'LNU00000060 lin'!B888/('UNRATE lin'!B888+'CPILFESL pc1'!B888))","v":""},null,""]
["2031-02-01",{"$f":"IF('CPILFESL pc1'!B889=\"\",\"\",'LNU00000060 lin'!B889/('UNRATE lin'!B889+'CPILFESL pc1'!B889))","v":""},null,""]
["2031-03-01",{"$f":"IF('CPILFESL pc1'!B890=\"\",\"\",'LNU00000060 lin'!B890/('UNRATE lin'!B890+'CPILFESL pc1'!B890))","v":""},null,""]
["2031-04-01",{"$f":"IF('CPILFESL pc1'!B891=\"\",\"\",'LNU00000060 lin'!B891/('UNRATE lin'!B891+'CPILFESL pc1'!B891))","v":""},null,""]
["2031-05-01",{"$f":"IF('CPILFESL pc1'!B892=\"\",\"\",'LNU00000060 lin'!B892/('UNRATE lin'!B892+'CPILFESL pc1'!B892))","v":""},null,""]
["2031-06-01",{"$f":"IF('CPILFESL pc1'!B893=\"\",\"\",'LNU00000060 lin'!B893/('UNRATE lin'!B893+'CPILFESL pc1'!B893))","v":""},null,""]
["2031-07-01",{"$f":"IF('CPILFESL pc1'!B894=\"\",\"\",'LNU00000060 lin'!B894/('UNRATE lin'!B894+'CPILFESL pc1'!B894))","v":""},null,""]
["2031-08-01",{"$f":"IF('CPILFESL pc1'!B895=\"\",\"\",'LNU00000060 lin'!B895/('UNRATE lin'!B895+'CPILFESL pc1'!B895))","v":""},null,""]
["2031-09-01",{"$f":"IF('CPILFESL pc1'!B896=\"\",\"\",'LNU00000060 lin'!B896/('UNRATE lin'!B896+'CPILFESL pc1'!B896))","v":""},null,""]
["2031-10-01",{"$f":"IF('CPILFESL pc1'!B897=\"\",\"\",'LNU00000060 lin'!B897/('UNRATE lin'!B897+'CPILFESL pc1'!B897))","v":""},null,""]
["2031-11-01",{"$f":"IF('CPILFESL pc1'!B898=\"\",\"\",'LNU00000060 lin'!B898/('UNRATE lin'!B898+'CPILFESL pc1'!B898))","v":""},null,""]
["2031-12-01",{"$f":"IF('CPILFESL pc1'!B899=\"\",\"\",'LNU00000060 lin'!B899/('UNRATE lin'!B899+'CPILFESL pc1'!B899))","v":""},null,""]
["2032-01-01",{"$f":"IF('CPILFESL pc1'!B900=\"\",\"\",'LNU00000060 lin'!B900/('UNRATE lin'!B900+'CPILFESL pc1'!B900))","v":""},null,""]
["2032-02-01",{"$f":"IF('CPILFESL pc1'!B901=\"\",\"\",'LNU00000060 lin'!B901/('UNRATE lin'!B901+'CPILFESL pc1'!B901))","v":""},null,""]
["2032-03-01",{"$f":"IF('CPILFESL pc1'!B902=\"\",\"\",'LNU00000060 lin'!B902/('UNRATE lin'!B902+'CPILFESL pc1'!B902))","v":""},null,""]
["2032-04-01",{"$f":"IF('CPILFESL pc1'!B903=\"\",\"\",'LNU00000060 lin'!B903/('UNRATE lin'!B903+'CPILFESL pc1'!B903))","v":""},null,""]
["2032-05-01",{"$f":"IF('CPILFESL pc1'!B904=\"\",\"\",'LNU00000060 lin'!B904/('UNRATE lin'!B904+'CPILFESL pc1'!B904))","v":""},null,""]
["2032-06-01",{"$f":"IF('CPILFESL pc1'!B905=\"\",\"\",'LNU00000060 lin'!B905/('UNRATE lin'!B905+'CPILFESL pc1'!B905))","v":""},null,""]
["2032-07-01",{"$f":"IF('CPILFESL pc1'!B906=\"\",\"\",'LNU00000060 lin'!B906/('UNRATE lin'!B906+'CPILFESL pc1'!B906))","v":""},null,""]
["2032-08-01",{"$f":"IF('CPILFESL pc1'!B907=\"\",\"\",'LNU00000060 lin'!B907/('UNRATE lin'!B907+'CPILFESL pc1'!B907))","v":""},null,""]
["2032-09-01",{"$f":"IF('CPILFESL pc1'!B908=\"\",\"\",'LNU00000060 lin'!B908/('UNRATE lin'!B908+'CPILFESL pc1'!B908))","v":""},null,{"$f":"IF(B908=\"\",\"\",A908)","v":""}]
["2032-10-01",{"$f":"IF('CPILFESL pc1'!B909=\"\",\"\",'LNU00000060 lin'!B909/('UNRATE lin'!B909+'CPILFESL pc1'!B909))","v":""},null,""]
["2032-11-01",{"$f":"IF('CPILFESL pc1'!B910=\"\",\"\",'LNU00000060 lin'!B910/('UNRATE lin'!B910+'CPILFESL pc1'!B910))","v":""},null,""]
["2032-12-01",{"$f":"IF('CPILFESL pc1'!B911=\"\",\"\",'LNU00000060 lin'!B911/('UNRATE lin'!B911+'CPILFESL pc1'!B911))","v":""},null,""]
["2033-01-01",{"$f":"IF('CPILFESL pc1'!B912=\"\",\"\",'LNU00000060 lin'!B912/('UNRATE lin'!B912+'CPILFESL pc1'!B912))","v":""},null,""]
["2033-02-01",{"$f":"IF('CPILFESL pc1'!B913=\"\",\"\",'LNU00000060 lin'!B913/('UNRATE lin'!B913+'CPILFESL pc1'!B913))","v":""},null,""]
["2033-03-01",{"$f":"IF('CPILFESL pc1'!B914=\"\",\"\",'LNU00000060 lin'!B914/('UNRATE lin'!B914+'CPILFESL pc1'!B914))","v":""},null,""]
["2033-04-01",{"$f":"IF('CPILFESL pc1'!B915=\"\",\"\",'LNU00000060 lin'!B915/('UNRATE lin'!B915+'CPILFESL pc1'!B915))","v":""},null,""]
["2033-05-01",{"$f":"IF('CPILFESL pc1'!B916=\"\",\"\",'LNU00000060 lin'!B916/('UNRATE lin'!B916+'CPILFESL pc1'!B916))","v":""},null,""]
["2033-06-01",{"$f":"IF('CPILFESL pc1'!B917=\"\",\"\",'LNU00000060 lin'!B917/('UNRATE lin'!B917+'CPILFESL pc1'!B917))","v":""},null,""]
["2033-07-01",{"$f":"IF('CPILFESL pc1'!B918=\"\",\"\",'LNU00000060 lin'!B918/('UNRATE lin'!B918+'CPILFESL pc1'!B918))","v":""},null,""]
["2033-08-01",{"$f":"IF('CPILFESL pc1'!B919=\"\",\"\",'LNU00000060 lin'!B919/('UNRATE lin'!B919+'CPILFESL pc1'!B919))","v":""},null,""]
["2033-09-01",{"$f":"IF('CPILFESL pc1'!B920=\"\",\"\",'LNU00000060 lin'!B920/('UNRATE lin'!B920+'CPILFESL pc1'!B920))","v":""},null,""]
["2033-10-01",{"$f":"IF('CPILFESL pc1'!B921=\"\",\"\",'LNU00000060 lin'!B921/('UNRATE lin'!B921+'CPILFESL pc1'!B921))","v":""},null,""]
["2033-11-01",{"$f":"IF('CPILFESL pc1'!B922=\"\",\"\",'LNU00000060 lin'!B922/('UNRATE lin'!B922+'CPILFESL pc1'!B922))","v":""},null,""]
["2033-12-01",{"$f":"IF('CPILFESL pc1'!B923=\"\",\"\",'LNU00000060 lin'!B923/('UNRATE lin'!B923+'CPILFESL pc1'!B923))","v":""},null,""]
["2034-01-01",{"$f":"IF('CPILFESL pc1'!B924=\"\",\"\",'LNU00000060 lin'!B924/('UNRATE lin'!B924+'CPILFESL pc1'!B924))","v":""},null,""]
["2034-02-01",{"$f":"IF('CPILFESL pc1'!B925=\"\",\"\",'LNU00000060 lin'!B925/('UNRATE lin'!B925+'CPILFESL pc1'!B925))","v":""},null,""]
["2034-03-01",{"$f":"IF('CPILFESL pc1'!B926=\"\",\"\",'LNU00000060 lin'!B926/('UNRATE lin'!B926+'CPILFESL pc1'!B926))","v":""},null,""]
["2034-04-01",{"$f":"IF('CPILFESL pc1'!B927=\"\",\"\",'LNU00000060 lin'!B927/('UNRATE lin'!B927+'CPILFESL pc1'!B927))","v":""},null,""]
["2034-05-01",{"$f":"IF('CPILFESL pc1'!B928=\"\",\"\",'LNU00000060 lin'!B928/('UNRATE lin'!B928+'CPILFESL pc1'!B928))","v":""},null,""]
["2034-06-01",{"$f":"IF('CPILFESL pc1'!B929=\"\",\"\",'LNU00000060 lin'!B929/('UNRATE lin'!B929+'CPILFESL pc1'!B929))","v":""},null,""]
["2034-07-01",{"$f":"IF('CPILFESL pc1'!B930=\"\",\"\",'LNU00000060 lin'!B930/('UNRATE lin'!B930+'CPILFESL pc1'!B930))","v":""},null,""]
["2034-08-01",{"$f":"IF('CPILFESL pc1'!B931=\"\",\"\",'LNU00000060 lin'!B931/('UNRATE lin'!B931+'CPILFESL pc1'!B931))","v":""},null,""]
["2034-09-01",{"$f":"IF('CPILFESL pc1'!B932=\"\",\"\",'LNU00000060 lin'!B932/('UNRATE lin'!B932+'CPILFESL pc1'!B932))","v":""},null,""]
["2034-10-01",{"$f":"IF('CPILFESL pc1'!B933=\"\",\"\",'LNU00000060 lin'!B933/('UNRATE lin'!B933+'CPILFESL pc1'!B933))","v":""},null,""]
["2034-11-01",{"$f":"IF('CPILFESL pc1'!B934=\"\",\"\",'LNU00000060 lin'!B934/('UNRATE lin'!B934+'CPILFESL pc1'!B934))","v":""},null,""]
["2034-12-01",{"$f":"IF('CPILFESL pc1'!B935=\"\",\"\",'LNU00000060 lin'!B935/('UNRATE lin'!B935+'CPILFESL pc1'!B935))","v":""},null,""]
["2035-01-01",{"$f":"IF('CPILFESL pc1'!B936=\"\",\"\",'LNU00000060 lin'!B936/('UNRATE lin'!B936+'CPILFESL pc1'!B936))","v":""},null,""]
["2035-02-01",{"$f":"IF('CPILFESL pc1'!B937=\"\",\"\",'LNU00000060 lin'!B937/('UNRATE lin'!B937+'CPILFESL pc1'!B937))","v":""},null,""]
["2035-03-01",{"$f":"IF('CPILFESL pc1'!B938=\"\",\"\",'LNU00000060 lin'!B938/('UNRATE lin'!B938+'CPILFESL pc1'!B938))","v":""},null,""]
["2035-04-01",{"$f":"IF('CPILFESL pc1'!B939=\"\",\"\",'LNU00000060 lin'!B939/('UNRATE lin'!B939+'CPILFESL pc1'!B939))","v":""},null,""]
["2035-05-01",{"$f":"IF('CPILFESL pc1'!B940=\"\",\"\",'LNU00000060 lin'!B940/('UNRATE lin'!B940+'CPILFESL pc1'!B940))","v":""},null,""]
["2035-06-01",{"$f":"IF('CPILFESL pc1'!B941=\"\",\"\",'LNU00000060 lin'!B941/('UNRATE lin'!B941+'CPILFESL pc1'!B941))","v":""},null,""]
["2035-07-01",{"$f":"IF('CPILFESL pc1'!B942=\"\",\"\",'LNU00000060 lin'!B942/('UNRATE lin'!B942+'CPILFESL pc1'!B942))","v":""},null,""]
["2035-08-01",{"$f":"IF('CPILFESL pc1'!B943=\"\",\"\",'LNU00000060 lin'!B943/('UNRATE lin'!B943+'CPILFESL pc1'!B943))","v":""},null,""]
["2035-09-01",{"$f":"IF('CPILFESL pc1'!B944=\"\",\"\",'LNU00000060 lin'!B944/('UNRATE lin'!B944+'CPILFESL pc1'!B944))","v":""},null,""]
["2035-10-01",{"$f":"IF('CPILFESL pc1'!B945=\"\",\"\",'LNU00000060 lin'!B945/('UNRATE lin'!B945+'CPILFESL pc1'!B945))","v":""},null,""]
["2035-11-01",{"$f":"IF('CPILFESL pc1'!B946=\"\",\"\",'LNU00000060 lin'!B946/('UNRATE lin'!B946+'CPILFESL pc1'!B946))","v":""},null,""]
["2035-12-01",{"$f":"IF('CPILFESL pc1'!B947=\"\",\"\",'LNU00000060 lin'!B947/('UNRATE lin'!B947+'CPILFESL pc1'!B947))","v":""},null,""]
["2036-01-01",{"$f":"IF('CPILFESL pc1'!B948=\"\",\"\",'LNU00000060 lin'!B948/('UNRATE lin'!B948+'CPILFESL pc1'!B948))","v":""},null,""]
["2036-02-01",{"$f":"IF('CPILFESL pc1'!B949=\"\",\"\",'LNU00000060 lin'!B949/('UNRATE lin'!B949+'CPILFESL pc1'!B949))","v":""},null,""]
["2036-03-01",{"$f":"IF('CPILFESL pc1'!B950=\"\",\"\",'LNU00000060 lin'!B950/('UNRATE lin'!B950+'CPILFESL pc1'!B950))","v":""},null,""]
["2036-04-01",{"$f":"IF('CPILFESL pc1'!B951=\"\",\"\",'LNU00000060 lin'!B951/('UNRATE lin'!B951+'CPILFESL pc1'!B951))","v":""},null,""]
["2036-05-01",{"$f":"IF('CPILFESL pc1'!B952=\"\",\"\",'LNU00000060 lin'!B952/('UNRATE lin'!B952+'CPILFESL pc1'!B952))","v":""},null,""]
["2036-06-01",{"$f":"IF('CPILFESL pc1'!B953=\"\",\"\",'LNU00000060 lin'!B953/('UNRATE lin'!B953+'CPILFESL pc1'!B953))","v":""},null,""]
["2036-07-01",{"$f":"IF('CPILFESL pc1'!B954=\"\",\"\",'LNU00000060 lin'!B954/('UNRATE lin'!B954+'CPILFESL pc1'!B954))","v":""},null,""]
["2036-08-01",{"$f":"IF('CPILFESL pc1'!B955=\"\",\"\",'LNU00000060 lin'!B955/('UNRATE lin'!B955+'CPILFESL pc1'!B955))","v":""},null,""]
["2036-09-01",{"$f":"IF('CPILFESL pc1'!B956=\"\",\"\",'LNU00000060 lin'!B956/('UNRATE lin'!B956+'CPILFESL pc1'!B956))","v":""},null,""]
["2036-10-01",{"$f":"IF('CPILFESL pc1'!B957=\"\",\"\",'LNU00000060 lin'!B957/('UNRATE lin'!B957+'CPILFESL pc1'!B957))","v":""},null,""]
["2036-11-01",{"$f":"IF('CPILFESL pc1'!B958=\"\",\"\",'LNU00000060 lin'!B958/('UNRATE lin'!B958+'CPILFESL pc1'!B958))","v":""},null,""]
["2036-12-01",{"$f":"IF('CPILFESL pc1'!B959=\"\",\"\",'LNU00000060 lin'!B959/('UNRATE lin'!B959+'CPILFESL pc1'!B959))","v":""},null,""]
["2037-01-01",{"$f":"IF('CPILFESL pc1'!B960=\"\",\"\",'LNU00000060 lin'!B960/('UNRATE lin'!B960+'CPILFESL pc1'!B960))","v":""},null,""]
["2037-02-01",{"$f":"IF('CPILFESL pc1'!B961=\"\",\"\",'LNU00000060 lin'!B961/('UNRATE lin'!B961+'CPILFESL pc1'!B961))","v":""},null,""]
["2037-03-01",{"$f":"IF('CPILFESL pc1'!B962=\"\",\"\",'LNU00000060 lin'!B962/('UNRATE lin'!B962+'CPILFESL pc1'!B962))","v":""},null,""]
["2037-04-01",{"$f":"IF('CPILFESL pc1'!B963=\"\",\"\",'LNU00000060 lin'!B963/('UNRATE lin'!B963+'CPILFESL pc1'!B963))","v":""},null,""]
["2037-05-01",{"$f":"IF('CPILFESL pc1'!B964=\"\",\"\",'LNU00000060 lin'!B964/('UNRATE lin'!B964+'CPILFESL pc1'!B964))","v":""},null,""]
["2037-06-01",{"$f":"IF('CPILFESL pc1'!B965=\"\",\"\",'LNU00000060 lin'!B965/('UNRATE lin'!B965+'CPILFESL pc1'!B965))","v":""},null,""]
["2037-07-01",{"$f":"IF('CPILFESL pc1'!B966=\"\",\"\",'LNU00000060 lin'!B966/('UNRATE lin'!B966+'CPILFESL pc1'!B966))","v":""},null,""]
["2037-08-01",{"$f":"IF('CPILFESL pc1'!B967=\"\",\"\",'LNU00000060 lin'!B967/('UNRATE lin'!B967+'CPILFESL pc1'!B967))","v":""},null,""]
["2037-09-01",{"$f":"IF('CPILFESL pc1'!B968=\"\",\"\",'LNU00000060 lin'!B968/('UNRATE lin'!B968+'CPILFESL pc1'!B968))","v":""},null,""]
["2037-10-01",{"$f":"IF('CPILFESL pc1'!B969=\"\",\"\",'LNU00000060 lin'!B969/('UNRATE lin'!B969+'CPILFESL pc1'!B969))","v":""},null,""]
["2037-11-01",{"$f":"IF('CPILFESL pc1'!B970=\"\",\"\",'LNU00000060 lin'!B970/('UNRATE lin'!B970+'CPILFESL pc1'!B970))","v":""},null,""]
["2037-12-01",{"$f":"IF('CPILFESL pc1'!B971=\"\",\"\",'LNU00000060 lin'!B971/('UNRATE lin'!B971+'CPILFESL pc1'!B971))","v":""},null,""]
["2038-01-01",{"$f":"IF('CPILFESL pc1'!B972=\"\",\"\",'LNU00000060 lin'!B972/('UNRATE lin'!B972+'CPILFESL pc1'!B972))","v":""},null,{"$f":"IF(B972=\"\",\"\",A972)","v":""}]
["2038-02-01",{"$f":"IF('CPILFESL pc1'!B973=\"\",\"\",'LNU00000060 lin'!B973/('UNRATE lin'!B973+'CPILFESL pc1'!B973))","v":""},null,""]
["2038-03-01",{"$f":"IF('CPILFESL pc1'!B974=\"\",\"\",'LNU00000060 lin'!B974/('UNRATE lin'!B974+'CPILFESL pc1'!B974))","v":""},null,""]
["2038-04-01",{"$f":"IF('CPILFESL pc1'!B975=\"\",\"\",'LNU00000060 lin'!B975/('UNRATE lin'!B975+'CPILFESL pc1'!B975))","v":""},null,""]
["2038-05-01",{"$f":"IF('CPILFESL pc1'!B976=\"\",\"\",'LNU00000060 lin'!B976/('UNRATE lin'!B976+'CPILFESL pc1'!B976))","v":""},null,""]
["2038-06-01",{"$f":"IF('CPILFESL pc1'!B977=\"\",\"\",'LNU00000060 lin'!B977/('UNRATE lin'!B977+'CPILFESL pc1'!B977))","v":""},null,""]
["2038-07-01",{"$f":"IF('CPILFESL pc1'!B978=\"\",\"\",'LNU00000060 lin'!B978/('UNRATE lin'!B978+'CPILFESL pc1'!B978))","v":""},null,""]
["2038-08-01",{"$f":"IF('CPILFESL pc1'!B979=\"\",\"\",'LNU00000060 lin'!B979/('UNRATE lin'!B979+'CPILFESL pc1'!B979))","v":""},null,""]
["2038-09-01",{"$f":"IF('CPILFESL pc1'!B980=\"\",\"\",'LNU00000060 lin'!B980/('UNRATE lin'!B980+'CPILFESL pc1'!B980))","v":""},null,""]
["2038-10-01",{"$f":"IF('CPILFESL pc1'!B981=\"\",\"\",'LNU00000060 lin'!B981/('UNRATE lin'!B981+'CPILFESL pc1'!B981))","v":""},null,""]
["2038-11-01",{"$f":"IF('CPILFESL pc1'!B982=\"\",\"\",'LNU00000060 lin'!B982/('UNRATE lin'!B982+'CPILFESL pc1'!B982))","v":""},null,""]
["2038-12-01",{"$f":"IF('CPILFESL pc1'!B983=\"\",\"\",'LNU00000060 lin'!B983/('UNRATE lin'!B983+'CPILFESL pc1'!B983))","v":""},null,""]
["2039-01-01",{"$f":"IF('CPILFESL pc1'!B984=\"\",\"\",'LNU00000060 lin'!B984/('UNRATE lin'!B984+'CPILFESL pc1'!B984))","v":""},null,""]
["2039-02-01",{"$f":"IF('CPILFESL pc1'!B985=\"\",\"\",'LNU00000060 lin'!B985/('UNRATE lin'!B985+'CPILFESL pc1'!B985))","v":""},null,""]
["2039-03-01",{"$f":"IF('CPILFESL pc1'!B986=\"\",\"\",'LNU00000060 lin'!B986/('UNRATE lin'!B986+'CPILFESL pc1'!B986))","v":""},null,""]
["2039-04-01",{"$f":"IF('CPILFESL pc1'!B987=\"\",\"\",'LNU00000060 lin'!B987/('UNRATE lin'!B987+'CPILFESL pc1'!B987))","v":""},null,""]
["2039-05-01",{"$f":"IF('CPILFESL pc1'!B988=\"\",\"\",'LNU00000060 lin'!B988/('UNRATE lin'!B988+'CPILFESL pc1'!B988))","v":""},null,""]
["2039-06-01",{"$f":"IF('CPILFESL pc1'!B989=\"\",\"\",'LNU00000060 lin'!B989/('UNRATE lin'!B989+'CPILFESL pc1'!B989))","v":""},null,""]
["2039-07-01",{"$f":"IF('CPILFESL pc1'!B990=\"\",\"\",'LNU00000060 lin'!B990/('UNRATE lin'!B990+'CPILFESL pc1'!B990))","v":""},null,""]
["2039-08-01",{"$f":"IF('CPILFESL pc1'!B991=\"\",\"\",'LNU00000060 lin'!B991/('UNRATE lin'!B991+'CPILFESL pc1'!B991))","v":""},null,""]
["2039-09-01",{"$f":"IF('CPILFESL pc1'!B992=\"\",\"\",'LNU00000060 lin'!B992/('UNRATE lin'!B992+'CPILFESL pc1'!B992))","v":""},null,""]
["2039-10-01",{"$f":"IF('CPILFESL pc1'!B993=\"\",\"\",'LNU00000060 lin'!B993/('UNRATE lin'!B993+'CPILFESL pc1'!B993))","v":""},null,""]
["2039-11-01",{"$f":"IF('CPILFESL pc1'!B994=\"\",\"\",'LNU00000060 lin'!B994/('UNRATE lin'!B994+'CPILFESL pc1'!B994))","v":""},null,""]
["2039-12-01",{"$f":"IF('CPILFESL pc1'!B995=\"\",\"\",'LNU00000060 lin'!B995/('UNRATE lin'!B995+'CPILFESL pc1'!B995))","v":""},null,""]
["2040-01-01",{"$f":"IF('CPILFESL pc1'!B996=\"\",\"\",'LNU00000060 lin'!B996/('UNRATE lin'!B996+'CPILFESL pc1'!B996))","v":""},null,""]
["2040-02-01",{"$f":"IF('CPILFESL pc1'!B997=\"\",\"\",'LNU00000060 lin'!B997/('UNRATE lin'!B997+'CPILFESL pc1'!B997))","v":""},null,""]
["2040-03-01",{"$f":"IF('CPILFESL pc1'!B998=\"\",\"\",'LNU00000060 lin'!B998/('UNRATE lin'!B998+'CPILFESL pc1'!B998))","v":""},null,""]
["2040-04-01",{"$f":"IF('CPILFESL pc1'!B999=\"\",\"\",'LNU00000060 lin'!B999/('UNRATE lin'!B999+'CPILFESL pc1'!B999))","v":""},null,""]
["2040-05-01",{"$f":"IF('CPILFESL pc1'!B1000=\"\",\"\",'LNU00000060 lin'!B1000/('UNRATE lin'!B1000+'CPILFESL pc1'!B1000))","v":""},null,""]
["2040-06-01",{"$f":"IF('CPILFESL pc1'!B1001=\"\",\"\",'LNU00000060 lin'!B1001/('UNRATE lin'!B1001+'CPILFESL pc1'!B1001))","v":""},null,""]
["2040-07-01",{"$f":"IF('CPILFESL pc1'!B1002=\"\",\"\",'LNU00000060 lin'!B1002/('UNRATE lin'!B1002+'CPILFESL pc1'!B1002))","v":""},null,""]
["2040-08-01",{"$f":"IF('CPILFESL pc1'!B1003=\"\",\"\",'LNU00000060 lin'!B1003/('UNRATE lin'!B1003+'CPILFESL pc1'!B1003))","v":""},null,""]
["2040-09-01",{"$f":"IF('CPILFESL pc1'!B1004=\"\",\"\",'LNU00000060 lin'!B1004/('UNRATE lin'!B1004+'CPILFESL pc1'!B1004))","v":""},null,""]
["2040-10-01",{"$f":"IF('CPILFESL pc1'!B1005=\"\",\"\",'LNU00000060 lin'!B1005/('UNRATE lin'!B1005+'CPILFESL pc1'!B1005))","v":""},null,""]
["2040-11-01",{"$f":"IF('CPILFESL pc1'!B1006=\"\",\"\",'LNU00000060 lin'!B1006/('UNRATE lin'!B1006+'CPILFESL pc1'!B1006))","v":""},null,""]
["2040-12-01",{"$f":"IF('CPILFESL pc1'!B1007=\"\",\"\",'LNU00000060 lin'!B1007/('UNRATE lin'!B1007+'CPILFESL pc1'!B1007))","v":""},null,""]

{"sheet":"data","index":19,"n_rows":603,"n_cols":3,"rows_kept":603,"cut":false,"hidden":false,"merged":[]}
["FRED Graph Observations"]
["Federal Reserve Economic Data"]
["Link: https://fred.stlouisfed.org"]
["Help: https://fred.stlouisfed.org/help-faq"]
["Economic Research Division"]
["Federal Reserve Bank of St. Louis"]
[]
["LNU00000060_UNRATE_CPILFESL_PC1","LNU00000060/(UNRATE+CPILFESL), Index Jul 1990=100 of (Thous. of Persons/(%+% Chg. from Yr. Ago)), Monthly"]
["WILL5000PR_CPIAUCNS","WILL5000PR/CPIAUCNS, Index Jul 1990=100 of (Index/Index 1982-1984=100), Monthly, Not Seasonally Adjusted"]
[]
["Frequency: Monthly"]
["observation_date","LNU00000060_UNRATE_CPILFESL_PC1","WILL5000PR_CPIAUCNS"]
["1971-01-01",57.832940000000001,84.544449999999998]
["1971-02-01",59.253489999999999,85.497150000000005]
["1971-03-01",62.943840000000002,88.920649999999995]
["1971-04-01",65.256590000000003,91.785150000000002]
["1971-05-01",63.942880000000002,87.943200000000004]
["1971-06-01",65.673330000000007,87.490769999999998]
["1971-07-01",65.205150000000003,84.056129999999996]
["1971-08-01",66.360730000000004,86.805030000000002]
["1971-09-01",70.487989999999996,86.335679999999996]
["1971-10-01",74.008870000000002,82.649349999999998]
["1971-11-01",76.56532,82.067160000000001]
["1971-12-01",78.871510000000001,88.990390000000005]
["1972-01-01",78.840400000000002,91.565619999999996]
["1972-02-01",79.956010000000006,93.833309999999997]
["1972-03-01",79.209990000000005,94.28698]
["1972-04-01",80.384739999999994,94.651200000000003]
["1972-05-01",82.860969999999995,95.712019999999995]
["1972-06-01",85.394490000000005,93.353639999999999]
["1972-07-01",86.651150000000001,92.554919999999996]
["1972-08-01",84.507530000000003,95.215130000000002]
["1972-09-01",85.632009999999994,94.098479999999995]
["1972-10-01",84.816209999999998,94.367689999999996]
["1972-11-01",90.600390000000004,98.168970000000002]
["1972-12-01",89.387519999999995,98.84639]
["1973-01-01",98.863069999999993,95.851230000000001]
["1973-02-01",94.884420000000006,90.721689999999995]
["1973-03-01",90.888379999999998,89.127250000000004]
["1973-04-01",92.661439999999999,84.030010000000004]
["1973-05-01",91.430030000000002,81.093940000000003]
["1973-06-01",91.643619999999999,79.749390000000005]
["1973-07-01",93.029240000000001,83.932919999999996]
["1973-08-01",93.339110000000005,79.582099999999997]
["1973-09-01",86.15231,83.456810000000004]
["1973-10-01",83.933779999999999,82.700220000000002]
["1973-11-01",78.323830000000001,71.738110000000006]
["1973-12-01",77.861140000000006,71.866910000000004]
["1974-01-01",73.228350000000006,71.402169999999998]
["1974-02-01",71.249679999999998,70.371250000000003]
["1974-03-01",69.239850000000004,67.624300000000005]
["1974-04-01",66.704170000000005,64.183059999999998]
["1974-05-01",62.117899999999999,60.255949999999999]
["1974-06-01",56.780529999999999,58.148949999999999]
["1974-07-01",53.037550000000003,53.530270000000002]
["1974-08-01",49.452800000000003,47.780360000000002]
["1974-09-01",47.148249999999997,41.88355]
["1974-10-01",45.886330000000001,48.212350000000001]
["1974-11-01",43.37171,45.477449999999997]
["1974-12-01",41.130760000000002,43.826279999999997]
["1975-01-01",38.95355,49.958930000000002]
["1975-02-01",38.319310000000002,52.317219999999999]
["1975-03-01",38.406280000000002,53.39302]
["1975-04-01",38.206029999999998,55.645719999999997]
["1975-05-01",39.777349999999998,58.106529999999999]
["1975-06-01",41.365819999999999,60.395159999999997]
["1975-07-01",43.569279999999999,55.951059999999998]
["1975-08-01",47.155880000000003,54.372100000000003]
["1975-09-01",48.635669999999998,51.840580000000003]
["1975-10-01",50.167070000000002,54.306339999999999]
["1975-11-01",50.750630000000001,55.325130000000001]
["1975-12-01",52.004539999999999,54.438470000000002]
["1976-01-01",52.604480000000002,61.015410000000003]
["1976-02-01",55.076979999999999,60.894080000000002]
["1976-03-01",54.905729999999998,62.273269999999997]
["1976-04-01",55.46716,61.376130000000003]
["1976-05-01",56.099699999999999,59.978700000000003]
["1976-06-01",56.280610000000003,62.055109999999999]
["1976-07-01",54.235210000000002,61.25808]
["1976-08-01",53.725290000000001,60.474080000000001]
["1976-09-01",54.696019999999997,61.589239999999997]
["1976-10-01",54.526940000000003,59.884639999999997]
["1976-11-01",55.808680000000003,59.738210000000002]
["1976-12-01",56.773960000000002,63.169449999999998]
["1977-01-01",58.295409999999997,60.519210000000001]
["1977-02-01",57.343249999999998,58.673270000000002]
["1977-03-01",58.404559999999996,57.556150000000002]
["1977-04-01",58.690190000000001,57.373199999999997]
["1977-05-01",59.822209999999998,56.36891]
["1977-06-01",57.638030000000001,58.346710000000002]
["1977-07-01",60.773229999999998,57.205150000000003]
["1977-08-01",60.560980000000001,55.88308]
["1977-09-01",61.741289999999999,55.689749999999997]
["1977-10-01",62.819800000000001,53.266570000000002]
["1977-11-01",62.196820000000002,54.924950000000003]
["1977-12-01",62.689259999999997,55.070689999999999]
["1978-01-01",63.001739999999998,51.58652]
["1978-02-01",64.66301,50.369030000000002]
["1978-03-01",64.059849999999997,51.523940000000003]
["1978-04-01",63.659109999999998,55.257779999999997]
["1978-05-01",63.608640000000001,55.593809999999998]
["1978-06-01",63.626609999999999,54.247610000000002]
["1978-07-01",60.851689999999998,56.838009999999997]
["1978-08-01",61.000039999999998,58.621160000000003]
["1978-09-01",58.691670000000002,57.713979999999999]
["1978-10-01",57.73198,50.92859]
["1978-11-01",56.944609999999997,51.926409999999997]
["1978-12-01",56.863680000000002,52.517560000000003]
["1979-01-01",56.947830000000003,54.431759999999997]
["1979-02-01",54.800800000000002,52.182310000000001]
["1979-03-01",54.335700000000003,55.069290000000002]
["1979-04-01",54.671900000000001,54.831670000000003]
["1979-05-01",55.155209999999997,52.872410000000002]
["1979-06-01",55.158340000000003,54.79636]
["1979-07-01",54.354889999999997,54.72007]
["1979-08-01",52.12762,57.315300000000001]
["1979-09-01",52.844889999999999,56.907769999999999]
["1979-10-01",51.924570000000003,52.263579999999997]
["1979-11-01",50.656440000000003,54.591880000000003]
["1979-12-01",48.486879999999999,55.293909999999997]
["1980-01-01",46.054830000000003,58.289850000000001]
["1980-02-01",46.072629999999997,57.216419999999999]
["1980-03-01",44.651029999999999,49.354559999999999]
["1980-04-01",42.314079999999997,51.179819999999999]
["1980-05-01",41.055100000000003,53.091419999999999]
["1980-06-01",40.026479999999999,54.284059999999997]
["1980-07-01",42.154530000000001,57.891539999999999]
["1980-08-01",43.623930000000001,58.627220000000001]
["1980-09-01",43.751620000000003,59.671149999999997]
["1980-10-01",43.479970000000002,60.442219999999999]
["1980-11-01",43.54439,66.093260000000001]
["1980-12-01",44.319650000000003,62.710700000000003]
["1981-01-01",45.600409999999997,59.44126]
["1981-02-01",47.193469999999998,59.238990000000001]
["1981-03-01",49.767919999999997,61.606310000000001]
["1981-04-01",51.92192,60.587769999999999]
["1981-05-01",50.556460000000001,60.539830000000002]
["1981-06-01",51.333930000000002,59.173000000000002]
["1981-07-01",47.343350000000001,58.143799999999999]
["1981-08-01",45.863309999999998,54.15081]
["1981-09-01",44.878549999999997,49.958449999999999]
["1981-10-01",46.281939999999999,52.698320000000002]
["1981-11-01",47.154559999999996,54.535049999999998]
["1981-12-01",48.572890000000001,52.722250000000003]
["1982-01-01",49.179380000000002,50.965510000000002]
["1982-02-01",48.595260000000003,47.668529999999997]
["1982-03-01",49.820259999999998,47.039299999999997]
["1982-04-01",48.615270000000002,48.780119999999997]
["1982-05-01",48.959240000000001,46.567889999999998]
["1982-06-01",49.019880000000001,44.692100000000003]
["1982-07-01",50.73912,43.45796]
["1982-08-01",52.720820000000003,48.11092]
["1982-09-01",55.70579,48.63644]
["1982-10-01",54.854239999999997,54.041359999999997]
["1982-11-01",55.902160000000002,56.433570000000003]
["1982-12-01",58.418349999999997,57.30518]
["1983-01-01",59.715519999999998,59.448979999999999]
["1983-02-01",60.352629999999998,60.92906]
["1983-03-01",60.452129999999997,62.972850000000001]
["1983-04-01",62.92747,67.091160000000002]
["1983-05-01",65.559100000000001,67.191079999999999]
["1983-06-01",67.859480000000005,69.381230000000002]
["1983-07-01",71.870769999999993,66.856800000000007]
["1983-08-01",72.091470000000001,66.683549999999997]
["1983-09-01",72.199590000000001,67.259640000000005]
["1983-10-01",73.530469999999994,65.137180000000001]
["1983-11-01",71.224239999999995,66.523759999999996]
["1983-12-01",70.177149999999997,65.558930000000004]
["1984-01-01",70.504639999999995,64.00188]
["1984-02-01",72.432130000000001,60.840629999999997]
["1984-03-01",71.478489999999994,61.36195]
["1984-04-01",71.717799999999997,61.118920000000003]
["1984-05-01",73.075379999999996,57.388190000000002]
["1984-06-01",73.888319999999993,58.383270000000003]
["1984-07-01",73.043779999999998,56.88496]
["1984-08-01",72.696640000000002,62.757919999999999]
["1984-09-01",74.117649999999998,62.311190000000003]
["1984-10-01",74.418700000000001,61.943390000000001]
["1984-11-01",77.795259999999999,60.993859999999998]
["1984-12-01",76.747929999999997,62.277830000000002]
["1985-01-01",79.593940000000003,67.390730000000005]
["1985-02-01",78.513199999999998,67.909970000000001]
["1985-03-01",78.807590000000005,67.346860000000007]
["1985-04-01",79.71593,66.779200000000003]
["1985-05-01",80.653580000000005,69.959180000000003]
["1985-06-01",80.218680000000006,70.823700000000002]
["1985-07-01",81.838650000000001,70.518600000000006]
["1985-08-01",84.265199999999993,69.67877]
["1985-09-01",85.969319999999996,66.573049999999995]
["1985-10-01",85.538480000000007,69.118759999999995]
["1985-11-01",83.68629,73.409319999999994]
["1985-12-01",84.678219999999996,76.308920000000001]
["1986-01-01",86.186210000000003,76.782759999999996]
["1986-02-01",84.826660000000004,82.345770000000002]
["1986-03-01",85.784300000000002,86.949039999999997]
["1986-04-01",86.062160000000006,86.361630000000005]
["1986-05-01",86.972470000000001,90.182640000000006]
["1986-06-01",87.287809999999993,90.700479999999999]
["1986-07-01",88.395390000000006,85.128929999999997]
["1986-08-01",89.479969999999994,90.296279999999996]
["1986-09-01",87.418559999999999,82.531260000000003]
["1986-10-01",88.44462,86.471180000000004]
["1986-11-01",91.854370000000003,87.3767]
["1986-12-01",94.803960000000004,84.903880000000001]
["1987-01-01",96.879689999999997,95.043139999999994]
["1987-02-01",97.148430000000005,99.011570000000006]
["1987-03-01",96.566040000000001,100.69615]
["1987-04-01",97.204740000000001,98.254750000000001]
["1987-05-01",95.78058,98.219300000000004]
["1987-06-01",97.816389999999998,102.00827]
["1987-07-01",99.11345,106.12866]
["1987-08-01",100.37676999999999,109.31997]
["1987-09-01",100.82316,106.2418]
["1987-10-01",98.420590000000004,81.647980000000004]
["1987-11-01",100.70292999999999,75.438800000000001]
["1987-12-01",102.01974,80.703460000000007]
["1988-01-01",100.59866,83.847350000000006]
["1988-02-01",100.8931,87.547290000000004]
["1988-03-01",100.31843000000001,85.459029999999998]
["1988-04-01",104.79894,85.829589999999996]
["1988-05-01",103.00501,85.343599999999995]
["1988-06-01",102.70677999999999,89.130170000000007]
["1988-07-01",103.06480000000001,87.862530000000007]
["1988-08-01",101.35581999999999,84.618819999999999]
["1988-09-01",102.04479000000001,87.051900000000003]
["1988-10-01",103.30959,88.176789999999997]
["1988-11-01",103.72920000000001,86.157139999999998]
["1988-12-01",103.13162,87.561409999999995]
["1989-01-01",102.54826,92.817689999999999]
["1989-02-01",104.13184,90.553889999999996]
["1989-03-01",106.70263,91.837969999999999]
["1989-04-01",106.71451999999999,95.562389999999994]
["1989-05-01",106.15351,98.429379999999995]
["1989-06-01",105.4045,97.396619999999999]
["1989-07-01",106.87075,104.60727]
["1989-08-01",108.09804,106.40112000000001]
["1989-09-01",110.14255,105.62354999999999]
["1989-10-01",108.68674,101.85773]
["1989-11-01",107.02670999999999,103.06227]
["1989-12-01",106.45972999999999,104.49500999999999]
["1990-01-01",107.15116999999999,95.668880000000001]
["1990-02-01",106.84602,96.361590000000007]
["1990-03-01",105.70614999999999,98.000489999999999]
["1990-04-01",103.10898,94.825509999999994]
["1990-05-01",104.29095,102.84068000000001]
["1990-06-01",104.98663999999999,101.57136]
["1990-07-01",100,100]
["1990-08-01",95.065560000000005,89.403809999999993]
["1990-09-01",93.046670000000006,83.602980000000002]
["1990-10-01",94.726929999999996,81.793130000000005]
["1990-11-01",93.222989999999996,86.822810000000004]
["1990-12-01",92.069869999999995,89.309119999999993]
["1991-01-01",89.228729999999999,92.900109999999998]
["1991-02-01",87.512590000000003,99.607939999999999]
["1991-03-01",89.096029999999999,102.28077]
["1991-04-01",90.657839999999993,102.25059]
["1991-05-01",89.414079999999998,105.68206000000001]
["1991-06-01",90.866129999999998,100.44647000000001]
["1991-07-01",93.133129999999994,104.83714000000001]
["1991-08-01",93.83905,107.04476]
["1991-09-01",94.116849999999999,105.14270999999999]
["1991-10-01",94.759240000000005,106.75913]
["1991-11-01",94.469369999999998,102.05686]
["1991-12-01",92.912869999999998,112.91070000000001]
["1992-01-01",96.210790000000003,112.37527]
["1992-02-01",98.213189999999997,113.17859]
["1992-03-01",97.098690000000005,109.57558]
["1992-04-01",97.319810000000004,110.72105000000001]
["1992-05-01",95.236599999999996,110.91557]
["1992-06-01",94.973669999999998,108.01418]
["1992-07-01",96.038809999999998,111.9936]
["1992-08-01",98.978049999999996,108.97254]
["1992-09-01",101.15586,109.73734]
["1992-10-01",101.54631999999999,110.53021]
["1992-11-01",101.49208,114.59737]
["1992-12-01",102.48757999999999,116.47919]
["1993-01-01",102.98043,117.18219999999999]
["1993-02-01",103.8252,116.93295999999999]
["1993-03-01",107.12468,119.24733000000001]
["1993-04-01",104.94443,115.48638]
["1993-05-01",105.81994,118.59752]
["1993-06-01",107.01715,118.7273]
["1993-07-01",110.56149000000001,118.55947]
["1993-08-01",110.27374,122.44338999999999]
["1993-09-01",112.36938000000001,122.19793]
["1993-10-01",113.07641,123.57044]
["1993-11-01",114.84441,121.13504]
["1993-12-01",116.36262000000001,123.09088]
["1994-01-01",117.82324,126.45004]
["1994-02-01",119.81394,122.87572]
["1994-03-01",118.7345,116.68145]
["1994-04-01",123.7443,117.49108]
["1994-05-01",128.14031,118.21599000000001]
["1994-06-01",126.41803,114.42440000000001]
["1994-07-01",125.6429,117.35053000000001]
["1994-08-01",128.28043,121.69217]
["1994-09-01",127.09395000000001,118.7835]
["1994-10-01",130.81679,120.46586000000001]
["1994-11-01",135.30314000000001,115.57939]
["1994-12-01",140.45239000000001,116.86733]
["1995-01-01",133.61367999999999,118.72798]
["1995-02-01",136.11516,122.66068]
["1995-03-01",136.37889999999999,125.22068]
["1995-04-01",127.48154,127.73744000000001]
["1995-05-01",131.55884,131.4579]
["1995-06-01",132.74161000000001,135.13998000000001]
["1995-07-01",131.45236,140.52383]
["1995-08-01",131.72355999999999,141.17477]
["1995-09-01",133.54411999999999,146.03774999999999]
["1995-10-01",133.42346000000001,143.91417999999999]
["1995-11-01",133.1379,149.75528]
["1995-12-01",133.28587999999999,152.04214999999999]
["1996-01-01",134.50184999999999,155.01414]
["1996-02-01",137.50962999999999,156.88750999999999]
["1996-03-01",138.82829000000001,157.53254000000001]
["1996-04-01",140.65300999999999,160.59838999999999]
["1996-05-01",139.87846999999999,164.29038]
["1996-06-01",145.36776,162.59762000000001]
["1996-07-01",142.00923,153.31112999999999]
["1996-08-01",150.76444000000001,157.59924000000001]
["1996-09-01",147.97609,165.19704999999999]
["1996-10-01",150.64435,166.76070999999999]
["1996-11-01",145.94839999999999,177.15473]
["1996-12-01",144.95352,174.87427]
["1997-01-01",149.53836000000001,183.46681000000001]
["1997-02-01",151.71788000000001,182.49683999999999]
["1997-03-01",153.17527000000001,173.71111999999999]
["1997-04-01",151.73427000000001,180.84815]
["1997-05-01",157.45863,193.45654999999999]
["1997-06-01",158.07241999999999,201.82903999999999]
["1997-07-01",160.29951,216.81095999999999]
["1997-08-01",165.46706,207.98519999999999]
["1997-09-01",164.80885000000001,219.42562000000001]
["1997-10-01",168.24092999999999,211.37294]
["1997-11-01",173.97438,218.11668]
["1997-12-01",168.64250000000001,222.1078]
["1998-01-01",171.26279,222.71141]
["1998-02-01",171.42797999999999,238.14008000000001]
["1998-03-01",169.02264,249.29855000000001]
["1998-04-01",182.99548999999999,251.56245000000001]
["1998-05-01",178.91486,244.1069]
["1998-06-01",174.68054000000001,252.06724]
["1998-07-01",174.70578,246.01306]
["1998-08-01",168.99825999999999,207.16890000000001]
["1998-09-01",169.59994,220.13032000000001]
["1998-10-01",175.34226000000001,235.69569999999999]
["1998-11-01",175.16627,250.21519000000001]
["1998-12-01",172.40511000000001,266.05703999999997]
["1999-01-01",178.37016,274.95951000000002]
["1999-02-01",180.35033000000001,264.34858000000003]
["1999-03-01",189.68101999999999,273.39229999999998]
["1999-04-01",181.80672999999999,284.20814999999999]
["1999-05-01",188.40825000000001,277.65642000000003]
["1999-06-01",189.37461999999999,291.72498999999999]
["1999-07-01",186.09200999999999,281.74885999999998]
["1999-08-01",194.75879,277.67081000000002]
["1999-09-01",189.4085,268.81088999999997]
["1999-10-01",190.94868,285.18205]
["1999-11-01",193.1071,294.22798999999998]
["1999-12-01",202.50551999999999,316.22287]
["2000-01-01",197.51649,302.00038999999998]
["2000-02-01",192.58676,306.58404999999999]
["2000-03-01",187.06826000000001,321.74811]
["2000-04-01",198.87047999999999,304.58996000000002]
["2000-05-01",189.52188000000001,293.25447000000003]
["2000-06-01",184.66251,304.36293999999998]
["2000-07-01",186.73838000000001,297.23248000000001]
["2000-08-01",181.07684,318.40908000000002]
["2000-09-01",188.49114,301.97035]
["2000-10-01",188.94855000000001,294.83649000000003]
["2000-11-01",185.85428999999999,265.04613000000001]
["2000-12-01",187.77200999999999,269.61923000000002]
["2001-01-01",179.89107000000001,277.94810999999999]
["2001-02-01",174.20160000000001,250.40795]
["2001-03-01",176.31509,232.79528999999999]
["2001-04-01",172.65303,250.74949000000001]
["2001-05-01",178.11655999999999,251.74032]
["2001-06-01",169.24904000000001,246.92035999999999]
["2001-07-01",167.11974000000001,243.30402000000001]
["2001-08-01",161.9846,228.25189]
["2001-09-01",159.97874999999999,206.65233000000001]
["2001-10-01",154.05831000000001,212.42187000000001]
["2001-11-01",148.40227999999999,228.73589000000001]
["2001-12-01",144.01275999999999,233.48479]
["2002-01-01",147.11904999999999,229.84653]
["2002-02-01",148.13209000000001,223.91840999999999]
["2002-03-01",150.29982000000001,232.20916]
["2002-04-01",145.84210999999999,219.46236999999999]
["2002-05-01",146.78451000000001,216.57604000000001]
["2002-06-01",152.01211000000001,200.98238000000001]
["2002-07-01",153.10978,184.34828999999999]
["2002-08-01",152.14571000000001,184.52725000000001]
["2002-09-01",154.33088000000001,165.47981999999999]
["2002-10-01",155.41864000000001,177.61063999999999]
["2002-11-01",154.84802999999999,188.01121000000001]
["2002-12-01",154.02333999999999,177.70240999999999]
["2003-01-01",158.8897,172.29471000000001]
["2003-02-01",160.28474,167.76886999999999]
["2003-03-01",161.46531999999999,168.42491999999999]
["2003-04-01",165.20364000000001,182.41973999999999]
["2003-05-01",162.0094,193.5719]
["2003-06-01",159.04615000000001,195.95213000000001]
["2003-07-01",160.18393,200.1969]
["2003-08-01",167.05928,203.93299999999999]
["2003-09-01",168.40069,200.75746000000001]
["2003-10-01",169.60642999999999,212.94672]
["2003-11-01",179.82608999999999,216.19063]
["2003-12-01",182.62303,225.77887000000001]
["2004-01-01",180.42992000000001,229.45778000000001]
["2004-02-01",180.42353,231.19881000000001]
["2004-03-01",167.95633000000001,226.97416000000001]
["2004-04-01",167.85225,221.21299999999999]
["2004-05-01",169.18002999999999,222.62818999999999]
["2004-06-01",165.77431999999999,226.35835]
["2004-07-01",170.58166,218.0104]
["2004-08-01",174.36509000000001,218.27903000000001]
["2004-09-01",168.36474999999999,221.03110000000001]
["2004-10-01",165.09290999999999,223.15771000000001]
["2004-11-01",162.89543,233.03751]
["2004-12-01",161.93457000000001,241.98157]
["2005-01-01",164.19331,234.92329000000001]
["2005-02-01",161.10839999999999,238.24759]
["2005-03-01",164.51969,231.96276]
["2005-04-01",168.12026,225.07339999999999]
["2005-05-01",170.60794000000001,233.44839999999999]
["2005-06-01",176.99039999999999,234.87828999999999]
["2005-07-01",175.87592000000001,243.19511]
["2005-08-01",177.24142000000001,239.3237]
["2005-09-01",180.19409999999999,238.05824999999999]
["2005-10-01",176.55824000000001,232.95468]
["2005-11-01",175.56604999999999,243.67166]
["2005-12-01",178.27620999999999,244.67336]
["2006-01-01",183.48724999999999,251.23371]
["2006-02-01",181.02707000000001,250.16696999999999]
["2006-03-01",183.92128,253.04033000000001]
["2006-04-01",178.76919000000001,253.40928]
["2006-05-01",177.661,243.59469000000001]
["2006-06-01",172.86716000000001,243.23676]
["2006-07-01",169.55812,241.98698999999999]
["2006-08-01",166.38480000000001,246.62775999999999]
["2006-09-01",168.79719,252.98985999999999]
["2006-10-01",174.98000999999999,263.32817999999997]
["2006-11-01",176.45622,269.07276000000002]
["2006-12-01",179.13108,271.42541]
["2007-01-01",173.30452,275.47143]
["2007-02-01",174.33456000000001,269.12257]
["2007-03-01",182.29424,269.32375999999999]
["2007-04-01",182.11028999999999,278.04038000000003]
["2007-05-01",188.92375000000001,285.88742000000002]
["2007-06-01",185.80923000000001,280.40778999999998]
["2007-07-01",183.60622000000001,270.68232]
["2007-08-01",188.65343999999999,274.40744999999998]
["2007-09-01",185.63505000000001,283.08076]
["2007-10-01",184.21225000000001,287.58706999999998]
["2007-11-01",179.53120000000001,272.59172999999998]
["2007-12-01",169.99736999999999,270.64787000000001]
["2008-01-01",168.18552,252.69156000000001]
["2008-02-01",174.83280999999999,243.85606000000001]
["2008-03-01",168.07417000000001,239.70516000000001]
["2008-04-01",172.58461,249.85973999999999]
["2008-05-01",163.10329999999999,252.44830999999999]
["2008-06-01",157.6832,229.19909000000001]
["2008-07-01",152.58822000000001,225.72013999999999]
["2008-08-01",146.69662,229.71296000000001]
["2008-09-01",147.78816,208.26872]
["2008-10-01",144.70418000000001,173.1413]
["2008-11-01",143.20376999999999,161.90083000000001]
["2008-12-01",139.35953000000001,165.98840000000001]
["2009-01-01",132.86000000000001,151.55455000000001]
["2009-02-01",124.62826,134.65268]
["2009-03-01",120.029,145.71212]
["2009-04-01",115.14447,160.37788]
["2009-05-01",111.95122000000001,167.98258999999999]
["2009-06-01",112.31019999999999,166.93617]
["2009-07-01",114.25767999999999,180.00210999999999]
["2009-08-01",114.19835999999999,185.9006]
["2009-09-01",111.72693,193.22461999999999]
["2009-10-01",107.60361,188.10785999999999]
["2009-11-01",108.51869000000001,198.40962999999999]
["2009-12-01",107.49978,203.78958]
["2010-01-01",110.97942,195.85881000000001]
["2010-02-01",112.62059000000001,201.94540000000001]
["2010-03-01",113.55132999999999,213.32364999999999]
["2010-04-01",115.55526999999999,217.23715000000001]
["2010-05-01",119.19859,199.46281999999999]
["2010-06-01",121.40446,188.34611000000001]
["2010-07-01",121.37213,201.10443000000001]
["2010-08-01",120.69123,191.02996999999999]
["2010-09-01",121.90958999999999,208.37816000000001]
["2010-10-01",125.76127,215.97949]
["2010-11-01",120.13252,216.56347]
["2010-12-01",126.27973,230.66408999999999]
["2011-01-01",123.97847,234.29012]
["2011-02-01",123.49621,240.98436000000001]
["2011-03-01",122.461,239.16997000000001]
["2011-04-01",120.05537,244.30237]
["2011-05-01",119.67874999999999,239.79392000000001]
["2011-06-01",117.11732000000001,235.45088999999999]
["2011-07-01",116.51793000000001,229.93337]
["2011-08-01",114.12734,215.12496999999999]
["2011-09-01",113.86745000000001,198.03766999999999]
["2011-10-01",114.71428,220.74659]
["2011-11-01",116.50775,219.68541999999999]
["2011-12-01",116.06216999999999,221.85162]
["2012-01-01",117.93239,231.52325999999999]
["2012-02-01",119.24312999999999,239.70612]
["2012-03-01",119.35687,244.89802]
["2012-04-01",118.63907,242.16076000000001]
["2012-05-01",119.35048999999999,226.97171]
["2012-06-01",120.03149999999999,235.89411000000001]
["2012-07-01",121.00655,238.47542000000001]
["2012-08-01",124.25507,242.23739]
["2012-09-01",127.08082,247.00522000000001]
["2012-10-01",127.26841,242.44856999999999]
["2012-11-01",129.11510999999999,244.54769999999999]
["2012-12-01",127.15075,247.68414999999999]
["2013-01-01",125.87764,260.04950000000002]
["2013-02-01",128.74657999999999,260.6798]
["2013-03-01",132.84472,269.62290000000002]
["2013-04-01",133.93214,274.31258000000003]
["2013-05-01",136.43063000000001,279.4794]
["2013-06-01",136.78614999999999,274.81680999999998]
["2013-07-01",138.64812000000001,289.31774999999999]
["2013-08-01",138.9366,279.99632000000003]
["2013-09-01",139.4676,289.17930000000001]
["2013-10-01",140.48473999999999,302.07445999999999]
["2013-11-01",144.48548,310.79284999999999]
["2013-12-01",147.88004000000001,318.32947999999999]
["2014-01-01",152.11169000000001,306.86216999999999]
["2014-02-01",151.21422999999999,319.17685999999998]
["2014-03-01",149.53326999999999,318.86554999999998]
["2014-04-01",155.63843,318.03003999999999]
["2014-05-01",151.38807,323.12927000000002]
["2014-06-01",155.63477,329.89091000000002]
["2014-07-01",155.23465999999999,323.52285999999998]
["2014-08-01",159.42884000000001,336.57580999999999]
["2014-09-01",163.55680000000001,328.99516999999997]
["2014-10-01",166.26649,338.54635999999999]
["2014-11-01",165.7449,348.10376000000002]
["2014-12-01",173.04859999999999,349.33120000000002]
["2015-01-01",170.98670999999999,340.92284000000001]
["2015-02-01",174.38048000000001,357.98068999999998]
["2015-03-01",175.40852000000001,351.27699000000001]
["2015-04-01",174.03870000000001,352.11824999999999]
["2015-05-01",170.59350000000001,354.08872000000002]
["2015-06-01",177.28936999999999,346.06873999999999]
["2015-07-01",178.45240999999999,351.74673000000001]
["2015-08-01",180.69997000000001,330.55381]
["2015-09-01",182.14314999999999,321.51267000000001]
["2015-10-01",181.71464,347.01618999999999]
["2015-11-01",177.03029000000001,348.05489999999998]
["2015-12-01",177.67918,341.75749000000002]
["2016-01-01",177.48246,322.21368999999999]
["2016-02-01",175.47017,320.92788999999999]
["2016-03-01",175.89331999999999,341.51691]
["2016-04-01",176.95427000000001,341.72559999999999]
["2016-05-01",179.76249000000001,345.62878999999998]
["2016-06-01",177.14348000000001,344.94943000000001]
["2016-07-01",181.40937,358.66836999999998]
["2016-08-01",175.64524,358.32758000000001]
["2016-09-01",174.99714,357.26459]
["2016-10-01",178.56165999999999,349.12610999999998]
["2016-11-01",184.35195999999999,364.63452999999998]
["2016-12-01",182.78451999999999,371.42863999999997]
["2017-01-01",181.95254,375.43137999999999]
["2017-02-01",185.91012000000001,387.31191999999999]
["2017-03-01",196.68004999999999,386.54854]
["2017-04-01",200.19129000000001,389.02974999999998]
["2017-05-01",204.69014000000001,391.69072]
["2017-06-01",209.07144,394.17536999999999]
["2017-07-01",210.12402,401.41748000000001]
["2017-08-01",207.25039000000001,400.20742999999999]
["2017-09-01",214.60491999999999,407.16807]
["2017-10-01",214.16943000000001,415.76272]
["2017-11-01",212.35598999999999,427.31574000000001]
["2017-12-01",215.13641999999999,431.6046]
["2018-01-01",213.50370000000001,451.34258999999997]
["2018-02-01",213.68928,431.83784000000003]
["2018-03-01",208.85864000000001,421.14301]
["2018-04-01",206.54598999999999,420.69076000000001]
["2018-05-01",209.04136,429.48354999999998]
["2018-06-01",202.19436999999999,430.99961999999999]
["2018-07-01",206.53477000000001,445.18565999999998]
["2018-08-01",212.10466,459.54345999999998]
["2018-09-01",212.83694,459.12653999999998]
["2018-10-01",213.21951000000001,424.43439000000001]
["2018-11-01",214.49653000000001,433.06371000000001]
["2018-12-01",207.99545000000001,393.33677999999998]
["2019-01-01",206.10560000000001,426.00098000000003]
["2019-02-01",215.12544,437.99401]
["2019-03-01",216.56874999999999,441.39557000000002]
["2019-04-01",222.78611000000001,456.18191000000002]
["2019-05-01",226.20670000000001,424.54507999999998]
["2019-06-01",217.01454000000001,453.31008000000003]
["2019-07-01",214.55305000000001,458.79012999999998]
["2019-08-01",208.6611,448.40629999999999]
["2019-09-01",216.54454999999999,455.52526999999998]
["2019-10-01",214.24722,463.88898999999998]
["2019-11-01",217.91612000000001,480.32645000000002]
["2019-12-01",220.55278999999999,494.02057000000002]
["2020-01-01",215.27454,491.58942999999999]
["2020-02-01",215.38875999999999,449.10975999999999]
["2020-03-01",194.49561,388.05074999999999]